{"text_format":"1","workbook":"xlsx","n_sheets":3,"sheets":["Design #","Labels","Design - Labels"],"not_rendered":{"charts":0,"images":0,"macros":0,"external_links":0,"defined_names":1,"comments":0,"pivot_tables":0},"unopened":[],"bounds":{"document_bytes":16777216,"sheet_cells":100000,"rows_first":2000,"rows_last":500,"rows_between":2000,"halvings":0,"cell_chars":16384,"cell_head_chars":4096},"cells_cut":0,"cells_raw":0,"read":"whole","date_system":"1900"}

{"sheet":"Design #","index":0,"n_rows":1501,"n_cols":6,"rows_kept":1501,"cut":false,"hidden":false,"merged":[]}
["Version","Set","Item1","Item2","Item3","Item4"]
[1,1,16,12,15,13]
[1,2,14,16,11,7]
[1,3,11,18,6,5]
[1,4,18,14,2,10]
[1,5,7,1,3,20]
[1,6,3,6,13,19]
[1,7,19,10,14,8]
[1,8,2,17,4,9]
[1,9,4,7,12,6]
[1,10,9,8,18,12]
[1,11,5,15,1,2]
[1,12,17,13,20,5]
[1,13,1,19,9,16]
[1,14,20,4,10,17]
[1,15,15,11,8,3]
[2,1,6,9,15,14]
[2,2,12,5,7,19]
[2,3,13,4,1,11]
[2,4,8,2,16,6]
[2,5,8,9,5,7]
[2,6,2,7,13,18]
[2,7,5,3,17,16]
[2,8,14,13,8,4]
[2,9,10,12,17,1]
[2,10,17,14,18,3]
[2,11,12,3,10,11]
[2,12,4,18,19,15]
[2,13,19,11,20,2]
[2,14,1,20,6,14]
[2,15,20,15,9,10]
[3,1,11,1,18,9]
[3,2,6,10,9,13]
[3,3,15,17,11,7]
[3,4,19,8,17,1]
[3,5,18,20,12,16]
[3,6,12,8,20,15]
[3,7,9,16,3,4]
[3,8,13,2,14,12]
[3,9,7,5,2,1]
[3,10,16,6,19,17]
[3,11,3,4,5,2]
[3,12,16,10,4,8]
[3,13,15,6,3,18]
[3,14,10,14,7,5]
[3,15,11,19,13,20]
[4,1,17,12,14,9]
[4,2,2,15,19,10]
[4,3,20,5,16,15]
[4,4,4,1,12,6]
[4,5,3,19,7,18]
[4,6,10,2,11,8]
[4,7,6,20,2,9]
[4,8,14,17,6,11]
[4,9,18,11,16,12]
[4,10,1,15,10,3]
[4,11,14,5,4,19]
[4,12,9,7,5,13]
[4,13,13,18,16,1]
[4,14,7,13,8,17]
[4,15,8,20,3,4]
[5,1,16,14,11,20]
[5,2,11,9,19,4]
[5,3,20,7,1,14]
[5,4,5,8,20,18]
[5,5,7,3,17,12]
[5,6,12,6,5,8]
[5,7,1,9,13,2]
[5,8,8,1,10,13]
[5,9,10,16,6,7]
[5,10,2,3,9,16]
[5,11,17,2,12,19]
[5,12,18,4,15,17]
[5,13,5,11,18,10]
[5,14,15,4,7,19]
[5,15,3,13,15,14]
[6,1,19,6,3,20]
[6,2,13,19,8,20]
[6,3,7,18,2,8]
[6,4,14,19,1,16]
[6,5,9,11,5,3]
[6,6,2,12,14,15]
[6,7,12,15,1,5]
[6,8,8,14,18,9]
[6,9,3,1,15,11]
[6,10,9,12,10,20]
[6,11,6,17,18,1]
[6,12,4,10,16,7]
[6,13,11,2,4,6]
[6,14,4,5,17,13]
[6,15,10,16,13,17]
[7,1,20,17,2,6]
[7,2,11,20,7,14]
[7,3,15,9,11,17]
[7,4,19,3,12,10]
[7,5,13,18,12,11]
[7,6,6,13,9,3]
[7,7,1,8,14,3]
[7,8,18,1,20,4]
[7,9,5,10,19,6]
[7,10,16,15,8,5]
[7,11,17,16,8,2]
[7,12,10,3,2,18]
[7,13,5,20,4,14]
[7,14,18,7,9,19]
[7,15,13,7,6,15]
[8,1,9,5,10,17]
[8,2,15,10,7,6]
[8,3,2,4,3,7]
[8,4,6,19,16,2]
[8,5,3,5,14,12]
[8,6,19,9,14,12]
[8,7,1,12,4,16]
[8,8,18,19,5,13]
[8,9,1,17,19,11]
[8,10,8,11,12,7]
[8,11,17,20,1,8]
[8,12,14,2,13,10]
[8,13,4,14,15,13]
[8,14,8,18,6,4]
[8,15,20,16,15,9]
[9,1,5,16,18,1]
[9,2,11,8,6,5]
[9,3,12,6,13,15]
[9,4,16,12,5,2]
[9,5,15,2,17,18]
[9,6,19,17,20,3]
[9,7,16,13,11,3]
[9,8,7,18,20,10]
[9,9,9,15,8,19]
[9,10,6,14,9,18]
[9,11,20,10,4,12]
[9,12,7,4,1,9]
[9,13,10,11,2,1]
[9,14,3,13,20,8]
[9,15,14,7,16,17]
[10,1,17,13,10,18]
[10,2,18,7,19,12]
[10,3,13,9,17,5]
[10,4,5,6,1,14]
[10,5,10,14,11,16]
[10,6,9,3,7,16]
[10,7,12,6,9,20]
[10,8,2,19,14,11]
[10,9,12,11,13,4]
[10,10,8,1,10,15]
[10,11,19,20,2,15]
[10,12,15,16,4,18]
[10,13,4,5,3,2]
[10,14,11,8,17,4]
[10,15,7,1,8,6]
[11,1,14,8,11,9]
[11,2,4,10,19,9]
[11,3,3,2,12,1]
[11,4,20,18,3,11]
[11,5,16,17,12,6]
[11,6,10,11,5,7]
[11,7,6,3,4,10]
[11,8,17,15,14,5]
[11,9,2,12,7,8]
[11,10,5,8,16,19]
[11,11,3,17,18,14]
[11,12,13,19,16,20]
[11,13,1,15,6,11]
[11,14,7,20,15,13]
[11,15,2,9,13,1]
[12,1,11,16,20,6]
[12,2,9,4,15,12]
[12,3,12,5,10,3]
[12,4,18,10,9,20]
[12,5,17,14,7,4]
[12,6,14,12,1,19]
[12,7,16,13,8,14]
[12,8,13,2,20,5]
[12,9,1,18,10,16]
[12,10,6,3,19,8]
[12,11,9,7,3,17]
[12,12,8,15,18,2]
[12,13,4,6,5,17]
[12,14,19,1,4,13]
[12,15,15,2,11,7]
[13,1,3,14,16,15]
[13,2,15,11,5,19]
[13,3,20,4,2,14]
[13,4,16,3,7,13]
[13,5,20,9,1,5]
[13,6,8,4,6,18]
[13,7,18,20,17,12]
[13,8,14,6,13,10]
[13,9,7,17,2,6]
[13,10,12,9,8,11]
[13,11,13,18,11,12]
[13,12,2,16,9,4]
[13,13,1,8,3,7]
[13,14,10,19,17,8]
[13,15,17,1,15,10]
[14,1,19,18,14,5]
[14,2,6,14,18,2]
[14,3,5,12,4,13]
[14,4,11,17,19,3]
[14,5,10,12,6,15]
[14,6,4,11,17,16]
[14,7,19,5,7,20]
[14,8,8,10,15,9]
[14,9,7,13,10,11]
[14,10,20,7,16,1]
[14,11,14,4,8,3]
[14,12,2,20,12,1]
[14,13,3,2,13,9]
[14,14,1,15,19,6]
[14,15,5,9,18,16]
[15,1,6,16,7,10]
[15,2,11,6,5,3]
[15,3,18,7,12,19]
[15,4,17,10,2,20]
[15,5,13,8,1,17]
[15,6,19,3,10,4]
[15,7,16,5,8,2]
[15,8,4,1,11,18]
[15,9,15,4,20,7]
[15,10,9,19,6,13]
[15,11,5,10,9,14]
[15,12,1,14,3,20]
[15,13,12,3,14,15]
[15,14,12,9,16,17]
[15,15,15,13,2,18]
[16,1,16,19,17,15]
[16,2,2,16,19,13]
[16,3,17,5,15,8]
[16,4,12,19,1,16]
[16,5,18,6,1,7]
[16,6,9,17,3,18]
[16,7,13,18,3,4]
[16,8,14,2,20,11]
[16,9,11,15,14,7]
[16,10,10,13,20,8]
[16,11,11,1,5,9]
[16,12,4,11,12,10]
[16,13,20,12,6,8]
[16,14,6,4,2,5]
[16,15,8,7,9,14]
[17,1,6,17,13,1]
[17,2,17,14,10,2]
[17,3,10,1,5,19]
[17,4,3,8,2,12]
[17,5,14,13,12,5]
[17,6,5,10,18,15]
[17,7,7,13,11,17]
[17,8,3,20,11,16]
[17,9,20,11,6,9]
[17,10,8,16,4,15]
[17,11,16,18,14,6]
[17,12,7,3,8,5]
[17,13,1,12,7,4]
[17,14,2,7,19,9]
[17,15,15,9,4,20]
[18,1,8,2,16,12]
[18,2,9,11,1,2]
[18,3,16,6,10,3]
[18,4,19,15,9,17]
[18,5,12,3,15,6]
[18,6,4,14,7,1]
[18,7,13,8,19,11]
[18,8,18,7,16,10]
[18,9,6,5,13,20]
[18,10,13,1,3,15]
[18,11,19,20,4,14]
[18,12,11,8,18,19]
[18,13,2,5,18,4]
[18,14,18,12,17,20]
[18,15,10,9,12,14]
[19,1,6,17,11,4]
[19,2,15,18,14,13]
[19,3,9,6,14,19]
[19,4,10,15,2,11]
[19,5,20,1,18,3]
[19,6,9,7,6,8]
[19,7,1,16,5,11]
[19,8,3,5,17,12]
[19,9,4,10,8,13]
[19,10,14,8,17,1]
[19,11,7,2,12,17]
[19,12,3,10,19,2]
[19,13,16,9,13,18]
[19,14,19,4,20,16]
[19,15,5,20,15,7]
[20,1,2,6,11,12]
[20,2,8,16,9,13]
[20,3,3,14,20,10]
[20,4,17,15,1,2]
[20,5,2,3,9,1]
[20,6,13,1,10,5]
[20,7,7,19,6,18]
[20,8,17,20,16,6]
[20,9,12,13,7,19]
[20,10,18,19,4,14]
[20,11,20,17,8,10]
[20,12,4,11,5,12]
[20,13,9,18,4,8]
[20,14,5,14,15,16]
[20,15,15,11,3,7]
[21,1,14,12,13,17]
[21,2,11,8,14,16]
[21,3,17,2,19,5]
[21,4,1,6,14,9]
[21,5,14,16,2,7]
[21,6,7,9,5,20]
[21,7,20,12,15,18]
[21,8,18,2,11,10]
[21,9,6,13,20,11]
[21,10,6,4,10,3]
[21,11,1,10,12,19]
[21,12,15,4,17,9]
[21,13,4,3,16,1]
[21,14,5,18,3,8]
[21,15,8,15,6,19]
[22,1,4,19,7,14]
[22,2,12,5,16,6]
[22,3,1,15,18,4]
[22,4,16,10,9,12]
[22,5,19,3,13,15]
[22,6,11,17,9,3]
[22,7,12,20,19,8]
[22,8,10,20,8,2]
[22,9,10,7,17,11]
[22,10,13,14,5,18]
[22,11,5,6,20,2]
[22,12,8,18,1,17]
[22,13,2,4,13,7]
[22,14,9,11,19,13]
[22,15,15,7,1,16]
[23,1,14,16,15,10]
[23,2,19,2,9,1]
[23,3,17,13,7,6]
[23,4,7,9,18,10]
[23,5,11,1,8,12]
[23,6,14,5,11,15]
[23,7,16,8,4,2]
[23,8,18,12,13,20]
[23,9,17,19,18,16]
[23,10,3,8,6,15]
[23,11,13,6,2,4]
[23,12,3,5,12,9]
[23,13,2,1,3,14]
[23,14,20,17,7,3]
[23,15,11,20,4,5]
[24,1,7,14,8,17]
[24,2,12,7,11,16]
[24,3,6,1,20,14]
[24,4,8,5,6,7]
[24,5,19,12,14,11]
[24,6,18,19,3,2]
[24,7,5,4,17,8]
[24,8,9,15,12,4]
[24,9,4,13,10,15]
[24,10,18,10,11,6]
[24,11,16,3,13,20]
[24,12,1,10,5,19]
[24,13,15,2,20,9]
[24,14,3,16,9,18]
[24,15,13,17,1,10]
[25,1,19,11,16,17]
[25,2,7,3,10,5]
[25,3,11,8,15,13]
[25,4,10,12,6,4]
[25,5,6,18,14,1]
[25,6,15,7,19,5]
[25,7,16,13,2,1]
[25,8,20,18,8,11]
[25,9,14,9,17,3]
[25,10,10,19,16,20]
[25,11,4,9,20,13]
[25,12,5,17,18,2]
[25,13,1,4,7,9]
[25,14,2,12,15,8]
[25,15,12,13,3,14]
[26,1,8,2,10,3]
[26,2,17,15,12,6]
[26,3,3,6,4,19]
[26,4,11,16,2,6]
[26,5,20,16,15,7]
[26,6,19,11,1,8]
[26,7,13,15,5,10]
[26,8,10,14,9,8]
[26,9,9,3,11,6]
[26,10,2,7,13,14]
[26,11,17,20,5,1]
[26,12,1,18,17,12]
[26,13,16,5,4,9]
[26,14,15,12,7,18]
[26,15,14,20,18,4]
[27,1,9,2,19,20]
[27,2,12,19,3,13]
[27,3,4,11,1,7]
[27,4,11,14,4,17]
[27,5,8,4,12,19]
[27,6,16,10,1,12]
[27,7,20,6,16,3]
[27,8,5,8,14,16]
[27,9,18,19,3,5]
[27,10,14,18,2,15]
[27,11,9,1,13,5]
[27,12,7,17,10,20]
[27,13,6,17,15,2]
[27,14,13,6,8,7]
[27,15,10,9,11,18]
[28,1,1,13,3,11]
[28,2,20,14,12,7]
[28,3,18,8,6,1]
[28,4,19,10,6,14]
[28,5,7,18,16,13]
[28,6,15,7,19,16]
[28,7,1,15,20,11]
[28,8,2,4,7,16]
[28,9,5,2,11,12]
[28,10,17,13,14,9]
[28,11,6,9,8,5]
[28,12,12,8,20,10]
[28,13,4,10,17,19]
[28,14,3,17,2,4]
[28,15,7,3,9,15]
[29,1,8,14,18,3]
[29,2,13,6,15,4]
[29,3,20,16,1,5]
[29,4,4,11,20,18]
[29,5,14,4,16,12]
[29,6,18,5,10,2]
[29,7,8,3,16,17]
[29,8,17,19,18,13]
[29,9,11,9,17,19]
[29,10,19,15,5,14]
[29,11,3,20,15,1]
[29,12,6,20,14,2]
[29,13,2,13,10,12]
[29,14,5,11,7,10]
[29,15,12,1,6,9]
[30,1,13,5,19,6]
[30,2,9,12,5,17]
[30,3,10,3,4,11]
[30,4,14,2,9,11]
[30,5,16,11,13,15]
[30,6,6,7,17,18]
[30,7,13,9,8,20]
[30,8,4,16,1,8]
[30,9,9,7,2,8]
[30,10,15,1,8,19]
[30,11,16,6,10,18]
[30,12,8,2,19,20]
[30,13,18,15,12,17]
[30,14,5,12,4,3]
[30,15,10,1,7,14]
[31,1,17,5,2,1]
[31,2,2,4,5,11]
[31,3,7,19,6,4]
[31,4,12,18,20,5]
[31,5,15,10,9,6]
[31,6,3,4,18,9]
[31,7,20,14,19,17]
[31,8,1,6,14,2]
[31,9,18,8,13,7]
[31,10,19,12,3,7]
[31,11,1,17,3,16]
[31,12,11,8,15,3]
[31,13,17,20,11,13]
[31,14,14,16,13,10]
[31,15,9,10,16,15]
[32,1,11,7,12,6]
[32,2,19,9,18,2]
[32,3,12,14,11,9]
[32,4,20,5,8,10]
[32,5,15,18,5,14]
[32,6,4,17,14,8]
[32,7,15,17,4,20]
[32,8,16,11,18,19]
[32,9,3,20,7,9]
[32,10,10,19,1,4]
[32,11,2,15,10,3]
[32,12,13,1,12,8]
[32,13,5,3,6,16]
[32,14,6,13,17,4]
[32,15,16,2,12,13]
[33,1,7,3,14,5]
[33,2,5,13,7,1]
[33,3,13,14,3,19]
[33,4,19,20,11,6]
[33,5,1,4,9,10]
[33,6,10,19,5,12]
[33,7,3,11,1,18]
[33,8,18,16,9,1]
[33,9,8,12,17,16]
[33,10,9,8,6,15]
[33,11,12,15,20,14]
[33,12,20,7,2,4]
[33,13,2,11,8,7]
[33,14,18,2,15,13]
[33,15,6,16,10,17]
[34,1,7,18,17,10]
[34,2,20,1,9,12]
[34,3,8,14,6,1]
[34,4,1,7,19,15]
[34,5,13,10,3,20]
[34,6,12,6,2,3]
[34,7,19,9,16,2]
[34,8,14,5,4,16]
[34,9,5,6,20,18]
[34,10,11,10,13,14]
[34,11,17,19,8,3]
[34,12,17,16,2,11]
[34,13,4,20,16,15]
[34,14,11,15,5,17]
[34,15,8,18,4,12]
[35,1,10,3,11,12]
[35,2,4,8,13,18]
[35,3,14,15,19,11]
[35,4,2,3,18,1]
[35,5,9,17,10,8]
[35,6,7,5,8,10]
[35,7,4,12,14,6]
[35,8,3,16,15,18]
[35,9,16,9,20,19]
[35,10,15,1,6,5]
[35,11,11,13,1,20]
[35,12,6,2,7,19]
[35,13,5,4,9,13]
[35,14,7,13,12,9]
[35,15,2,14,17,7]
[36,1,18,7,16,12]
[36,2,15,8,13,16]
[36,3,3,19,4,5]
[36,4,14,5,8,9]
[36,5,6,18,11,9]
[36,6,7,4,1,11]
[36,7,20,2,7,3]
[36,8,12,5,2,13]
[36,9,15,4,10,2]
[36,10,17,6,3,13]
[36,11,9,12,15,17]
[36,12,1,20,17,19]
[36,13,19,10,14,18]
[36,14,16,10,11,6]
[36,15,8,3,20,14]
[37,1,14,17,5,16]
[37,2,3,9,14,1]
[37,3,10,1,18,20]
[37,4,8,16,19,7]
[37,5,17,7,10,6]
[37,6,7,15,9,4]
[37,7,13,20,18,15]
[37,8,16,11,2,14]
[37,9,4,11,12,20]
[37,10,19,9,15,10]
[37,11,13,19,12,6]
[37,12,11,5,19,8]
[37,13,6,1,4,2]
[37,14,5,13,3,17]
[37,15,1,2,12,8]
[38,1,18,17,9,11]
[38,2,10,16,1,13]
[38,3,9,20,7,5]
[38,4,12,17,1,15]
[38,5,19,14,13,4]
[38,6,2,18,8,11]
[38,7,11,12,3,7]
[38,8,9,13,16,2]
[38,9,2,6,5,15]
[38,10,5,19,18,1]
[38,11,12,7,14,18]
[38,12,20,2,10,14]
[38,13,10,8,4,3]
[38,14,20,3,6,16]
[38,15,6,14,15,8]
[39,1,13,9,2,10]
[39,2,17,1,5,15]
[39,3,16,3,19,7]
[39,4,1,14,7,13]
[39,5,11,12,16,5]
[39,6,15,10,12,3]
[39,7,10,18,20,17]
[39,8,18,8,4,19]
[39,9,3,6,5,9]
[39,10,2,19,17,12]
[39,11,14,11,6,20]
[39,12,13,15,11,7]
[39,13,4,8,20,17]
[39,14,18,4,9,6]
[39,15,8,1,16,4]
[40,1,4,10,11,5]
[40,2,14,20,13,17]
[40,3,16,7,5,18]
[40,4,3,6,1,14]
[40,5,1,9,10,7]
[40,6,17,4,6,16]
[40,7,5,2,19,20]
[40,8,12,18,14,15]
[40,9,9,11,19,1]
[40,10,19,6,13,18]
[40,11,20,16,12,9]
[40,12,7,1,2,8]
[40,13,8,13,3,11]
[40,14,15,4,3,2]
[40,15,6,12,8,10]
[41,1,10,5,18,2]
[41,2,11,15,10,19]
[41,3,20,18,1,3]
[41,4,4,19,14,12]
[41,5,3,17,7,4]
[41,6,5,20,13,8]
[41,7,13,11,15,5]
[41,8,14,8,16,10]
[41,9,9,16,4,14]
[41,10,15,7,20,16]
[41,11,2,12,6,19]
[41,12,8,15,17,9]
[41,13,17,3,2,18]
[41,14,12,13,1,4]
[41,15,7,11,17,6]
[42,1,13,10,12,3]
[42,2,1,5,15,4]
[42,3,17,9,11,20]
[42,4,19,2,9,14]
[42,5,18,9,8,12]
[42,6,8,20,2,15]
[42,7,20,10,7,19]
[42,8,6,17,15,13]
[42,9,12,6,5,7]
[42,10,7,4,18,11]
[42,11,16,2,11,1]
[42,12,18,15,6,16]
[42,13,16,13,19,3]
[42,14,5,14,9,3]
[42,15,1,17,10,14]
[43,1,9,8,7,13]
[43,2,10,18,13,4]
[43,3,6,19,9,1]
[43,4,19,15,8,6]
[43,5,15,3,4,2]
[43,6,16,12,17,19]
[43,7,1,16,12,5]
[43,8,4,6,20,10]
[43,9,3,17,16,9]
[43,10,14,8,3,11]
[43,11,8,5,11,17]
[43,12,5,7,10,20]
[43,13,2,14,18,7]
[43,14,15,1,14,18]
[43,15,13,20,2,12]
[44,1,7,12,14,8]
[44,2,4,1,16,20]
[44,3,11,9,20,12]
[44,4,3,12,5,4]
[44,5,2,10,1,17]
[44,6,20,18,15,14]
[44,7,19,5,8,16]
[44,8,17,7,19,1]
[44,9,14,4,7,13]
[44,10,18,3,6,11]
[44,11,9,13,18,5]
[44,12,11,2,13,9]
[44,13,10,19,3,15]
[44,14,6,16,10,8]
[44,15,5,2,17,6]
[45,1,19,11,4,20]
[45,2,7,6,9,15]
[45,3,20,7,6,3]
[45,4,18,20,19,8]
[45,5,16,15,13,2]
[45,6,2,9,4,10]
[45,7,4,14,17,6]
[45,8,9,5,16,7]
[45,9,17,13,18,16]
[45,10,13,19,6,1]
[45,11,12,1,15,11]
[45,12,12,14,5,17]
[45,13,3,8,2,1]
[45,14,14,16,11,10]
[45,15,8,18,10,12]
[46,1,15,4,11,17]
[46,2,6,2,8,9]
[46,3,6,16,12,18]
[46,4,20,15,14,5]
[46,5,15,12,7,19]
[46,6,16,3,20,14]
[46,7,5,20,19,2]
[46,8,12,17,3,9]
[46,9,11,5,1,18]
[46,10,10,11,3,19]
[46,11,4,10,17,13]
[46,12,1,11,8,13]
[46,13,2,4,18,7]
[46,14,14,10,9,1]
[46,15,3,13,7,8]
[47,1,10,6,12,20]
[47,2,19,8,5,4]
[47,3,18,3,6,5]
[47,4,9,18,19,17]
[47,5,17,20,13,7]
[47,6,1,7,2,12]
[47,7,18,17,10,2]
[47,8,8,1,20,6]
[47,9,11,14,16,2]
[47,10,7,5,11,10]
[47,11,13,19,14,5]
[47,12,20,9,4,12]
[47,13,4,8,15,16]
[47,14,14,6,13,11]
[47,15,3,9,1,15]
[48,1,5,16,4,6]
[48,2,9,13,5,15]
[48,3,5,2,17,3]
[48,4,2,11,16,19]
[48,5,7,17,1,16]
[48,6,19,14,7,18]
[48,7,13,1,20,18]
[48,8,10,3,15,16]
[48,9,6,10,9,13]
[48,10,8,7,9,11]
[48,11,1,18,3,4]
[48,12,11,4,2,12]
[48,13,3,14,8,20]
[48,14,12,15,17,8]
[48,15,15,19,14,10]
[49,1,17,11,6,14]
[49,2,14,12,2,15]
[49,3,19,3,7,9]
[49,4,2,8,10,20]
[49,5,7,10,12,4]
[49,6,6,2,1,13]
[49,7,4,9,14,1]
[49,8,16,20,13,3]
[49,9,8,5,18,1]
[49,10,16,17,5,8]
[49,11,1,19,4,10]
[49,12,15,7,11,6]
[49,13,9,16,18,12]
[49,14,11,15,20,18]
[49,15,12,13,19,17]
[50,1,18,13,16,4]
[50,2,3,18,12,19]
[50,3,16,4,9,14]
[50,4,10,6,8,5]
[50,5,17,20,15,9]
[50,6,13,19,15,2]
[50,7,18,12,8,7]
[50,8,15,16,10,7]
[50,9,20,6,17,14]
[50,10,6,1,20,5]
[50,11,19,9,8,11]
[50,12,7,14,3,2]
[50,13,4,5,2,13]
[50,14,11,12,1,3]
[50,15,17,11,3,10]
[51,1,8,18,2,17]
[51,2,1,7,16,19]
[51,3,4,3,6,19]
[51,4,10,13,5,11]
[51,5,13,7,9,6]
[51,6,20,4,11,16]
[51,7,5,15,1,17]
[51,8,7,4,19,17]
[51,9,14,8,4,15]
[51,10,9,10,12,5]
[51,11,12,1,14,10]
[51,12,2,6,16,12]
[51,13,18,2,20,9]
[51,14,3,15,18,8]
[51,15,8,14,13,3]
[52,1,1,19,9,20]
[52,2,16,12,15,11]
[52,3,19,16,14,5]
[52,4,10,17,18,16]
[52,5,9,17,11,8]
[52,6,8,1,10,6]
[52,7,6,12,4,15]
[52,8,17,2,3,4]
[52,9,11,18,6,14]
[52,10,12,20,13,19]
[52,11,5,9,15,3]
[52,12,20,11,7,2]
[52,13,14,5,7,13]
[52,14,10,3,7,20]
[52,15,15,13,2,1]
[53,1,6,1,16,7]
[53,2,3,6,19,11]
[53,3,2,14,6,9]
[53,4,1,17,12,14]
[53,5,13,10,11,18]
[53,6,2,10,5,12]
[53,7,5,8,4,20]
[53,8,7,5,18,4]
[53,9,16,8,2,9]
[53,10,13,4,17,11]
[53,11,15,18,9,10]
[53,12,12,19,20,17]
[53,13,19,15,8,7]
[53,14,11,3,5,1]
[53,15,16,1,13,3]
[54,1,12,8,3,13]
[54,2,20,16,14,15]
[54,3,14,19,10,13]
[54,4,4,7,3,15]
[54,5,14,11,4,8]
[54,6,17,2,3,16]
[54,7,13,20,12,6]
[54,8,8,20,1,2]
[54,9,20,10,17,7]
[54,10,9,17,6,5]
[54,11,1,9,19,10]
[54,12,18,14,19,2]
[54,13,11,16,12,18]
[54,14,6,9,18,4]
[54,15,5,7,15,18]
[55,1,15,11,1,20]
[55,2,18,4,13,1]
[55,3,15,6,10,2]
[55,4,10,17,8,14]
[55,5,2,4,5,10]
[55,6,17,13,7,9]
[55,7,3,9,20,16]
[55,8,18,3,14,12]
[55,9,5,2,11,14]
[55,10,19,8,16,6]
[55,11,7,12,13,8]
[55,12,9,12,4,1]
[55,13,13,5,16,20]
[55,14,19,18,17,15]
[55,15,11,6,7,3]
[56,1,1,10,14,3]
[56,2,4,15,2,9]
[56,3,15,16,5,19]
[56,4,16,14,9,11]
[56,5,17,18,1,6]
[56,6,3,15,8,13]
[56,7,6,19,12,4]
[56,8,14,7,17,12]
[56,9,12,3,10,5]
[56,10,20,5,18,19]
[56,11,1,2,19,7]
[56,12,4,20,11,19]
[56,13,9,7,11,18]
[56,14,8,10,6,16]
[56,15,2,8,20,17]
[57,1,7,20,10,2]
[57,2,20,14,3,4]
[57,3,4,13,15,17]
[57,4,10,18,13,9]
[57,5,3,17,2,16]
[57,6,19,11,16,10]
[57,7,11,1,15,12]
[57,8,5,4,7,8]
[57,9,8,16,18,12]
[57,10,18,15,14,6]
[57,11,7,1,6,5]
[57,12,2,13,8,11]
[57,13,6,20,13,14]
[57,14,14,5,9,3]
[57,15,17,1,19,8]
[58,1,6,3,9,19]
[58,2,12,11,5,17]
[58,3,9,12,2,8]
[58,4,10,9,4,14]
[58,5,10,6,17,4]
[58,6,13,5,20,18]
[58,7,8,6,15,7]
[58,8,16,14,1,7]
[58,9,17,9,5,11]
[58,10,1,16,10,15]
[58,11,4,19,16,13]
[58,12,20,3,12,1]
[58,13,9,15,12,20]
[58,14,19,2,11,13]
[58,15,3,2,7,18]
[59,1,5,14,1,8]
[59,2,15,3,1,5]
[59,3,2,4,6,18]
[59,4,12,10,19,15]
[59,5,13,2,3,6]
[59,6,18,11,6,3]
[59,7,16,9,5,2]
[59,8,13,8,4,1]
[59,9,14,18,19,17]
[59,10,12,13,7,16]
[59,11,7,17,14,15]
[59,12,11,20,8,10]
[59,13,4,7,11,9]
[59,14,16,17,18,20]
[59,15,8,19,3,10]
[60,1,8,16,20,4]
[60,2,19,12,14,2]
[60,3,2,1,17,11]
[60,4,6,12,16,5]
[60,5,17,7,10,13]
[60,6,3,19,5,7]
[60,7,9,11,20,1]
[60,8,10,11,15,2]
[60,9,18,10,1,13]
[60,10,18,8,9,19]
[60,11,1,6,12,14]
[60,12,14,13,15,9]
[60,13,20,7,4,12]
[60,14,3,4,17,16]
[60,15,5,15,6,20]
[61,1,17,9,8,3]
[61,2,15,3,4,10]
[61,3,4,18,2,12]
[61,4,9,12,10,6]
[61,5,11,15,18,16]
[61,6,16,17,13,6]
[61,7,7,1,9,19]
[61,8,2,6,7,20]
[61,9,19,20,3,15]
[61,10,14,5,18,4]
[61,11,20,5,17,19]
[61,12,1,14,2,16]
[61,13,5,13,10,14]
[61,14,12,19,11,13]
[61,15,7,8,18,11]
[62,1,15,2,8,6]
[62,2,10,18,16,3]
[62,3,1,4,19,17]
[62,4,13,3,20,9]
[62,5,20,10,1,18]
[62,6,9,16,14,7]
[62,7,7,17,15,2]
[62,8,11,4,12,3]
[62,9,6,20,11,14]
[62,10,5,16,4,1]
[62,11,10,7,14,8]
[62,12,12,11,8,5]
[62,13,18,8,13,9]
[62,14,17,12,13,15]
[62,15,6,5,19,2]
[63,1,10,9,5,17]
[63,2,8,15,9,5]
[63,3,16,6,12,8]
[63,4,2,14,17,20]
[63,5,4,10,7,12]
[63,6,3,18,20,12]
[63,7,19,2,1,18]
[63,8,3,13,2,5]
[63,9,13,14,15,4]
[63,10,6,1,3,7]
[63,11,9,20,16,10]
[63,12,11,19,6,4]
[63,13,17,12,8,1]
[63,14,15,18,14,7]
[63,15,19,13,16,11]
[64,1,16,17,18,7]
[64,2,2,9,10,6]
[64,3,4,3,9,11]
[64,4,7,5,20,13]
[64,5,5,7,11,18]
[64,6,1,13,17,11]
[64,7,15,16,4,20]
[64,8,14,11,10,8]
[64,9,12,1,14,9]
[64,10,11,6,3,17]
[64,11,19,10,1,15]
[64,12,13,15,6,18]
[64,13,12,2,5,16]
[64,14,8,4,2,20]
[64,15,14,19,8,3]
[65,1,4,7,19,9]
[65,2,20,17,11,14]
[65,3,5,2,12,1]
[65,4,18,6,5,10]
[65,5,17,8,4,5]
[65,6,3,10,17,12]
[65,7,1,11,15,16]
[65,8,18,14,2,3]
[65,9,7,10,13,2]
[65,10,8,5,16,19]
[65,11,15,20,7,9]
[65,12,9,18,19,12]
[65,13,13,1,6,4]
[65,14,6,19,20,14]
[65,15,3,15,13,8]
[66,1,14,16,1,13]
[66,2,16,8,7,6]
[66,3,10,3,20,16]
[66,4,5,4,3,14]
[66,5,20,8,18,1]
[66,6,11,4,2,10]
[66,7,14,12,11,7]
[66,8,8,9,12,20]
[66,9,11,20,5,15]
[66,10,10,15,17,19]
[66,11,7,1,3,18]
[66,12,2,16,9,13]
[66,13,4,2,18,17]
[66,14,1,17,9,6]
[66,15,12,13,15,19]
[67,1,1,7,10,11]
[67,2,18,11,13,8]
[67,3,19,3,7,16]
[67,4,13,12,14,10]
[67,5,6,5,18,9]
[67,6,2,6,8,3]
[67,7,20,13,7,17]
[67,8,9,4,15,1]
[67,9,6,12,4,20]
[67,10,10,19,11,5]
[67,11,15,17,5,3]
[67,12,16,9,14,2]
[67,13,16,18,12,14]
[67,14,17,8,19,4]
[67,15,19,2,6,15]
[68,1,17,18,12,15]
[68,2,18,19,13,9]
[68,3,13,6,16,4]
[68,4,4,10,6,18]
[68,5,9,14,19,17]
[68,6,3,9,12,11]
[68,7,12,4,2,7]
[68,8,5,14,17,6]
[68,9,2,1,20,19]
[68,10,7,16,10,6]
[68,11,14,20,15,18]
[68,12,15,11,16,2]
[68,13,1,3,5,13]
[68,14,20,14,8,10]
[68,15,8,5,7,12]
[69,1,12,20,16,19]
[69,2,4,11,1,14]
[69,3,20,1,18,5]
[69,4,11,6,3,8]
[69,5,16,18,4,10]
[69,6,2,15,8,17]
[69,7,6,17,13,12]
[69,8,15,5,3,1]
[69,9,3,10,9,4]
[69,10,11,2,9,20]
[69,11,9,7,17,16]
[69,12,10,15,1,8]
[69,13,19,8,14,7]
[69,14,7,13,11,5]
[69,15,13,19,2,3]
[70,1,16,9,15,11]
[70,2,5,10,6,14]
[70,3,17,11,18,2]
[70,4,4,3,20,7]
[70,5,5,12,10,2]
[70,6,8,16,9,1]
[70,7,10,17,20,13]
[70,8,17,7,2,1]
[70,9,14,13,4,8]
[70,10,6,20,7,15]
[70,11,14,15,3,12]
[70,12,1,6,11,19]
[70,13,18,16,17,3]
[70,14,12,9,6,1]
[70,15,4,18,19,5]
[71,1,14,17,19,6]
[71,2,2,1,12,7]
[71,3,8,5,16,17]
[71,4,7,4,5,11]
[71,5,11,15,10,13]
[71,6,9,5,13,16]
[71,7,15,14,4,2]
[71,8,19,6,9,20]
[71,9,20,2,3,16]
[71,10,3,7,19,13]
[71,11,8,9,4,15]
[71,12,19,8,10,18]
[71,13,20,12,8,11]
[71,14,13,12,18,10]
[71,15,18,3,14,1]
[72,1,6,8,11,3]
[72,2,17,3,12,4]
[72,3,7,19,15,16]
[72,4,14,13,2,9]
[72,5,17,10,1,20]
[72,6,13,15,6,12]
[72,7,1,20,8,13]
[72,8,12,19,2,5]
[72,9,11,14,17,9]
[72,10,5,7,14,9]
[72,11,16,1,4,10]
[72,12,10,16,11,19]
[72,13,2,9,3,18]
[72,14,18,8,7,6]
[72,15,15,5,20,18]
[73,1,5,11,13,3]
[73,2,15,4,5,17]
[73,3,12,18,16,14]
[73,4,11,12,7,15]
[73,5,7,2,20,4]
[73,6,3,17,18,8]
[73,7,2,14,19,10]
[73,8,4,19,13,20]
[73,9,9,10,3,12]
[73,10,16,13,1,4]
[73,11,20,6,9,5]
[73,12,18,11,6,1]
[73,13,8,2,10,7]
[73,14,1,19,8,17]
[73,15,6,16,14,15]
[74,1,19,4,14,11]
[74,2,5,1,12,8]
[74,3,16,20,17,11]
[74,4,3,7,1,14]
[74,5,14,15,5,10]
[74,6,9,18,15,19]
[74,7,13,7,17,6]
[74,8,7,18,9,13]
[74,9,10,3,6,2]
[74,10,9,1,4,8]
[74,11,3,14,16,20]
[74,12,20,17,10,12]
[74,13,8,13,15,2]
[74,14,12,4,18,19]
[74,15,4,16,5,6]
[75,1,15,2,7,1]
[75,2,2,20,11,18]
[75,3,13,3,19,17]
[75,4,11,17,10,6]
[75,5,18,13,20,4]
[75,6,4,12,7,14]
[75,7,19,2,16,5]
[75,8,1,19,15,3]
[75,9,10,9,17,7]
[75,10,20,5,1,18]
[75,11,5,3,12,9]
[75,12,8,6,13,14]
[75,13,12,8,11,16]
[75,14,6,9,2,13]
[75,15,16,10,8,15]
[76,1,2,11,4,3]
[76,2,11,15,14,18]
[76,3,7,8,20,19]
[76,4,6,20,12,19]
[76,5,14,5,13,11]
[76,6,8,12,5,2]
[76,7,17,1,2,14]
[76,8,18,6,1,10]
[76,9,11,18,16,7]
[76,10,13,1,3,16]
[76,11,17,16,13,12]
[76,12,3,4,6,15]
[76,13,4,9,8,17]
[76,14,10,20,7,5]
[76,15,9,11,19,10]
[77,1,19,10,9,12]
[77,2,1,12,15,9]
[77,3,1,14,12,20]
[77,4,3,19,16,8]
[77,5,6,7,11,1]
[77,6,15,3,9,20]
[77,7,2,16,18,6]
[77,8,17,11,2,5]
[77,9,9,18,13,4]
[77,10,15,6,17,7]
[77,11,20,8,4,2]
[77,12,5,15,14,16]
[77,13,18,14,8,17]
[77,14,10,5,19,4]
[77,15,13,10,7,3]
[78,1,7,12,16,4]
[78,2,14,4,10,2]
[78,3,2,13,19,15]
[78,4,12,17,18,15]
[78,5,19,4,1,17]
[78,6,19,7,3,18]
[78,7,12,6,11,13]
[78,8,15,13,20,10]
[78,9,7,14,9,8]
[78,10,3,10,8,11]
[78,11,16,11,20,1]
[78,12,5,2,3,7]
[78,13,20,14,6,9]
[78,14,17,1,5,18]
[78,15,8,5,6,9]
[79,1,14,3,5,20]
[79,2,18,1,10,13]
[79,3,11,19,6,16]
[79,4,12,18,2,8]
[79,5,20,2,18,19]
[79,6,1,15,12,4]
[79,7,4,9,7,11]
[79,8,9,17,3,12]
[79,9,6,15,4,3]
[79,10,16,20,17,10]
[79,11,10,16,8,5]
[79,12,13,5,14,19]
[79,13,6,7,17,14]
[79,14,13,8,15,11]
[79,15,9,16,1,2]
[80,1,5,19,16,17]
[80,2,14,10,1,3]
[80,3,4,18,14,11]
[80,4,7,8,13,1]
[80,5,17,20,9,15]
[80,6,19,9,5,1]
[80,7,16,4,20,6]
[80,8,12,17,13,14]
[80,9,11,12,3,20]
[80,10,4,7,18,5]
[80,11,15,7,10,16]
[80,12,3,18,6,8]
[80,13,2,6,12,10]
[80,14,14,13,2,9]
[80,15,19,11,15,8]
[81,1,18,2,16,9]
[81,2,1,5,11,6]
[81,3,16,13,7,12]
[81,4,1,12,4,2]
[81,5,20,3,17,15]
[81,6,10,6,4,17]
[81,7,18,9,15,10]
[81,8,5,11,18,13]
[81,9,2,15,1,5]
[81,10,8,4,20,13]
[81,11,6,20,19,7]
[81,12,3,2,17,11]
[81,13,10,14,19,8]
[81,14,8,16,14,3]
[81,15,7,19,5,12]
[82,1,11,1,9,7]
[82,2,9,10,11,4]
[82,3,17,9,18,19]
[82,4,2,17,8,7]
[82,5,13,1,9,20]
[82,6,15,19,12,14]
[82,7,17,4,5,15]
[82,8,19,13,2,6]
[82,9,9,3,10,16]
[82,10,15,8,1,6]
[82,11,3,6,16,18]
[82,12,4,16,13,14]
[82,13,18,8,20,12]
[82,14,11,10,2,20]
[82,15,7,3,12,5]
[83,1,11,15,14,2]
[83,2,20,18,7,14]
[83,3,12,11,6,9]
[83,4,16,12,15,2]
[83,5,1,17,11,19]
[83,6,5,20,17,13]
[83,7,10,7,3,13]
[83,8,13,19,4,3]
[83,9,6,5,8,4]
[83,10,20,5,10,12]
[83,11,8,1,3,16]
[83,12,4,18,16,17]
[83,13,8,2,19,9]
[83,14,14,6,10,1]
[83,15,7,10,15,18]
[84,1,15,13,18,1]
[84,2,19,14,18,3]
[84,3,5,9,8,13]
[84,4,18,8,12,10]
[84,5,12,3,6,5]
[84,6,17,20,9,7]
[84,7,13,17,1,2]
[84,8,16,12,14,17]
[84,9,3,15,11,20]
[84,10,9,16,6,15]
[84,11,6,2,7,14]
[84,12,14,4,8,11]
[84,13,2,10,20,4]
[84,14,20,11,5,16]
[84,15,1,7,4,19]
[85,1,10,16,13,5]
[85,2,5,15,2,8]
[85,3,8,14,20,3]
[85,4,12,13,19,11]
[85,5,4,12,13,6]
[85,6,11,8,7,17]
[85,7,17,3,10,1]
[85,8,6,11,17,18]
[85,9,2,1,12,16]
[85,10,16,7,19,6]
[85,11,15,19,9,10]
[85,12,14,18,5,9]
[85,13,3,2,4,9]
[85,14,19,14,1,20]
[85,15,7,4,15,8]
[86,1,9,20,6,1]
[86,2,2,6,3,5]
[86,3,8,17,16,19]
[86,4,14,9,11,4]
[86,5,13,20,15,18]
[86,6,18,10,2,19]
[86,7,7,5,14,15]
[86,8,10,19,14,4]
[86,9,15,6,3,17]
[86,10,1,5,16,11]
[86,11,10,1,12,7]
[86,12,11,3,13,18]
[86,13,9,8,20,12]
[86,14,13,7,2,18]
[86,15,17,16,4,12]
[87,1,6,13,10,8]
[87,2,20,2,7,16]
[87,3,1,12,3,14]
[87,4,17,14,8,13]
[87,5,18,15,1,4]
[87,6,16,13,9,15]
[87,7,9,17,19,5]
[87,8,12,15,19,6]
[87,9,14,2,6,20]
[87,10,11,14,17,2]
[87,11,5,18,6,10]
[87,12,3,4,20,19]
[87,13,7,9,5,3]
[87,14,10,11,17,7]
[87,15,8,18,11,12]
[88,1,13,17,10,16]
[88,2,15,7,18,16]
[88,3,4,20,1,17]
[88,4,12,10,9,14]
[88,5,4,5,15,2]
[88,6,6,19,11,13]
[88,7,20,12,13,7]
[88,8,1,6,7,9]
[88,9,19,8,18,20]
[88,10,5,1,8,4]
[88,11,10,3,2,8]
[88,12,19,15,11,10]
[88,13,3,4,12,11]
[88,14,16,9,18,3]
[88,15,2,16,14,1]
[89,1,14,7,8,15]
[89,2,5,11,16,20]
[89,3,7,11,4,10]
[89,4,4,16,9,8]
[89,5,20,10,5,6]
[89,6,9,4,2,6]
[89,7,11,3,7,19]
[89,8,2,5,14,13]
[89,9,18,17,5,12]
[89,10,15,1,12,11]
[89,11,3,20,15,17]
[89,12,1,19,3,13]
[89,13,18,8,1,6]
[89,14,14,18,16,2]
[89,15,6,16,19,12]
[90,1,12,2,19,5]
[90,2,13,19,20,15]
[90,3,12,13,11,9]
[90,4,4,20,10,18]
[90,5,18,6,4,3]
[90,6,19,5,4,7]
[90,7,9,14,7,3]
[90,8,11,9,15,2]
[90,9,16,1,20,14]
[90,10,17,4,13,9]
[90,11,5,18,17,1]
[90,12,16,8,13,7]
[90,13,8,12,17,15]
[90,14,3,10,8,1]
[90,15,6,14,2,17]
[91,1,13,3,16,4]
[91,2,10,12,14,4]
[91,3,5,11,18,14]
[91,4,15,4,3,17]
[91,5,20,2,19,8]
[91,6,14,6,15,16]
[91,7,17,7,6,13]
[91,8,9,15,5,8]
[91,9,1,7,12,20]
[91,10,19,9,17,10]
[91,11,2,16,11,19]
[91,12,3,13,10,5]
[91,13,7,12,2,18]
[91,14,8,20,6,11]
[91,15,2,13,1,10]
[92,1,7,8,5,1]
[92,2,15,10,7,16]
[92,3,6,14,13,18]
[92,4,19,18,9,1]
[92,5,16,6,9,10]
[92,6,20,9,3,14]
[92,7,10,3,12,8]
[92,8,13,2,4,11]
[92,9,18,9,20,7]
[92,10,12,17,18,19]
[92,11,19,5,14,12]
[92,12,4,15,20,5]
[92,13,17,6,3,2]
[92,14,1,11,17,16]
[92,15,11,1,8,9]
[93,1,8,17,7,6]
[93,2,4,8,16,18]
[93,3,12,13,2,20]
[93,4,6,16,1,5]
[93,5,14,18,10,11]
[93,6,2,7,12,9]
[93,7,7,19,16,3]
[93,8,11,20,10,17]
[93,9,3,11,5,15]
[93,10,17,5,13,9]
[93,11,18,3,15,2]
[93,12,13,4,14,8]
[93,13,1,2,10,15]
[93,14,20,12,4,6]
[93,15,1,14,19,15]
[94,1,8,10,5,19]
[94,2,16,3,11,12]
[94,3,20,16,8,3]
[94,4,19,1,6,4]
[94,5,9,3,1,13]
[94,6,15,19,9,6]
[94,7,6,15,18,12]
[94,8,4,7,11,14]
[94,9,10,5,9,17]
[94,10,14,20,16,7]
[94,11,8,17,19,2]
[94,12,12,14,17,10]
[94,13,5,11,7,13]
[94,14,2,1,4,18]
[94,15,15,18,13,20]
[95,1,17,4,19,7]
[95,2,9,12,8,16]
[95,3,7,2,18,10]
[95,4,13,12,14,1]
[95,5,5,6,20,14]
[95,6,10,18,16,5]
[95,7,3,6,1,7]
[95,8,18,2,3,17]
[95,9,13,8,15,14]
[95,10,9,15,14,4]
[95,11,16,5,12,4]
[95,12,11,9,2,20]
[95,13,10,19,13,20]
[95,14,1,17,11,19]
[95,15,15,8,6,11]
[96,1,5,4,18,11]
[96,2,16,13,9,2]
[96,3,2,8,5,3]
[96,4,8,13,11,18]
[96,5,7,15,17,16]
[96,6,6,19,2,16]
[96,7,11,16,20,1]
[96,8,12,10,15,1]
[96,9,20,7,14,19]
[96,10,14,17,3,12]
[96,11,19,9,18,3]
[96,12,5,4,12,15]
[96,13,17,1,10,20]
[96,14,4,10,6,13]
[96,15,9,7,8,6]
[97,1,18,16,19,15]
[97,2,19,11,2,12]
[97,3,3,11,6,5]
[97,4,18,14,17,8]
[97,5,8,2,4,10]
[97,6,2,17,1,5]
[97,7,1,12,8,13]
[97,8,14,19,13,3]
[97,9,3,20,5,15]
[97,10,6,14,4,16]
[97,11,17,20,4,9]
[97,12,4,3,7,1]
[97,13,13,9,10,6]
[97,14,15,10,7,11]
[97,15,12,20,9,18]
[98,1,16,10,3,17]
[98,2,19,8,5,4]
[98,3,13,15,16,17]
[98,4,5,13,17,7]
[98,5,11,18,16,14]
[98,6,3,6,2,9]
[98,7,20,1,18,6]
[98,8,12,7,15,2]
[98,9,14,11,1,9]
[98,10,10,15,20,8]
[98,11,7,4,1,19]
[98,12,2,19,20,8]
[98,13,7,18,12,3]
[98,14,9,5,14,10]
[98,15,11,13,6,12]
[99,1,15,17,6,18]
[99,2,18,5,9,7]
[99,3,4,2,11,20]
[99,4,17,9,12,4]
[99,5,6,12,20,5]
[99,6,11,9,15,19]
[99,7,10,14,7,3]
[99,8,1,16,8,18]
[99,9,13,5,19,14]
[99,10,8,6,14,17]
[99,11,20,7,13,2]
[99,12,15,3,1,13]
[99,13,16,19,10,12]
[99,14,20,8,3,11]
[99,15,4,13,2,16]
[100,1,5,1,10,2]
[100,2,12,3,8,4]
[100,3,9,16,5,3]
[100,4,3,12,17,19]
[100,5,10,6,19,18]
[100,6,16,14,17,20]
[100,7,18,20,12,7]
[100,8,8,1,9,7]
[100,9,19,11,9,8]
[100,10,1,15,4,14]
[100,11,4,18,13,10]
[100,12,14,2,15,5]
[100,13,17,11,2,15]
[100,14,6,13,16,1]
[100,15,7,10,11,6]

{"sheet":"Labels","index":1,"n_rows":22,"n_cols":2,"rows_kept":22,"cut":false,"hidden":false,"merged":[]}
[]
[null,"Final PR24 Questionnaire Priorities"]
[1,"Providing a continuous supply of water that is safe to drink"]
[2,"Providing water that is aesthetically pleasing (clear and clean with no odour or unusual taste or colour)"]
[3,"Preventing sewage from entering homes and businesses "]
[4,"Preventing pollution of rivers or streams from sewage pipes"]
[5,"Preventing leaks from Yorkshire Water's pipe network"]
[6,"Providing appropriate sewer capacity and pumping capabilities to cope with widespread flood events"]
[7,"Preventing interruptions to the supply of water (e.g. planned works, burst pipes, leaks and outages) that cause problems ranging from low pressure to no water"]
[8,"Providing good and constant water pressure"]
[9,"Treating waste water to a high standard to ensure good quality water in Yorkshire's rivers and beaches"]
[10,"Providing financial help and support to those who are struggling to pay their water bill"]
[11,"Preventing sewage entering gardens and public spaces from pipe collapses or blockages"]
[12,"Providing a high level of customer service (e.g. resolving queries quickly)"]
[13,"Ensuring that land owned by Yorkshire Water is conserved or enhanced to improve quality of the water it collects and reduce flooding"]
[14,"Ensuring additional support is available to those who need it e.g.  providing bills in braille, providing bottled water during times of interruptions for thos​e who can't get to a shop (elderly, medical conditions etc.)"]
[15,"Supporting customers to reduce their water use and prevent blockages through education and provision of free tools/devices"]
[16,"Reducing the release of untreated sewage mixed with rain water into rivers and streams during times of heavy rainfall"]
[17,"Reduce and offset carbon emissions to achieve a 'net zero' position by 2030 "]
[18,"Working with other organisations on common challenges (e.g. flooding) to share costs and expertise allowing for more and smarter investment to tackle problems"]
[19,"Preventing the likelihood of restrictions on water use, including hosepipe bans, in a drought"]
[20,"Keeping bills affordable for all"]

{"sheet":"Design - Labels","index":2,"n_rows":1501,"n_cols":6,"rows_kept":1501,"cut":false,"hidden":false,"merged":[]}
["Version","Set","Item1","Item2","Item3","Item4"]
[1,1,{"$f":"VLOOKUP('Design #'!C2,Labels!$A:$B,2,FALSE)","v":"Reducing the release of untreated sewage mixed with rain water into rivers and streams during times of heavy rainfall"},{"$f":"VLOOKUP('Design #'!D2,Labels!$A:$B,2,FALSE)","v":"Providing a high level of customer service (e.g. resolving queries quickly)"},{"$f":"VLOOKUP('Design #'!E2,Labels!$A:$B,2,FALSE)","v":"Supporting customers to reduce their water use and prevent blockages through education and provision of free tools/devices"},{"$f":"VLOOKUP('Design #'!F2,Labels!$A:$B,2,FALSE)","v":"Ensuring that land owned by Yorkshire Water is conserved or enhanced to improve quality of the water it collects and reduce flooding"}]
[1,2,{"$f":"VLOOKUP('Design #'!C3,Labels!$A:$B,2,FALSE)","v":"Ensuring additional support is available to those who need it e.g.  providing bills in braille, providing bottled water during times of interruptions for thos​e who can't get to a shop (elderly, medical conditions etc.)"},{"$f":"VLOOKUP('Design #'!D3,Labels!$A:$B,2,FALSE)","v":"Reducing the release of untreated sewage mixed with rain water into rivers and streams during times of heavy rainfall"},{"$f":"VLOOKUP('Design #'!E3,Labels!$A:$B,2,FALSE)","v":"Preventing sewage entering gardens and public spaces from pipe collapses or blockages"},{"$f":"VLOOKUP('Design #'!F3,Labels!$A:$B,2,FALSE)","v":"Preventing interruptions to the supply of water (e.g. planned works, burst pipes, leaks and outages) that cause problems ranging from low pressure to no water"}]
[1,3,{"$f":"VLOOKUP('Design #'!C4,Labels!$A:$B,2,FALSE)","v":"Preventing sewage entering gardens and public spaces from pipe collapses or blockages"},{"$f":"VLOOKUP('Design #'!D4,Labels!$A:$B,2,FALSE)","v":"Working with other organisations on common challenges (e.g. flooding) to share costs and expertise allowing for more and smarter investment to tackle problems"},{"$f":"VLOOKUP('Design #'!E4,Labels!$A:$B,2,FALSE)","v":"Providing appropriate sewer capacity and pumping capabilities to cope with widespread flood events"},{"$f":"VLOOKUP('Design #'!F4,Labels!$A:$B,2,FALSE)","v":"Preventing leaks from Yorkshire Water's pipe network"}]
[1,4,{"$f":"VLOOKUP('Design #'!C5,Labels!$A:$B,2,FALSE)","v":"Working with other organisations on common challenges (e.g. flooding) to share costs and expertise allowing for more and smarter investment to tackle problems"},{"$f":"VLOOKUP('Design #'!D5,Labels!$A:$B,2,FALSE)","v":"Ensuring additional support is available to those who need it e.g.  providing bills in braille, providing bottled water during times of interruptions for thos​e who can't get to a shop (elderly, medical conditions etc.)"},{"$f":"VLOOKUP('Design #'!E5,Labels!$A:$B,2,FALSE)","v":"Providing water that is aesthetically pleasing (clear and clean with no odour or unusual taste or colour)"},{"$f":"VLOOKUP('Design #'!F5,Labels!$A:$B,2,FALSE)","v":"Providing financial help and support to those who are struggling to pay their water bill"}]
[1,5,{"$f":"VLOOKUP('Design #'!C6,Labels!$A:$B,2,FALSE)","v":"Preventing interruptions to the supply of water (e.g. planned works, burst pipes, leaks and outages) that cause problems ranging from low pressure to no water"},{"$f":"VLOOKUP('Design #'!D6,Labels!$A:$B,2,FALSE)","v":"Providing a continuous supply of water that is safe to drink"},{"$f":"VLOOKUP('Design #'!E6,Labels!$A:$B,2,FALSE)","v":"Preventing sewage from entering homes and businesses "},{"$f":"VLOOKUP('Design #'!F6,Labels!$A:$B,2,FALSE)","v":"Keeping bills affordable for all"}]
[1,6,{"$f":"VLOOKUP('Design #'!C7,Labels!$A:$B,2,FALSE)","v":"Preventing sewage from entering homes and businesses "},{"$f":"VLOOKUP('Design #'!D7,Labels!$A:$B,2,FALSE)","v":"Providing appropriate sewer capacity and pumping capabilities to cope with widespread flood events"},{"$f":"VLOOKUP('Design #'!E7,Labels!$A:$B,2,FALSE)","v":"Ensuring that land owned by Yorkshire Water is conserved or enhanced to improve quality of the water it collects and reduce flooding"},{"$f":"VLOOKUP('Design #'!F7,Labels!$A:$B,2,FALSE)","v":"Preventing the likelihood of restrictions on water use, including hosepipe bans, in a drought"}]
[1,7,{"$f":"VLOOKUP('Design #'!C8,Labels!$A:$B,2,FALSE)","v":"Preventing the likelihood of restrictions on water use, including hosepipe bans, in a drought"},{"$f":"VLOOKUP('Design #'!D8,Labels!$A:$B,2,FALSE)","v":"Providing financial help and support to those who are struggling to pay their water bill"},{"$f":"VLOOKUP('Design #'!E8,Labels!$A:$B,2,FALSE)","v":"Ensuring additional support is available to those who need it e.g.  providing bills in braille, providing bottled water during times of interruptions for thos​e who can't get to a shop (elderly, medical conditions etc.)"},{"$f":"VLOOKUP('Design #'!F8,Labels!$A:$B,2,FALSE)","v":"Providing good and constant water pressure"}]
[1,8,{"$f":"VLOOKUP('Design #'!C9,Labels!$A:$B,2,FALSE)","v":"Providing water that is aesthetically pleasing (clear and clean with no odour or unusual taste or colour)"},{"$f":"VLOOKUP('Design #'!D9,Labels!$A:$B,2,FALSE)","v":"Reduce and offset carbon emissions to achieve a 'net zero' position by 2030 "},{"$f":"VLOOKUP('Design #'!E9,Labels!$A:$B,2,FALSE)","v":"Preventing pollution of rivers or streams from sewage pipes"},{"$f":"VLOOKUP('Design #'!F9,Labels!$A:$B,2,FALSE)","v":"Treating waste water to a high standard to ensure good quality water in Yorkshire's rivers and beaches"}]
[1,9,{"$f":"VLOOKUP('Design #'!C10,Labels!$A:$B,2,FALSE)","v":"Preventing pollution of rivers or streams from sewage pipes"},{"$f":"VLOOKUP('Design #'!D10,Labels!$A:$B,2,FALSE)","v":"Preventing interruptions to the supply of water (e.g. planned works, burst pipes, leaks and outages) that cause problems ranging from low pressure to no water"},{"$f":"VLOOKUP('Design #'!E10,Labels!$A:$B,2,FALSE)","v":"Providing a high level of customer service (e.g. resolving queries quickly)"},{"$f":"VLOOKUP('Design #'!F10,Labels!$A:$B,2,FALSE)","v":"Providing appropriate sewer capacity and pumping capabilities to cope with widespread flood events"}]
[1,10,{"$f":"VLOOKUP('Design #'!C11,Labels!$A:$B,2,FALSE)","v":"Treating waste water to a high standard to ensure good quality water in Yorkshire's rivers and beaches"},{"$f":"VLOOKUP('Design #'!D11,Labels!$A:$B,2,FALSE)","v":"Providing good and constant water pressure"},{"$f":"VLOOKUP('Design #'!E11,Labels!$A:$B,2,FALSE)","v":"Working with other organisations on common challenges (e.g. flooding) to share costs and expertise allowing for more and smarter investment to tackle problems"},{"$f":"VLOOKUP('Design #'!F11,Labels!$A:$B,2,FALSE)","v":"Providing a high level of customer service (e.g. resolving queries quickly)"}]
[1,11,{"$f":"VLOOKUP('Design #'!C12,Labels!$A:$B,2,FALSE)","v":"Preventing leaks from Yorkshire Water's pipe network"},{"$f":"VLOOKUP('Design #'!D12,Labels!$A:$B,2,FALSE)","v":"Supporting customers to reduce their water use and prevent blockages through education and provision of free tools/devices"},{"$f":"VLOOKUP('Design #'!E12,Labels!$A:$B,2,FALSE)","v":"Providing a continuous supply of water that is safe to drink"},{"$f":"VLOOKUP('Design #'!F12,Labels!$A:$B,2,FALSE)","v":"Providing water that is aesthetically pleasing (clear and clean with no odour or unusual taste or colour)"}]
[1,12,{"$f":"VLOOKUP('Design #'!C13,Labels!$A:$B,2,FALSE)","v":"Reduce and offset carbon emissions to achieve a 'net zero' position by 2030 "},{"$f":"VLOOKUP('Design #'!D13,Labels!$A:$B,2,FALSE)","v":"Ensuring that land owned by Yorkshire Water is conserved or enhanced to improve quality of the water it collects and reduce flooding"},{"$f":"VLOOKUP('Design #'!E13,Labels!$A:$B,2,FALSE)","v":"Keeping bills affordable for all"},{"$f":"VLOOKUP('Design #'!F13,Labels!$A:$B,2,FALSE)","v":"Preventing leaks from Yorkshire Water's pipe network"}]
[1,13,{"$f":"VLOOKUP('Design #'!C14,Labels!$A:$B,2,FALSE)","v":"Providing a continuous supply of water that is safe to drink"},{"$f":"VLOOKUP('Design #'!D14,Labels!$A:$B,2,FALSE)","v":"Preventing the likelihood of restrictions on water use, including hosepipe bans, in a drought"},{"$f":"VLOOKUP('Design #'!E14,Labels!$A:$B,2,FALSE)","v":"Treating waste water to a high standard to ensure good quality water in Yorkshire's rivers and beaches"},{"$f":"VLOOKUP('Design #'!F14,Labels!$A:$B,2,FALSE)","v":"Reducing the release of untreated sewage mixed with rain water into rivers and streams during times of heavy rainfall"}]
[1,14,{"$f":"VLOOKUP('Design #'!C15,Labels!$A:$B,2,FALSE)","v":"Keeping bills affordable for all"},{"$f":"VLOOKUP('Design #'!D15,Labels!$A:$B,2,FALSE)","v":"Preventing pollution of rivers or streams from sewage pipes"},{"$f":"VLOOKUP('Design #'!E15,Labels!$A:$B,2,FALSE)","v":"Providing financial help and support to those who are struggling to pay their water bill"},{"$f":"VLOOKUP('Design #'!F15,Labels!$A:$B,2,FALSE)","v":"Reduce and offset carbon emissions to achieve a 'net zero' position by 2030 "}]
[1,15,{"$f":"VLOOKUP('Design #'!C16,Labels!$A:$B,2,FALSE)","v":"Supporting customers to reduce their water use and prevent blockages through education and provision of free tools/devices"},{"$f":"VLOOKUP('Design #'!D16,Labels!$A:$B,2,FALSE)","v":"Preventing sewage entering gardens and public spaces from pipe collapses or blockages"},{"$f":"VLOOKUP('Design #'!E16,Labels!$A:$B,2,FALSE)","v":"Providing good and constant water pressure"},{"$f":"VLOOKUP('Design #'!F16,Labels!$A:$B,2,FALSE)","v":"Preventing sewage from entering homes and businesses "}]
[2,1,{"$f":"VLOOKUP('Design #'!C17,Labels!$A:$B,2,FALSE)","v":"Providing appropriate sewer capacity and pumping capabilities to cope with widespread flood events"},{"$f":"VLOOKUP('Design #'!D17,Labels!$A:$B,2,FALSE)","v":"Treating waste water to a high standard to ensure good quality water in Yorkshire's rivers and beaches"},{"$f":"VLOOKUP('Design #'!E17,Labels!$A:$B,2,FALSE)","v":"Supporting customers to reduce their water use and prevent blockages through education and provision of free tools/devices"},{"$f":"VLOOKUP('Design #'!F17,Labels!$A:$B,2,FALSE)","v":"Ensuring additional support is available to those who need it e.g.  providing bills in braille, providing bottled water during times of interruptions for thos​e who can't get to a shop (elderly, medical conditions etc.)"}]
[2,2,{"$f":"VLOOKUP('Design #'!C18,Labels!$A:$B,2,FALSE)","v":"Providing a high level of customer service (e.g. resolving queries quickly)"},{"$f":"VLOOKUP('Design #'!D18,Labels!$A:$B,2,FALSE)","v":"Preventing leaks from Yorkshire Water's pipe network"},{"$f":"VLOOKUP('Design #'!E18,Labels!$A:$B,2,FALSE)","v":"Preventing interruptions to the supply of water (e.g. planned works, burst pipes, leaks and outages) that cause problems ranging from low pressure to no water"},{"$f":"VLOOKUP('Design #'!F18,Labels!$A:$B,2,FALSE)","v":"Preventing the likelihood of restrictions on water use, including hosepipe bans, in a drought"}]
[2,3,{"$f":"VLOOKUP('Design #'!C19,Labels!$A:$B,2,FALSE)","v":"Ensuring that land owned by Yorkshire Water is conserved or enhanced to improve quality of the water it collects and reduce flooding"},{"$f":"VLOOKUP('Design #'!D19,Labels!$A:$B,2,FALSE)","v":"Preventing pollution of rivers or streams from sewage pipes"},{"$f":"VLOOKUP('Design #'!E19,Labels!$A:$B,2,FALSE)","v":"Providing a continuous supply of water that is safe to drink"},{"$f":"VLOOKUP('Design #'!F19,Labels!$A:$B,2,FALSE)","v":"Preventing sewage entering gardens and public spaces from pipe collapses or blockages"}]
[2,4,{"$f":"VLOOKUP('Design #'!C20,Labels!$A:$B,2,FALSE)","v":"Providing good and constant water pressure"},{"$f":"VLOOKUP('Design #'!D20,Labels!$A:$B,2,FALSE)","v":"Providing water that is aesthetically pleasing (clear and clean with no odour or unusual taste or colour)"},{"$f":"VLOOKUP('Design #'!E20,Labels!$A:$B,2,FALSE)","v":"Reducing the release of untreated sewage mixed with rain water into rivers and streams during times of heavy rainfall"},{"$f":"VLOOKUP('Design #'!F20,Labels!$A:$B,2,FALSE)","v":"Providing appropriate sewer capacity and pumping capabilities to cope with widespread flood events"}]
[2,5,{"$f":"VLOOKUP('Design #'!C21,Labels!$A:$B,2,FALSE)","v":"Providing good and constant water pressure"},{"$f":"VLOOKUP('Design #'!D21,Labels!$A:$B,2,FALSE)","v":"Treating waste water to a high standard to ensure good quality water in Yorkshire's rivers and beaches"},{"$f":"VLOOKUP('Design #'!E21,Labels!$A:$B,2,FALSE)","v":"Preventing leaks from Yorkshire Water's pipe network"},{"$f":"VLOOKUP('Design #'!F21,Labels!$A:$B,2,FALSE)","v":"Preventing interruptions to the supply of water (e.g. planned works, burst pipes, leaks and outages) that cause problems ranging from low pressure to no water"}]
[2,6,{"$f":"VLOOKUP('Design #'!C22,Labels!$A:$B,2,FALSE)","v":"Providing water that is aesthetically pleasing (clear and clean with no odour or unusual taste or colour)"},{"$f":"VLOOKUP('Design #'!D22,Labels!$A:$B,2,FALSE)","v":"Preventing interruptions to the supply of water (e.g. planned works, burst pipes, leaks and outages) that cause problems ranging from low pressure to no water"},{"$f":"VLOOKUP('Design #'!E22,Labels!$A:$B,2,FALSE)","v":"Ensuring that land owned by Yorkshire Water is conserved or enhanced to improve quality of the water it collects and reduce flooding"},{"$f":"VLOOKUP('Design #'!F22,Labels!$A:$B,2,FALSE)","v":"Working with other organisations on common challenges (e.g. flooding) to share costs and expertise allowing for more and smarter investment to tackle problems"}]
[2,7,{"$f":"VLOOKUP('Design #'!C23,Labels!$A:$B,2,FALSE)","v":"Preventing leaks from Yorkshire Water's pipe network"},{"$f":"VLOOKUP('Design #'!D23,Labels!$A:$B,2,FALSE)","v":"Preventing sewage from entering homes and businesses "},{"$f":"VLOOKUP('Design #'!E23,Labels!$A:$B,2,FALSE)","v":"Reduce and offset carbon emissions to achieve a 'net zero' position by 2030 "},{"$f":"VLOOKUP('Design #'!F23,Labels!$A:$B,2,FALSE)","v":"Reducing the release of untreated sewage mixed with rain water into rivers and streams during times of heavy rainfall"}]
[2,8,{"$f":"VLOOKUP('Design #'!C24,Labels!$A:$B,2,FALSE)","v":"Ensuring additional support is available to those who need it e.g.  providing bills in braille, providing bottled water during times of interruptions for thos​e who can't get to a shop (elderly, medical conditions etc.)"},{"$f":"VLOOKUP('Design #'!D24,Labels!$A:$B,2,FALSE)","v":"Ensuring that land owned by Yorkshire Water is conserved or enhanced to improve quality of the water it collects and reduce flooding"},{"$f":"VLOOKUP('Design #'!E24,Labels!$A:$B,2,FALSE)","v":"Providing good and constant water pressure"},{"$f":"VLOOKUP('Design #'!F24,Labels!$A:$B,2,FALSE)","v":"Preventing pollution of rivers or streams from sewage pipes"}]
[2,9,{"$f":"VLOOKUP('Design #'!C25,Labels!$A:$B,2,FALSE)","v":"Providing financial help and support to those who are struggling to pay their water bill"},{"$f":"VLOOKUP('Design #'!D25,Labels!$A:$B,2,FALSE)","v":"Providing a high level of customer service (e.g. resolving queries quickly)"},{"$f":"VLOOKUP('Design #'!E25,Labels!$A:$B,2,FALSE)","v":"Reduce and offset carbon emissions to achieve a 'net zero' position by 2030 "},{"$f":"VLOOKUP('Design #'!F25,Labels!$A:$B,2,FALSE)","v":"Providing a continuous supply of water that is safe to drink"}]
[2,10,{"$f":"VLOOKUP('Design #'!C26,Labels!$A:$B,2,FALSE)","v":"Reduce and offset carbon emissions to achieve a 'net zero' position by 2030 "},{"$f":"VLOOKUP('Design #'!D26,Labels!$A:$B,2,FALSE)","v":"Ensuring additional support is available to those who need it e.g.  providing bills in braille, providing bottled water during times of interruptions for thos​e who can't get to a shop (elderly, medical conditions etc.)"},{"$f":"VLOOKUP('Design #'!E26,Labels!$A:$B,2,FALSE)","v":"Working with other organisations on common challenges (e.g. flooding) to share costs and expertise allowing for more and smarter investment to tackle problems"},{"$f":"VLOOKUP('Design #'!F26,Labels!$A:$B,2,FALSE)","v":"Preventing sewage from entering homes and businesses "}]
[2,11,{"$f":"VLOOKUP('Design #'!C27,Labels!$A:$B,2,FALSE)","v":"Providing a high level of customer service (e.g. resolving queries quickly)"},{"$f":"VLOOKUP('Design #'!D27,Labels!$A:$B,2,FALSE)","v":"Preventing sewage from entering homes and businesses "},{"$f":"VLOOKUP('Design #'!E27,Labels!$A:$B,2,FALSE)","v":"Providing financial help and support to those who are struggling to pay their water bill"},{"$f":"VLOOKUP('Design #'!F27,Labels!$A:$B,2,FALSE)","v":"Preventing sewage entering gardens and public spaces from pipe collapses or blockages"}]
[2,12,{"$f":"VLOOKUP('Design #'!C28,Labels!$A:$B,2,FALSE)","v":"Preventing pollution of rivers or streams from sewage pipes"},{"$f":"VLOOKUP('Design #'!D28,Labels!$A:$B,2,FALSE)","v":"Working with other organisations on common challenges (e.g. flooding) to share costs and expertise allowing for more and smarter investment to tackle problems"},{"$f":"VLOOKUP('Design #'!E28,Labels!$A:$B,2,FALSE)","v":"Preventing the likelihood of restrictions on water use, including hosepipe bans, in a drought"},{"$f":"VLOOKUP('Design #'!F28,Labels!$A:$B,2,FALSE)","v":"Supporting customers to reduce their water use and prevent blockages through education and provision of free tools/devices"}]
[2,13,{"$f":"VLOOKUP('Design #'!C29,Labels!$A:$B,2,FALSE)","v":"Preventing the likelihood of restrictions on water use, including hosepipe bans, in a drought"},{"$f":"VLOOKUP('Design #'!D29,Labels!$A:$B,2,FALSE)","v":"Preventing sewage entering gardens and public spaces from pipe collapses or blockages"},{"$f":"VLOOKUP('Design #'!E29,Labels!$A:$B,2,FALSE)","v":"Keeping bills affordable for all"},{"$f":"VLOOKUP('Design #'!F29,Labels!$A:$B,2,FALSE)","v":"Providing water that is aesthetically pleasing (clear and clean with no odour or unusual taste or colour)"}]
[2,14,{"$f":"VLOOKUP('Design #'!C30,Labels!$A:$B,2,FALSE)","v":"Providing a continuous supply of water that is safe to drink"},{"$f":"VLOOKUP('Design #'!D30,Labels!$A:$B,2,FALSE)","v":"Keeping bills affordable for all"},{"$f":"VLOOKUP('Design #'!E30,Labels!$A:$B,2,FALSE)","v":"Providing appropriate sewer capacity and pumping capabilities to cope with widespread flood events"},{"$f":"VLOOKUP('Design #'!F30,Labels!$A:$B,2,FALSE)","v":"Ensuring additional support is available to those who need it e.g.  providing bills in braille, providing bottled water during times of interruptions for thos​e who can't get to a shop (elderly, medical conditions etc.)"}]
[2,15,{"$f":"VLOOKUP('Design #'!C31,Labels!$A:$B,2,FALSE)","v":"Keeping bills affordable for all"},{"$f":"VLOOKUP('Design #'!D31,Labels!$A:$B,2,FALSE)","v":"Supporting customers to reduce their water use and prevent blockages through education and provision of free tools/devices"},{"$f":"VLOOKUP('Design #'!E31,Labels!$A:$B,2,FALSE)","v":"Treating waste water to a high standard to ensure good quality water in Yorkshire's rivers and beaches"},{"$f":"VLOOKUP('Design #'!F31,Labels!$A:$B,2,FALSE)","v":"Providing financial help and support to those who are struggling to pay their water bill"}]
[3,1,{"$f":"VLOOKUP('Design #'!C32,Labels!$A:$B,2,FALSE)","v":"Preventing sewage entering gardens and public spaces from pipe collapses or blockages"},{"$f":"VLOOKUP('Design #'!D32,Labels!$A:$B,2,FALSE)","v":"Providing a continuous supply of water that is safe to drink"},{"$f":"VLOOKUP('Design #'!E32,Labels!$A:$B,2,FALSE)","v":"Working with other organisations on common challenges (e.g. flooding) to share costs and expertise allowing for more and smarter investment to tackle problems"},{"$f":"VLOOKUP('Design #'!F32,Labels!$A:$B,2,FALSE)","v":"Treating waste water to a high standard to ensure good quality water in Yorkshire's rivers and beaches"}]
[3,2,{"$f":"VLOOKUP('Design #'!C33,Labels!$A:$B,2,FALSE)","v":"Providing appropriate sewer capacity and pumping capabilities to cope with widespread flood events"},{"$f":"VLOOKUP('Design #'!D33,Labels!$A:$B,2,FALSE)","v":"Providing financial help and support to those who are struggling to pay their water bill"},{"$f":"VLOOKUP('Design #'!E33,Labels!$A:$B,2,FALSE)","v":"Treating waste water to a high standard to ensure good quality water in Yorkshire's rivers and beaches"},{"$f":"VLOOKUP('Design #'!F33,Labels!$A:$B,2,FALSE)","v":"Ensuring that land owned by Yorkshire Water is conserved or enhanced to improve quality of the water it collects and reduce flooding"}]
[3,3,{"$f":"VLOOKUP('Design #'!C34,Labels!$A:$B,2,FALSE)","v":"Supporting customers to reduce their water use and prevent blockages through education and provision of free tools/devices"},{"$f":"VLOOKUP('Design #'!D34,Labels!$A:$B,2,FALSE)","v":"Reduce and offset carbon emissions to achieve a 'net zero' position by 2030 "},{"$f":"VLOOKUP('Design #'!E34,Labels!$A:$B,2,FALSE)","v":"Preventing sewage entering gardens and public spaces from pipe collapses or blockages"},{"$f":"VLOOKUP('Design #'!F34,Labels!$A:$B,2,FALSE)","v":"Preventing interruptions to the supply of water (e.g. planned works, burst pipes, leaks and outages) that cause problems ranging from low pressure to no water"}]
[3,4,{"$f":"VLOOKUP('Design #'!C35,Labels!$A:$B,2,FALSE)","v":"Preventing the likelihood of restrictions on water use, including hosepipe bans, in a drought"},{"$f":"VLOOKUP('Design #'!D35,Labels!$A:$B,2,FALSE)","v":"Providing good and constant water pressure"},{"$f":"VLOOKUP('Design #'!E35,Labels!$A:$B,2,FALSE)","v":"Reduce and offset carbon emissions to achieve a 'net zero' position by 2030 "},{"$f":"VLOOKUP('Design #'!F35,Labels!$A:$B,2,FALSE)","v":"Providing a continuous supply of water that is safe to drink"}]
[3,5,{"$f":"VLOOKUP('Design #'!C36,Labels!$A:$B,2,FALSE)","v":"Working with other organisations on common challenges (e.g. flooding) to share costs and expertise allowing for more and smarter investment to tackle problems"},{"$f":"VLOOKUP('Design #'!D36,Labels!$A:$B,2,FALSE)","v":"Keeping bills affordable for all"},{"$f":"VLOOKUP('Design #'!E36,Labels!$A:$B,2,FALSE)","v":"Providing a high level of customer service (e.g. resolving queries quickly)"},{"$f":"VLOOKUP('Design #'!F36,Labels!$A:$B,2,FALSE)","v":"Reducing the release of untreated sewage mixed with rain water into rivers and streams during times of heavy rainfall"}]
[3,6,{"$f":"VLOOKUP('Design #'!C37,Labels!$A:$B,2,FALSE)","v":"Providing a high level of customer service (e.g. resolving queries quickly)"},{"$f":"VLOOKUP('Design #'!D37,Labels!$A:$B,2,FALSE)","v":"Providing good and constant water pressure"},{"$f":"VLOOKUP('Design #'!E37,Labels!$A:$B,2,FALSE)","v":"Keeping bills affordable for all"},{"$f":"VLOOKUP('Design #'!F37,Labels!$A:$B,2,FALSE)","v":"Supporting customers to reduce their water use and prevent blockages through education and provision of free tools/devices"}]
[3,7,{"$f":"VLOOKUP('Design #'!C38,Labels!$A:$B,2,FALSE)","v":"Treating waste water to a high standard to ensure good quality water in Yorkshire's rivers and beaches"},{"$f":"VLOOKUP('Design #'!D38,Labels!$A:$B,2,FALSE)","v":"Reducing the release of untreated sewage mixed with rain water into rivers and streams during times of heavy rainfall"},{"$f":"VLOOKUP('Design #'!E38,Labels!$A:$B,2,FALSE)","v":"Preventing sewage from entering homes and businesses "},{"$f":"VLOOKUP('Design #'!F38,Labels!$A:$B,2,FALSE)","v":"Preventing pollution of rivers or streams from sewage pipes"}]
[3,8,{"$f":"VLOOKUP('Design #'!C39,Labels!$A:$B,2,FALSE)","v":"Ensuring that land owned by Yorkshire Water is conserved or enhanced to improve quality of the water it collects and reduce flooding"},{"$f":"VLOOKUP('Design #'!D39,Labels!$A:$B,2,FALSE)","v":"Providing water that is aesthetically pleasing (clear and clean with no odour or unusual taste or colour)"},{"$f":"VLOOKUP('Design #'!E39,Labels!$A:$B,2,FALSE)","v":"Ensuring additional support is available to those who need it e.g.  providing bills in braille, providing bottled water during times of interruptions for thos​e who can't get to a shop (elderly, medical conditions etc.)"},{"$f":"VLOOKUP('Design #'!F39,Labels!$A:$B,2,FALSE)","v":"Providing a high level of customer service (e.g. resolving queries quickly)"}]
[3,9,{"$f":"VLOOKUP('Design #'!C40,Labels!$A:$B,2,FALSE)","v":"Preventing interruptions to the supply of water (e.g. planned works, burst pipes, leaks and outages) that cause problems ranging from low pressure to no water"},{"$f":"VLOOKUP('Design #'!D40,Labels!$A:$B,2,FALSE)","v":"Preventing leaks from Yorkshire Water's pipe network"},{"$f":"VLOOKUP('Design #'!E40,Labels!$A:$B,2,FALSE)","v":"Providing water that is aesthetically pleasing (clear and clean with no odour or unusual taste or colour)"},{"$f":"VLOOKUP('Design #'!F40,Labels!$A:$B,2,FALSE)","v":"Providing a continuous supply of water that is safe to drink"}]
[3,10,{"$f":"VLOOKUP('Design #'!C41,Labels!$A:$B,2,FALSE)","v":"Reducing the release of untreated sewage mixed with rain water into rivers and streams during times of heavy rainfall"},{"$f":"VLOOKUP('Design #'!D41,Labels!$A:$B,2,FALSE)","v":"Providing appropriate sewer capacity and pumping capabilities to cope with widespread flood events"},{"$f":"VLOOKUP('Design #'!E41,Labels!$A:$B,2,FALSE)","v":"Preventing the likelihood of restrictions on water use, including hosepipe bans, in a drought"},{"$f":"VLOOKUP('Design #'!F41,Labels!$A:$B,2,FALSE)","v":"Reduce and offset carbon emissions to achieve a 'net zero' position by 2030 "}]
[3,11,{"$f":"VLOOKUP('Design #'!C42,Labels!$A:$B,2,FALSE)","v":"Preventing sewage from entering homes and businesses "},{"$f":"VLOOKUP('Design #'!D42,Labels!$A:$B,2,FALSE)","v":"Preventing pollution of rivers or streams from sewage pipes"},{"$f":"VLOOKUP('Design #'!E42,Labels!$A:$B,2,FALSE)","v":"Preventing leaks from Yorkshire Water's pipe network"},{"$f":"VLOOKUP('Design #'!F42,Labels!$A:$B,2,FALSE)","v":"Providing water that is aesthetically pleasing (clear and clean with no odour or unusual taste or colour)"}]
[3,12,{"$f":"VLOOKUP('Design #'!C43,Labels!$A:$B,2,FALSE)","v":"Reducing the release of untreated sewage mixed with rain water into rivers and streams during times of heavy rainfall"},{"$f":"VLOOKUP('Design #'!D43,Labels!$A:$B,2,FALSE)","v":"Providing financial help and support to those who are struggling to pay their water bill"},{"$f":"VLOOKUP('Design #'!E43,Labels!$A:$B,2,FALSE)","v":"Preventing pollution of rivers or streams from sewage pipes"},{"$f":"VLOOKUP('Design #'!F43,Labels!$A:$B,2,FALSE)","v":"Providing good and constant water pressure"}]
[3,13,{"$f":"VLOOKUP('Design #'!C44,Labels!$A:$B,2,FALSE)","v":"Supporting customers to reduce their water use and prevent blockages through education and provision of free tools/devices"},{"$f":"VLOOKUP('Design #'!D44,Labels!$A:$B,2,FALSE)","v":"Providing appropriate sewer capacity and pumping capabilities to cope with widespread flood events"},{"$f":"VLOOKUP('Design #'!E44,Labels!$A:$B,2,FALSE)","v":"Preventing sewage from entering homes and businesses "},{"$f":"VLOOKUP('Design #'!F44,Labels!$A:$B,2,FALSE)","v":"Working with other organisations on common challenges (e.g. flooding) to share costs and expertise allowing for more and smarter investment to tackle problems"}]
[3,14,{"$f":"VLOOKUP('Design #'!C45,Labels!$A:$B,2,FALSE)","v":"Providing financial help and support to those who are struggling to pay their water bill"},{"$f":"VLOOKUP('Design #'!D45,Labels!$A:$B,2,FALSE)","v":"Ensuring additional support is available to those who need it e.g.  providing bills in braille, providing bottled water during times of interruptions for thos​e who can't get to a shop (elderly, medical conditions etc.)"},{"$f":"VLOOKUP('Design #'!E45,Labels!$A:$B,2,FALSE)","v":"Preventing interruptions to the supply of water (e.g. planned works, burst pipes, leaks and outages) that cause problems ranging from low pressure to no water"},{"$f":"VLOOKUP('Design #'!F45,Labels!$A:$B,2,FALSE)","v":"Preventing leaks from Yorkshire Water's pipe network"}]
[3,15,{"$f":"VLOOKUP('Design #'!C46,Labels!$A:$B,2,FALSE)","v":"Preventing sewage entering gardens and public spaces from pipe collapses or blockages"},{"$f":"VLOOKUP('Design #'!D46,Labels!$A:$B,2,FALSE)","v":"Preventing the likelihood of restrictions on water use, including hosepipe bans, in a drought"},{"$f":"VLOOKUP('Design #'!E46,Labels!$A:$B,2,FALSE)","v":"Ensuring that land owned by Yorkshire Water is conserved or enhanced to improve quality of the water it collects and reduce flooding"},{"$f":"VLOOKUP('Design #'!F46,Labels!$A:$B,2,FALSE)","v":"Keeping bills affordable for all"}]
[4,1,{"$f":"VLOOKUP('Design #'!C47,Labels!$A:$B,2,FALSE)","v":"Reduce and offset carbon emissions to achieve a 'net zero' position by 2030 "},{"$f":"VLOOKUP('Design #'!D47,Labels!$A:$B,2,FALSE)","v":"Providing a high level of customer service (e.g. resolving queries quickly)"},{"$f":"VLOOKUP('Design #'!E47,Labels!$A:$B,2,FALSE)","v":"Ensuring additional support is available to those who need it e.g.  providing bills in braille, providing bottled water during times of interruptions for thos​e who can't get to a shop (elderly, medical conditions etc.)"},{"$f":"VLOOKUP('Design #'!F47,Labels!$A:$B,2,FALSE)","v":"Treating waste water to a high standard to ensure good quality water in Yorkshire's rivers and beaches"}]
[4,2,{"$f":"VLOOKUP('Design #'!C48,Labels!$A:$B,2,FALSE)","v":"Providing water that is aesthetically pleasing (clear and clean with no odour or unusual taste or colour)"},{"$f":"VLOOKUP('Design #'!D48,Labels!$A:$B,2,FALSE)","v":"Supporting customers to reduce their water use and prevent blockages through education and provision of free tools/devices"},{"$f":"VLOOKUP('Design #'!E48,Labels!$A:$B,2,FALSE)","v":"Preventing the likelihood of restrictions on water use, including hosepipe bans, in a drought"},{"$f":"VLOOKUP('Design #'!F48,Labels!$A:$B,2,FALSE)","v":"Providing financial help and support to those who are struggling to pay their water bill"}]
[4,3,{"$f":"VLOOKUP('Design #'!C49,Labels!$A:$B,2,FALSE)","v":"Keeping bills affordable for all"},{"$f":"VLOOKUP('Design #'!D49,Labels!$A:$B,2,FALSE)","v":"Preventing leaks from Yorkshire Water's pipe network"},{"$f":"VLOOKUP('Design #'!E49,Labels!$A:$B,2,FALSE)","v":"Reducing the release of untreated sewage mixed with rain water into rivers and streams during times of heavy rainfall"},{"$f":"VLOOKUP('Design #'!F49,Labels!$A:$B,2,FALSE)","v":"Supporting customers to reduce their water use and prevent blockages through education and provision of free tools/devices"}]
[4,4,{"$f":"VLOOKUP('Design #'!C50,Labels!$A:$B,2,FALSE)","v":"Preventing pollution of rivers or streams from sewage pipes"},{"$f":"VLOOKUP('Design #'!D50,Labels!$A:$B,2,FALSE)","v":"Providing a continuous supply of water that is safe to drink"},{"$f":"VLOOKUP('Design #'!E50,Labels!$A:$B,2,FALSE)","v":"Providing a high level of customer service (e.g. resolving queries quickly)"},{"$f":"VLOOKUP('Design #'!F50,Labels!$A:$B,2,FALSE)","v":"Providing appropriate sewer capacity and pumping capabilities to cope with widespread flood events"}]
[4,5,{"$f":"VLOOKUP('Design #'!C51,Labels!$A:$B,2,FALSE)","v":"Preventing sewage from entering homes and businesses "},{"$f":"VLOOKUP('Design #'!D51,Labels!$A:$B,2,FALSE)","v":"Preventing the likelihood of restrictions on water use, including hosepipe bans, in a drought"},{"$f":"VLOOKUP('Design #'!E51,Labels!$A:$B,2,FALSE)","v":"Preventing interruptions to the supply of water (e.g. planned works, burst pipes, leaks and outages) that cause problems ranging from low pressure to no water"},{"$f":"VLOOKUP('Design #'!F51,Labels!$A:$B,2,FALSE)","v":"Working with other organisations on common challenges (e.g. flooding) to share costs and expertise allowing for more and smarter investment to tackle problems"}]
[4,6,{"$f":"VLOOKUP('Design #'!C52,Labels!$A:$B,2,FALSE)","v":"Providing financial help and support to those who are struggling to pay their water bill"},{"$f":"VLOOKUP('Design #'!D52,Labels!$A:$B,2,FALSE)","v":"Providing water that is aesthetically pleasing (clear and clean with no odour or unusual taste or colour)"},{"$f":"VLOOKUP('Design #'!E52,Labels!$A:$B,2,FALSE)","v":"Preventing sewage entering gardens and public spaces from pipe collapses or blockages"},{"$f":"VLOOKUP('Design #'!F52,Labels!$A:$B,2,FALSE)","v":"Providing good and constant water pressure"}]
[4,7,{"$f":"VLOOKUP('Design #'!C53,Labels!$A:$B,2,FALSE)","v":"Providing appropriate sewer capacity and pumping capabilities to cope with widespread flood events"},{"$f":"VLOOKUP('Design #'!D53,Labels!$A:$B,2,FALSE)","v":"Keeping bills affordable for all"},{"$f":"VLOOKUP('Design #'!E53,Labels!$A:$B,2,FALSE)","v":"Providing water that is aesthetically pleasing (clear and clean with no odour or unusual taste or colour)"},{"$f":"VLOOKUP('Design #'!F53,Labels!$A:$B,2,FALSE)","v":"Treating waste water to a high standard to ensure good quality water in Yorkshire's rivers and beaches"}]
[4,8,{"$f":"VLOOKUP('Design #'!C54,Labels!$A:$B,2,FALSE)","v":"Ensuring additional support is available to those who need it e.g.  providing bills in braille, providing bottled water during times of interruptions for thos​e who can't get to a shop (elderly, medical conditions etc.)"},{"$f":"VLOOKUP('Design #'!D54,Labels!$A:$B,2,FALSE)","v":"Reduce and offset carbon emissions to achieve a 'net zero' position by 2030 "},{"$f":"VLOOKUP('Design #'!E54,Labels!$A:$B,2,FALSE)","v":"Providing appropriate sewer capacity and pumping capabilities to cope with widespread flood events"},{"$f":"VLOOKUP('Design #'!F54,Labels!$A:$B,2,FALSE)","v":"Preventing sewage entering gardens and public spaces from pipe collapses or blockages"}]
[4,9,{"$f":"VLOOKUP('Design #'!C55,Labels!$A:$B,2,FALSE)","v":"Working with other organisations on common challenges (e.g. flooding) to share costs and expertise allowing for more and smarter investment to tackle problems"},{"$f":"VLOOKUP('Design #'!D55,Labels!$A:$B,2,FALSE)","v":"Preventing sewage entering gardens and public spaces from pipe collapses or blockages"},{"$f":"VLOOKUP('Design #'!E55,Labels!$A:$B,2,FALSE)","v":"Reducing the release of untreated sewage mixed with rain water into rivers and streams during times of heavy rainfall"},{"$f":"VLOOKUP('Design #'!F55,Labels!$A:$B,2,FALSE)","v":"Providing a high level of customer service (e.g. resolving queries quickly)"}]
[4,10,{"$f":"VLOOKUP('Design #'!C56,Labels!$A:$B,2,FALSE)","v":"Providing a continuous supply of water that is safe to drink"},{"$f":"VLOOKUP('Design #'!D56,Labels!$A:$B,2,FALSE)","v":"Supporting customers to reduce their water use and prevent blockages through education and provision of free tools/devices"},{"$f":"VLOOKUP('Design #'!E56,Labels!$A:$B,2,FALSE)","v":"Providing financial help and support to those who are struggling to pay their water bill"},{"$f":"VLOOKUP('Design #'!F56,Labels!$A:$B,2,FALSE)","v":"Preventing sewage from entering homes and businesses "}]
[4,11,{"$f":"VLOOKUP('Design #'!C57,Labels!$A:$B,2,FALSE)","v":"Ensuring additional support is available to those who need it e.g.  providing bills in braille, providing bottled water during times of interruptions for thos​e who can't get to a shop (elderly, medical conditions etc.)"},{"$f":"VLOOKUP('Design #'!D57,Labels!$A:$B,2,FALSE)","v":"Preventing leaks from Yorkshire Water's pipe network"},{"$f":"VLOOKUP('Design #'!E57,Labels!$A:$B,2,FALSE)","v":"Preventing pollution of rivers or streams from sewage pipes"},{"$f":"VLOOKUP('Design #'!F57,Labels!$A:$B,2,FALSE)","v":"Preventing the likelihood of restrictions on water use, including hosepipe bans, in a drought"}]
[4,12,{"$f":"VLOOKUP('Design #'!C58,Labels!$A:$B,2,FALSE)","v":"Treating waste water to a high standard to ensure good quality water in Yorkshire's rivers and beaches"},{"$f":"VLOOKUP('Design #'!D58,Labels!$A:$B,2,FALSE)","v":"Preventing interruptions to the supply of water (e.g. planned works, burst pipes, leaks and outages) that cause problems ranging from low pressure to no water"},{"$f":"VLOOKUP('Design #'!E58,Labels!$A:$B,2,FALSE)","v":"Preventing leaks from Yorkshire Water's pipe network"},{"$f":"VLOOKUP('Design #'!F58,Labels!$A:$B,2,FALSE)","v":"Ensuring that land owned by Yorkshire Water is conserved or enhanced to improve quality of the water it collects and reduce flooding"}]
[4,13,{"$f":"VLOOKUP('Design #'!C59,Labels!$A:$B,2,FALSE)","v":"Ensuring that land owned by Yorkshire Water is conserved or enhanced to improve quality of the water it collects and reduce flooding"},{"$f":"VLOOKUP('Design #'!D59,Labels!$A:$B,2,FALSE)","v":"Working with other organisations on common challenges (e.g. flooding) to share costs and expertise allowing for more and smarter investment to tackle problems"},{"$f":"VLOOKUP('Design #'!E59,Labels!$A:$B,2,FALSE)","v":"Reducing the release of untreated sewage mixed with rain water into rivers and streams during times of heavy rainfall"},{"$f":"VLOOKUP('Design #'!F59,Labels!$A:$B,2,FALSE)","v":"Providing a continuous supply of water that is safe to drink"}]
[4,14,{"$f":"VLOOKUP('Design #'!C60,Labels!$A:$B,2,FALSE)","v":"Preventing interruptions to the supply of water (e.g. planned works, burst pipes, leaks and outages) that cause problems ranging from low pressure to no water"},{"$f":"VLOOKUP('Design #'!D60,Labels!$A:$B,2,FALSE)","v":"Ensuring that land owned by Yorkshire Water is conserved or enhanced to improve quality of the water it collects and reduce flooding"},{"$f":"VLOOKUP('Design #'!E60,Labels!$A:$B,2,FALSE)","v":"Providing good and constant water pressure"},{"$f":"VLOOKUP('Design #'!F60,Labels!$A:$B,2,FALSE)","v":"Reduce and offset carbon emissions to achieve a 'net zero' position by 2030 "}]
[4,15,{"$f":"VLOOKUP('Design #'!C61,Labels!$A:$B,2,FALSE)","v":"Providing good and constant water pressure"},{"$f":"VLOOKUP('Design #'!D61,Labels!$A:$B,2,FALSE)","v":"Keeping bills affordable for all"},{"$f":"VLOOKUP('Design #'!E61,Labels!$A:$B,2,FALSE)","v":"Preventing sewage from entering homes and businesses "},{"$f":"VLOOKUP('Design #'!F61,Labels!$A:$B,2,FALSE)","v":"Preventing pollution of rivers or streams from sewage pipes"}]
[5,1,{"$f":"VLOOKUP('Design #'!C62,Labels!$A:$B,2,FALSE)","v":"Reducing the release of untreated sewage mixed with rain water into rivers and streams during times of heavy rainfall"},{"$f":"VLOOKUP('Design #'!D62,Labels!$A:$B,2,FALSE)","v":"Ensuring additional support is available to those who need it e.g.  providing bills in braille, providing bottled water during times of interruptions for thos​e who can't get to a shop (elderly, medical conditions etc.)"},{"$f":"VLOOKUP('Design #'!E62,Labels!$A:$B,2,FALSE)","v":"Preventing sewage entering gardens and public spaces from pipe collapses or blockages"},{"$f":"VLOOKUP('Design #'!F62,Labels!$A:$B,2,FALSE)","v":"Keeping bills affordable for all"}]
[5,2,{"$f":"VLOOKUP('Design #'!C63,Labels!$A:$B,2,FALSE)","v":"Preventing sewage entering gardens and public spaces from pipe collapses or blockages"},{"$f":"VLOOKUP('Design #'!D63,Labels!$A:$B,2,FALSE)","v":"Treating waste water to a high standard to ensure good quality water in Yorkshire's rivers and beaches"},{"$f":"VLOOKUP('Design #'!E63,Labels!$A:$B,2,FALSE)","v":"Preventing the likelihood of restrictions on water use, including hosepipe bans, in a drought"},{"$f":"VLOOKUP('Design #'!F63,Labels!$A:$B,2,FALSE)","v":"Preventing pollution of rivers or streams from sewage pipes"}]
[5,3,{"$f":"VLOOKUP('Design #'!C64,Labels!$A:$B,2,FALSE)","v":"Keeping bills affordable for all"},{"$f":"VLOOKUP('Design #'!D64,Labels!$A:$B,2,FALSE)","v":"Preventing interruptions to the supply of water (e.g. planned works, burst pipes, leaks and outages) that cause problems ranging from low pressure to no water"},{"$f":"VLOOKUP('Design #'!E64,Labels!$A:$B,2,FALSE)","v":"Providing a continuous supply of water that is safe to drink"},{"$f":"VLOOKUP('Design #'!F64,Labels!$A:$B,2,FALSE)","v":"Ensuring additional support is available to those who need it e.g.  providing bills in braille, providing bottled water during times of interruptions for thos​e who can't get to a shop (elderly, medical conditions etc.)"}]
[5,4,{"$f":"VLOOKUP('Design #'!C65,Labels!$A:$B,2,FALSE)","v":"Preventing leaks from Yorkshire Water's pipe network"},{"$f":"VLOOKUP('Design #'!D65,Labels!$A:$B,2,FALSE)","v":"Providing good and constant water pressure"},{"$f":"VLOOKUP('Design #'!E65,Labels!$A:$B,2,FALSE)","v":"Keeping bills affordable for all"},{"$f":"VLOOKUP('Design #'!F65,Labels!$A:$B,2,FALSE)","v":"Working with other organisations on common challenges (e.g. flooding) to share costs and expertise allowing for more and smarter investment to tackle problems"}]
[5,5,{"$f":"VLOOKUP('Design #'!C66,Labels!$A:$B,2,FALSE)","v":"Preventing interruptions to the supply of water (e.g. planned works, burst pipes, leaks and outages) that cause problems ranging from low pressure to no water"},{"$f":"VLOOKUP('Design #'!D66,Labels!$A:$B,2,FALSE)","v":"Preventing sewage from entering homes and businesses "},{"$f":"VLOOKUP('Design #'!E66,Labels!$A:$B,2,FALSE)","v":"Reduce and offset carbon emissions to achieve a 'net zero' position by 2030 "},{"$f":"VLOOKUP('Design #'!F66,Labels!$A:$B,2,FALSE)","v":"Providing a high level of customer service (e.g. resolving queries quickly)"}]
[5,6,{"$f":"VLOOKUP('Design #'!C67,Labels!$A:$B,2,FALSE)","v":"Providing a high level of customer service (e.g. resolving queries quickly)"},{"$f":"VLOOKUP('Design #'!D67,Labels!$A:$B,2,FALSE)","v":"Providing appropriate sewer capacity and pumping capabilities to cope with widespread flood events"},{"$f":"VLOOKUP('Design #'!E67,Labels!$A:$B,2,FALSE)","v":"Preventing leaks from Yorkshire Water's pipe network"},{"$f":"VLOOKUP('Design #'!F67,Labels!$A:$B,2,FALSE)","v":"Providing good and constant water pressure"}]
[5,7,{"$f":"VLOOKUP('Design #'!C68,Labels!$A:$B,2,FALSE)","v":"Providing a continuous supply of water that is safe to drink"},{"$f":"VLOOKUP('Design #'!D68,Labels!$A:$B,2,FALSE)","v":"Treating waste water to a high standard to ensure good quality water in Yorkshire's rivers and beaches"},{"$f":"VLOOKUP('Design #'!E68,Labels!$A:$B,2,FALSE)","v":"Ensuring that land owned by Yorkshire Water is conserved or enhanced to improve quality of the water it collects and reduce flooding"},{"$f":"VLOOKUP('Design #'!F68,Labels!$A:$B,2,FALSE)","v":"Providing water that is aesthetically pleasing (clear and clean with no odour or unusual taste or colour)"}]
[5,8,{"$f":"VLOOKUP('Design #'!C69,Labels!$A:$B,2,FALSE)","v":"Providing good and constant water pressure"},{"$f":"VLOOKUP('Design #'!D69,Labels!$A:$B,2,FALSE)","v":"Providing a continuous supply of water that is safe to drink"},{"$f":"VLOOKUP('Design #'!E69,Labels!$A:$B,2,FALSE)","v":"Providing financial help and support to those who are struggling to pay their water bill"},{"$f":"VLOOKUP('Design #'!F69,Labels!$A:$B,2,FALSE)","v":"Ensuring that land owned by Yorkshire Water is conserved or enhanced to improve quality of the water it collects and reduce flooding"}]
[5,9,{"$f":"VLOOKUP('Design #'!C70,Labels!$A:$B,2,FALSE)","v":"Providing financial help and support to those who are struggling to pay their water bill"},{"$f":"VLOOKUP('Design #'!D70,Labels!$A:$B,2,FALSE)","v":"Reducing the release of untreated sewage mixed with rain water into rivers and streams during times of heavy rainfall"},{"$f":"VLOOKUP('Design #'!E70,Labels!$A:$B,2,FALSE)","v":"Providing appropriate sewer capacity and pumping capabilities to cope with widespread flood events"},{"$f":"VLOOKUP('Design #'!F70,Labels!$A:$B,2,FALSE)","v":"Preventing interruptions to the supply of water (e.g. planned works, burst pipes, leaks and outages) that cause problems ranging from low pressure to no water"}]
[5,10,{"$f":"VLOOKUP('Design #'!C71,Labels!$A:$B,2,FALSE)","v":"Providing water that is aesthetically pleasing (clear and clean with no odour or unusual taste or colour)"},{"$f":"VLOOKUP('Design #'!D71,Labels!$A:$B,2,FALSE)","v":"Preventing sewage from entering homes and businesses "},{"$f":"VLOOKUP('Design #'!E71,Labels!$A:$B,2,FALSE)","v":"Treating waste water to a high standard to ensure good quality water in Yorkshire's rivers and beaches"},{"$f":"VLOOKUP('Design #'!F71,Labels!$A:$B,2,FALSE)","v":"Reducing the release of untreated sewage mixed with rain water into rivers and streams during times of heavy rainfall"}]
[5,11,{"$f":"VLOOKUP('Design #'!C72,Labels!$A:$B,2,FALSE)","v":"Reduce and offset carbon emissions to achieve a 'net zero' position by 2030 "},{"$f":"VLOOKUP('Design #'!D72,Labels!$A:$B,2,FALSE)","v":"Providing water that is aesthetically pleasing (clear and clean with no odour or unusual taste or colour)"},{"$f":"VLOOKUP('Design #'!E72,Labels!$A:$B,2,FALSE)","v":"Providing a high level of customer service (e.g. resolving queries quickly)"},{"$f":"VLOOKUP('Design #'!F72,Labels!$A:$B,2,FALSE)","v":"Preventing the likelihood of restrictions on water use, including hosepipe bans, in a drought"}]
[5,12,{"$f":"VLOOKUP('Design #'!C73,Labels!$A:$B,2,FALSE)","v":"Working with other organisations on common challenges (e.g. flooding) to share costs and expertise allowing for more and smarter investment to tackle problems"},{"$f":"VLOOKUP('Design #'!D73,Labels!$A:$B,2,FALSE)","v":"Preventing pollution of rivers or streams from sewage pipes"},{"$f":"VLOOKUP('Design #'!E73,Labels!$A:$B,2,FALSE)","v":"Supporting customers to reduce their water use and prevent blockages through education and provision of free tools/devices"},{"$f":"VLOOKUP('Design #'!F73,Labels!$A:$B,2,FALSE)","v":"Reduce and offset carbon emissions to achieve a 'net zero' position by 2030 "}]
[5,13,{"$f":"VLOOKUP('Design #'!C74,Labels!$A:$B,2,FALSE)","v":"Preventing leaks from Yorkshire Water's pipe network"},{"$f":"VLOOKUP('Design #'!D74,Labels!$A:$B,2,FALSE)","v":"Preventing sewage entering gardens and public spaces from pipe collapses or blockages"},{"$f":"VLOOKUP('Design #'!E74,Labels!$A:$B,2,FALSE)","v":"Working with other organisations on common challenges (e.g. flooding) to share costs and expertise allowing for more and smarter investment to tackle problems"},{"$f":"VLOOKUP('Design #'!F74,Labels!$A:$B,2,FALSE)","v":"Providing financial help and support to those who are struggling to pay their water bill"}]
[5,14,{"$f":"VLOOKUP('Design #'!C75,Labels!$A:$B,2,FALSE)","v":"Supporting customers to reduce their water use and prevent blockages through education and provision of free tools/devices"},{"$f":"VLOOKUP('Design #'!D75,Labels!$A:$B,2,FALSE)","v":"Preventing pollution of rivers or streams from sewage pipes"},{"$f":"VLOOKUP('Design #'!E75,Labels!$A:$B,2,FALSE)","v":"Preventing interruptions to the supply of water (e.g. planned works, burst pipes, leaks and outages) that cause problems ranging from low pressure to no water"},{"$f":"VLOOKUP('Design #'!F75,Labels!$A:$B,2,FALSE)","v":"Preventing the likelihood of restrictions on water use, including hosepipe bans, in a drought"}]
[5,15,{"$f":"VLOOKUP('Design #'!C76,Labels!$A:$B,2,FALSE)","v":"Preventing sewage from entering homes and businesses "},{"$f":"VLOOKUP('Design #'!D76,Labels!$A:$B,2,FALSE)","v":"Ensuring that land owned by Yorkshire Water is conserved or enhanced to improve quality of the water it collects and reduce flooding"},{"$f":"VLOOKUP('Design #'!E76,Labels!$A:$B,2,FALSE)","v":"Supporting customers to reduce their water use and prevent blockages through education and provision of free tools/devices"},{"$f":"VLOOKUP('Design #'!F76,Labels!$A:$B,2,FALSE)","v":"Ensuring additional support is available to those who need it e.g.  providing bills in braille, providing bottled water during times of interruptions for thos​e who can't get to a shop (elderly, medical conditions etc.)"}]
[6,1,{"$f":"VLOOKUP('Design #'!C77,Labels!$A:$B,2,FALSE)","v":"Preventing the likelihood of restrictions on water use, including hosepipe bans, in a drought"},{"$f":"VLOOKUP('Design #'!D77,Labels!$A:$B,2,FALSE)","v":"Providing appropriate sewer capacity and pumping capabilities to cope with widespread flood events"},{"$f":"VLOOKUP('Design #'!E77,Labels!$A:$B,2,FALSE)","v":"Preventing sewage from entering homes and businesses "},{"$f":"VLOOKUP('Design #'!F77,Labels!$A:$B,2,FALSE)","v":"Keeping bills affordable for all"}]
[6,2,{"$f":"VLOOKUP('Design #'!C78,Labels!$A:$B,2,FALSE)","v":"Ensuring that land owned by Yorkshire Water is conserved or enhanced to improve quality of the water it collects and reduce flooding"},{"$f":"VLOOKUP('Design #'!D78,Labels!$A:$B,2,FALSE)","v":"Preventing the likelihood of restrictions on water use, including hosepipe bans, in a drought"},{"$f":"VLOOKUP('Design #'!E78,Labels!$A:$B,2,FALSE)","v":"Providing good and constant water pressure"},{"$f":"VLOOKUP('Design #'!F78,Labels!$A:$B,2,FALSE)","v":"Keeping bills affordable for all"}]
[6,3,{"$f":"VLOOKUP('Design #'!C79,Labels!$A:$B,2,FALSE)","v":"Preventing interruptions to the supply of water (e.g. planned works, burst pipes, leaks and outages) that cause problems ranging from low pressure to no water"},{"$f":"VLOOKUP('Design #'!D79,Labels!$A:$B,2,FALSE)","v":"Working with other organisations on common challenges (e.g. flooding) to share costs and expertise allowing for more and smarter investment to tackle problems"},{"$f":"VLOOKUP('Design #'!E79,Labels!$A:$B,2,FALSE)","v":"Providing water that is aesthetically pleasing (clear and clean with no odour or unusual taste or colour)"},{"$f":"VLOOKUP('Design #'!F79,Labels!$A:$B,2,FALSE)","v":"Providing good and constant water pressure"}]
[6,4,{"$f":"VLOOKUP('Design #'!C80,Labels!$A:$B,2,FALSE)","v":"Ensuring additional support is available to those who need it e.g.  providing bills in braille, providing bottled water during times of interruptions for thos​e who can't get to a shop (elderly, medical conditions etc.)"},{"$f":"VLOOKUP('Design #'!D80,Labels!$A:$B,2,FALSE)","v":"Preventing the likelihood of restrictions on water use, including hosepipe bans, in a drought"},{"$f":"VLOOKUP('Design #'!E80,Labels!$A:$B,2,FALSE)","v":"Providing a continuous supply of water that is safe to drink"},{"$f":"VLOOKUP('Design #'!F80,Labels!$A:$B,2,FALSE)","v":"Reducing the release of untreated sewage mixed with rain water into rivers and streams during times of heavy rainfall"}]
[6,5,{"$f":"VLOOKUP('Design #'!C81,Labels!$A:$B,2,FALSE)","v":"Treating waste water to a high standard to ensure good quality water in Yorkshire's rivers and beaches"},{"$f":"VLOOKUP('Design #'!D81,Labels!$A:$B,2,FALSE)","v":"Preventing sewage entering gardens and public spaces from pipe collapses or blockages"},{"$f":"VLOOKUP('Design #'!E81,Labels!$A:$B,2,FALSE)","v":"Preventing leaks from Yorkshire Water's pipe network"},{"$f":"VLOOKUP('Design #'!F81,Labels!$A:$B,2,FALSE)","v":"Preventing sewage from entering homes and businesses "}]
[6,6,{"$f":"VLOOKUP('Design #'!C82,Labels!$A:$B,2,FALSE)","v":"Providing water that is aesthetically pleasing (clear and clean with no odour or unusual taste or colour)"},{"$f":"VLOOKUP('Design #'!D82,Labels!$A:$B,2,FALSE)","v":"Providing a high level of customer service (e.g. resolving queries quickly)"},{"$f":"VLOOKUP('Design #'!E82,Labels!$A:$B,2,FALSE)","v":"Ensuring additional support is available to those who need it e.g.  providing bills in braille, providing bottled water during times of interruptions for thos​e who can't get to a shop (elderly, medical conditions etc.)"},{"$f":"VLOOKUP('Design #'!F82,Labels!$A:$B,2,FALSE)","v":"Supporting customers to reduce their water use and prevent blockages through education and provision of free tools/devices"}]
[6,7,{"$f":"VLOOKUP('Design #'!C83,Labels!$A:$B,2,FALSE)","v":"Providing a high level of customer service (e.g. resolving queries quickly)"},{"$f":"VLOOKUP('Design #'!D83,Labels!$A:$B,2,FALSE)","v":"Supporting customers to reduce their water use and prevent blockages through education and provision of free tools/devices"},{"$f":"VLOOKUP('Design #'!E83,Labels!$A:$B,2,FALSE)","v":"Providing a continuous supply of water that is safe to drink"},{"$f":"VLOOKUP('Design #'!F83,Labels!$A:$B,2,FALSE)","v":"Preventing leaks from Yorkshire Water's pipe network"}]
[6,8,{"$f":"VLOOKUP('Design #'!C84,Labels!$A:$B,2,FALSE)","v":"Providing good and constant water pressure"},{"$f":"VLOOKUP('Design #'!D84,Labels!$A:$B,2,FALSE)","v":"Ensuring additional support is available to those who need it e.g.  providing bills in braille, providing bottled water during times of interruptions for thos​e who can't get to a shop (elderly, medical conditions etc.)"},{"$f":"VLOOKUP('Design #'!E84,Labels!$A:$B,2,FALSE)","v":"Working with other organisations on common challenges (e.g. flooding) to share costs and expertise allowing for more and smarter investment to tackle problems"},{"$f":"VLOOKUP('Design #'!F84,Labels!$A:$B,2,FALSE)","v":"Treating waste water to a high standard to ensure good quality water in Yorkshire's rivers and beaches"}]
[6,9,{"$f":"VLOOKUP('Design #'!C85,Labels!$A:$B,2,FALSE)","v":"Preventing sewage from entering homes and businesses "},{"$f":"VLOOKUP('Design #'!D85,Labels!$A:$B,2,FALSE)","v":"Providing a continuous supply of water that is safe to drink"},{"$f":"VLOOKUP('Design #'!E85,Labels!$A:$B,2,FALSE)","v":"Supporting customers to reduce their water use and prevent blockages through education and provision of free tools/devices"},{"$f":"VLOOKUP('Design #'!F85,Labels!$A:$B,2,FALSE)","v":"Preventing sewage entering gardens and public spaces from pipe collapses or blockages"}]
[6,10,{"$f":"VLOOKUP('Design #'!C86,Labels!$A:$B,2,FALSE)","v":"Treating waste water to a high standard to ensure good quality water in Yorkshire's rivers and beaches"},{"$f":"VLOOKUP('Design #'!D86,Labels!$A:$B,2,FALSE)","v":"Providing a high level of customer service (e.g. resolving queries quickly)"},{"$f":"VLOOKUP('Design #'!E86,Labels!$A:$B,2,FALSE)","v":"Providing financial help and support to those who are struggling to pay their water bill"},{"$f":"VLOOKUP('Design #'!F86,Labels!$A:$B,2,FALSE)","v":"Keeping bills affordable for all"}]
[6,11,{"$f":"VLOOKUP('Design #'!C87,Labels!$A:$B,2,FALSE)","v":"Providing appropriate sewer capacity and pumping capabilities to cope with widespread flood events"},{"$f":"VLOOKUP('Design #'!D87,Labels!$A:$B,2,FALSE)","v":"Reduce and offset carbon emissions to achieve a 'net zero' position by 2030 "},{"$f":"VLOOKUP('Design #'!E87,Labels!$A:$B,2,FALSE)","v":"Working with other organisations on common challenges (e.g. flooding) to share costs and expertise allowing for more and smarter investment to tackle problems"},{"$f":"VLOOKUP('Design #'!F87,Labels!$A:$B,2,FALSE)","v":"Providing a continuous supply of water that is safe to drink"}]
[6,12,{"$f":"VLOOKUP('Design #'!C88,Labels!$A:$B,2,FALSE)","v":"Preventing pollution of rivers or streams from sewage pipes"},{"$f":"VLOOKUP('Design #'!D88,Labels!$A:$B,2,FALSE)","v":"Providing financial help and support to those who are struggling to pay their water bill"},{"$f":"VLOOKUP('Design #'!E88,Labels!$A:$B,2,FALSE)","v":"Reducing the release of untreated sewage mixed with rain water into rivers and streams during times of heavy rainfall"},{"$f":"VLOOKUP('Design #'!F88,Labels!$A:$B,2,FALSE)","v":"Preventing interruptions to the supply of water (e.g. planned works, burst pipes, leaks and outages) that cause problems ranging from low pressure to no water"}]
[6,13,{"$f":"VLOOKUP('Design #'!C89,Labels!$A:$B,2,FALSE)","v":"Preventing sewage entering gardens and public spaces from pipe collapses or blockages"},{"$f":"VLOOKUP('Design #'!D89,Labels!$A:$B,2,FALSE)","v":"Providing water that is aesthetically pleasing (clear and clean with no odour or unusual taste or colour)"},{"$f":"VLOOKUP('Design #'!E89,Labels!$A:$B,2,FALSE)","v":"Preventing pollution of rivers or streams from sewage pipes"},{"$f":"VLOOKUP('Design #'!F89,Labels!$A:$B,2,FALSE)","v":"Providing appropriate sewer capacity and pumping capabilities to cope with widespread flood events"}]
[6,14,{"$f":"VLOOKUP('Design #'!C90,Labels!$A:$B,2,FALSE)","v":"Preventing pollution of rivers or streams from sewage pipes"},{"$f":"VLOOKUP('Design #'!D90,Labels!$A:$B,2,FALSE)","v":"Preventing leaks from Yorkshire Water's pipe network"},{"$f":"VLOOKUP('Design #'!E90,Labels!$A:$B,2,FALSE)","v":"Reduce and offset carbon emissions to achieve a 'net zero' position by 2030 "},{"$f":"VLOOKUP('Design #'!F90,Labels!$A:$B,2,FALSE)","v":"Ensuring that land owned by Yorkshire Water is conserved or enhanced to improve quality of the water it collects and reduce flooding"}]
[6,15,{"$f":"VLOOKUP('Design #'!C91,Labels!$A:$B,2,FALSE)","v":"Providing financial help and support to those who are struggling to pay their water bill"},{"$f":"VLOOKUP('Design #'!D91,Labels!$A:$B,2,FALSE)","v":"Reducing the release of untreated sewage mixed with rain water into rivers and streams during times of heavy rainfall"},{"$f":"VLOOKUP('Design #'!E91,Labels!$A:$B,2,FALSE)","v":"Ensuring that land owned by Yorkshire Water is conserved or enhanced to improve quality of the water it collects and reduce flooding"},{"$f":"VLOOKUP('Design #'!F91,Labels!$A:$B,2,FALSE)","v":"Reduce and offset carbon emissions to achieve a 'net zero' position by 2030 "}]
[7,1,{"$f":"VLOOKUP('Design #'!C92,Labels!$A:$B,2,FALSE)","v":"Keeping bills affordable for all"},{"$f":"VLOOKUP('Design #'!D92,Labels!$A:$B,2,FALSE)","v":"Reduce and offset carbon emissions to achieve a 'net zero' position by 2030 "},{"$f":"VLOOKUP('Design #'!E92,Labels!$A:$B,2,FALSE)","v":"Providing water that is aesthetically pleasing (clear and clean with no odour or unusual taste or colour)"},{"$f":"VLOOKUP('Design #'!F92,Labels!$A:$B,2,FALSE)","v":"Providing appropriate sewer capacity and pumping capabilities to cope with widespread flood events"}]
[7,2,{"$f":"VLOOKUP('Design #'!C93,Labels!$A:$B,2,FALSE)","v":"Preventing sewage entering gardens and public spaces from pipe collapses or blockages"},{"$f":"VLOOKUP('Design #'!D93,Labels!$A:$B,2,FALSE)","v":"Keeping bills affordable for all"},{"$f":"VLOOKUP('Design #'!E93,Labels!$A:$B,2,FALSE)","v":"Preventing interruptions to the supply of water (e.g. planned works, burst pipes, leaks and outages) that cause problems ranging from low pressure to no water"},{"$f":"VLOOKUP('Design #'!F93,Labels!$A:$B,2,FALSE)","v":"Ensuring additional support is available to those who need it e.g.  providing bills in braille, providing bottled water during times of interruptions for thos​e who can't get to a shop (elderly, medical conditions etc.)"}]
[7,3,{"$f":"VLOOKUP('Design #'!C94,Labels!$A:$B,2,FALSE)","v":"Supporting customers to reduce their water use and prevent blockages through education and provision of free tools/devices"},{"$f":"VLOOKUP('Design #'!D94,Labels!$A:$B,2,FALSE)","v":"Treating waste water to a high standard to ensure good quality water in Yorkshire's rivers and beaches"},{"$f":"VLOOKUP('Design #'!E94,Labels!$A:$B,2,FALSE)","v":"Preventing sewage entering gardens and public spaces from pipe collapses or blockages"},{"$f":"VLOOKUP('Design #'!F94,Labels!$A:$B,2,FALSE)","v":"Reduce and offset carbon emissions to achieve a 'net zero' position by 2030 "}]
[7,4,{"$f":"VLOOKUP('Design #'!C95,Labels!$A:$B,2,FALSE)","v":"Preventing the likelihood of restrictions on water use, including hosepipe bans, in a drought"},{"$f":"VLOOKUP('Design #'!D95,Labels!$A:$B,2,FALSE)","v":"Preventing sewage from entering homes and businesses "},{"$f":"VLOOKUP('Design #'!E95,Labels!$A:$B,2,FALSE)","v":"Providing a high level of customer service (e.g. resolving queries quickly)"},{"$f":"VLOOKUP('Design #'!F95,Labels!$A:$B,2,FALSE)","v":"Providing financial help and support to those who are struggling to pay their water bill"}]
[7,5,{"$f":"VLOOKUP('Design #'!C96,Labels!$A:$B,2,FALSE)","v":"Ensuring that land owned by Yorkshire Water is conserved or enhanced to improve quality of the water it collects and reduce flooding"},{"$f":"VLOOKUP('Design #'!D96,Labels!$A:$B,2,FALSE)","v":"Working with other organisations on common challenges (e.g. flooding) to share costs and expertise allowing for more and smarter investment to tackle problems"},{"$f":"VLOOKUP('Design #'!E96,Labels!$A:$B,2,FALSE)","v":"Providing a high level of customer service (e.g. resolving queries quickly)"},{"$f":"VLOOKUP('Design #'!F96,Labels!$A:$B,2,FALSE)","v":"Preventing sewage entering gardens and public spaces from pipe collapses or blockages"}]
[7,6,{"$f":"VLOOKUP('Design #'!C97,Labels!$A:$B,2,FALSE)","v":"Providing appropriate sewer capacity and pumping capabilities to cope with widespread flood events"},{"$f":"VLOOKUP('Design #'!D97,Labels!$A:$B,2,FALSE)","v":"Ensuring that land owned by Yorkshire Water is conserved or enhanced to improve quality of the water it collects and reduce flooding"},{"$f":"VLOOKUP('Design #'!E97,Labels!$A:$B,2,FALSE)","v":"Treating waste water to a high standard to ensure good quality water in Yorkshire's rivers and beaches"},{"$f":"VLOOKUP('Design #'!F97,Labels!$A:$B,2,FALSE)","v":"Preventing sewage from entering homes and businesses "}]
[7,7,{"$f":"VLOOKUP('Design #'!C98,Labels!$A:$B,2,FALSE)","v":"Providing a continuous supply of water that is safe to drink"},{"$f":"VLOOKUP('Design #'!D98,Labels!$A:$B,2,FALSE)","v":"Providing good and constant water pressure"},{"$f":"VLOOKUP('Design #'!E98,Labels!$A:$B,2,FALSE)","v":"Ensuring additional support is available to those who need it e.g.  providing bills in braille, providing bottled water during times of interruptions for thos​e who can't get to a shop (elderly, medical conditions etc.)"},{"$f":"VLOOKUP('Design #'!F98,Labels!$A:$B,2,FALSE)","v":"Preventing sewage from entering homes and businesses "}]
[7,8,{"$f":"VLOOKUP('Design #'!C99,Labels!$A:$B,2,FALSE)","v":"Working with other organisations on common challenges (e.g. flooding) to share costs and expertise allowing for more and smarter investment to tackle problems"},{"$f":"VLOOKUP('Design #'!D99,Labels!$A:$B,2,FALSE)","v":"Providing a continuous supply of water that is safe to drink"},{"$f":"VLOOKUP('Design #'!E99,Labels!$A:$B,2,FALSE)","v":"Keeping bills affordable for all"},{"$f":"VLOOKUP('Design #'!F99,Labels!$A:$B,2,FALSE)","v":"Preventing pollution of rivers or streams from sewage pipes"}]
[7,9,{"$f":"VLOOKUP('Design #'!C100,Labels!$A:$B,2,FALSE)","v":"Preventing leaks from Yorkshire Water's pipe network"},{"$f":"VLOOKUP('Design #'!D100,Labels!$A:$B,2,FALSE)","v":"Providing financial help and support to those who are struggling to pay their water bill"},{"$f":"VLOOKUP('Design #'!E100,Labels!$A:$B,2,FALSE)","v":"Preventing the likelihood of restrictions on water use, including hosepipe bans, in a drought"},{"$f":"VLOOKUP('Design #'!F100,Labels!$A:$B,2,FALSE)","v":"Providing appropriate sewer capacity and pumping capabilities to cope with widespread flood events"}]
[7,10,{"$f":"VLOOKUP('Design #'!C101,Labels!$A:$B,2,FALSE)","v":"Reducing the release of untreated sewage mixed with rain water into rivers and streams during times of heavy rainfall"},{"$f":"VLOOKUP('Design #'!D101,Labels!$A:$B,2,FALSE)","v":"Supporting customers to reduce their water use and prevent blockages through education and provision of free tools/devices"},{"$f":"VLOOKUP('Design #'!E101,Labels!$A:$B,2,FALSE)","v":"Providing good and constant water pressure"},{"$f":"VLOOKUP('Design #'!F101,Labels!$A:$B,2,FALSE)","v":"Preventing leaks from Yorkshire Water's pipe network"}]
[7,11,{"$f":"VLOOKUP('Design #'!C102,Labels!$A:$B,2,FALSE)","v":"Reduce and offset carbon emissions to achieve a 'net zero' position by 2030 "},{"$f":"VLOOKUP('Design #'!D102,Labels!$A:$B,2,FALSE)","v":"Reducing the release of untreated sewage mixed with rain water into rivers and streams during times of heavy rainfall"},{"$f":"VLOOKUP('Design #'!E102,Labels!$A:$B,2,FALSE)","v":"Providing good and constant water pressure"},{"$f":"VLOOKUP('Design #'!F102,Labels!$A:$B,2,FALSE)","v":"Providing water that is aesthetically pleasing (clear and clean with no odour or unusual taste or colour)"}]
[7,12,{"$f":"VLOOKUP('Design #'!C103,Labels!$A:$B,2,FALSE)","v":"Providing financial help and support to those who are struggling to pay their water bill"},{"$f":"VLOOKUP('Design #'!D103,Labels!$A:$B,2,FALSE)","v":"Preventing sewage from entering homes and businesses "},{"$f":"VLOOKUP('Design #'!E103,Labels!$A:$B,2,FALSE)","v":"Providing water that is aesthetically pleasing (clear and clean with no odour or unusual taste or colour)"},{"$f":"VLOOKUP('Design #'!F103,Labels!$A:$B,2,FALSE)","v":"Working with other organisations on common challenges (e.g. flooding) to share costs and expertise allowing for more and smarter investment to tackle problems"}]
[7,13,{"$f":"VLOOKUP('Design #'!C104,Labels!$A:$B,2,FALSE)","v":"Preventing leaks from Yorkshire Water's pipe network"},{"$f":"VLOOKUP('Design #'!D104,Labels!$A:$B,2,FALSE)","v":"Keeping bills affordable for all"},{"$f":"VLOOKUP('Design #'!E104,Labels!$A:$B,2,FALSE)","v":"Preventing pollution of rivers or streams from sewage pipes"},{"$f":"VLOOKUP('Design #'!F104,Labels!$A:$B,2,FALSE)","v":"Ensuring additional support is available to those who need it e.g.  providing bills in braille, providing bottled water during times of interruptions for thos​e who can't get to a shop (elderly, medical conditions etc.)"}]
[7,14,{"$f":"VLOOKUP('Design #'!C105,Labels!$A:$B,2,FALSE)","v":"Working with other organisations on common challenges (e.g. flooding) to share costs and expertise allowing for more and smarter investment to tackle problems"},{"$f":"VLOOKUP('Design #'!D105,Labels!$A:$B,2,FALSE)","v":"Preventing interruptions to the supply of water (e.g. planned works, burst pipes, leaks and outages) that cause problems ranging from low pressure to no water"},{"$f":"VLOOKUP('Design #'!E105,Labels!$A:$B,2,FALSE)","v":"Treating waste water to a high standard to ensure good quality water in Yorkshire's rivers and beaches"},{"$f":"VLOOKUP('Design #'!F105,Labels!$A:$B,2,FALSE)","v":"Preventing the likelihood of restrictions on water use, including hosepipe bans, in a drought"}]
[7,15,{"$f":"VLOOKUP('Design #'!C106,Labels!$A:$B,2,FALSE)","v":"Ensuring that land owned by Yorkshire Water is conserved or enhanced to improve quality of the water it collects and reduce flooding"},{"$f":"VLOOKUP('Design #'!D106,Labels!$A:$B,2,FALSE)","v":"Preventing interruptions to the supply of water (e.g. planned works, burst pipes, leaks and outages) that cause problems ranging from low pressure to no water"},{"$f":"VLOOKUP('Design #'!E106,Labels!$A:$B,2,FALSE)","v":"Providing appropriate sewer capacity and pumping capabilities to cope with widespread flood events"},{"$f":"VLOOKUP('Design #'!F106,Labels!$A:$B,2,FALSE)","v":"Supporting customers to reduce their water use and prevent blockages through education and provision of free tools/devices"}]
[8,1,{"$f":"VLOOKUP('Design #'!C107,Labels!$A:$B,2,FALSE)","v":"Treating waste water to a high standard to ensure good quality water in Yorkshire's rivers and beaches"},{"$f":"VLOOKUP('Design #'!D107,Labels!$A:$B,2,FALSE)","v":"Preventing leaks from Yorkshire Water's pipe network"},{"$f":"VLOOKUP('Design #'!E107,Labels!$A:$B,2,FALSE)","v":"Providing financial help and support to those who are struggling to pay their water bill"},{"$f":"VLOOKUP('Design #'!F107,Labels!$A:$B,2,FALSE)","v":"Reduce and offset carbon emissions to achieve a 'net zero' position by 2030 "}]
[8,2,{"$f":"VLOOKUP('Design #'!C108,Labels!$A:$B,2,FALSE)","v":"Supporting customers to reduce their water use and prevent blockages through education and provision of free tools/devices"},{"$f":"VLOOKUP('Design #'!D108,Labels!$A:$B,2,FALSE)","v":"Providing financial help and support to those who are struggling to pay their water bill"},{"$f":"VLOOKUP('Design #'!E108,Labels!$A:$B,2,FALSE)","v":"Preventing interruptions to the supply of water (e.g. planned works, burst pipes, leaks and outages) that cause problems ranging from low pressure to no water"},{"$f":"VLOOKUP('Design #'!F108,Labels!$A:$B,2,FALSE)","v":"Providing appropriate sewer capacity and pumping capabilities to cope with widespread flood events"}]
[8,3,{"$f":"VLOOKUP('Design #'!C109,Labels!$A:$B,2,FALSE)","v":"Providing water that is aesthetically pleasing (clear and clean with no odour or unusual taste or colour)"},{"$f":"VLOOKUP('Design #'!D109,Labels!$A:$B,2,FALSE)","v":"Preventing pollution of rivers or streams from sewage pipes"},{"$f":"VLOOKUP('Design #'!E109,Labels!$A:$B,2,FALSE)","v":"Preventing sewage from entering homes and businesses "},{"$f":"VLOOKUP('Design #'!F109,Labels!$A:$B,2,FALSE)","v":"Preventing interruptions to the supply of water (e.g. planned works, burst pipes, leaks and outages) that cause problems ranging from low pressure to no water"}]
[8,4,{"$f":"VLOOKUP('Design #'!C110,Labels!$A:$B,2,FALSE)","v":"Providing appropriate sewer capacity and pumping capabilities to cope with widespread flood events"},{"$f":"VLOOKUP('Design #'!D110,Labels!$A:$B,2,FALSE)","v":"Preventing the likelihood of restrictions on water use, including hosepipe bans, in a drought"},{"$f":"VLOOKUP('Design #'!E110,Labels!$A:$B,2,FALSE)","v":"Reducing the release of untreated sewage mixed with rain water into rivers and streams during times of heavy rainfall"},{"$f":"VLOOKUP('Design #'!F110,Labels!$A:$B,2,FALSE)","v":"Providing water that is aesthetically pleasing (clear and clean with no odour or unusual taste or colour)"}]
[8,5,{"$f":"VLOOKUP('Design #'!C111,Labels!$A:$B,2,FALSE)","v":"Preventing sewage from entering homes and businesses "},{"$f":"VLOOKUP('Design #'!D111,Labels!$A:$B,2,FALSE)","v":"Preventing leaks from Yorkshire Water's pipe network"},{"$f":"VLOOKUP('Design #'!E111,Labels!$A:$B,2,FALSE)","v":"Ensuring additional support is available to those who need it e.g.  providing bills in braille, providing bottled water during times of interruptions for thos​e who can't get to a shop (elderly, medical conditions etc.)"},{"$f":"VLOOKUP('Design #'!F111,Labels!$A:$B,2,FALSE)","v":"Providing a high level of customer service (e.g. resolving queries quickly)"}]
[8,6,{"$f":"VLOOKUP('Design #'!C112,Labels!$A:$B,2,FALSE)","v":"Preventing the likelihood of restrictions on water use, including hosepipe bans, in a drought"},{"$f":"VLOOKUP('Design #'!D112,Labels!$A:$B,2,FALSE)","v":"Treating waste water to a high standard to ensure good quality water in Yorkshire's rivers and beaches"},{"$f":"VLOOKUP('Design #'!E112,Labels!$A:$B,2,FALSE)","v":"Ensuring additional support is available to those who need it e.g.  providing bills in braille, providing bottled water during times of interruptions for thos​e who can't get to a shop (elderly, medical conditions etc.)"},{"$f":"VLOOKUP('Design #'!F112,Labels!$A:$B,2,FALSE)","v":"Providing a high level of customer service (e.g. resolving queries quickly)"}]
[8,7,{"$f":"VLOOKUP('Design #'!C113,Labels!$A:$B,2,FALSE)","v":"Providing a continuous supply of water that is safe to drink"},{"$f":"VLOOKUP('Design #'!D113,Labels!$A:$B,2,FALSE)","v":"Providing a high level of customer service (e.g. resolving queries quickly)"},{"$f":"VLOOKUP('Design #'!E113,Labels!$A:$B,2,FALSE)","v":"Preventing pollution of rivers or streams from sewage pipes"},{"$f":"VLOOKUP('Design #'!F113,Labels!$A:$B,2,FALSE)","v":"Reducing the release of untreated sewage mixed with rain water into rivers and streams during times of heavy rainfall"}]
[8,8,{"$f":"VLOOKUP('Design #'!C114,Labels!$A:$B,2,FALSE)","v":"Working with other organisations on common challenges (e.g. flooding) to share costs and expertise allowing for more and smarter investment to tackle problems"},{"$f":"VLOOKUP('Design #'!D114,Labels!$A:$B,2,FALSE)","v":"Preventing the likelihood of restrictions on water use, including hosepipe bans, in a drought"},{"$f":"VLOOKUP('Design #'!E114,Labels!$A:$B,2,FALSE)","v":"Preventing leaks from Yorkshire Water's pipe network"},{"$f":"VLOOKUP('Design #'!F114,Labels!$A:$B,2,FALSE)","v":"Ensuring that land owned by Yorkshire Water is conserved or enhanced to improve quality of the water it collects and reduce flooding"}]
[8,9,{"$f":"VLOOKUP('Design #'!C115,Labels!$A:$B,2,FALSE)","v":"Providing a continuous supply of water that is safe to drink"},{"$f":"VLOOKUP('Design #'!D115,Labels!$A:$B,2,FALSE)","v":"Reduce and offset carbon emissions to achieve a 'net zero' position by 2030 "},{"$f":"VLOOKUP('Design #'!E115,Labels!$A:$B,2,FALSE)","v":"Preventing the likelihood of restrictions on water use, including hosepipe bans, in a drought"},{"$f":"VLOOKUP('Design #'!F115,Labels!$A:$B,2,FALSE)","v":"Preventing sewage entering gardens and public spaces from pipe collapses or blockages"}]
[8,10,{"$f":"VLOOKUP('Design #'!C116,Labels!$A:$B,2,FALSE)","v":"Providing good and constant water pressure"},{"$f":"VLOOKUP('Design #'!D116,Labels!$A:$B,2,FALSE)","v":"Preventing sewage entering gardens and public spaces from pipe collapses or blockages"},{"$f":"VLOOKUP('Design #'!E116,Labels!$A:$B,2,FALSE)","v":"Providing a high level of customer service (e.g. resolving queries quickly)"},{"$f":"VLOOKUP('Design #'!F116,Labels!$A:$B,2,FALSE)","v":"Preventing interruptions to the supply of water (e.g. planned works, burst pipes, leaks and outages) that cause problems ranging from low pressure to no water"}]
[8,11,{"$f":"VLOOKUP('Design #'!C117,Labels!$A:$B,2,FALSE)","v":"Reduce and offset carbon emissions to achieve a 'net zero' position by 2030 "},{"$f":"VLOOKUP('Design #'!D117,Labels!$A:$B,2,FALSE)","v":"Keeping bills affordable for all"},{"$f":"VLOOKUP('Design #'!E117,Labels!$A:$B,2,FALSE)","v":"Providing a continuous supply of water that is safe to drink"},{"$f":"VLOOKUP('Design #'!F117,Labels!$A:$B,2,FALSE)","v":"Providing good and constant water pressure"}]
[8,12,{"$f":"VLOOKUP('Design #'!C118,Labels!$A:$B,2,FALSE)","v":"Ensuring additional support is available to those who need it e.g.  providing bills in braille, providing bottled water during times of interruptions for thos​e who can't get to a shop (elderly, medical conditions etc.)"},{"$f":"VLOOKUP('Design #'!D118,Labels!$A:$B,2,FALSE)","v":"Providing water that is aesthetically pleasing (clear and clean with no odour or unusual taste or colour)"},{"$f":"VLOOKUP('Design #'!E118,Labels!$A:$B,2,FALSE)","v":"Ensuring that land owned by Yorkshire Water is conserved or enhanced to improve quality of the water it collects and reduce flooding"},{"$f":"VLOOKUP('Design #'!F118,Labels!$A:$B,2,FALSE)","v":"Providing financial help and support to those who are struggling to pay their water bill"}]
[8,13,{"$f":"VLOOKUP('Design #'!C119,Labels!$A:$B,2,FALSE)","v":"Preventing pollution of rivers or streams from sewage pipes"},{"$f":"VLOOKUP('Design #'!D119,Labels!$A:$B,2,FALSE)","v":"Ensuring additional support is available to those who need it e.g.  providing bills in braille, providing bottled water during times of interruptions for thos​e who can't get to a shop (elderly, medical conditions etc.)"},{"$f":"VLOOKUP('Design #'!E119,Labels!$A:$B,2,FALSE)","v":"Supporting customers to reduce their water use and prevent blockages through education and provision of free tools/devices"},{"$f":"VLOOKUP('Design #'!F119,Labels!$A:$B,2,FALSE)","v":"Ensuring that land owned by Yorkshire Water is conserved or enhanced to improve quality of the water it collects and reduce flooding"}]
[8,14,{"$f":"VLOOKUP('Design #'!C120,Labels!$A:$B,2,FALSE)","v":"Providing good and constant water pressure"},{"$f":"VLOOKUP('Design #'!D120,Labels!$A:$B,2,FALSE)","v":"Working with other organisations on common challenges (e.g. flooding) to share costs and expertise allowing for more and smarter investment to tackle problems"},{"$f":"VLOOKUP('Design #'!E120,Labels!$A:$B,2,FALSE)","v":"Providing appropriate sewer capacity and pumping capabilities to cope with widespread flood events"},{"$f":"VLOOKUP('Design #'!F120,Labels!$A:$B,2,FALSE)","v":"Preventing pollution of rivers or streams from sewage pipes"}]
[8,15,{"$f":"VLOOKUP('Design #'!C121,Labels!$A:$B,2,FALSE)","v":"Keeping bills affordable for all"},{"$f":"VLOOKUP('Design #'!D121,Labels!$A:$B,2,FALSE)","v":"Reducing the release of untreated sewage mixed with rain water into rivers and streams during times of heavy rainfall"},{"$f":"VLOOKUP('Design #'!E121,Labels!$A:$B,2,FALSE)","v":"Supporting customers to reduce their water use and prevent blockages through education and provision of free tools/devices"},{"$f":"VLOOKUP('Design #'!F121,Labels!$A:$B,2,FALSE)","v":"Treating waste water to a high standard to ensure good quality water in Yorkshire's rivers and beaches"}]
[9,1,{"$f":"VLOOKUP('Design #'!C122,Labels!$A:$B,2,FALSE)","v":"Preventing leaks from Yorkshire Water's pipe network"},{"$f":"VLOOKUP('Design #'!D122,Labels!$A:$B,2,FALSE)","v":"Reducing the release of untreated sewage mixed with rain water into rivers and streams during times of heavy rainfall"},{"$f":"VLOOKUP('Design #'!E122,Labels!$A:$B,2,FALSE)","v":"Working with other organisations on common challenges (e.g. flooding) to share costs and expertise allowing for more and smarter investment to tackle problems"},{"$f":"VLOOKUP('Design #'!F122,Labels!$A:$B,2,FALSE)","v":"Providing a continuous supply of water that is safe to drink"}]
[9,2,{"$f":"VLOOKUP('Design #'!C123,Labels!$A:$B,2,FALSE)","v":"Preventing sewage entering gardens and public spaces from pipe collapses or blockages"},{"$f":"VLOOKUP('Design #'!D123,Labels!$A:$B,2,FALSE)","v":"Providing good and constant water pressure"},{"$f":"VLOOKUP('Design #'!E123,Labels!$A:$B,2,FALSE)","v":"Providing appropriate sewer capacity and pumping capabilities to cope with widespread flood events"},{"$f":"VLOOKUP('Design #'!F123,Labels!$A:$B,2,FALSE)","v":"Preventing leaks from Yorkshire Water's pipe network"}]
[9,3,{"$f":"VLOOKUP('Design #'!C124,Labels!$A:$B,2,FALSE)","v":"Providing a high level of customer service (e.g. resolving queries quickly)"},{"$f":"VLOOKUP('Design #'!D124,Labels!$A:$B,2,FALSE)","v":"Providing appropriate sewer capacity and pumping capabilities to cope with widespread flood events"},{"$f":"VLOOKUP('Design #'!E124,Labels!$A:$B,2,FALSE)","v":"Ensuring that land owned by Yorkshire Water is conserved or enhanced to improve quality of the water it collects and reduce flooding"},{"$f":"VLOOKUP('Design #'!F124,Labels!$A:$B,2,FALSE)","v":"Supporting customers to reduce their water use and prevent blockages through education and provision of free tools/devices"}]
[9,4,{"$f":"VLOOKUP('Design #'!C125,Labels!$A:$B,2,FALSE)","v":"Reducing the release of untreated sewage mixed with rain water into rivers and streams during times of heavy rainfall"},{"$f":"VLOOKUP('Design #'!D125,Labels!$A:$B,2,FALSE)","v":"Providing a high level of customer service (e.g. resolving queries quickly)"},{"$f":"VLOOKUP('Design #'!E125,Labels!$A:$B,2,FALSE)","v":"Preventing leaks from Yorkshire Water's pipe network"},{"$f":"VLOOKUP('Design #'!F125,Labels!$A:$B,2,FALSE)","v":"Providing water that is aesthetically pleasing (clear and clean with no odour or unusual taste or colour)"}]
[9,5,{"$f":"VLOOKUP('Design #'!C126,Labels!$A:$B,2,FALSE)","v":"Supporting customers to reduce their water use and prevent blockages through education and provision of free tools/devices"},{"$f":"VLOOKUP('Design #'!D126,Labels!$A:$B,2,FALSE)","v":"Providing water that is aesthetically pleasing (clear and clean with no odour or unusual taste or colour)"},{"$f":"VLOOKUP('Design #'!E126,Labels!$A:$B,2,FALSE)","v":"Reduce and offset carbon emissions to achieve a 'net zero' position by 2030 "},{"$f":"VLOOKUP('Design #'!F126,Labels!$A:$B,2,FALSE)","v":"Working with other organisations on common challenges (e.g. flooding) to share costs and expertise allowing for more and smarter investment to tackle problems"}]
[9,6,{"$f":"VLOOKUP('Design #'!C127,Labels!$A:$B,2,FALSE)","v":"Preventing the likelihood of restrictions on water use, including hosepipe bans, in a drought"},{"$f":"VLOOKUP('Design #'!D127,Labels!$A:$B,2,FALSE)","v":"Reduce and offset carbon emissions to achieve a 'net zero' position by 2030 "},{"$f":"VLOOKUP('Design #'!E127,Labels!$A:$B,2,FALSE)","v":"Keeping bills affordable for all"},{"$f":"VLOOKUP('Design #'!F127,Labels!$A:$B,2,FALSE)","v":"Preventing sewage from entering homes and businesses "}]
[9,7,{"$f":"VLOOKUP('Design #'!C128,Labels!$A:$B,2,FALSE)","v":"Reducing the release of untreated sewage mixed with rain water into rivers and streams during times of heavy rainfall"},{"$f":"VLOOKUP('Design #'!D128,Labels!$A:$B,2,FALSE)","v":"Ensuring that land owned by Yorkshire Water is conserved or enhanced to improve quality of the water it collects and reduce flooding"},{"$f":"VLOOKUP('Design #'!E128,Labels!$A:$B,2,FALSE)","v":"Preventing sewage entering gardens and public spaces from pipe collapses or blockages"},{"$f":"VLOOKUP('Design #'!F128,Labels!$A:$B,2,FALSE)","v":"Preventing sewage from entering homes and businesses "}]
[9,8,{"$f":"VLOOKUP('Design #'!C129,Labels!$A:$B,2,FALSE)","v":"Preventing interruptions to the supply of water (e.g. planned works, burst pipes, leaks and outages) that cause problems ranging from low pressure to no water"},{"$f":"VLOOKUP('Design #'!D129,Labels!$A:$B,2,FALSE)","v":"Working with other organisations on common challenges (e.g. flooding) to share costs and expertise allowing for more and smarter investment to tackle problems"},{"$f":"VLOOKUP('Design #'!E129,Labels!$A:$B,2,FALSE)","v":"Keeping bills affordable for all"},{"$f":"VLOOKUP('Design #'!F129,Labels!$A:$B,2,FALSE)","v":"Providing financial help and support to those who are struggling to pay their water bill"}]
[9,9,{"$f":"VLOOKUP('Design #'!C130,Labels!$A:$B,2,FALSE)","v":"Treating waste water to a high standard to ensure good quality water in Yorkshire's rivers and beaches"},{"$f":"VLOOKUP('Design #'!D130,Labels!$A:$B,2,FALSE)","v":"Supporting customers to reduce their water use and prevent blockages through education and provision of free tools/devices"},{"$f":"VLOOKUP('Design #'!E130,Labels!$A:$B,2,FALSE)","v":"Providing good and constant water pressure"},{"$f":"VLOOKUP('Design #'!F130,Labels!$A:$B,2,FALSE)","v":"Preventing the likelihood of restrictions on water use, including hosepipe bans, in a drought"}]
[9,10,{"$f":"VLOOKUP('Design #'!C131,Labels!$A:$B,2,FALSE)","v":"Providing appropriate sewer capacity and pumping capabilities to cope with widespread flood events"},{"$f":"VLOOKUP('Design #'!D131,Labels!$A:$B,2,FALSE)","v":"Ensuring additional support is available to those who need it e.g.  providing bills in braille, providing bottled water during times of interruptions for thos​e who can't get to a shop (elderly, medical conditions etc.)"},{"$f":"VLOOKUP('Design #'!E131,Labels!$A:$B,2,FALSE)","v":"Treating waste water to a high standard to ensure good quality water in Yorkshire's rivers and beaches"},{"$f":"VLOOKUP('Design #'!F131,Labels!$A:$B,2,FALSE)","v":"Working with other organisations on common challenges (e.g. flooding) to share costs and expertise allowing for more and smarter investment to tackle problems"}]
[9,11,{"$f":"VLOOKUP('Design #'!C132,Labels!$A:$B,2,FALSE)","v":"Keeping bills affordable for all"},{"$f":"VLOOKUP('Design #'!D132,Labels!$A:$B,2,FALSE)","v":"Providing financial help and support to those who are struggling to pay their water bill"},{"$f":"VLOOKUP('Design #'!E132,Labels!$A:$B,2,FALSE)","v":"Preventing pollution of rivers or streams from sewage pipes"},{"$f":"VLOOKUP('Design #'!F132,Labels!$A:$B,2,FALSE)","v":"Providing a high level of customer service (e.g. resolving queries quickly)"}]
[9,12,{"$f":"VLOOKUP('Design #'!C133,Labels!$A:$B,2,FALSE)","v":"Preventing interruptions to the supply of water (e.g. planned works, burst pipes, leaks and outages) that cause problems ranging from low pressure to no water"},{"$f":"VLOOKUP('Design #'!D133,Labels!$A:$B,2,FALSE)","v":"Preventing pollution of rivers or streams from sewage pipes"},{"$f":"VLOOKUP('Design #'!E133,Labels!$A:$B,2,FALSE)","v":"Providing a continuous supply of water that is safe to drink"},{"$f":"VLOOKUP('Design #'!F133,Labels!$A:$B,2,FALSE)","v":"Treating waste water to a high standard to ensure good quality water in Yorkshire's rivers and beaches"}]
[9,13,{"$f":"VLOOKUP('Design #'!C134,Labels!$A:$B,2,FALSE)","v":"Providing financial help and support to those who are struggling to pay their water bill"},{"$f":"VLOOKUP('Design #'!D134,Labels!$A:$B,2,FALSE)","v":"Preventing sewage entering gardens and public spaces from pipe collapses or blockages"},{"$f":"VLOOKUP('Design #'!E134,Labels!$A:$B,2,FALSE)","v":"Providing water that is aesthetically pleasing (clear and clean with no odour or unusual taste or colour)"},{"$f":"VLOOKUP('Design #'!F134,Labels!$A:$B,2,FALSE)","v":"Providing a continuous supply of water that is safe to drink"}]
[9,14,{"$f":"VLOOKUP('Design #'!C135,Labels!$A:$B,2,FALSE)","v":"Preventing sewage from entering homes and businesses "},{"$f":"VLOOKUP('Design #'!D135,Labels!$A:$B,2,FALSE)","v":"Ensuring that land owned by Yorkshire Water is conserved or enhanced to improve quality of the water it collects and reduce flooding"},{"$f":"VLOOKUP('Design #'!E135,Labels!$A:$B,2,FALSE)","v":"Keeping bills affordable for all"},{"$f":"VLOOKUP('Design #'!F135,Labels!$A:$B,2,FALSE)","v":"Providing good and constant water pressure"}]
[9,15,{"$f":"VLOOKUP('Design #'!C136,Labels!$A:$B,2,FALSE)","v":"Ensuring additional support is available to those who need it e.g.  providing bills in braille, providing bottled water during times of interruptions for thos​e who can't get to a shop (elderly, medical conditions etc.)"},{"$f":"VLOOKUP('Design #'!D136,Labels!$A:$B,2,FALSE)","v":"Preventing interruptions to the supply of water (e.g. planned works, burst pipes, leaks and outages) that cause problems ranging from low pressure to no water"},{"$f":"VLOOKUP('Design #'!E136,Labels!$A:$B,2,FALSE)","v":"Reducing the release of untreated sewage mixed with rain water into rivers and streams during times of heavy rainfall"},{"$f":"VLOOKUP('Design #'!F136,Labels!$A:$B,2,FALSE)","v":"Reduce and offset carbon emissions to achieve a 'net zero' position by 2030 "}]
[10,1,{"$f":"VLOOKUP('Design #'!C137,Labels!$A:$B,2,FALSE)","v":"Reduce and offset carbon emissions to achieve a 'net zero' position by 2030 "},{"$f":"VLOOKUP('Design #'!D137,Labels!$A:$B,2,FALSE)","v":"Ensuring that land owned by Yorkshire Water is conserved or enhanced to improve quality of the water it collects and reduce flooding"},{"$f":"VLOOKUP('Design #'!E137,Labels!$A:$B,2,FALSE)","v":"Providing financial help and support to those who are struggling to pay their water bill"},{"$f":"VLOOKUP('Design #'!F137,Labels!$A:$B,2,FALSE)","v":"Working with other organisations on common challenges (e.g. flooding) to share costs and expertise allowing for more and smarter investment to tackle problems"}]
[10,2,{"$f":"VLOOKUP('Design #'!C138,Labels!$A:$B,2,FALSE)","v":"Working with other organisations on common challenges (e.g. flooding) to share costs and expertise allowing for more and smarter investment to tackle problems"},{"$f":"VLOOKUP('Design #'!D138,Labels!$A:$B,2,FALSE)","v":"Preventing interruptions to the supply of water (e.g. planned works, burst pipes, leaks and outages) that cause problems ranging from low pressure to no water"},{"$f":"VLOOKUP('Design #'!E138,Labels!$A:$B,2,FALSE)","v":"Preventing the likelihood of restrictions on water use, including hosepipe bans, in a drought"},{"$f":"VLOOKUP('Design #'!F138,Labels!$A:$B,2,FALSE)","v":"Providing a high level of customer service (e.g. resolving queries quickly)"}]
[10,3,{"$f":"VLOOKUP('Design #'!C139,Labels!$A:$B,2,FALSE)","v":"Ensuring that land owned by Yorkshire Water is conserved or enhanced to improve quality of the water it collects and reduce flooding"},{"$f":"VLOOKUP('Design #'!D139,Labels!$A:$B,2,FALSE)","v":"Treating waste water to a high standard to ensure good quality water in Yorkshire's rivers and beaches"},{"$f":"VLOOKUP('Design #'!E139,Labels!$A:$B,2,FALSE)","v":"Reduce and offset carbon emissions to achieve a 'net zero' position by 2030 "},{"$f":"VLOOKUP('Design #'!F139,Labels!$A:$B,2,FALSE)","v":"Preventing leaks from Yorkshire Water's pipe network"}]
[10,4,{"$f":"VLOOKUP('Design #'!C140,Labels!$A:$B,2,FALSE)","v":"Preventing leaks from Yorkshire Water's pipe network"},{"$f":"VLOOKUP('Design #'!D140,Labels!$A:$B,2,FALSE)","v":"Providing appropriate sewer capacity and pumping capabilities to cope with widespread flood events"},{"$f":"VLOOKUP('Design #'!E140,Labels!$A:$B,2,FALSE)","v":"Providing a continuous supply of water that is safe to drink"},{"$f":"VLOOKUP('Design #'!F140,Labels!$A:$B,2,FALSE)","v":"Ensuring additional support is available to those who need it e.g.  providing bills in braille, providing bottled water during times of interruptions for thos​e who can't get to a shop (elderly, medical conditions etc.)"}]
[10,5,{"$f":"VLOOKUP('Design #'!C141,Labels!$A:$B,2,FALSE)","v":"Providing financial help and support to those who are struggling to pay their water bill"},{"$f":"VLOOKUP('Design #'!D141,Labels!$A:$B,2,FALSE)","v":"Ensuring additional support is available to those who need it e.g.  providing bills in braille, providing bottled water during times of interruptions for thos​e who can't get to a shop (elderly, medical conditions etc.)"},{"$f":"VLOOKUP('Design #'!E141,Labels!$A:$B,2,FALSE)","v":"Preventing sewage entering gardens and public spaces from pipe collapses or blockages"},{"$f":"VLOOKUP('Design #'!F141,Labels!$A:$B,2,FALSE)","v":"Reducing the release of untreated sewage mixed with rain water into rivers and streams during times of heavy rainfall"}]
[10,6,{"$f":"VLOOKUP('Design #'!C142,Labels!$A:$B,2,FALSE)","v":"Treating waste water to a high standard to ensure good quality water in Yorkshire's rivers and beaches"},{"$f":"VLOOKUP('Design #'!D142,Labels!$A:$B,2,FALSE)","v":"Preventing sewage from entering homes and businesses "},{"$f":"VLOOKUP('Design #'!E142,Labels!$A:$B,2,FALSE)","v":"Preventing interruptions to the supply of water (e.g. planned works, burst pipes, leaks and outages) that cause problems ranging from low pressure to no water"},{"$f":"VLOOKUP('Design #'!F142,Labels!$A:$B,2,FALSE)","v":"Reducing the release of untreated sewage mixed with rain water into rivers and streams during times of heavy rainfall"}]
[10,7,{"$f":"VLOOKUP('Design #'!C143,Labels!$A:$B,2,FALSE)","v":"Providing a high level of customer service (e.g. resolving queries quickly)"},{"$f":"VLOOKUP('Design #'!D143,Labels!$A:$B,2,FALSE)","v":"Providing appropriate sewer capacity and pumping capabilities to cope with widespread flood events"},{"$f":"VLOOKUP('Design #'!E143,Labels!$A:$B,2,FALSE)","v":"Treating waste water to a high standard to ensure good quality water in Yorkshire's rivers and beaches"},{"$f":"VLOOKUP('Design #'!F143,Labels!$A:$B,2,FALSE)","v":"Keeping bills affordable for all"}]
[10,8,{"$f":"VLOOKUP('Design #'!C144,Labels!$A:$B,2,FALSE)","v":"Providing water that is aesthetically pleasing (clear and clean with no odour or unusual taste or colour)"},{"$f":"VLOOKUP('Design #'!D144,Labels!$A:$B,2,FALSE)","v":"Preventing the likelihood of restrictions on water use, including hosepipe bans, in a drought"},{"$f":"VLOOKUP('Design #'!E144,Labels!$A:$B,2,FALSE)","v":"Ensuring additional support is available to those who need it e.g.  providing bills in braille, providing bottled water during times of interruptions for thos​e who can't get to a shop (elderly, medical conditions etc.)"},{"$f":"VLOOKUP('Design #'!F144,Labels!$A:$B,2,FALSE)","v":"Preventing sewage entering gardens and public spaces from pipe collapses or blockages"}]
[10,9,{"$f":"VLOOKUP('Design #'!C145,Labels!$A:$B,2,FALSE)","v":"Providing a high level of customer service (e.g. resolving queries quickly)"},{"$f":"VLOOKUP('Design #'!D145,Labels!$A:$B,2,FALSE)","v":"Preventing sewage entering gardens and public spaces from pipe collapses or blockages"},{"$f":"VLOOKUP('Design #'!E145,Labels!$A:$B,2,FALSE)","v":"Ensuring that land owned by Yorkshire Water is conserved or enhanced to improve quality of the water it collects and reduce flooding"},{"$f":"VLOOKUP('Design #'!F145,Labels!$A:$B,2,FALSE)","v":"Preventing pollution of rivers or streams from sewage pipes"}]
[10,10,{"$f":"VLOOKUP('Design #'!C146,Labels!$A:$B,2,FALSE)","v":"Providing good and constant water pressure"},{"$f":"VLOOKUP('Design #'!D146,Labels!$A:$B,2,FALSE)","v":"Providing a continuous supply of water that is safe to drink"},{"$f":"VLOOKUP('Design #'!E146,Labels!$A:$B,2,FALSE)","v":"Providing financial help and support to those who are struggling to pay their water bill"},{"$f":"VLOOKUP('Design #'!F146,Labels!$A:$B,2,FALSE)","v":"Supporting customers to reduce their water use and prevent blockages through education and provision of free tools/devices"}]
[10,11,{"$f":"VLOOKUP('Design #'!C147,Labels!$A:$B,2,FALSE)","v":"Preventing the likelihood of restrictions on water use, including hosepipe bans, in a drought"},{"$f":"VLOOKUP('Design #'!D147,Labels!$A:$B,2,FALSE)","v":"Keeping bills affordable for all"},{"$f":"VLOOKUP('Design #'!E147,Labels!$A:$B,2,FALSE)","v":"Providing water that is aesthetically pleasing (clear and clean with no odour or unusual taste or colour)"},{"$f":"VLOOKUP('Design #'!F147,Labels!$A:$B,2,FALSE)","v":"Supporting customers to reduce their water use and prevent blockages through education and provision of free tools/devices"}]
[10,12,{"$f":"VLOOKUP('Design #'!C148,Labels!$A:$B,2,FALSE)","v":"Supporting customers to reduce their water use and prevent blockages through education and provision of free tools/devices"},{"$f":"VLOOKUP('Design #'!D148,Labels!$A:$B,2,FALSE)","v":"Reducing the release of untreated sewage mixed with rain water into rivers and streams during times of heavy rainfall"},{"$f":"VLOOKUP('Design #'!E148,Labels!$A:$B,2,FALSE)","v":"Preventing pollution of rivers or streams from sewage pipes"},{"$f":"VLOOKUP('Design #'!F148,Labels!$A:$B,2,FALSE)","v":"Working with other organisations on common challenges (e.g. flooding) to share costs and expertise allowing for more and smarter investment to tackle problems"}]
[10,13,{"$f":"VLOOKUP('Design #'!C149,Labels!$A:$B,2,FALSE)","v":"Preventing pollution of rivers or streams from sewage pipes"},{"$f":"VLOOKUP('Design #'!D149,Labels!$A:$B,2,FALSE)","v":"Preventing leaks from Yorkshire Water's pipe network"},{"$f":"VLOOKUP('Design #'!E149,Labels!$A:$B,2,FALSE)","v":"Preventing sewage from entering homes and businesses "},{"$f":"VLOOKUP('Design #'!F149,Labels!$A:$B,2,FALSE)","v":"Providing water that is aesthetically pleasing (clear and clean with no odour or unusual taste or colour)"}]
[10,14,{"$f":"VLOOKUP('Design #'!C150,Labels!$A:$B,2,FALSE)","v":"Preventing sewage entering gardens and public spaces from pipe collapses or blockages"},{"$f":"VLOOKUP('Design #'!D150,Labels!$A:$B,2,FALSE)","v":"Providing good and constant water pressure"},{"$f":"VLOOKUP('Design #'!E150,Labels!$A:$B,2,FALSE)","v":"Reduce and offset carbon emissions to achieve a 'net zero' position by 2030 "},{"$f":"VLOOKUP('Design #'!F150,Labels!$A:$B,2,FALSE)","v":"Preventing pollution of rivers or streams from sewage pipes"}]
[10,15,{"$f":"VLOOKUP('Design #'!C151,Labels!$A:$B,2,FALSE)","v":"Preventing interruptions to the supply of water (e.g. planned works, burst pipes, leaks and outages) that cause problems ranging from low pressure to no water"},{"$f":"VLOOKUP('Design #'!D151,Labels!$A:$B,2,FALSE)","v":"Providing a continuous supply of water that is safe to drink"},{"$f":"VLOOKUP('Design #'!E151,Labels!$A:$B,2,FALSE)","v":"Providing good and constant water pressure"},{"$f":"VLOOKUP('Design #'!F151,Labels!$A:$B,2,FALSE)","v":"Providing appropriate sewer capacity and pumping capabilities to cope with widespread flood events"}]
[11,1,{"$f":"VLOOKUP('Design #'!C152,Labels!$A:$B,2,FALSE)","v":"Ensuring additional support is available to those who need it e.g.  providing bills in braille, providing bottled water during times of interruptions for thos​e who can't get to a shop (elderly, medical conditions etc.)"},{"$f":"VLOOKUP('Design #'!D152,Labels!$A:$B,2,FALSE)","v":"Providing good and constant water pressure"},{"$f":"VLOOKUP('Design #'!E152,Labels!$A:$B,2,FALSE)","v":"Preventing sewage entering gardens and public spaces from pipe collapses or blockages"},{"$f":"VLOOKUP('Design #'!F152,Labels!$A:$B,2,FALSE)","v":"Treating waste water to a high standard to ensure good quality water in Yorkshire's rivers and beaches"}]
[11,2,{"$f":"VLOOKUP('Design #'!C153,Labels!$A:$B,2,FALSE)","v":"Preventing pollution of rivers or streams from sewage pipes"},{"$f":"VLOOKUP('Design #'!D153,Labels!$A:$B,2,FALSE)","v":"Providing financial help and support to those who are struggling to pay their water bill"},{"$f":"VLOOKUP('Design #'!E153,Labels!$A:$B,2,FALSE)","v":"Preventing the likelihood of restrictions on water use, including hosepipe bans, in a drought"},{"$f":"VLOOKUP('Design #'!F153,Labels!$A:$B,2,FALSE)","v":"Treating waste water to a high standard to ensure good quality water in Yorkshire's rivers and beaches"}]
[11,3,{"$f":"VLOOKUP('Design #'!C154,Labels!$A:$B,2,FALSE)","v":"Preventing sewage from entering homes and businesses "},{"$f":"VLOOKUP('Design #'!D154,Labels!$A:$B,2,FALSE)","v":"Providing water that is aesthetically pleasing (clear and clean with no odour or unusual taste or colour)"},{"$f":"VLOOKUP('Design #'!E154,Labels!$A:$B,2,FALSE)","v":"Providing a high level of customer service (e.g. resolving queries quickly)"},{"$f":"VLOOKUP('Design #'!F154,Labels!$A:$B,2,FALSE)","v":"Providing a continuous supply of water that is safe to drink"}]
[11,4,{"$f":"VLOOKUP('Design #'!C155,Labels!$A:$B,2,FALSE)","v":"Keeping bills affordable for all"},{"$f":"VLOOKUP('Design #'!D155,Labels!$A:$B,2,FALSE)","v":"Working with other organisations on common challenges (e.g. flooding) to share costs and expertise allowing for more and smarter investment to tackle problems"},{"$f":"VLOOKUP('Design #'!E155,Labels!$A:$B,2,FALSE)","v":"Preventing sewage from entering homes and businesses "},{"$f":"VLOOKUP('Design #'!F155,Labels!$A:$B,2,FALSE)","v":"Preventing sewage entering gardens and public spaces from pipe collapses or blockages"}]
[11,5,{"$f":"VLOOKUP('Design #'!C156,Labels!$A:$B,2,FALSE)","v":"Reducing the release of untreated sewage mixed with rain water into rivers and streams during times of heavy rainfall"},{"$f":"VLOOKUP('Design #'!D156,Labels!$A:$B,2,FALSE)","v":"Reduce and offset carbon emissions to achieve a 'net zero' position by 2030 "},{"$f":"VLOOKUP('Design #'!E156,Labels!$A:$B,2,FALSE)","v":"Providing a high level of customer service (e.g. resolving queries quickly)"},{"$f":"VLOOKUP('Design #'!F156,Labels!$A:$B,2,FALSE)","v":"Providing appropriate sewer capacity and pumping capabilities to cope with widespread flood events"}]
[11,6,{"$f":"VLOOKUP('Design #'!C157,Labels!$A:$B,2,FALSE)","v":"Providing financial help and support to those who are struggling to pay their water bill"},{"$f":"VLOOKUP('Design #'!D157,Labels!$A:$B,2,FALSE)","v":"Preventing sewage entering gardens and public spaces from pipe collapses or blockages"},{"$f":"VLOOKUP('Design #'!E157,Labels!$A:$B,2,FALSE)","v":"Preventing leaks from Yorkshire Water's pipe network"},{"$f":"VLOOKUP('Design #'!F157,Labels!$A:$B,2,FALSE)","v":"Preventing interruptions to the supply of water (e.g. planned works, burst pipes, leaks and outages) that cause problems ranging from low pressure to no water"}]
[11,7,{"$f":"VLOOKUP('Design #'!C158,Labels!$A:$B,2,FALSE)","v":"Providing appropriate sewer capacity and pumping capabilities to cope with widespread flood events"},{"$f":"VLOOKUP('Design #'!D158,Labels!$A:$B,2,FALSE)","v":"Preventing sewage from entering homes and businesses "},{"$f":"VLOOKUP('Design #'!E158,Labels!$A:$B,2,FALSE)","v":"Preventing pollution of rivers or streams from sewage pipes"},{"$f":"VLOOKUP('Design #'!F158,Labels!$A:$B,2,FALSE)","v":"Providing financial help and support to those who are struggling to pay their water bill"}]
[11,8,{"$f":"VLOOKUP('Design #'!C159,Labels!$A:$B,2,FALSE)","v":"Reduce and offset carbon emissions to achieve a 'net zero' position by 2030 "},{"$f":"VLOOKUP('Design #'!D159,Labels!$A:$B,2,FALSE)","v":"Supporting customers to reduce their water use and prevent blockages through education and provision of free tools/devices"},{"$f":"VLOOKUP('Design #'!E159,Labels!$A:$B,2,FALSE)","v":"Ensuring additional support is available to those who need it e.g.  providing bills in braille, providing bottled water during times of interruptions for thos​e who can't get to a shop (elderly, medical conditions etc.)"},{"$f":"VLOOKUP('Design #'!F159,Labels!$A:$B,2,FALSE)","v":"Preventing leaks from Yorkshire Water's pipe network"}]
[11,9,{"$f":"VLOOKUP('Design #'!C160,Labels!$A:$B,2,FALSE)","v":"Providing water that is aesthetically pleasing (clear and clean with no odour or unusual taste or colour)"},{"$f":"VLOOKUP('Design #'!D160,Labels!$A:$B,2,FALSE)","v":"Providing a high level of customer service (e.g. resolving queries quickly)"},{"$f":"VLOOKUP('Design #'!E160,Labels!$A:$B,2,FALSE)","v":"Preventing interruptions to the supply of water (e.g. planned works, burst pipes, leaks and outages) that cause problems ranging from low pressure to no water"},{"$f":"VLOOKUP('Design #'!F160,Labels!$A:$B,2,FALSE)","v":"Providing good and constant water pressure"}]
[11,10,{"$f":"VLOOKUP('Design #'!C161,Labels!$A:$B,2,FALSE)","v":"Preventing leaks from Yorkshire Water's pipe network"},{"$f":"VLOOKUP('Design #'!D161,Labels!$A:$B,2,FALSE)","v":"Providing good and constant water pressure"},{"$f":"VLOOKUP('Design #'!E161,Labels!$A:$B,2,FALSE)","v":"Reducing the release of untreated sewage mixed with rain water into rivers and streams during times of heavy rainfall"},{"$f":"VLOOKUP('Design #'!F161,Labels!$A:$B,2,FALSE)","v":"Preventing the likelihood of restrictions on water use, including hosepipe bans, in a drought"}]
[11,11,{"$f":"VLOOKUP('Design #'!C162,Labels!$A:$B,2,FALSE)","v":"Preventing sewage from entering homes and businesses "},{"$f":"VLOOKUP('Design #'!D162,Labels!$A:$B,2,FALSE)","v":"Reduce and offset carbon emissions to achieve a 'net zero' position by 2030 "},{"$f":"VLOOKUP('Design #'!E162,Labels!$A:$B,2,FALSE)","v":"Working with other organisations on common challenges (e.g. flooding) to share costs and expertise allowing for more and smarter investment to tackle problems"},{"$f":"VLOOKUP('Design #'!F162,Labels!$A:$B,2,FALSE)","v":"Ensuring additional support is available to those who need it e.g.  providing bills in braille, providing bottled water during times of interruptions for thos​e who can't get to a shop (elderly, medical conditions etc.)"}]
[11,12,{"$f":"VLOOKUP('Design #'!C163,Labels!$A:$B,2,FALSE)","v":"Ensuring that land owned by Yorkshire Water is conserved or enhanced to improve quality of the water it collects and reduce flooding"},{"$f":"VLOOKUP('Design #'!D163,Labels!$A:$B,2,FALSE)","v":"Preventing the likelihood of restrictions on water use, including hosepipe bans, in a drought"},{"$f":"VLOOKUP('Design #'!E163,Labels!$A:$B,2,FALSE)","v":"Reducing the release of untreated sewage mixed with rain water into rivers and streams during times of heavy rainfall"},{"$f":"VLOOKUP('Design #'!F163,Labels!$A:$B,2,FALSE)","v":"Keeping bills affordable for all"}]
[11,13,{"$f":"VLOOKUP('Design #'!C164,Labels!$A:$B,2,FALSE)","v":"Providing a continuous supply of water that is safe to drink"},{"$f":"VLOOKUP('Design #'!D164,Labels!$A:$B,2,FALSE)","v":"Supporting customers to reduce their water use and prevent blockages through education and provision of free tools/devices"},{"$f":"VLOOKUP('Design #'!E164,Labels!$A:$B,2,FALSE)","v":"Providing appropriate sewer capacity and pumping capabilities to cope with widespread flood events"},{"$f":"VLOOKUP('Design #'!F164,Labels!$A:$B,2,FALSE)","v":"Preventing sewage entering gardens and public spaces from pipe collapses or blockages"}]
[11,14,{"$f":"VLOOKUP('Design #'!C165,Labels!$A:$B,2,FALSE)","v":"Preventing interruptions to the supply of water (e.g. planned works, burst pipes, leaks and outages) that cause problems ranging from low pressure to no water"},{"$f":"VLOOKUP('Design #'!D165,Labels!$A:$B,2,FALSE)","v":"Keeping bills affordable for all"},{"$f":"VLOOKUP('Design #'!E165,Labels!$A:$B,2,FALSE)","v":"Supporting customers to reduce their water use and prevent blockages through education and provision of free tools/devices"},{"$f":"VLOOKUP('Design #'!F165,Labels!$A:$B,2,FALSE)","v":"Ensuring that land owned by Yorkshire Water is conserved or enhanced to improve quality of the water it collects and reduce flooding"}]
[11,15,{"$f":"VLOOKUP('Design #'!C166,Labels!$A:$B,2,FALSE)","v":"Providing water that is aesthetically pleasing (clear and clean with no odour or unusual taste or colour)"},{"$f":"VLOOKUP('Design #'!D166,Labels!$A:$B,2,FALSE)","v":"Treating waste water to a high standard to ensure good quality water in Yorkshire's rivers and beaches"},{"$f":"VLOOKUP('Design #'!E166,Labels!$A:$B,2,FALSE)","v":"Ensuring that land owned by Yorkshire Water is conserved or enhanced to improve quality of the water it collects and reduce flooding"},{"$f":"VLOOKUP('Design #'!F166,Labels!$A:$B,2,FALSE)","v":"Providing a continuous supply of water that is safe to drink"}]
[12,1,{"$f":"VLOOKUP('Design #'!C167,Labels!$A:$B,2,FALSE)","v":"Preventing sewage entering gardens and public spaces from pipe collapses or blockages"},{"$f":"VLOOKUP('Design #'!D167,Labels!$A:$B,2,FALSE)","v":"Reducing the release of untreated sewage mixed with rain water into rivers and streams during times of heavy rainfall"},{"$f":"VLOOKUP('Design #'!E167,Labels!$A:$B,2,FALSE)","v":"Keeping bills affordable for all"},{"$f":"VLOOKUP('Design #'!F167,Labels!$A:$B,2,FALSE)","v":"Providing appropriate sewer capacity and pumping capabilities to cope with widespread flood events"}]
[12,2,{"$f":"VLOOKUP('Design #'!C168,Labels!$A:$B,2,FALSE)","v":"Treating waste water to a high standard to ensure good quality water in Yorkshire's rivers and beaches"},{"$f":"VLOOKUP('Design #'!D168,Labels!$A:$B,2,FALSE)","v":"Preventing pollution of rivers or streams from sewage pipes"},{"$f":"VLOOKUP('Design #'!E168,Labels!$A:$B,2,FALSE)","v":"Supporting customers to reduce their water use and prevent blockages through education and provision of free tools/devices"},{"$f":"VLOOKUP('Design #'!F168,Labels!$A:$B,2,FALSE)","v":"Providing a high level of customer service (e.g. resolving queries quickly)"}]
[12,3,{"$f":"VLOOKUP('Design #'!C169,Labels!$A:$B,2,FALSE)","v":"Providing a high level of customer service (e.g. resolving queries quickly)"},{"$f":"VLOOKUP('Design #'!D169,Labels!$A:$B,2,FALSE)","v":"Preventing leaks from Yorkshire Water's pipe network"},{"$f":"VLOOKUP('Design #'!E169,Labels!$A:$B,2,FALSE)","v":"Providing financial help and support to those who are struggling to pay their water bill"},{"$f":"VLOOKUP('Design #'!F169,Labels!$A:$B,2,FALSE)","v":"Preventing sewage from entering homes and businesses "}]
[12,4,{"$f":"VLOOKUP('Design #'!C170,Labels!$A:$B,2,FALSE)","v":"Working with other organisations on common challenges (e.g. flooding) to share costs and expertise allowing for more and smarter investment to tackle problems"},{"$f":"VLOOKUP('Design #'!D170,Labels!$A:$B,2,FALSE)","v":"Providing financial help and support to those who are struggling to pay their water bill"},{"$f":"VLOOKUP('Design #'!E170,Labels!$A:$B,2,FALSE)","v":"Treating waste water to a high standard to ensure good quality water in Yorkshire's rivers and beaches"},{"$f":"VLOOKUP('Design #'!F170,Labels!$A:$B,2,FALSE)","v":"Keeping bills affordable for all"}]
[12,5,{"$f":"VLOOKUP('Design #'!C171,Labels!$A:$B,2,FALSE)","v":"Reduce and offset carbon emissions to achieve a 'net zero' position by 2030 "},{"$f":"VLOOKUP('Design #'!D171,Labels!$A:$B,2,FALSE)","v":"Ensuring additional support is available to those who need it e.g.  providing bills in braille, providing bottled water during times of interruptions for thos​e who can't get to a shop (elderly, medical conditions etc.)"},{"$f":"VLOOKUP('Design #'!E171,Labels!$A:$B,2,FALSE)","v":"Preventing interruptions to the supply of water (e.g. planned works, burst pipes, leaks and outages) that cause problems ranging from low pressure to no water"},{"$f":"VLOOKUP('Design #'!F171,Labels!$A:$B,2,FALSE)","v":"Preventing pollution of rivers or streams from sewage pipes"}]
[12,6,{"$f":"VLOOKUP('Design #'!C172,Labels!$A:$B,2,FALSE)","v":"Ensuring additional support is available to those who need it e.g.  providing bills in braille, providing bottled water during times of interruptions for thos​e who can't get to a shop (elderly, medical conditions etc.)"},{"$f":"VLOOKUP('Design #'!D172,Labels!$A:$B,2,FALSE)","v":"Providing a high level of customer service (e.g. resolving queries quickly)"},{"$f":"VLOOKUP('Design #'!E172,Labels!$A:$B,2,FALSE)","v":"Providing a continuous supply of water that is safe to drink"},{"$f":"VLOOKUP('Design #'!F172,Labels!$A:$B,2,FALSE)","v":"Preventing the likelihood of restrictions on water use, including hosepipe bans, in a drought"}]
[12,7,{"$f":"VLOOKUP('Design #'!C173,Labels!$A:$B,2,FALSE)","v":"Reducing the release of untreated sewage mixed with rain water into rivers and streams during times of heavy rainfall"},{"$f":"VLOOKUP('Design #'!D173,Labels!$A:$B,2,FALSE)","v":"Ensuring that land owned by Yorkshire Water is conserved or enhanced to improve quality of the water it collects and reduce flooding"},{"$f":"VLOOKUP('Design #'!E173,Labels!$A:$B,2,FALSE)","v":"Providing good and constant water pressure"},{"$f":"VLOOKUP('Design #'!F173,Labels!$A:$B,2,FALSE)","v":"Ensuring additional support is available to those who need it e.g.  providing bills in braille, providing bottled water during times of interruptions for thos​e who can't get to a shop (elderly, medical conditions etc.)"}]
[12,8,{"$f":"VLOOKUP('Design #'!C174,Labels!$A:$B,2,FALSE)","v":"Ensuring that land owned by Yorkshire Water is conserved or enhanced to improve quality of the water it collects and reduce flooding"},{"$f":"VLOOKUP('Design #'!D174,Labels!$A:$B,2,FALSE)","v":"Providing water that is aesthetically pleasing (clear and clean with no odour or unusual taste or colour)"},{"$f":"VLOOKUP('Design #'!E174,Labels!$A:$B,2,FALSE)","v":"Keeping bills affordable for all"},{"$f":"VLOOKUP('Design #'!F174,Labels!$A:$B,2,FALSE)","v":"Preventing leaks from Yorkshire Water's pipe network"}]
[12,9,{"$f":"VLOOKUP('Design #'!C175,Labels!$A:$B,2,FALSE)","v":"Providing a continuous supply of water that is safe to drink"},{"$f":"VLOOKUP('Design #'!D175,Labels!$A:$B,2,FALSE)","v":"Working with other organisations on common challenges (e.g. flooding) to share costs and expertise allowing for more and smarter investment to tackle problems"},{"$f":"VLOOKUP('Design #'!E175,Labels!$A:$B,2,FALSE)","v":"Providing financial help and support to those who are struggling to pay their water bill"},{"$f":"VLOOKUP('Design #'!F175,Labels!$A:$B,2,FALSE)","v":"Reducing the release of untreated sewage mixed with rain water into rivers and streams during times of heavy rainfall"}]
[12,10,{"$f":"VLOOKUP('Design #'!C176,Labels!$A:$B,2,FALSE)","v":"Providing appropriate sewer capacity and pumping capabilities to cope with widespread flood events"},{"$f":"VLOOKUP('Design #'!D176,Labels!$A:$B,2,FALSE)","v":"Preventing sewage from entering homes and businesses "},{"$f":"VLOOKUP('Design #'!E176,Labels!$A:$B,2,FALSE)","v":"Preventing the likelihood of restrictions on water use, including hosepipe bans, in a drought"},{"$f":"VLOOKUP('Design #'!F176,Labels!$A:$B,2,FALSE)","v":"Providing good and constant water pressure"}]
[12,11,{"$f":"VLOOKUP('Design #'!C177,Labels!$A:$B,2,FALSE)","v":"Treating waste water to a high standard to ensure good quality water in Yorkshire's rivers and beaches"},{"$f":"VLOOKUP('Design #'!D177,Labels!$A:$B,2,FALSE)","v":"Preventing interruptions to the supply of water (e.g. planned works, burst pipes, leaks and outages) that cause problems ranging from low pressure to no water"},{"$f":"VLOOKUP('Design #'!E177,Labels!$A:$B,2,FALSE)","v":"Preventing sewage from entering homes and businesses "},{"$f":"VLOOKUP('Design #'!F177,Labels!$A:$B,2,FALSE)","v":"Reduce and offset carbon emissions to achieve a 'net zero' position by 2030 "}]
[12,12,{"$f":"VLOOKUP('Design #'!C178,Labels!$A:$B,2,FALSE)","v":"Providing good and constant water pressure"},{"$f":"VLOOKUP('Design #'!D178,Labels!$A:$B,2,FALSE)","v":"Supporting customers to reduce their water use and prevent blockages through education and provision of free tools/devices"},{"$f":"VLOOKUP('Design #'!E178,Labels!$A:$B,2,FALSE)","v":"Working with other organisations on common challenges (e.g. flooding) to share costs and expertise allowing for more and smarter investment to tackle problems"},{"$f":"VLOOKUP('Design #'!F178,Labels!$A:$B,2,FALSE)","v":"Providing water that is aesthetically pleasing (clear and clean with no odour or unusual taste or colour)"}]
[12,13,{"$f":"VLOOKUP('Design #'!C179,Labels!$A:$B,2,FALSE)","v":"Preventing pollution of rivers or streams from sewage pipes"},{"$f":"VLOOKUP('Design #'!D179,Labels!$A:$B,2,FALSE)","v":"Providing appropriate sewer capacity and pumping capabilities to cope with widespread flood events"},{"$f":"VLOOKUP('Design #'!E179,Labels!$A:$B,2,FALSE)","v":"Preventing leaks from Yorkshire Water's pipe network"},{"$f":"VLOOKUP('Design #'!F179,Labels!$A:$B,2,FALSE)","v":"Reduce and offset carbon emissions to achieve a 'net zero' position by 2030 "}]
[12,14,{"$f":"VLOOKUP('Design #'!C180,Labels!$A:$B,2,FALSE)","v":"Preventing the likelihood of restrictions on water use, including hosepipe bans, in a drought"},{"$f":"VLOOKUP('Design #'!D180,Labels!$A:$B,2,FALSE)","v":"Providing a continuous supply of water that is safe to drink"},{"$f":"VLOOKUP('Design #'!E180,Labels!$A:$B,2,FALSE)","v":"Preventing pollution of rivers or streams from sewage pipes"},{"$f":"VLOOKUP('Design #'!F180,Labels!$A:$B,2,FALSE)","v":"Ensuring that land owned by Yorkshire Water is conserved or enhanced to improve quality of the water it collects and reduce flooding"}]
[12,15,{"$f":"VLOOKUP('Design #'!C181,Labels!$A:$B,2,FALSE)","v":"Supporting customers to reduce their water use and prevent blockages through education and provision of free tools/devices"},{"$f":"VLOOKUP('Design #'!D181,Labels!$A:$B,2,FALSE)","v":"Providing water that is aesthetically pleasing (clear and clean with no odour or unusual taste or colour)"},{"$f":"VLOOKUP('Design #'!E181,Labels!$A:$B,2,FALSE)","v":"Preventing sewage entering gardens and public spaces from pipe collapses or blockages"},{"$f":"VLOOKUP('Design #'!F181,Labels!$A:$B,2,FALSE)","v":"Preventing interruptions to the supply of water (e.g. planned works, burst pipes, leaks and outages) that cause problems ranging from low pressure to no water"}]
[13,1,{"$f":"VLOOKUP('Design #'!C182,Labels!$A:$B,2,FALSE)","v":"Preventing sewage from entering homes and businesses "},{"$f":"VLOOKUP('Design #'!D182,Labels!$A:$B,2,FALSE)","v":"Ensuring additional support is available to those who need it e.g.  providing bills in braille, providing bottled water during times of interruptions for thos​e who can't get to a shop (elderly, medical conditions etc.)"},{"$f":"VLOOKUP('Design #'!E182,Labels!$A:$B,2,FALSE)","v":"Reducing the release of untreated sewage mixed with rain water into rivers and streams during times of heavy rainfall"},{"$f":"VLOOKUP('Design #'!F182,Labels!$A:$B,2,FALSE)","v":"Supporting customers to reduce their water use and prevent blockages through education and provision of free tools/devices"}]
[13,2,{"$f":"VLOOKUP('Design #'!C183,Labels!$A:$B,2,FALSE)","v":"Supporting customers to reduce their water use and prevent blockages through education and provision of free tools/devices"},{"$f":"VLOOKUP('Design #'!D183,Labels!$A:$B,2,FALSE)","v":"Preventing sewage entering gardens and public spaces from pipe collapses or blockages"},{"$f":"VLOOKUP('Design #'!E183,Labels!$A:$B,2,FALSE)","v":"Preventing leaks from Yorkshire Water's pipe network"},{"$f":"VLOOKUP('Design #'!F183,Labels!$A:$B,2,FALSE)","v":"Preventing the likelihood of restrictions on water use, including hosepipe bans, in a drought"}]
[13,3,{"$f":"VLOOKUP('Design #'!C184,Labels!$A:$B,2,FALSE)","v":"Keeping bills affordable for all"},{"$f":"VLOOKUP('Design #'!D184,Labels!$A:$B,2,FALSE)","v":"Preventing pollution of rivers or streams from sewage pipes"},{"$f":"VLOOKUP('Design #'!E184,Labels!$A:$B,2,FALSE)","v":"Providing water that is aesthetically pleasing (clear and clean with no odour or unusual taste or colour)"},{"$f":"VLOOKUP('Design #'!F184,Labels!$A:$B,2,FALSE)","v":"Ensuring additional support is available to those who need it e.g.  providing bills in braille, providing bottled water during times of interruptions for thos​e who can't get to a shop (elderly, medical conditions etc.)"}]
[13,4,{"$f":"VLOOKUP('Design #'!C185,Labels!$A:$B,2,FALSE)","v":"Reducing the release of untreated sewage mixed with rain water into rivers and streams during times of heavy rainfall"},{"$f":"VLOOKUP('Design #'!D185,Labels!$A:$B,2,FALSE)","v":"Preventing sewage from entering homes and businesses "},{"$f":"VLOOKUP('Design #'!E185,Labels!$A:$B,2,FALSE)","v":"Preventing interruptions to the supply of water (e.g. planned works, burst pipes, leaks and outages) that cause problems ranging from low pressure to no water"},{"$f":"VLOOKUP('Design #'!F185,Labels!$A:$B,2,FALSE)","v":"Ensuring that land owned by Yorkshire Water is conserved or enhanced to improve quality of the water it collects and reduce flooding"}]
[13,5,{"$f":"VLOOKUP('Design #'!C186,Labels!$A:$B,2,FALSE)","v":"Keeping bills affordable for all"},{"$f":"VLOOKUP('Design #'!D186,Labels!$A:$B,2,FALSE)","v":"Treating waste water to a high standard to ensure good quality water in Yorkshire's rivers and beaches"},{"$f":"VLOOKUP('Design #'!E186,Labels!$A:$B,2,FALSE)","v":"Providing a continuous supply of water that is safe to drink"},{"$f":"VLOOKUP('Design #'!F186,Labels!$A:$B,2,FALSE)","v":"Preventing leaks from Yorkshire Water's pipe network"}]
[13,6,{"$f":"VLOOKUP('Design #'!C187,Labels!$A:$B,2,FALSE)","v":"Providing good and constant water pressure"},{"$f":"VLOOKUP('Design #'!D187,Labels!$A:$B,2,FALSE)","v":"Preventing pollution of rivers or streams from sewage pipes"},{"$f":"VLOOKUP('Design #'!E187,Labels!$A:$B,2,FALSE)","v":"Providing appropriate sewer capacity and pumping capabilities to cope with widespread flood events"},{"$f":"VLOOKUP('Design #'!F187,Labels!$A:$B,2,FALSE)","v":"Working with other organisations on common challenges (e.g. flooding) to share costs and expertise allowing for more and smarter investment to tackle problems"}]
[13,7,{"$f":"VLOOKUP('Design #'!C188,Labels!$A:$B,2,FALSE)","v":"Working with other organisations on common challenges (e.g. flooding) to share costs and expertise allowing for more and smarter investment to tackle problems"},{"$f":"VLOOKUP('Design #'!D188,Labels!$A:$B,2,FALSE)","v":"Keeping bills affordable for all"},{"$f":"VLOOKUP('Design #'!E188,Labels!$A:$B,2,FALSE)","v":"Reduce and offset carbon emissions to achieve a 'net zero' position by 2030 "},{"$f":"VLOOKUP('Design #'!F188,Labels!$A:$B,2,FALSE)","v":"Providing a high level of customer service (e.g. resolving queries quickly)"}]
[13,8,{"$f":"VLOOKUP('Design #'!C189,Labels!$A:$B,2,FALSE)","v":"Ensuring additional support is available to those who need it e.g.  providing bills in braille, providing bottled water during times of interruptions for thos​e who can't get to a shop (elderly, medical conditions etc.)"},{"$f":"VLOOKUP('Design #'!D189,Labels!$A:$B,2,FALSE)","v":"Providing appropriate sewer capacity and pumping capabilities to cope with widespread flood events"},{"$f":"VLOOKUP('Design #'!E189,Labels!$A:$B,2,FALSE)","v":"Ensuring that land owned by Yorkshire Water is conserved or enhanced to improve quality of the water it collects and reduce flooding"},{"$f":"VLOOKUP('Design #'!F189,Labels!$A:$B,2,FALSE)","v":"Providing financial help and support to those who are struggling to pay their water bill"}]
[13,9,{"$f":"VLOOKUP('Design #'!C190,Labels!$A:$B,2,FALSE)","v":"Preventing interruptions to the supply of water (e.g. planned works, burst pipes, leaks and outages) that cause problems ranging from low pressure to no water"},{"$f":"VLOOKUP('Design #'!D190,Labels!$A:$B,2,FALSE)","v":"Reduce and offset carbon emissions to achieve a 'net zero' position by 2030 "},{"$f":"VLOOKUP('Design #'!E190,Labels!$A:$B,2,FALSE)","v":"Providing water that is aesthetically pleasing (clear and clean with no odour or unusual taste or colour)"},{"$f":"VLOOKUP('Design #'!F190,Labels!$A:$B,2,FALSE)","v":"Providing appropriate sewer capacity and pumping capabilities to cope with widespread flood events"}]
[13,10,{"$f":"VLOOKUP('Design #'!C191,Labels!$A:$B,2,FALSE)","v":"Providing a high level of customer service (e.g. resolving queries quickly)"},{"$f":"VLOOKUP('Design #'!D191,Labels!$A:$B,2,FALSE)","v":"Treating waste water to a high standard to ensure good quality water in Yorkshire's rivers and beaches"},{"$f":"VLOOKUP('Design #'!E191,Labels!$A:$B,2,FALSE)","v":"Providing good and constant water pressure"},{"$f":"VLOOKUP('Design #'!F191,Labels!$A:$B,2,FALSE)","v":"Preventing sewage entering gardens and public spaces from pipe collapses or blockages"}]
[13,11,{"$f":"VLOOKUP('Design #'!C192,Labels!$A:$B,2,FALSE)","v":"Ensuring that land owned by Yorkshire Water is conserved or enhanced to improve quality of the water it collects and reduce flooding"},{"$f":"VLOOKUP('Design #'!D192,Labels!$A:$B,2,FALSE)","v":"Working with other organisations on common challenges (e.g. flooding) to share costs and expertise allowing for more and smarter investment to tackle problems"},{"$f":"VLOOKUP('Design #'!E192,Labels!$A:$B,2,FALSE)","v":"Preventing sewage entering gardens and public spaces from pipe collapses or blockages"},{"$f":"VLOOKUP('Design #'!F192,Labels!$A:$B,2,FALSE)","v":"Providing a high level of customer service (e.g. resolving queries quickly)"}]
[13,12,{"$f":"VLOOKUP('Design #'!C193,Labels!$A:$B,2,FALSE)","v":"Providing water that is aesthetically pleasing (clear and clean with no odour or unusual taste or colour)"},{"$f":"VLOOKUP('Design #'!D193,Labels!$A:$B,2,FALSE)","v":"Reducing the release of untreated sewage mixed with rain water into rivers and streams during times of heavy rainfall"},{"$f":"VLOOKUP('Design #'!E193,Labels!$A:$B,2,FALSE)","v":"Treating waste water to a high standard to ensure good quality water in Yorkshire's rivers and beaches"},{"$f":"VLOOKUP('Design #'!F193,Labels!$A:$B,2,FALSE)","v":"Preventing pollution of rivers or streams from sewage pipes"}]
[13,13,{"$f":"VLOOKUP('Design #'!C194,Labels!$A:$B,2,FALSE)","v":"Providing a continuous supply of water that is safe to drink"},{"$f":"VLOOKUP('Design #'!D194,Labels!$A:$B,2,FALSE)","v":"Providing good and constant water pressure"},{"$f":"VLOOKUP('Design #'!E194,Labels!$A:$B,2,FALSE)","v":"Preventing sewage from entering homes and businesses "},{"$f":"VLOOKUP('Design #'!F194,Labels!$A:$B,2,FALSE)","v":"Preventing interruptions to the supply of water (e.g. planned works, burst pipes, leaks and outages) that cause problems ranging from low pressure to no water"}]
[13,14,{"$f":"VLOOKUP('Design #'!C195,Labels!$A:$B,2,FALSE)","v":"Providing financial help and support to those who are struggling to pay their water bill"},{"$f":"VLOOKUP('Design #'!D195,Labels!$A:$B,2,FALSE)","v":"Preventing the likelihood of restrictions on water use, including hosepipe bans, in a drought"},{"$f":"VLOOKUP('Design #'!E195,Labels!$A:$B,2,FALSE)","v":"Reduce and offset carbon emissions to achieve a 'net zero' position by 2030 "},{"$f":"VLOOKUP('Design #'!F195,Labels!$A:$B,2,FALSE)","v":"Providing good and constant water pressure"}]
[13,15,{"$f":"VLOOKUP('Design #'!C196,Labels!$A:$B,2,FALSE)","v":"Reduce and offset carbon emissions to achieve a 'net zero' position by 2030 "},{"$f":"VLOOKUP('Design #'!D196,Labels!$A:$B,2,FALSE)","v":"Providing a continuous supply of water that is safe to drink"},{"$f":"VLOOKUP('Design #'!E196,Labels!$A:$B,2,FALSE)","v":"Supporting customers to reduce their water use and prevent blockages through education and provision of free tools/devices"},{"$f":"VLOOKUP('Design #'!F196,Labels!$A:$B,2,FALSE)","v":"Providing financial help and support to those who are struggling to pay their water bill"}]
[14,1,{"$f":"VLOOKUP('Design #'!C197,Labels!$A:$B,2,FALSE)","v":"Preventing the likelihood of restrictions on water use, including hosepipe bans, in a drought"},{"$f":"VLOOKUP('Design #'!D197,Labels!$A:$B,2,FALSE)","v":"Working with other organisations on common challenges (e.g. flooding) to share costs and expertise allowing for more and smarter investment to tackle problems"},{"$f":"VLOOKUP('Design #'!E197,Labels!$A:$B,2,FALSE)","v":"Ensuring additional support is available to those who need it e.g.  providing bills in braille, providing bottled water during times of interruptions for thos​e who can't get to a shop (elderly, medical conditions etc.)"},{"$f":"VLOOKUP('Design #'!F197,Labels!$A:$B,2,FALSE)","v":"Preventing leaks from Yorkshire Water's pipe network"}]
[14,2,{"$f":"VLOOKUP('Design #'!C198,Labels!$A:$B,2,FALSE)","v":"Providing appropriate sewer capacity and pumping capabilities to cope with widespread flood events"},{"$f":"VLOOKUP('Design #'!D198,Labels!$A:$B,2,FALSE)","v":"Ensuring additional support is available to those who need it e.g.  providing bills in braille, providing bottled water during times of interruptions for thos​e who can't get to a shop (elderly, medical conditions etc.)"},{"$f":"VLOOKUP('Design #'!E198,Labels!$A:$B,2,FALSE)","v":"Working with other organisations on common challenges (e.g. flooding) to share costs and expertise allowing for more and smarter investment to tackle problems"},{"$f":"VLOOKUP('Design #'!F198,Labels!$A:$B,2,FALSE)","v":"Providing water that is aesthetically pleasing (clear and clean with no odour or unusual taste or colour)"}]
[14,3,{"$f":"VLOOKUP('Design #'!C199,Labels!$A:$B,2,FALSE)","v":"Preventing leaks from Yorkshire Water's pipe network"},{"$f":"VLOOKUP('Design #'!D199,Labels!$A:$B,2,FALSE)","v":"Providing a high level of customer service (e.g. resolving queries quickly)"},{"$f":"VLOOKUP('Design #'!E199,Labels!$A:$B,2,FALSE)","v":"Preventing pollution of rivers or streams from sewage pipes"},{"$f":"VLOOKUP('Design #'!F199,Labels!$A:$B,2,FALSE)","v":"Ensuring that land owned by Yorkshire Water is conserved or enhanced to improve quality of the water it collects and reduce flooding"}]
[14,4,{"$f":"VLOOKUP('Design #'!C200,Labels!$A:$B,2,FALSE)","v":"Preventing sewage entering gardens and public spaces from pipe collapses or blockages"},{"$f":"VLOOKUP('Design #'!D200,Labels!$A:$B,2,FALSE)","v":"Reduce and offset carbon emissions to achieve a 'net zero' position by 2030 "},{"$f":"VLOOKUP('Design #'!E200,Labels!$A:$B,2,FALSE)","v":"Preventing the likelihood of restrictions on water use, including hosepipe bans, in a drought"},{"$f":"VLOOKUP('Design #'!F200,Labels!$A:$B,2,FALSE)","v":"Preventing sewage from entering homes and businesses "}]
[14,5,{"$f":"VLOOKUP('Design #'!C201,Labels!$A:$B,2,FALSE)","v":"Providing financial help and support to those who are struggling to pay their water bill"},{"$f":"VLOOKUP('Design #'!D201,Labels!$A:$B,2,FALSE)","v":"Providing a high level of customer service (e.g. resolving queries quickly)"},{"$f":"VLOOKUP('Design #'!E201,Labels!$A:$B,2,FALSE)","v":"Providing appropriate sewer capacity and pumping capabilities to cope with widespread flood events"},{"$f":"VLOOKUP('Design #'!F201,Labels!$A:$B,2,FALSE)","v":"Supporting customers to reduce their water use and prevent blockages through education and provision of free tools/devices"}]
[14,6,{"$f":"VLOOKUP('Design #'!C202,Labels!$A:$B,2,FALSE)","v":"Preventing pollution of rivers or streams from sewage pipes"},{"$f":"VLOOKUP('Design #'!D202,Labels!$A:$B,2,FALSE)","v":"Preventing sewage entering gardens and public spaces from pipe collapses or blockages"},{"$f":"VLOOKUP('Design #'!E202,Labels!$A:$B,2,FALSE)","v":"Reduce and offset carbon emissions to achieve a 'net zero' position by 2030 "},{"$f":"VLOOKUP('Design #'!F202,Labels!$A:$B,2,FALSE)","v":"Reducing the release of untreated sewage mixed with rain water into rivers and streams during times of heavy rainfall"}]
[14,7,{"$f":"VLOOKUP('Design #'!C203,Labels!$A:$B,2,FALSE)","v":"Preventing the likelihood of restrictions on water use, including hosepipe bans, in a drought"},{"$f":"VLOOKUP('Design #'!D203,Labels!$A:$B,2,FALSE)","v":"Preventing leaks from Yorkshire Water's pipe network"},{"$f":"VLOOKUP('Design #'!E203,Labels!$A:$B,2,FALSE)","v":"Preventing interruptions to the supply of water (e.g. planned works, burst pipes, leaks and outages) that cause problems ranging from low pressure to no water"},{"$f":"VLOOKUP('Design #'!F203,Labels!$A:$B,2,FALSE)","v":"Keeping bills affordable for all"}]
[14,8,{"$f":"VLOOKUP('Design #'!C204,Labels!$A:$B,2,FALSE)","v":"Providing good and constant water pressure"},{"$f":"VLOOKUP('Design #'!D204,Labels!$A:$B,2,FALSE)","v":"Providing financial help and support to those who are struggling to pay their water bill"},{"$f":"VLOOKUP('Design #'!E204,Labels!$A:$B,2,FALSE)","v":"Supporting customers to reduce their water use and prevent blockages through education and provision of free tools/devices"},{"$f":"VLOOKUP('Design #'!F204,Labels!$A:$B,2,FALSE)","v":"Treating waste water to a high standard to ensure good quality water in Yorkshire's rivers and beaches"}]
[14,9,{"$f":"VLOOKUP('Design #'!C205,Labels!$A:$B,2,FALSE)","v":"Preventing interruptions to the supply of water (e.g. planned works, burst pipes, leaks and outages) that cause problems ranging from low pressure to no water"},{"$f":"VLOOKUP('Design #'!D205,Labels!$A:$B,2,FALSE)","v":"Ensuring that land owned by Yorkshire Water is conserved or enhanced to improve quality of the water it collects and reduce flooding"},{"$f":"VLOOKUP('Design #'!E205,Labels!$A:$B,2,FALSE)","v":"Providing financial help and support to those who are struggling to pay their water bill"},{"$f":"VLOOKUP('Design #'!F205,Labels!$A:$B,2,FALSE)","v":"Preventing sewage entering gardens and public spaces from pipe collapses or blockages"}]
[14,10,{"$f":"VLOOKUP('Design #'!C206,Labels!$A:$B,2,FALSE)","v":"Keeping bills affordable for all"},{"$f":"VLOOKUP('Design #'!D206,Labels!$A:$B,2,FALSE)","v":"Preventing interruptions to the supply of water (e.g. planned works, burst pipes, leaks and outages) that cause problems ranging from low pressure to no water"},{"$f":"VLOOKUP('Design #'!E206,Labels!$A:$B,2,FALSE)","v":"Reducing the release of untreated sewage mixed with rain water into rivers and streams during times of heavy rainfall"},{"$f":"VLOOKUP('Design #'!F206,Labels!$A:$B,2,FALSE)","v":"Providing a continuous supply of water that is safe to drink"}]
[14,11,{"$f":"VLOOKUP('Design #'!C207,Labels!$A:$B,2,FALSE)","v":"Ensuring additional support is available to those who need it e.g.  providing bills in braille, providing bottled water during times of interruptions for thos​e who can't get to a shop (elderly, medical conditions etc.)"},{"$f":"VLOOKUP('Design #'!D207,Labels!$A:$B,2,FALSE)","v":"Preventing pollution of rivers or streams from sewage pipes"},{"$f":"VLOOKUP('Design #'!E207,Labels!$A:$B,2,FALSE)","v":"Providing good and constant water pressure"},{"$f":"VLOOKUP('Design #'!F207,Labels!$A:$B,2,FALSE)","v":"Preventing sewage from entering homes and businesses "}]
[14,12,{"$f":"VLOOKUP('Design #'!C208,Labels!$A:$B,2,FALSE)","v":"Providing water that is aesthetically pleasing (clear and clean with no odour or unusual taste or colour)"},{"$f":"VLOOKUP('Design #'!D208,Labels!$A:$B,2,FALSE)","v":"Keeping bills affordable for all"},{"$f":"VLOOKUP('Design #'!E208,Labels!$A:$B,2,FALSE)","v":"Providing a high level of customer service (e.g. resolving queries quickly)"},{"$f":"VLOOKUP('Design #'!F208,Labels!$A:$B,2,FALSE)","v":"Providing a continuous supply of water that is safe to drink"}]
[14,13,{"$f":"VLOOKUP('Design #'!C209,Labels!$A:$B,2,FALSE)","v":"Preventing sewage from entering homes and businesses "},{"$f":"VLOOKUP('Design #'!D209,Labels!$A:$B,2,FALSE)","v":"Providing water that is aesthetically pleasing (clear and clean with no odour or unusual taste or colour)"},{"$f":"VLOOKUP('Design #'!E209,Labels!$A:$B,2,FALSE)","v":"Ensuring that land owned by Yorkshire Water is conserved or enhanced to improve quality of the water it collects and reduce flooding"},{"$f":"VLOOKUP('Design #'!F209,Labels!$A:$B,2,FALSE)","v":"Treating waste water to a high standard to ensure good quality water in Yorkshire's rivers and beaches"}]
[14,14,{"$f":"VLOOKUP('Design #'!C210,Labels!$A:$B,2,FALSE)","v":"Providing a continuous supply of water that is safe to drink"},{"$f":"VLOOKUP('Design #'!D210,Labels!$A:$B,2,FALSE)","v":"Supporting customers to reduce their water use and prevent blockages through education and provision of free tools/devices"},{"$f":"VLOOKUP('Design #'!E210,Labels!$A:$B,2,FALSE)","v":"Preventing the likelihood of restrictions on water use, including hosepipe bans, in a drought"},{"$f":"VLOOKUP('Design #'!F210,Labels!$A:$B,2,FALSE)","v":"Providing appropriate sewer capacity and pumping capabilities to cope with widespread flood events"}]
[14,15,{"$f":"VLOOKUP('Design #'!C211,Labels!$A:$B,2,FALSE)","v":"Preventing leaks from Yorkshire Water's pipe network"},{"$f":"VLOOKUP('Design #'!D211,Labels!$A:$B,2,FALSE)","v":"Treating waste water to a high standard to ensure good quality water in Yorkshire's rivers and beaches"},{"$f":"VLOOKUP('Design #'!E211,Labels!$A:$B,2,FALSE)","v":"Working with other organisations on common challenges (e.g. flooding) to share costs and expertise allowing for more and smarter investment to tackle problems"},{"$f":"VLOOKUP('Design #'!F211,Labels!$A:$B,2,FALSE)","v":"Reducing the release of untreated sewage mixed with rain water into rivers and streams during times of heavy rainfall"}]
[15,1,{"$f":"VLOOKUP('Design #'!C212,Labels!$A:$B,2,FALSE)","v":"Providing appropriate sewer capacity and pumping capabilities to cope with widespread flood events"},{"$f":"VLOOKUP('Design #'!D212,Labels!$A:$B,2,FALSE)","v":"Reducing the release of untreated sewage mixed with rain water into rivers and streams during times of heavy rainfall"},{"$f":"VLOOKUP('Design #'!E212,Labels!$A:$B,2,FALSE)","v":"Preventing interruptions to the supply of water (e.g. planned works, burst pipes, leaks and outages) that cause problems ranging from low pressure to no water"},{"$f":"VLOOKUP('Design #'!F212,Labels!$A:$B,2,FALSE)","v":"Providing financial help and support to those who are struggling to pay their water bill"}]
[15,2,{"$f":"VLOOKUP('Design #'!C213,Labels!$A:$B,2,FALSE)","v":"Preventing sewage entering gardens and public spaces from pipe collapses or blockages"},{"$f":"VLOOKUP('Design #'!D213,Labels!$A:$B,2,FALSE)","v":"Providing appropriate sewer capacity and pumping capabilities to cope with widespread flood events"},{"$f":"VLOOKUP('Design #'!E213,Labels!$A:$B,2,FALSE)","v":"Preventing leaks from Yorkshire Water's pipe network"},{"$f":"VLOOKUP('Design #'!F213,Labels!$A:$B,2,FALSE)","v":"Preventing sewage from entering homes and businesses "}]
[15,3,{"$f":"VLOOKUP('Design #'!C214,Labels!$A:$B,2,FALSE)","v":"Working with other organisations on common challenges (e.g. flooding) to share costs and expertise allowing for more and smarter investment to tackle problems"},{"$f":"VLOOKUP('Design #'!D214,Labels!$A:$B,2,FALSE)","v":"Preventing interruptions to the supply of water (e.g. planned works, burst pipes, leaks and outages) that cause problems ranging from low pressure to no water"},{"$f":"VLOOKUP('Design #'!E214,Labels!$A:$B,2,FALSE)","v":"Providing a high level of customer service (e.g. resolving queries quickly)"},{"$f":"VLOOKUP('Design #'!F214,Labels!$A:$B,2,FALSE)","v":"Preventing the likelihood of restrictions on water use, including hosepipe bans, in a drought"}]
[15,4,{"$f":"VLOOKUP('Design #'!C215,Labels!$A:$B,2,FALSE)","v":"Reduce and offset carbon emissions to achieve a 'net zero' position by 2030 "},{"$f":"VLOOKUP('Design #'!D215,Labels!$A:$B,2,FALSE)","v":"Providing financial help and support to those who are struggling to pay their water bill"},{"$f":"VLOOKUP('Design #'!E215,Labels!$A:$B,2,FALSE)","v":"Providing water that is aesthetically pleasing (clear and clean with no odour or unusual taste or colour)"},{"$f":"VLOOKUP('Design #'!F215,Labels!$A:$B,2,FALSE)","v":"Keeping bills affordable for all"}]
[15,5,{"$f":"VLOOKUP('Design #'!C216,Labels!$A:$B,2,FALSE)","v":"Ensuring that land owned by Yorkshire Water is conserved or enhanced to improve quality of the water it collects and reduce flooding"},{"$f":"VLOOKUP('Design #'!D216,Labels!$A:$B,2,FALSE)","v":"Providing good and constant water pressure"},{"$f":"VLOOKUP('Design #'!E216,Labels!$A:$B,2,FALSE)","v":"Providing a continuous supply of water that is safe to drink"},{"$f":"VLOOKUP('Design #'!F216,Labels!$A:$B,2,FALSE)","v":"Reduce and offset carbon emissions to achieve a 'net zero' position by 2030 "}]
[15,6,{"$f":"VLOOKUP('Design #'!C217,Labels!$A:$B,2,FALSE)","v":"Preventing the likelihood of restrictions on water use, including hosepipe bans, in a drought"},{"$f":"VLOOKUP('Design #'!D217,Labels!$A:$B,2,FALSE)","v":"Preventing sewage from entering homes and businesses "},{"$f":"VLOOKUP('Design #'!E217,Labels!$A:$B,2,FALSE)","v":"Providing financial help and support to those who are struggling to pay their water bill"},{"$f":"VLOOKUP('Design #'!F217,Labels!$A:$B,2,FALSE)","v":"Preventing pollution of rivers or streams from sewage pipes"}]
[15,7,{"$f":"VLOOKUP('Design #'!C218,Labels!$A:$B,2,FALSE)","v":"Reducing the release of untreated sewage mixed with rain water into rivers and streams during times of heavy rainfall"},{"$f":"VLOOKUP('Design #'!D218,Labels!$A:$B,2,FALSE)","v":"Preventing leaks from Yorkshire Water's pipe network"},{"$f":"VLOOKUP('Design #'!E218,Labels!$A:$B,2,FALSE)","v":"Providing good and constant water pressure"},{"$f":"VLOOKUP('Design #'!F218,Labels!$A:$B,2,FALSE)","v":"Providing water that is aesthetically pleasing (clear and clean with no odour or unusual taste or colour)"}]
[15,8,{"$f":"VLOOKUP('Design #'!C219,Labels!$A:$B,2,FALSE)","v":"Preventing pollution of rivers or streams from sewage pipes"},{"$f":"VLOOKUP('Design #'!D219,Labels!$A:$B,2,FALSE)","v":"Providing a continuous supply of water that is safe to drink"},{"$f":"VLOOKUP('Design #'!E219,Labels!$A:$B,2,FALSE)","v":"Preventing sewage entering gardens and public spaces from pipe collapses or blockages"},{"$f":"VLOOKUP('Design #'!F219,Labels!$A:$B,2,FALSE)","v":"Working with other organisations on common challenges (e.g. flooding) to share costs and expertise allowing for more and smarter investment to tackle problems"}]
[15,9,{"$f":"VLOOKUP('Design #'!C220,Labels!$A:$B,2,FALSE)","v":"Supporting customers to reduce their water use and prevent blockages through education and provision of free tools/devices"},{"$f":"VLOOKUP('Design #'!D220,Labels!$A:$B,2,FALSE)","v":"Preventing pollution of rivers or streams from sewage pipes"},{"$f":"VLOOKUP('Design #'!E220,Labels!$A:$B,2,FALSE)","v":"Keeping bills affordable for all"},{"$f":"VLOOKUP('Design #'!F220,Labels!$A:$B,2,FALSE)","v":"Preventing interruptions to the supply of water (e.g. planned works, burst pipes, leaks and outages) that cause problems ranging from low pressure to no water"}]
[15,10,{"$f":"VLOOKUP('Design #'!C221,Labels!$A:$B,2,FALSE)","v":"Treating waste water to a high standard to ensure good quality water in Yorkshire's rivers and beaches"},{"$f":"VLOOKUP('Design #'!D221,Labels!$A:$B,2,FALSE)","v":"Preventing the likelihood of restrictions on water use, including hosepipe bans, in a drought"},{"$f":"VLOOKUP('Design #'!E221,Labels!$A:$B,2,FALSE)","v":"Providing appropriate sewer capacity and pumping capabilities to cope with widespread flood events"},{"$f":"VLOOKUP('Design #'!F221,Labels!$A:$B,2,FALSE)","v":"Ensuring that land owned by Yorkshire Water is conserved or enhanced to improve quality of the water it collects and reduce flooding"}]
[15,11,{"$f":"VLOOKUP('Design #'!C222,Labels!$A:$B,2,FALSE)","v":"Preventing leaks from Yorkshire Water's pipe network"},{"$f":"VLOOKUP('Design #'!D222,Labels!$A:$B,2,FALSE)","v":"Providing financial help and support to those who are struggling to pay their water bill"},{"$f":"VLOOKUP('Design #'!E222,Labels!$A:$B,2,FALSE)","v":"Treating waste water to a high standard to ensure good quality water in Yorkshire's rivers and beaches"},{"$f":"VLOOKUP('Design #'!F222,Labels!$A:$B,2,FALSE)","v":"Ensuring additional support is available to those who need it e.g.  providing bills in braille, providing bottled water during times of interruptions for thos​e who can't get to a shop (elderly, medical conditions etc.)"}]
[15,12,{"$f":"VLOOKUP('Design #'!C223,Labels!$A:$B,2,FALSE)","v":"Providing a continuous supply of water that is safe to drink"},{"$f":"VLOOKUP('Design #'!D223,Labels!$A:$B,2,FALSE)","v":"Ensuring additional support is available to those who need it e.g.  providing bills in braille, providing bottled water during times of interruptions for thos​e who can't get to a shop (elderly, medical conditions etc.)"},{"$f":"VLOOKUP('Design #'!E223,Labels!$A:$B,2,FALSE)","v":"Preventing sewage from entering homes and businesses "},{"$f":"VLOOKUP('Design #'!F223,Labels!$A:$B,2,FALSE)","v":"Keeping bills affordable for all"}]
[15,13,{"$f":"VLOOKUP('Design #'!C224,Labels!$A:$B,2,FALSE)","v":"Providing a high level of customer service (e.g. resolving queries quickly)"},{"$f":"VLOOKUP('Design #'!D224,Labels!$A:$B,2,FALSE)","v":"Preventing sewage from entering homes and businesses "},{"$f":"VLOOKUP('Design #'!E224,Labels!$A:$B,2,FALSE)","v":"Ensuring additional support is available to those who need it e.g.  providing bills in braille, providing bottled water during times of interruptions for thos​e who can't get to a shop (elderly, medical conditions etc.)"},{"$f":"VLOOKUP('Design #'!F224,Labels!$A:$B,2,FALSE)","v":"Supporting customers to reduce their water use and prevent blockages through education and provision of free tools/devices"}]
[15,14,{"$f":"VLOOKUP('Design #'!C225,Labels!$A:$B,2,FALSE)","v":"Providing a high level of customer service (e.g. resolving queries quickly)"},{"$f":"VLOOKUP('Design #'!D225,Labels!$A:$B,2,FALSE)","v":"Treating waste water to a high standard to ensure good quality water in Yorkshire's rivers and beaches"},{"$f":"VLOOKUP('Design #'!E225,Labels!$A:$B,2,FALSE)","v":"Reducing the release of untreated sewage mixed with rain water into rivers and streams during times of heavy rainfall"},{"$f":"VLOOKUP('Design #'!F225,Labels!$A:$B,2,FALSE)","v":"Reduce and offset carbon emissions to achieve a 'net zero' position by 2030 "}]
[15,15,{"$f":"VLOOKUP('Design #'!C226,Labels!$A:$B,2,FALSE)","v":"Supporting customers to reduce their water use and prevent blockages through education and provision of free tools/devices"},{"$f":"VLOOKUP('Design #'!D226,Labels!$A:$B,2,FALSE)","v":"Ensuring that land owned by Yorkshire Water is conserved or enhanced to improve quality of the water it collects and reduce flooding"},{"$f":"VLOOKUP('Design #'!E226,Labels!$A:$B,2,FALSE)","v":"Providing water that is aesthetically pleasing (clear and clean with no odour or unusual taste or colour)"},{"$f":"VLOOKUP('Design #'!F226,Labels!$A:$B,2,FALSE)","v":"Working with other organisations on common challenges (e.g. flooding) to share costs and expertise allowing for more and smarter investment to tackle problems"}]
[16,1,{"$f":"VLOOKUP('Design #'!C227,Labels!$A:$B,2,FALSE)","v":"Reducing the release of untreated sewage mixed with rain water into rivers and streams during times of heavy rainfall"},{"$f":"VLOOKUP('Design #'!D227,Labels!$A:$B,2,FALSE)","v":"Preventing the likelihood of restrictions on water use, including hosepipe bans, in a drought"},{"$f":"VLOOKUP('Design #'!E227,Labels!$A:$B,2,FALSE)","v":"Reduce and offset carbon emissions to achieve a 'net zero' position by 2030 "},{"$f":"VLOOKUP('Design #'!F227,Labels!$A:$B,2,FALSE)","v":"Supporting customers to reduce their water use and prevent blockages through education and provision of free tools/devices"}]
[16,2,{"$f":"VLOOKUP('Design #'!C228,Labels!$A:$B,2,FALSE)","v":"Providing water that is aesthetically pleasing (clear and clean with no odour or unusual taste or colour)"},{"$f":"VLOOKUP('Design #'!D228,Labels!$A:$B,2,FALSE)","v":"Reducing the release of untreated sewage mixed with rain water into rivers and streams during times of heavy rainfall"},{"$f":"VLOOKUP('Design #'!E228,Labels!$A:$B,2,FALSE)","v":"Preventing the likelihood of restrictions on water use, including hosepipe bans, in a drought"},{"$f":"VLOOKUP('Design #'!F228,Labels!$A:$B,2,FALSE)","v":"Ensuring that land owned by Yorkshire Water is conserved or enhanced to improve quality of the water it collects and reduce flooding"}]
[16,3,{"$f":"VLOOKUP('Design #'!C229,Labels!$A:$B,2,FALSE)","v":"Reduce and offset carbon emissions to achieve a 'net zero' position by 2030 "},{"$f":"VLOOKUP('Design #'!D229,Labels!$A:$B,2,FALSE)","v":"Preventing leaks from Yorkshire Water's pipe network"},{"$f":"VLOOKUP('Design #'!E229,Labels!$A:$B,2,FALSE)","v":"Supporting customers to reduce their water use and prevent blockages through education and provision of free tools/devices"},{"$f":"VLOOKUP('Design #'!F229,Labels!$A:$B,2,FALSE)","v":"Providing good and constant water pressure"}]
[16,4,{"$f":"VLOOKUP('Design #'!C230,Labels!$A:$B,2,FALSE)","v":"Providing a high level of customer service (e.g. resolving queries quickly)"},{"$f":"VLOOKUP('Design #'!D230,Labels!$A:$B,2,FALSE)","v":"Preventing the likelihood of restrictions on water use, including hosepipe bans, in a drought"},{"$f":"VLOOKUP('Design #'!E230,Labels!$A:$B,2,FALSE)","v":"Providing a continuous supply of water that is safe to drink"},{"$f":"VLOOKUP('Design #'!F230,Labels!$A:$B,2,FALSE)","v":"Reducing the release of untreated sewage mixed with rain water into rivers and streams during times of heavy rainfall"}]
[16,5,{"$f":"VLOOKUP('Design #'!C231,Labels!$A:$B,2,FALSE)","v":"Working with other organisations on common challenges (e.g. flooding) to share costs and expertise allowing for more and smarter investment to tackle problems"},{"$f":"VLOOKUP('Design #'!D231,Labels!$A:$B,2,FALSE)","v":"Providing appropriate sewer capacity and pumping capabilities to cope with widespread flood events"},{"$f":"VLOOKUP('Design #'!E231,Labels!$A:$B,2,FALSE)","v":"Providing a continuous supply of water that is safe to drink"},{"$f":"VLOOKUP('Design #'!F231,Labels!$A:$B,2,FALSE)","v":"Preventing interruptions to the supply of water (e.g. planned works, burst pipes, leaks and outages) that cause problems ranging from low pressure to no water"}]
[16,6,{"$f":"VLOOKUP('Design #'!C232,Labels!$A:$B,2,FALSE)","v":"Treating waste water to a high standard to ensure good quality water in Yorkshire's rivers and beaches"},{"$f":"VLOOKUP('Design #'!D232,Labels!$A:$B,2,FALSE)","v":"Reduce and offset carbon emissions to achieve a 'net zero' position by 2030 "},{"$f":"VLOOKUP('Design #'!E232,Labels!$A:$B,2,FALSE)","v":"Preventing sewage from entering homes and businesses "},{"$f":"VLOOKUP('Design #'!F232,Labels!$A:$B,2,FALSE)","v":"Working with other organisations on common challenges (e.g. flooding) to share costs and expertise allowing for more and smarter investment to tackle problems"}]
[16,7,{"$f":"VLOOKUP('Design #'!C233,Labels!$A:$B,2,FALSE)","v":"Ensuring that land owned by Yorkshire Water is conserved or enhanced to improve quality of the water it collects and reduce flooding"},{"$f":"VLOOKUP('Design #'!D233,Labels!$A:$B,2,FALSE)","v":"Working with other organisations on common challenges (e.g. flooding) to share costs and expertise allowing for more and smarter investment to tackle problems"},{"$f":"VLOOKUP('Design #'!E233,Labels!$A:$B,2,FALSE)","v":"Preventing sewage from entering homes and businesses "},{"$f":"VLOOKUP('Design #'!F233,Labels!$A:$B,2,FALSE)","v":"Preventing pollution of rivers or streams from sewage pipes"}]
[16,8,{"$f":"VLOOKUP('Design #'!C234,Labels!$A:$B,2,FALSE)","v":"Ensuring additional support is available to those who need it e.g.  providing bills in braille, providing bottled water during times of interruptions for thos​e who can't get to a shop (elderly, medical conditions etc.)"},{"$f":"VLOOKUP('Design #'!D234,Labels!$A:$B,2,FALSE)","v":"Providing water that is aesthetically pleasing (clear and clean with no odour or unusual taste or colour)"},{"$f":"VLOOKUP('Design #'!E234,Labels!$A:$B,2,FALSE)","v":"Keeping bills affordable for all"},{"$f":"VLOOKUP('Design #'!F234,Labels!$A:$B,2,FALSE)","v":"Preventing sewage entering gardens and public spaces from pipe collapses or blockages"}]
[16,9,{"$f":"VLOOKUP('Design #'!C235,Labels!$A:$B,2,FALSE)","v":"Preventing sewage entering gardens and public spaces from pipe collapses or blockages"},{"$f":"VLOOKUP('Design #'!D235,Labels!$A:$B,2,FALSE)","v":"Supporting customers to reduce their water use and prevent blockages through education and provision of free tools/devices"},{"$f":"VLOOKUP('Design #'!E235,Labels!$A:$B,2,FALSE)","v":"Ensuring additional support is available to those who need it e.g.  providing bills in braille, providing bottled water during times of interruptions for thos​e who can't get to a shop (elderly, medical conditions etc.)"},{"$f":"VLOOKUP('Design #'!F235,Labels!$A:$B,2,FALSE)","v":"Preventing interruptions to the supply of water (e.g. planned works, burst pipes, leaks and outages) that cause problems ranging from low pressure to no water"}]
[16,10,{"$f":"VLOOKUP('Design #'!C236,Labels!$A:$B,2,FALSE)","v":"Providing financial help and support to those who are struggling to pay their water bill"},{"$f":"VLOOKUP('Design #'!D236,Labels!$A:$B,2,FALSE)","v":"Ensuring that land owned by Yorkshire Water is conserved or enhanced to improve quality of the water it collects and reduce flooding"},{"$f":"VLOOKUP('Design #'!E236,Labels!$A:$B,2,FALSE)","v":"Keeping bills affordable for all"},{"$f":"VLOOKUP('Design #'!F236,Labels!$A:$B,2,FALSE)","v":"Providing good and constant water pressure"}]
[16,11,{"$f":"VLOOKUP('Design #'!C237,Labels!$A:$B,2,FALSE)","v":"Preventing sewage entering gardens and public spaces from pipe collapses or blockages"},{"$f":"VLOOKUP('Design #'!D237,Labels!$A:$B,2,FALSE)","v":"Providing a continuous supply of water that is safe to drink"},{"$f":"VLOOKUP('Design #'!E237,Labels!$A:$B,2,FALSE)","v":"Preventing leaks from Yorkshire Water's pipe network"},{"$f":"VLOOKUP('Design #'!F237,Labels!$A:$B,2,FALSE)","v":"Treating waste water to a high standard to ensure good quality water in Yorkshire's rivers and beaches"}]
[16,12,{"$f":"VLOOKUP('Design #'!C238,Labels!$A:$B,2,FALSE)","v":"Preventing pollution of rivers or streams from sewage pipes"},{"$f":"VLOOKUP('Design #'!D238,Labels!$A:$B,2,FALSE)","v":"Preventing sewage entering gardens and public spaces from pipe collapses or blockages"},{"$f":"VLOOKUP('Design #'!E238,Labels!$A:$B,2,FALSE)","v":"Providing a high level of customer service (e.g. resolving queries quickly)"},{"$f":"VLOOKUP('Design #'!F238,Labels!$A:$B,2,FALSE)","v":"Providing financial help and support to those who are struggling to pay their water bill"}]
[16,13,{"$f":"VLOOKUP('Design #'!C239,Labels!$A:$B,2,FALSE)","v":"Keeping bills affordable for all"},{"$f":"VLOOKUP('Design #'!D239,Labels!$A:$B,2,FALSE)","v":"Providing a high level of customer service (e.g. resolving queries quickly)"},{"$f":"VLOOKUP('Design #'!E239,Labels!$A:$B,2,FALSE)","v":"Providing appropriate sewer capacity and pumping capabilities to cope with widespread flood events"},{"$f":"VLOOKUP('Design #'!F239,Labels!$A:$B,2,FALSE)","v":"Providing good and constant water pressure"}]
[16,14,{"$f":"VLOOKUP('Design #'!C240,Labels!$A:$B,2,FALSE)","v":"Providing appropriate sewer capacity and pumping capabilities to cope with widespread flood events"},{"$f":"VLOOKUP('Design #'!D240,Labels!$A:$B,2,FALSE)","v":"Preventing pollution of rivers or streams from sewage pipes"},{"$f":"VLOOKUP('Design #'!E240,Labels!$A:$B,2,FALSE)","v":"Providing water that is aesthetically pleasing (clear and clean with no odour or unusual taste or colour)"},{"$f":"VLOOKUP('Design #'!F240,Labels!$A:$B,2,FALSE)","v":"Preventing leaks from Yorkshire Water's pipe network"}]
[16,15,{"$f":"VLOOKUP('Design #'!C241,Labels!$A:$B,2,FALSE)","v":"Providing good and constant water pressure"},{"$f":"VLOOKUP('Design #'!D241,Labels!$A:$B,2,FALSE)","v":"Preventing interruptions to the supply of water (e.g. planned works, burst pipes, leaks and outages) that cause problems ranging from low pressure to no water"},{"$f":"VLOOKUP('Design #'!E241,Labels!$A:$B,2,FALSE)","v":"Treating waste water to a high standard to ensure good quality water in Yorkshire's rivers and beaches"},{"$f":"VLOOKUP('Design #'!F241,Labels!$A:$B,2,FALSE)","v":"Ensuring additional support is available to those who need it e.g.  providing bills in braille, providing bottled water during times of interruptions for thos​e who can't get to a shop (elderly, medical conditions etc.)"}]
[17,1,{"$f":"VLOOKUP('Design #'!C242,Labels!$A:$B,2,FALSE)","v":"Providing appropriate sewer capacity and pumping capabilities to cope with widespread flood events"},{"$f":"VLOOKUP('Design #'!D242,Labels!$A:$B,2,FALSE)","v":"Reduce and offset carbon emissions to achieve a 'net zero' position by 2030 "},{"$f":"VLOOKUP('Design #'!E242,Labels!$A:$B,2,FALSE)","v":"Ensuring that land owned by Yorkshire Water is conserved or enhanced to improve quality of the water it collects and reduce flooding"},{"$f":"VLOOKUP('Design #'!F242,Labels!$A:$B,2,FALSE)","v":"Providing a continuous supply of water that is safe to drink"}]
[17,2,{"$f":"VLOOKUP('Design #'!C243,Labels!$A:$B,2,FALSE)","v":"Reduce and offset carbon emissions to achieve a 'net zero' position by 2030 "},{"$f":"VLOOKUP('Design #'!D243,Labels!$A:$B,2,FALSE)","v":"Ensuring additional support is available to those who need it e.g.  providing bills in braille, providing bottled water during times of interruptions for thos​e who can't get to a shop (elderly, medical conditions etc.)"},{"$f":"VLOOKUP('Design #'!E243,Labels!$A:$B,2,FALSE)","v":"Providing financial help and support to those who are struggling to pay their water bill"},{"$f":"VLOOKUP('Design #'!F243,Labels!$A:$B,2,FALSE)","v":"Providing water that is aesthetically pleasing (clear and clean with no odour or unusual taste or colour)"}]
[17,3,{"$f":"VLOOKUP('Design #'!C244,Labels!$A:$B,2,FALSE)","v":"Providing financial help and support to those who are struggling to pay their water bill"},{"$f":"VLOOKUP('Design #'!D244,Labels!$A:$B,2,FALSE)","v":"Providing a continuous supply of water that is safe to drink"},{"$f":"VLOOKUP('Design #'!E244,Labels!$A:$B,2,FALSE)","v":"Preventing leaks from Yorkshire Water's pipe network"},{"$f":"VLOOKUP('Design #'!F244,Labels!$A:$B,2,FALSE)","v":"Preventing the likelihood of restrictions on water use, including hosepipe bans, in a drought"}]
[17,4,{"$f":"VLOOKUP('Design #'!C245,Labels!$A:$B,2,FALSE)","v":"Preventing sewage from entering homes and businesses "},{"$f":"VLOOKUP('Design #'!D245,Labels!$A:$B,2,FALSE)","v":"Providing good and constant water pressure"},{"$f":"VLOOKUP('Design #'!E245,Labels!$A:$B,2,FALSE)","v":"Providing water that is aesthetically pleasing (clear and clean with no odour or unusual taste or colour)"},{"$f":"VLOOKUP('Design #'!F245,Labels!$A:$B,2,FALSE)","v":"Providing a high level of customer service (e.g. resolving queries quickly)"}]
[17,5,{"$f":"VLOOKUP('Design #'!C246,Labels!$A:$B,2,FALSE)","v":"Ensuring additional support is available to those who need it e.g.  providing bills in braille, providing bottled water during times of interruptions for thos​e who can't get to a shop (elderly, medical conditions etc.)"},{"$f":"VLOOKUP('Design #'!D246,Labels!$A:$B,2,FALSE)","v":"Ensuring that land owned by Yorkshire Water is conserved or enhanced to improve quality of the water it collects and reduce flooding"},{"$f":"VLOOKUP('Design #'!E246,Labels!$A:$B,2,FALSE)","v":"Providing a high level of customer service (e.g. resolving queries quickly)"},{"$f":"VLOOKUP('Design #'!F246,Labels!$A:$B,2,FALSE)","v":"Preventing leaks from Yorkshire Water's pipe network"}]
[17,6,{"$f":"VLOOKUP('Design #'!C247,Labels!$A:$B,2,FALSE)","v":"Preventing leaks from Yorkshire Water's pipe network"},{"$f":"VLOOKUP('Design #'!D247,Labels!$A:$B,2,FALSE)","v":"Providing financial help and support to those who are struggling to pay their water bill"},{"$f":"VLOOKUP('Design #'!E247,Labels!$A:$B,2,FALSE)","v":"Working with other organisations on common challenges (e.g. flooding) to share costs and expertise allowing for more and smarter investment to tackle problems"},{"$f":"VLOOKUP('Design #'!F247,Labels!$A:$B,2,FALSE)","v":"Supporting customers to reduce their water use and prevent blockages through education and provision of free tools/devices"}]
[17,7,{"$f":"VLOOKUP('Design #'!C248,Labels!$A:$B,2,FALSE)","v":"Preventing interruptions to the supply of water (e.g. planned works, burst pipes, leaks and outages) that cause problems ranging from low pressure to no water"},{"$f":"VLOOKUP('Design #'!D248,Labels!$A:$B,2,FALSE)","v":"Ensuring that land owned by Yorkshire Water is conserved or enhanced to improve quality of the water it collects and reduce flooding"},{"$f":"VLOOKUP('Design #'!E248,Labels!$A:$B,2,FALSE)","v":"Preventing sewage entering gardens and public spaces from pipe collapses or blockages"},{"$f":"VLOOKUP('Design #'!F248,Labels!$A:$B,2,FALSE)","v":"Reduce and offset carbon emissions to achieve a 'net zero' position by 2030 "}]
[17,8,{"$f":"VLOOKUP('Design #'!C249,Labels!$A:$B,2,FALSE)","v":"Preventing sewage from entering homes and businesses "},{"$f":"VLOOKUP('Design #'!D249,Labels!$A:$B,2,FALSE)","v":"Keeping bills affordable for all"},{"$f":"VLOOKUP('Design #'!E249,Labels!$A:$B,2,FALSE)","v":"Preventing sewage entering gardens and public spaces from pipe collapses or blockages"},{"$f":"VLOOKUP('Design #'!F249,Labels!$A:$B,2,FALSE)","v":"Reducing the release of untreated sewage mixed with rain water into rivers and streams during times of heavy rainfall"}]
[17,9,{"$f":"VLOOKUP('Design #'!C250,Labels!$A:$B,2,FALSE)","v":"Keeping bills affordable for all"},{"$f":"VLOOKUP('Design #'!D250,Labels!$A:$B,2,FALSE)","v":"Preventing sewage entering gardens and public spaces from pipe collapses or blockages"},{"$f":"VLOOKUP('Design #'!E250,Labels!$A:$B,2,FALSE)","v":"Providing appropriate sewer capacity and pumping capabilities to cope with widespread flood events"},{"$f":"VLOOKUP('Design #'!F250,Labels!$A:$B,2,FALSE)","v":"Treating waste water to a high standard to ensure good quality water in Yorkshire's rivers and beaches"}]
[17,10,{"$f":"VLOOKUP('Design #'!C251,Labels!$A:$B,2,FALSE)","v":"Providing good and constant water pressure"},{"$f":"VLOOKUP('Design #'!D251,Labels!$A:$B,2,FALSE)","v":"Reducing the release of untreated sewage mixed with rain water into rivers and streams during times of heavy rainfall"},{"$f":"VLOOKUP('Design #'!E251,Labels!$A:$B,2,FALSE)","v":"Preventing pollution of rivers or streams from sewage pipes"},{"$f":"VLOOKUP('Design #'!F251,Labels!$A:$B,2,FALSE)","v":"Supporting customers to reduce their water use and prevent blockages through education and provision of free tools/devices"}]
[17,11,{"$f":"VLOOKUP('Design #'!C252,Labels!$A:$B,2,FALSE)","v":"Reducing the release of untreated sewage mixed with rain water into rivers and streams during times of heavy rainfall"},{"$f":"VLOOKUP('Design #'!D252,Labels!$A:$B,2,FALSE)","v":"Working with other organisations on common challenges (e.g. flooding) to share costs and expertise allowing for more and smarter investment to tackle problems"},{"$f":"VLOOKUP('Design #'!E252,Labels!$A:$B,2,FALSE)","v":"Ensuring additional support is available to those who need it e.g.  providing bills in braille, providing bottled water during times of interruptions for thos​e who can't get to a shop (elderly, medical conditions etc.)"},{"$f":"VLOOKUP('Design #'!F252,Labels!$A:$B,2,FALSE)","v":"Providing appropriate sewer capacity and pumping capabilities to cope with widespread flood events"}]
[17,12,{"$f":"VLOOKUP('Design #'!C253,Labels!$A:$B,2,FALSE)","v":"Preventing interruptions to the supply of water (e.g. planned works, burst pipes, leaks and outages) that cause problems ranging from low pressure to no water"},{"$f":"VLOOKUP('Design #'!D253,Labels!$A:$B,2,FALSE)","v":"Preventing sewage from entering homes and businesses "},{"$f":"VLOOKUP('Design #'!E253,Labels!$A:$B,2,FALSE)","v":"Providing good and constant water pressure"},{"$f":"VLOOKUP('Design #'!F253,Labels!$A:$B,2,FALSE)","v":"Preventing leaks from Yorkshire Water's pipe network"}]
[17,13,{"$f":"VLOOKUP('Design #'!C254,Labels!$A:$B,2,FALSE)","v":"Providing a continuous supply of water that is safe to drink"},{"$f":"VLOOKUP('Design #'!D254,Labels!$A:$B,2,FALSE)","v":"Providing a high level of customer service (e.g. resolving queries quickly)"},{"$f":"VLOOKUP('Design #'!E254,Labels!$A:$B,2,FALSE)","v":"Preventing interruptions to the supply of water (e.g. planned works, burst pipes, leaks and outages) that cause problems ranging from low pressure to no water"},{"$f":"VLOOKUP('Design #'!F254,Labels!$A:$B,2,FALSE)","v":"Preventing pollution of rivers or streams from sewage pipes"}]
[17,14,{"$f":"VLOOKUP('Design #'!C255,Labels!$A:$B,2,FALSE)","v":"Providing water that is aesthetically pleasing (clear and clean with no odour or unusual taste or colour)"},{"$f":"VLOOKUP('Design #'!D255,Labels!$A:$B,2,FALSE)","v":"Preventing interruptions to the supply of water (e.g. planned works, burst pipes, leaks and outages) that cause problems ranging from low pressure to no water"},{"$f":"VLOOKUP('Design #'!E255,Labels!$A:$B,2,FALSE)","v":"Preventing the likelihood of restrictions on water use, including hosepipe bans, in a drought"},{"$f":"VLOOKUP('Design #'!F255,Labels!$A:$B,2,FALSE)","v":"Treating waste water to a high standard to ensure good quality water in Yorkshire's rivers and beaches"}]
[17,15,{"$f":"VLOOKUP('Design #'!C256,Labels!$A:$B,2,FALSE)","v":"Supporting customers to reduce their water use and prevent blockages through education and provision of free tools/devices"},{"$f":"VLOOKUP('Design #'!D256,Labels!$A:$B,2,FALSE)","v":"Treating waste water to a high standard to ensure good quality water in Yorkshire's rivers and beaches"},{"$f":"VLOOKUP('Design #'!E256,Labels!$A:$B,2,FALSE)","v":"Preventing pollution of rivers or streams from sewage pipes"},{"$f":"VLOOKUP('Design #'!F256,Labels!$A:$B,2,FALSE)","v":"Keeping bills affordable for all"}]
[18,1,{"$f":"VLOOKUP('Design #'!C257,Labels!$A:$B,2,FALSE)","v":"Providing good and constant water pressure"},{"$f":"VLOOKUP('Design #'!D257,Labels!$A:$B,2,FALSE)","v":"Providing water that is aesthetically pleasing (clear and clean with no odour or unusual taste or colour)"},{"$f":"VLOOKUP('Design #'!E257,Labels!$A:$B,2,FALSE)","v":"Reducing the release of untreated sewage mixed with rain water into rivers and streams during times of heavy rainfall"},{"$f":"VLOOKUP('Design #'!F257,Labels!$A:$B,2,FALSE)","v":"Providing a high level of customer service (e.g. resolving queries quickly)"}]
[18,2,{"$f":"VLOOKUP('Design #'!C258,Labels!$A:$B,2,FALSE)","v":"Treating waste water to a high standard to ensure good quality water in Yorkshire's rivers and beaches"},{"$f":"VLOOKUP('Design #'!D258,Labels!$A:$B,2,FALSE)","v":"Preventing sewage entering gardens and public spaces from pipe collapses or blockages"},{"$f":"VLOOKUP('Design #'!E258,Labels!$A:$B,2,FALSE)","v":"Providing a continuous supply of water that is safe to drink"},{"$f":"VLOOKUP('Design #'!F258,Labels!$A:$B,2,FALSE)","v":"Providing water that is aesthetically pleasing (clear and clean with no odour or unusual taste or colour)"}]
[18,3,{"$f":"VLOOKUP('Design #'!C259,Labels!$A:$B,2,FALSE)","v":"Reducing the release of untreated sewage mixed with rain water into rivers and streams during times of heavy rainfall"},{"$f":"VLOOKUP('Design #'!D259,Labels!$A:$B,2,FALSE)","v":"Providing appropriate sewer capacity and pumping capabilities to cope with widespread flood events"},{"$f":"VLOOKUP('Design #'!E259,Labels!$A:$B,2,FALSE)","v":"Providing financial help and support to those who are struggling to pay their water bill"},{"$f":"VLOOKUP('Design #'!F259,Labels!$A:$B,2,FALSE)","v":"Preventing sewage from entering homes and businesses "}]
[18,4,{"$f":"VLOOKUP('Design #'!C260,Labels!$A:$B,2,FALSE)","v":"Preventing the likelihood of restrictions on water use, including hosepipe bans, in a drought"},{"$f":"VLOOKUP('Design #'!D260,Labels!$A:$B,2,FALSE)","v":"Supporting customers to reduce their water use and prevent blockages through education and provision of free tools/devices"},{"$f":"VLOOKUP('Design #'!E260,Labels!$A:$B,2,FALSE)","v":"Treating waste water to a high standard to ensure good quality water in Yorkshire's rivers and beaches"},{"$f":"VLOOKUP('Design #'!F260,Labels!$A:$B,2,FALSE)","v":"Reduce and offset carbon emissions to achieve a 'net zero' position by 2030 "}]
[18,5,{"$f":"VLOOKUP('Design #'!C261,Labels!$A:$B,2,FALSE)","v":"Providing a high level of customer service (e.g. resolving queries quickly)"},{"$f":"VLOOKUP('Design #'!D261,Labels!$A:$B,2,FALSE)","v":"Preventing sewage from entering homes and businesses "},{"$f":"VLOOKUP('Design #'!E261,Labels!$A:$B,2,FALSE)","v":"Supporting customers to reduce their water use and prevent blockages through education and provision of free tools/devices"},{"$f":"VLOOKUP('Design #'!F261,Labels!$A:$B,2,FALSE)","v":"Providing appropriate sewer capacity and pumping capabilities to cope with widespread flood events"}]
[18,6,{"$f":"VLOOKUP('Design #'!C262,Labels!$A:$B,2,FALSE)","v":"Preventing pollution of rivers or streams from sewage pipes"},{"$f":"VLOOKUP('Design #'!D262,Labels!$A:$B,2,FALSE)","v":"Ensuring additional support is available to those who need it e.g.  providing bills in braille, providing bottled water during times of interruptions for thos​e who can't get to a shop (elderly, medical conditions etc.)"},{"$f":"VLOOKUP('Design #'!E262,Labels!$A:$B,2,FALSE)","v":"Preventing interruptions to the supply of water (e.g. planned works, burst pipes, leaks and outages) that cause problems ranging from low pressure to no water"},{"$f":"VLOOKUP('Design #'!F262,Labels!$A:$B,2,FALSE)","v":"Providing a continuous supply of water that is safe to drink"}]
[18,7,{"$f":"VLOOKUP('Design #'!C263,Labels!$A:$B,2,FALSE)","v":"Ensuring that land owned by Yorkshire Water is conserved or enhanced to improve quality of the water it collects and reduce flooding"},{"$f":"VLOOKUP('Design #'!D263,Labels!$A:$B,2,FALSE)","v":"Providing good and constant water pressure"},{"$f":"VLOOKUP('Design #'!E263,Labels!$A:$B,2,FALSE)","v":"Preventing the likelihood of restrictions on water use, including hosepipe bans, in a drought"},{"$f":"VLOOKUP('Design #'!F263,Labels!$A:$B,2,FALSE)","v":"Preventing sewage entering gardens and public spaces from pipe collapses or blockages"}]
[18,8,{"$f":"VLOOKUP('Design #'!C264,Labels!$A:$B,2,FALSE)","v":"Working with other organisations on common challenges (e.g. flooding) to share costs and expertise allowing for more and smarter investment to tackle problems"},{"$f":"VLOOKUP('Design #'!D264,Labels!$A:$B,2,FALSE)","v":"Preventing interruptions to the supply of water (e.g. planned works, burst pipes, leaks and outages) that cause problems ranging from low pressure to no water"},{"$f":"VLOOKUP('Design #'!E264,Labels!$A:$B,2,FALSE)","v":"Reducing the release of untreated sewage mixed with rain water into rivers and streams during times of heavy rainfall"},{"$f":"VLOOKUP('Design #'!F264,Labels!$A:$B,2,FALSE)","v":"Providing financial help and support to those who are struggling to pay their water bill"}]
[18,9,{"$f":"VLOOKUP('Design #'!C265,Labels!$A:$B,2,FALSE)","v":"Providing appropriate sewer capacity and pumping capabilities to cope with widespread flood events"},{"$f":"VLOOKUP('Design #'!D265,Labels!$A:$B,2,FALSE)","v":"Preventing leaks from Yorkshire Water's pipe network"},{"$f":"VLOOKUP('Design #'!E265,Labels!$A:$B,2,FALSE)","v":"Ensuring that land owned by Yorkshire Water is conserved or enhanced to improve quality of the water it collects and reduce flooding"},{"$f":"VLOOKUP('Design #'!F265,Labels!$A:$B,2,FALSE)","v":"Keeping bills affordable for all"}]
[18,10,{"$f":"VLOOKUP('Design #'!C266,Labels!$A:$B,2,FALSE)","v":"Ensuring that land owned by Yorkshire Water is conserved or enhanced to improve quality of the water it collects and reduce flooding"},{"$f":"VLOOKUP('Design #'!D266,Labels!$A:$B,2,FALSE)","v":"Providing a continuous supply of water that is safe to drink"},{"$f":"VLOOKUP('Design #'!E266,Labels!$A:$B,2,FALSE)","v":"Preventing sewage from entering homes and businesses "},{"$f":"VLOOKUP('Design #'!F266,Labels!$A:$B,2,FALSE)","v":"Supporting customers to reduce their water use and prevent blockages through education and provision of free tools/devices"}]
[18,11,{"$f":"VLOOKUP('Design #'!C267,Labels!$A:$B,2,FALSE)","v":"Preventing the likelihood of restrictions on water use, including hosepipe bans, in a drought"},{"$f":"VLOOKUP('Design #'!D267,Labels!$A:$B,2,FALSE)","v":"Keeping bills affordable for all"},{"$f":"VLOOKUP('Design #'!E267,Labels!$A:$B,2,FALSE)","v":"Preventing pollution of rivers or streams from sewage pipes"},{"$f":"VLOOKUP('Design #'!F267,Labels!$A:$B,2,FALSE)","v":"Ensuring additional support is available to those who need it e.g.  providing bills in braille, providing bottled water during times of interruptions for thos​e who can't get to a shop (elderly, medical conditions etc.)"}]
[18,12,{"$f":"VLOOKUP('Design #'!C268,Labels!$A:$B,2,FALSE)","v":"Preventing sewage entering gardens and public spaces from pipe collapses or blockages"},{"$f":"VLOOKUP('Design #'!D268,Labels!$A:$B,2,FALSE)","v":"Providing good and constant water pressure"},{"$f":"VLOOKUP('Design #'!E268,Labels!$A:$B,2,FALSE)","v":"Working with other organisations on common challenges (e.g. flooding) to share costs and expertise allowing for more and smarter investment to tackle problems"},{"$f":"VLOOKUP('Design #'!F268,Labels!$A:$B,2,FALSE)","v":"Preventing the likelihood of restrictions on water use, including hosepipe bans, in a drought"}]
[18,13,{"$f":"VLOOKUP('Design #'!C269,Labels!$A:$B,2,FALSE)","v":"Providing water that is aesthetically pleasing (clear and clean with no odour or unusual taste or colour)"},{"$f":"VLOOKUP('Design #'!D269,Labels!$A:$B,2,FALSE)","v":"Preventing leaks from Yorkshire Water's pipe network"},{"$f":"VLOOKUP('Design #'!E269,Labels!$A:$B,2,FALSE)","v":"Working with other organisations on common challenges (e.g. flooding) to share costs and expertise allowing for more and smarter investment to tackle problems"},{"$f":"VLOOKUP('Design #'!F269,Labels!$A:$B,2,FALSE)","v":"Preventing pollution of rivers or streams from sewage pipes"}]
[18,14,{"$f":"VLOOKUP('Design #'!C270,Labels!$A:$B,2,FALSE)","v":"Working with other organisations on common challenges (e.g. flooding) to share costs and expertise allowing for more and smarter investment to tackle problems"},{"$f":"VLOOKUP('Design #'!D270,Labels!$A:$B,2,FALSE)","v":"Providing a high level of customer service (e.g. resolving queries quickly)"},{"$f":"VLOOKUP('Design #'!E270,Labels!$A:$B,2,FALSE)","v":"Reduce and offset carbon emissions to achieve a 'net zero' position by 2030 "},{"$f":"VLOOKUP('Design #'!F270,Labels!$A:$B,2,FALSE)","v":"Keeping bills affordable for all"}]
[18,15,{"$f":"VLOOKUP('Design #'!C271,Labels!$A:$B,2,FALSE)","v":"Providing financial help and support to those who are struggling to pay their water bill"},{"$f":"VLOOKUP('Design #'!D271,Labels!$A:$B,2,FALSE)","v":"Treating waste water to a high standard to ensure good quality water in Yorkshire's rivers and beaches"},{"$f":"VLOOKUP('Design #'!E271,Labels!$A:$B,2,FALSE)","v":"Providing a high level of customer service (e.g. resolving queries quickly)"},{"$f":"VLOOKUP('Design #'!F271,Labels!$A:$B,2,FALSE)","v":"Ensuring additional support is available to those who need it e.g.  providing bills in braille, providing bottled water during times of interruptions for thos​e who can't get to a shop (elderly, medical conditions etc.)"}]
[19,1,{"$f":"VLOOKUP('Design #'!C272,Labels!$A:$B,2,FALSE)","v":"Providing appropriate sewer capacity and pumping capabilities to cope with widespread flood events"},{"$f":"VLOOKUP('Design #'!D272,Labels!$A:$B,2,FALSE)","v":"Reduce and offset carbon emissions to achieve a 'net zero' position by 2030 "},{"$f":"VLOOKUP('Design #'!E272,Labels!$A:$B,2,FALSE)","v":"Preventing sewage entering gardens and public spaces from pipe collapses or blockages"},{"$f":"VLOOKUP('Design #'!F272,Labels!$A:$B,2,FALSE)","v":"Preventing pollution of rivers or streams from sewage pipes"}]
[19,2,{"$f":"VLOOKUP('Design #'!C273,Labels!$A:$B,2,FALSE)","v":"Supporting customers to reduce their water use and prevent blockages through education and provision of free tools/devices"},{"$f":"VLOOKUP('Design #'!D273,Labels!$A:$B,2,FALSE)","v":"Working with other organisations on common challenges (e.g. flooding) to share costs and expertise allowing for more and smarter investment to tackle problems"},{"$f":"VLOOKUP('Design #'!E273,Labels!$A:$B,2,FALSE)","v":"Ensuring additional support is available to those who need it e.g.  providing bills in braille, providing bottled water during times of interruptions for thos​e who can't get to a shop (elderly, medical conditions etc.)"},{"$f":"VLOOKUP('Design #'!F273,Labels!$A:$B,2,FALSE)","v":"Ensuring that land owned by Yorkshire Water is conserved or enhanced to improve quality of the water it collects and reduce flooding"}]
[19,3,{"$f":"VLOOKUP('Design #'!C274,Labels!$A:$B,2,FALSE)","v":"Treating waste water to a high standard to ensure good quality water in Yorkshire's rivers and beaches"},{"$f":"VLOOKUP('Design #'!D274,Labels!$A:$B,2,FALSE)","v":"Providing appropriate sewer capacity and pumping capabilities to cope with widespread flood events"},{"$f":"VLOOKUP('Design #'!E274,Labels!$A:$B,2,FALSE)","v":"Ensuring additional support is available to those who need it e.g.  providing bills in braille, providing bottled water during times of interruptions for thos​e who can't get to a shop (elderly, medical conditions etc.)"},{"$f":"VLOOKUP('Design #'!F274,Labels!$A:$B,2,FALSE)","v":"Preventing the likelihood of restrictions on water use, including hosepipe bans, in a drought"}]
[19,4,{"$f":"VLOOKUP('Design #'!C275,Labels!$A:$B,2,FALSE)","v":"Providing financial help and support to those who are struggling to pay their water bill"},{"$f":"VLOOKUP('Design #'!D275,Labels!$A:$B,2,FALSE)","v":"Supporting customers to reduce their water use and prevent blockages through education and provision of free tools/devices"},{"$f":"VLOOKUP('Design #'!E275,Labels!$A:$B,2,FALSE)","v":"Providing water that is aesthetically pleasing (clear and clean with no odour or unusual taste or colour)"},{"$f":"VLOOKUP('Design #'!F275,Labels!$A:$B,2,FALSE)","v":"Preventing sewage entering gardens and public spaces from pipe collapses or blockages"}]
[19,5,{"$f":"VLOOKUP('Design #'!C276,Labels!$A:$B,2,FALSE)","v":"Keeping bills affordable for all"},{"$f":"VLOOKUP('Design #'!D276,Labels!$A:$B,2,FALSE)","v":"Providing a continuous supply of water that is safe to drink"},{"$f":"VLOOKUP('Design #'!E276,Labels!$A:$B,2,FALSE)","v":"Working with other organisations on common challenges (e.g. flooding) to share costs and expertise allowing for more and smarter investment to tackle problems"},{"$f":"VLOOKUP('Design #'!F276,Labels!$A:$B,2,FALSE)","v":"Preventing sewage from entering homes and businesses "}]
[19,6,{"$f":"VLOOKUP('Design #'!C277,Labels!$A:$B,2,FALSE)","v":"Treating waste water to a high standard to ensure good quality water in Yorkshire's rivers and beaches"},{"$f":"VLOOKUP('Design #'!D277,Labels!$A:$B,2,FALSE)","v":"Preventing interruptions to the supply of water (e.g. planned works, burst pipes, leaks and outages) that cause problems ranging from low pressure to no water"},{"$f":"VLOOKUP('Design #'!E277,Labels!$A:$B,2,FALSE)","v":"Providing appropriate sewer capacity and pumping capabilities to cope with widespread flood events"},{"$f":"VLOOKUP('Design #'!F277,Labels!$A:$B,2,FALSE)","v":"Providing good and constant water pressure"}]
[19,7,{"$f":"VLOOKUP('Design #'!C278,Labels!$A:$B,2,FALSE)","v":"Providing a continuous supply of water that is safe to drink"},{"$f":"VLOOKUP('Design #'!D278,Labels!$A:$B,2,FALSE)","v":"Reducing the release of untreated sewage mixed with rain water into rivers and streams during times of heavy rainfall"},{"$f":"VLOOKUP('Design #'!E278,Labels!$A:$B,2,FALSE)","v":"Preventing leaks from Yorkshire Water's pipe network"},{"$f":"VLOOKUP('Design #'!F278,Labels!$A:$B,2,FALSE)","v":"Preventing sewage entering gardens and public spaces from pipe collapses or blockages"}]
[19,8,{"$f":"VLOOKUP('Design #'!C279,Labels!$A:$B,2,FALSE)","v":"Preventing sewage from entering homes and businesses "},{"$f":"VLOOKUP('Design #'!D279,Labels!$A:$B,2,FALSE)","v":"Preventing leaks from Yorkshire Water's pipe network"},{"$f":"VLOOKUP('Design #'!E279,Labels!$A:$B,2,FALSE)","v":"Reduce and offset carbon emissions to achieve a 'net zero' position by 2030 "},{"$f":"VLOOKUP('Design #'!F279,Labels!$A:$B,2,FALSE)","v":"Providing a high level of customer service (e.g. resolving queries quickly)"}]
[19,9,{"$f":"VLOOKUP('Design #'!C280,Labels!$A:$B,2,FALSE)","v":"Preventing pollution of rivers or streams from sewage pipes"},{"$f":"VLOOKUP('Design #'!D280,Labels!$A:$B,2,FALSE)","v":"Providing financial help and support to those who are struggling to pay their water bill"},{"$f":"VLOOKUP('Design #'!E280,Labels!$A:$B,2,FALSE)","v":"Providing good and constant water pressure"},{"$f":"VLOOKUP('Design #'!F280,Labels!$A:$B,2,FALSE)","v":"Ensuring that land owned by Yorkshire Water is conserved or enhanced to improve quality of the water it collects and reduce flooding"}]
[19,10,{"$f":"VLOOKUP('Design #'!C281,Labels!$A:$B,2,FALSE)","v":"Ensuring additional support is available to those who need it e.g.  providing bills in braille, providing bottled water during times of interruptions for thos​e who can't get to a shop (elderly, medical conditions etc.)"},{"$f":"VLOOKUP('Design #'!D281,Labels!$A:$B,2,FALSE)","v":"Providing good and constant water pressure"},{"$f":"VLOOKUP('Design #'!E281,Labels!$A:$B,2,FALSE)","v":"Reduce and offset carbon emissions to achieve a 'net zero' position by 2030 "},{"$f":"VLOOKUP('Design #'!F281,Labels!$A:$B,2,FALSE)","v":"Providing a continuous supply of water that is safe to drink"}]
[19,11,{"$f":"VLOOKUP('Design #'!C282,Labels!$A:$B,2,FALSE)","v":"Preventing interruptions to the supply of water (e.g. planned works, burst pipes, leaks and outages) that cause problems ranging from low pressure to no water"},{"$f":"VLOOKUP('Design #'!D282,Labels!$A:$B,2,FALSE)","v":"Providing water that is aesthetically pleasing (clear and clean with no odour or unusual taste or colour)"},{"$f":"VLOOKUP('Design #'!E282,Labels!$A:$B,2,FALSE)","v":"Providing a high level of customer service (e.g. resolving queries quickly)"},{"$f":"VLOOKUP('Design #'!F282,Labels!$A:$B,2,FALSE)","v":"Reduce and offset carbon emissions to achieve a 'net zero' position by 2030 "}]
[19,12,{"$f":"VLOOKUP('Design #'!C283,Labels!$A:$B,2,FALSE)","v":"Preventing sewage from entering homes and businesses "},{"$f":"VLOOKUP('Design #'!D283,Labels!$A:$B,2,FALSE)","v":"Providing financial help and support to those who are struggling to pay their water bill"},{"$f":"VLOOKUP('Design #'!E283,Labels!$A:$B,2,FALSE)","v":"Preventing the likelihood of restrictions on water use, including hosepipe bans, in a drought"},{"$f":"VLOOKUP('Design #'!F283,Labels!$A:$B,2,FALSE)","v":"Providing water that is aesthetically pleasing (clear and clean with no odour or unusual taste or colour)"}]
[19,13,{"$f":"VLOOKUP('Design #'!C284,Labels!$A:$B,2,FALSE)","v":"Reducing the release of untreated sewage mixed with rain water into rivers and streams during times of heavy rainfall"},{"$f":"VLOOKUP('Design #'!D284,Labels!$A:$B,2,FALSE)","v":"Treating waste water to a high standard to ensure good quality water in Yorkshire's rivers and beaches"},{"$f":"VLOOKUP('Design #'!E284,Labels!$A:$B,2,FALSE)","v":"Ensuring that land owned by Yorkshire Water is conserved or enhanced to improve quality of the water it collects and reduce flooding"},{"$f":"VLOOKUP('Design #'!F284,Labels!$A:$B,2,FALSE)","v":"Working with other organisations on common challenges (e.g. flooding) to share costs and expertise allowing for more and smarter investment to tackle problems"}]
[19,14,{"$f":"VLOOKUP('Design #'!C285,Labels!$A:$B,2,FALSE)","v":"Preventing the likelihood of restrictions on water use, including hosepipe bans, in a drought"},{"$f":"VLOOKUP('Design #'!D285,Labels!$A:$B,2,FALSE)","v":"Preventing pollution of rivers or streams from sewage pipes"},{"$f":"VLOOKUP('Design #'!E285,Labels!$A:$B,2,FALSE)","v":"Keeping bills affordable for all"},{"$f":"VLOOKUP('Design #'!F285,Labels!$A:$B,2,FALSE)","v":"Reducing the release of untreated sewage mixed with rain water into rivers and streams during times of heavy rainfall"}]
[19,15,{"$f":"VLOOKUP('Design #'!C286,Labels!$A:$B,2,FALSE)","v":"Preventing leaks from Yorkshire Water's pipe network"},{"$f":"VLOOKUP('Design #'!D286,Labels!$A:$B,2,FALSE)","v":"Keeping bills affordable for all"},{"$f":"VLOOKUP('Design #'!E286,Labels!$A:$B,2,FALSE)","v":"Supporting customers to reduce their water use and prevent blockages through education and provision of free tools/devices"},{"$f":"VLOOKUP('Design #'!F286,Labels!$A:$B,2,FALSE)","v":"Preventing interruptions to the supply of water (e.g. planned works, burst pipes, leaks and outages) that cause problems ranging from low pressure to no water"}]
[20,1,{"$f":"VLOOKUP('Design #'!C287,Labels!$A:$B,2,FALSE)","v":"Providing water that is aesthetically pleasing (clear and clean with no odour or unusual taste or colour)"},{"$f":"VLOOKUP('Design #'!D287,Labels!$A:$B,2,FALSE)","v":"Providing appropriate sewer capacity and pumping capabilities to cope with widespread flood events"},{"$f":"VLOOKUP('Design #'!E287,Labels!$A:$B,2,FALSE)","v":"Preventing sewage entering gardens and public spaces from pipe collapses or blockages"},{"$f":"VLOOKUP('Design #'!F287,Labels!$A:$B,2,FALSE)","v":"Providing a high level of customer service (e.g. resolving queries quickly)"}]
[20,2,{"$f":"VLOOKUP('Design #'!C288,Labels!$A:$B,2,FALSE)","v":"Providing good and constant water pressure"},{"$f":"VLOOKUP('Design #'!D288,Labels!$A:$B,2,FALSE)","v":"Reducing the release of untreated sewage mixed with rain water into rivers and streams during times of heavy rainfall"},{"$f":"VLOOKUP('Design #'!E288,Labels!$A:$B,2,FALSE)","v":"Treating waste water to a high standard to ensure good quality water in Yorkshire's rivers and beaches"},{"$f":"VLOOKUP('Design #'!F288,Labels!$A:$B,2,FALSE)","v":"Ensuring that land owned by Yorkshire Water is conserved or enhanced to improve quality of the water it collects and reduce flooding"}]
[20,3,{"$f":"VLOOKUP('Design #'!C289,Labels!$A:$B,2,FALSE)","v":"Preventing sewage from entering homes and businesses "},{"$f":"VLOOKUP('Design #'!D289,Labels!$A:$B,2,FALSE)","v":"Ensuring additional support is available to those who need it e.g.  providing bills in braille, providing bottled water during times of interruptions for thos​e who can't get to a shop (elderly, medical conditions etc.)"},{"$f":"VLOOKUP('Design #'!E289,Labels!$A:$B,2,FALSE)","v":"Keeping bills affordable for all"},{"$f":"VLOOKUP('Design #'!F289,Labels!$A:$B,2,FALSE)","v":"Providing financial help and support to those who are struggling to pay their water bill"}]
[20,4,{"$f":"VLOOKUP('Design #'!C290,Labels!$A:$B,2,FALSE)","v":"Reduce and offset carbon emissions to achieve a 'net zero' position by 2030 "},{"$f":"VLOOKUP('Design #'!D290,Labels!$A:$B,2,FALSE)","v":"Supporting customers to reduce their water use and prevent blockages through education and provision of free tools/devices"},{"$f":"VLOOKUP('Design #'!E290,Labels!$A:$B,2,FALSE)","v":"Providing a continuous supply of water that is safe to drink"},{"$f":"VLOOKUP('Design #'!F290,Labels!$A:$B,2,FALSE)","v":"Providing water that is aesthetically pleasing (clear and clean with no odour or unusual taste or colour)"}]
[20,5,{"$f":"VLOOKUP('Design #'!C291,Labels!$A:$B,2,FALSE)","v":"Providing water that is aesthetically pleasing (clear and clean with no odour or unusual taste or colour)"},{"$f":"VLOOKUP('Design #'!D291,Labels!$A:$B,2,FALSE)","v":"Preventing sewage from entering homes and businesses "},{"$f":"VLOOKUP('Design #'!E291,Labels!$A:$B,2,FALSE)","v":"Treating waste water to a high standard to ensure good quality water in Yorkshire's rivers and beaches"},{"$f":"VLOOKUP('Design #'!F291,Labels!$A:$B,2,FALSE)","v":"Providing a continuous supply of water that is safe to drink"}]
[20,6,{"$f":"VLOOKUP('Design #'!C292,Labels!$A:$B,2,FALSE)","v":"Ensuring that land owned by Yorkshire Water is conserved or enhanced to improve quality of the water it collects and reduce flooding"},{"$f":"VLOOKUP('Design #'!D292,Labels!$A:$B,2,FALSE)","v":"Providing a continuous supply of water that is safe to drink"},{"$f":"VLOOKUP('Design #'!E292,Labels!$A:$B,2,FALSE)","v":"Providing financial help and support to those who are struggling to pay their water bill"},{"$f":"VLOOKUP('Design #'!F292,Labels!$A:$B,2,FALSE)","v":"Preventing leaks from Yorkshire Water's pipe network"}]
[20,7,{"$f":"VLOOKUP('Design #'!C293,Labels!$A:$B,2,FALSE)","v":"Preventing interruptions to the supply of water (e.g. planned works, burst pipes, leaks and outages) that cause problems ranging from low pressure to no water"},{"$f":"VLOOKUP('Design #'!D293,Labels!$A:$B,2,FALSE)","v":"Preventing the likelihood of restrictions on water use, including hosepipe bans, in a drought"},{"$f":"VLOOKUP('Design #'!E293,Labels!$A:$B,2,FALSE)","v":"Providing appropriate sewer capacity and pumping capabilities to cope with widespread flood events"},{"$f":"VLOOKUP('Design #'!F293,Labels!$A:$B,2,FALSE)","v":"Working with other organisations on common challenges (e.g. flooding) to share costs and expertise allowing for more and smarter investment to tackle problems"}]
[20,8,{"$f":"VLOOKUP('Design #'!C294,Labels!$A:$B,2,FALSE)","v":"Reduce and offset carbon emissions to achieve a 'net zero' position by 2030 "},{"$f":"VLOOKUP('Design #'!D294,Labels!$A:$B,2,FALSE)","v":"Keeping bills affordable for all"},{"$f":"VLOOKUP('Design #'!E294,Labels!$A:$B,2,FALSE)","v":"Reducing the release of untreated sewage mixed with rain water into rivers and streams during times of heavy rainfall"},{"$f":"VLOOKUP('Design #'!F294,Labels!$A:$B,2,FALSE)","v":"Providing appropriate sewer capacity and pumping capabilities to cope with widespread flood events"}]
[20,9,{"$f":"VLOOKUP('Design #'!C295,Labels!$A:$B,2,FALSE)","v":"Providing a high level of customer service (e.g. resolving queries quickly)"},{"$f":"VLOOKUP('Design #'!D295,Labels!$A:$B,2,FALSE)","v":"Ensuring that land owned by Yorkshire Water is conserved or enhanced to improve quality of the water it collects and reduce flooding"},{"$f":"VLOOKUP('Design #'!E295,Labels!$A:$B,2,FALSE)","v":"Preventing interruptions to the supply of water (e.g. planned works, burst pipes, leaks and outages) that cause problems ranging from low pressure to no water"},{"$f":"VLOOKUP('Design #'!F295,Labels!$A:$B,2,FALSE)","v":"Preventing the likelihood of restrictions on water use, including hosepipe bans, in a drought"}]
[20,10,{"$f":"VLOOKUP('Design #'!C296,Labels!$A:$B,2,FALSE)","v":"Working with other organisations on common challenges (e.g. flooding) to share costs and expertise allowing for more and smarter investment to tackle problems"},{"$f":"VLOOKUP('Design #'!D296,Labels!$A:$B,2,FALSE)","v":"Preventing the likelihood of restrictions on water use, including hosepipe bans, in a drought"},{"$f":"VLOOKUP('Design #'!E296,Labels!$A:$B,2,FALSE)","v":"Preventing pollution of rivers or streams from sewage pipes"},{"$f":"VLOOKUP('Design #'!F296,Labels!$A:$B,2,FALSE)","v":"Ensuring additional support is available to those who need it e.g.  providing bills in braille, providing bottled water during times of interruptions for thos​e who can't get to a shop (elderly, medical conditions etc.)"}]
[20,11,{"$f":"VLOOKUP('Design #'!C297,Labels!$A:$B,2,FALSE)","v":"Keeping bills affordable for all"},{"$f":"VLOOKUP('Design #'!D297,Labels!$A:$B,2,FALSE)","v":"Reduce and offset carbon emissions to achieve a 'net zero' position by 2030 "},{"$f":"VLOOKUP('Design #'!E297,Labels!$A:$B,2,FALSE)","v":"Providing good and constant water pressure"},{"$f":"VLOOKUP('Design #'!F297,Labels!$A:$B,2,FALSE)","v":"Providing financial help and support to those who are struggling to pay their water bill"}]
[20,12,{"$f":"VLOOKUP('Design #'!C298,Labels!$A:$B,2,FALSE)","v":"Preventing pollution of rivers or streams from sewage pipes"},{"$f":"VLOOKUP('Design #'!D298,Labels!$A:$B,2,FALSE)","v":"Preventing sewage entering gardens and public spaces from pipe collapses or blockages"},{"$f":"VLOOKUP('Design #'!E298,Labels!$A:$B,2,FALSE)","v":"Preventing leaks from Yorkshire Water's pipe network"},{"$f":"VLOOKUP('Design #'!F298,Labels!$A:$B,2,FALSE)","v":"Providing a high level of customer service (e.g. resolving queries quickly)"}]
[20,13,{"$f":"VLOOKUP('Design #'!C299,Labels!$A:$B,2,FALSE)","v":"Treating waste water to a high standard to ensure good quality water in Yorkshire's rivers and beaches"},{"$f":"VLOOKUP('Design #'!D299,Labels!$A:$B,2,FALSE)","v":"Working with other organisations on common challenges (e.g. flooding) to share costs and expertise allowing for more and smarter investment to tackle problems"},{"$f":"VLOOKUP('Design #'!E299,Labels!$A:$B,2,FALSE)","v":"Preventing pollution of rivers or streams from sewage pipes"},{"$f":"VLOOKUP('Design #'!F299,Labels!$A:$B,2,FALSE)","v":"Providing good and constant water pressure"}]
[20,14,{"$f":"VLOOKUP('Design #'!C300,Labels!$A:$B,2,FALSE)","v":"Preventing leaks from Yorkshire Water's pipe network"},{"$f":"VLOOKUP('Design #'!D300,Labels!$A:$B,2,FALSE)","v":"Ensuring additional support is available to those who need it e.g.  providing bills in braille, providing bottled water during times of interruptions for thos​e who can't get to a shop (elderly, medical conditions etc.)"},{"$f":"VLOOKUP('Design #'!E300,Labels!$A:$B,2,FALSE)","v":"Supporting customers to reduce their water use and prevent blockages through education and provision of free tools/devices"},{"$f":"VLOOKUP('Design #'!F300,Labels!$A:$B,2,FALSE)","v":"Reducing the release of untreated sewage mixed with rain water into rivers and streams during times of heavy rainfall"}]
[20,15,{"$f":"VLOOKUP('Design #'!C301,Labels!$A:$B,2,FALSE)","v":"Supporting customers to reduce their water use and prevent blockages through education and provision of free tools/devices"},{"$f":"VLOOKUP('Design #'!D301,Labels!$A:$B,2,FALSE)","v":"Preventing sewage entering gardens and public spaces from pipe collapses or blockages"},{"$f":"VLOOKUP('Design #'!E301,Labels!$A:$B,2,FALSE)","v":"Preventing sewage from entering homes and businesses "},{"$f":"VLOOKUP('Design #'!F301,Labels!$A:$B,2,FALSE)","v":"Preventing interruptions to the supply of water (e.g. planned works, burst pipes, leaks and outages) that cause problems ranging from low pressure to no water"}]
[21,1,{"$f":"VLOOKUP('Design #'!C302,Labels!$A:$B,2,FALSE)","v":"Ensuring additional support is available to those who need it e.g.  providing bills in braille, providing bottled water during times of interruptions for thos​e who can't get to a shop (elderly, medical conditions etc.)"},{"$f":"VLOOKUP('Design #'!D302,Labels!$A:$B,2,FALSE)","v":"Providing a high level of customer service (e.g. resolving queries quickly)"},{"$f":"VLOOKUP('Design #'!E302,Labels!$A:$B,2,FALSE)","v":"Ensuring that land owned by Yorkshire Water is conserved or enhanced to improve quality of the water it collects and reduce flooding"},{"$f":"VLOOKUP('Design #'!F302,Labels!$A:$B,2,FALSE)","v":"Reduce and offset carbon emissions to achieve a 'net zero' position by 2030 "}]
[21,2,{"$f":"VLOOKUP('Design #'!C303,Labels!$A:$B,2,FALSE)","v":"Preventing sewage entering gardens and public spaces from pipe collapses or blockages"},{"$f":"VLOOKUP('Design #'!D303,Labels!$A:$B,2,FALSE)","v":"Providing good and constant water pressure"},{"$f":"VLOOKUP('Design #'!E303,Labels!$A:$B,2,FALSE)","v":"Ensuring additional support is available to those who need it e.g.  providing bills in braille, providing bottled water during times of interruptions for thos​e who can't get to a shop (elderly, medical conditions etc.)"},{"$f":"VLOOKUP('Design #'!F303,Labels!$A:$B,2,FALSE)","v":"Reducing the release of untreated sewage mixed with rain water into rivers and streams during times of heavy rainfall"}]
[21,3,{"$f":"VLOOKUP('Design #'!C304,Labels!$A:$B,2,FALSE)","v":"Reduce and offset carbon emissions to achieve a 'net zero' position by 2030 "},{"$f":"VLOOKUP('Design #'!D304,Labels!$A:$B,2,FALSE)","v":"Providing water that is aesthetically pleasing (clear and clean with no odour or unusual taste or colour)"},{"$f":"VLOOKUP('Design #'!E304,Labels!$A:$B,2,FALSE)","v":"Preventing the likelihood of restrictions on water use, including hosepipe bans, in a drought"},{"$f":"VLOOKUP('Design #'!F304,Labels!$A:$B,2,FALSE)","v":"Preventing leaks from Yorkshire Water's pipe network"}]
[21,4,{"$f":"VLOOKUP('Design #'!C305,Labels!$A:$B,2,FALSE)","v":"Providing a continuous supply of water that is safe to drink"},{"$f":"VLOOKUP('Design #'!D305,Labels!$A:$B,2,FALSE)","v":"Providing appropriate sewer capacity and pumping capabilities to cope with widespread flood events"},{"$f":"VLOOKUP('Design #'!E305,Labels!$A:$B,2,FALSE)","v":"Ensuring additional support is available to those who need it e.g.  providing bills in braille, providing bottled water during times of interruptions for thos​e who can't get to a shop (elderly, medical conditions etc.)"},{"$f":"VLOOKUP('Design #'!F305,Labels!$A:$B,2,FALSE)","v":"Treating waste water to a high standard to ensure good quality water in Yorkshire's rivers and beaches"}]
[21,5,{"$f":"VLOOKUP('Design #'!C306,Labels!$A:$B,2,FALSE)","v":"Ensuring additional support is available to those who need it e.g.  providing bills in braille, providing bottled water during times of interruptions for thos​e who can't get to a shop (elderly, medical conditions etc.)"},{"$f":"VLOOKUP('Design #'!D306,Labels!$A:$B,2,FALSE)","v":"Reducing the release of untreated sewage mixed with rain water into rivers and streams during times of heavy rainfall"},{"$f":"VLOOKUP('Design #'!E306,Labels!$A:$B,2,FALSE)","v":"Providing water that is aesthetically pleasing (clear and clean with no odour or unusual taste or colour)"},{"$f":"VLOOKUP('Design #'!F306,Labels!$A:$B,2,FALSE)","v":"Preventing interruptions to the supply of water (e.g. planned works, burst pipes, leaks and outages) that cause problems ranging from low pressure to no water"}]
[21,6,{"$f":"VLOOKUP('Design #'!C307,Labels!$A:$B,2,FALSE)","v":"Preventing interruptions to the supply of water (e.g. planned works, burst pipes, leaks and outages) that cause problems ranging from low pressure to no water"},{"$f":"VLOOKUP('Design #'!D307,Labels!$A:$B,2,FALSE)","v":"Treating waste water to a high standard to ensure good quality water in Yorkshire's rivers and beaches"},{"$f":"VLOOKUP('Design #'!E307,Labels!$A:$B,2,FALSE)","v":"Preventing leaks from Yorkshire Water's pipe network"},{"$f":"VLOOKUP('Design #'!F307,Labels!$A:$B,2,FALSE)","v":"Keeping bills affordable for all"}]
[21,7,{"$f":"VLOOKUP('Design #'!C308,Labels!$A:$B,2,FALSE)","v":"Keeping bills affordable for all"},{"$f":"VLOOKUP('Design #'!D308,Labels!$A:$B,2,FALSE)","v":"Providing a high level of customer service (e.g. resolving queries quickly)"},{"$f":"VLOOKUP('Design #'!E308,Labels!$A:$B,2,FALSE)","v":"Supporting customers to reduce their water use and prevent blockages through education and provision of free tools/devices"},{"$f":"VLOOKUP('Design #'!F308,Labels!$A:$B,2,FALSE)","v":"Working with other organisations on common challenges (e.g. flooding) to share costs and expertise allowing for more and smarter investment to tackle problems"}]
[21,8,{"$f":"VLOOKUP('Design #'!C309,Labels!$A:$B,2,FALSE)","v":"Working with other organisations on common challenges (e.g. flooding) to share costs and expertise allowing for more and smarter investment to tackle problems"},{"$f":"VLOOKUP('Design #'!D309,Labels!$A:$B,2,FALSE)","v":"Providing water that is aesthetically pleasing (clear and clean with no odour or unusual taste or colour)"},{"$f":"VLOOKUP('Design #'!E309,Labels!$A:$B,2,FALSE)","v":"Preventing sewage entering gardens and public spaces from pipe collapses or blockages"},{"$f":"VLOOKUP('Design #'!F309,Labels!$A:$B,2,FALSE)","v":"Providing financial help and support to those who are struggling to pay their water bill"}]
[21,9,{"$f":"VLOOKUP('Design #'!C310,Labels!$A:$B,2,FALSE)","v":"Providing appropriate sewer capacity and pumping capabilities to cope with widespread flood events"},{"$f":"VLOOKUP('Design #'!D310,Labels!$A:$B,2,FALSE)","v":"Ensuring that land owned by Yorkshire Water is conserved or enhanced to improve quality of the water it collects and reduce flooding"},{"$f":"VLOOKUP('Design #'!E310,Labels!$A:$B,2,FALSE)","v":"Keeping bills affordable for all"},{"$f":"VLOOKUP('Design #'!F310,Labels!$A:$B,2,FALSE)","v":"Preventing sewage entering gardens and public spaces from pipe collapses or blockages"}]
[21,10,{"$f":"VLOOKUP('Design #'!C311,Labels!$A:$B,2,FALSE)","v":"Providing appropriate sewer capacity and pumping capabilities to cope with widespread flood events"},{"$f":"VLOOKUP('Design #'!D311,Labels!$A:$B,2,FALSE)","v":"Preventing pollution of rivers or streams from sewage pipes"},{"$f":"VLOOKUP('Design #'!E311,Labels!$A:$B,2,FALSE)","v":"Providing financial help and support to those who are struggling to pay their water bill"},{"$f":"VLOOKUP('Design #'!F311,Labels!$A:$B,2,FALSE)","v":"Preventing sewage from entering homes and businesses "}]
[21,11,{"$f":"VLOOKUP('Design #'!C312,Labels!$A:$B,2,FALSE)","v":"Providing a continuous supply of water that is safe to drink"},{"$f":"VLOOKUP('Design #'!D312,Labels!$A:$B,2,FALSE)","v":"Providing financial help and support to those who are struggling to pay their water bill"},{"$f":"VLOOKUP('Design #'!E312,Labels!$A:$B,2,FALSE)","v":"Providing a high level of customer service (e.g. resolving queries quickly)"},{"$f":"VLOOKUP('Design #'!F312,Labels!$A:$B,2,FALSE)","v":"Preventing the likelihood of restrictions on water use, including hosepipe bans, in a drought"}]
[21,12,{"$f":"VLOOKUP('Design #'!C313,Labels!$A:$B,2,FALSE)","v":"Supporting customers to reduce their water use and prevent blockages through education and provision of free tools/devices"},{"$f":"VLOOKUP('Design #'!D313,Labels!$A:$B,2,FALSE)","v":"Preventing pollution of rivers or streams from sewage pipes"},{"$f":"VLOOKUP('Design #'!E313,Labels!$A:$B,2,FALSE)","v":"Reduce and offset carbon emissions to achieve a 'net zero' position by 2030 "},{"$f":"VLOOKUP('Design #'!F313,Labels!$A:$B,2,FALSE)","v":"Treating waste water to a high standard to ensure good quality water in Yorkshire's rivers and beaches"}]
[21,13,{"$f":"VLOOKUP('Design #'!C314,Labels!$A:$B,2,FALSE)","v":"Preventing pollution of rivers or streams from sewage pipes"},{"$f":"VLOOKUP('Design #'!D314,Labels!$A:$B,2,FALSE)","v":"Preventing sewage from entering homes and businesses "},{"$f":"VLOOKUP('Design #'!E314,Labels!$A:$B,2,FALSE)","v":"Reducing the release of untreated sewage mixed with rain water into rivers and streams during times of heavy rainfall"},{"$f":"VLOOKUP('Design #'!F314,Labels!$A:$B,2,FALSE)","v":"Providing a continuous supply of water that is safe to drink"}]
[21,14,{"$f":"VLOOKUP('Design #'!C315,Labels!$A:$B,2,FALSE)","v":"Preventing leaks from Yorkshire Water's pipe network"},{"$f":"VLOOKUP('Design #'!D315,Labels!$A:$B,2,FALSE)","v":"Working with other organisations on common challenges (e.g. flooding) to share costs and expertise allowing for more and smarter investment to tackle problems"},{"$f":"VLOOKUP('Design #'!E315,Labels!$A:$B,2,FALSE)","v":"Preventing sewage from entering homes and businesses "},{"$f":"VLOOKUP('Design #'!F315,Labels!$A:$B,2,FALSE)","v":"Providing good and constant water pressure"}]
[21,15,{"$f":"VLOOKUP('Design #'!C316,Labels!$A:$B,2,FALSE)","v":"Providing good and constant water pressure"},{"$f":"VLOOKUP('Design #'!D316,Labels!$A:$B,2,FALSE)","v":"Supporting customers to reduce their water use and prevent blockages through education and provision of free tools/devices"},{"$f":"VLOOKUP('Design #'!E316,Labels!$A:$B,2,FALSE)","v":"Providing appropriate sewer capacity and pumping capabilities to cope with widespread flood events"},{"$f":"VLOOKUP('Design #'!F316,Labels!$A:$B,2,FALSE)","v":"Preventing the likelihood of restrictions on water use, including hosepipe bans, in a drought"}]
[22,1,{"$f":"VLOOKUP('Design #'!C317,Labels!$A:$B,2,FALSE)","v":"Preventing pollution of rivers or streams from sewage pipes"},{"$f":"VLOOKUP('Design #'!D317,Labels!$A:$B,2,FALSE)","v":"Preventing the likelihood of restrictions on water use, including hosepipe bans, in a drought"},{"$f":"VLOOKUP('Design #'!E317,Labels!$A:$B,2,FALSE)","v":"Preventing interruptions to the supply of water (e.g. planned works, burst pipes, leaks and outages) that cause problems ranging from low pressure to no water"},{"$f":"VLOOKUP('Design #'!F317,Labels!$A:$B,2,FALSE)","v":"Ensuring additional support is available to those who need it e.g.  providing bills in braille, providing bottled water during times of interruptions for thos​e who can't get to a shop (elderly, medical conditions etc.)"}]
[22,2,{"$f":"VLOOKUP('Design #'!C318,Labels!$A:$B,2,FALSE)","v":"Providing a high level of customer service (e.g. resolving queries quickly)"},{"$f":"VLOOKUP('Design #'!D318,Labels!$A:$B,2,FALSE)","v":"Preventing leaks from Yorkshire Water's pipe network"},{"$f":"VLOOKUP('Design #'!E318,Labels!$A:$B,2,FALSE)","v":"Reducing the release of untreated sewage mixed with rain water into rivers and streams during times of heavy rainfall"},{"$f":"VLOOKUP('Design #'!F318,Labels!$A:$B,2,FALSE)","v":"Providing appropriate sewer capacity and pumping capabilities to cope with widespread flood events"}]
[22,3,{"$f":"VLOOKUP('Design #'!C319,Labels!$A:$B,2,FALSE)","v":"Providing a continuous supply of water that is safe to drink"},{"$f":"VLOOKUP('Design #'!D319,Labels!$A:$B,2,FALSE)","v":"Supporting customers to reduce their water use and prevent blockages through education and provision of free tools/devices"},{"$f":"VLOOKUP('Design #'!E319,Labels!$A:$B,2,FALSE)","v":"Working with other organisations on common challenges (e.g. flooding) to share costs and expertise allowing for more and smarter investment to tackle problems"},{"$f":"VLOOKUP('Design #'!F319,Labels!$A:$B,2,FALSE)","v":"Preventing pollution of rivers or streams from sewage pipes"}]
[22,4,{"$f":"VLOOKUP('Design #'!C320,Labels!$A:$B,2,FALSE)","v":"Reducing the release of untreated sewage mixed with rain water into rivers and streams during times of heavy rainfall"},{"$f":"VLOOKUP('Design #'!D320,Labels!$A:$B,2,FALSE)","v":"Providing financial help and support to those who are struggling to pay their water bill"},{"$f":"VLOOKUP('Design #'!E320,Labels!$A:$B,2,FALSE)","v":"Treating waste water to a high standard to ensure good quality water in Yorkshire's rivers and beaches"},{"$f":"VLOOKUP('Design #'!F320,Labels!$A:$B,2,FALSE)","v":"Providing a high level of customer service (e.g. resolving queries quickly)"}]
[22,5,{"$f":"VLOOKUP('Design #'!C321,Labels!$A:$B,2,FALSE)","v":"Preventing the likelihood of restrictions on water use, including hosepipe bans, in a drought"},{"$f":"VLOOKUP('Design #'!D321,Labels!$A:$B,2,FALSE)","v":"Preventing sewage from entering homes and businesses "},{"$f":"VLOOKUP('Design #'!E321,Labels!$A:$B,2,FALSE)","v":"Ensuring that land owned by Yorkshire Water is conserved or enhanced to improve quality of the water it collects and reduce flooding"},{"$f":"VLOOKUP('Design #'!F321,Labels!$A:$B,2,FALSE)","v":"Supporting customers to reduce their water use and prevent blockages through education and provision of free tools/devices"}]
[22,6,{"$f":"VLOOKUP('Design #'!C322,Labels!$A:$B,2,FALSE)","v":"Preventing sewage entering gardens and public spaces from pipe collapses or blockages"},{"$f":"VLOOKUP('Design #'!D322,Labels!$A:$B,2,FALSE)","v":"Reduce and offset carbon emissions to achieve a 'net zero' position by 2030 "},{"$f":"VLOOKUP('Design #'!E322,Labels!$A:$B,2,FALSE)","v":"Treating waste water to a high standard to ensure good quality water in Yorkshire's rivers and beaches"},{"$f":"VLOOKUP('Design #'!F322,Labels!$A:$B,2,FALSE)","v":"Preventing sewage from entering homes and businesses "}]
[22,7,{"$f":"VLOOKUP('Design #'!C323,Labels!$A:$B,2,FALSE)","v":"Providing a high level of customer service (e.g. resolving queries quickly)"},{"$f":"VLOOKUP('Design #'!D323,Labels!$A:$B,2,FALSE)","v":"Keeping bills affordable for all"},{"$f":"VLOOKUP('Design #'!E323,Labels!$A:$B,2,FALSE)","v":"Preventing the likelihood of restrictions on water use, including hosepipe bans, in a drought"},{"$f":"VLOOKUP('Design #'!F323,Labels!$A:$B,2,FALSE)","v":"Providing good and constant water pressure"}]
[22,8,{"$f":"VLOOKUP('Design #'!C324,Labels!$A:$B,2,FALSE)","v":"Providing financial help and support to those who are struggling to pay their water bill"},{"$f":"VLOOKUP('Design #'!D324,Labels!$A:$B,2,FALSE)","v":"Keeping bills affordable for all"},{"$f":"VLOOKUP('Design #'!E324,Labels!$A:$B,2,FALSE)","v":"Providing good and constant water pressure"},{"$f":"VLOOKUP('Design #'!F324,Labels!$A:$B,2,FALSE)","v":"Providing water that is aesthetically pleasing (clear and clean with no odour or unusual taste or colour)"}]
[22,9,{"$f":"VLOOKUP('Design #'!C325,Labels!$A:$B,2,FALSE)","v":"Providing financial help and support to those who are struggling to pay their water bill"},{"$f":"VLOOKUP('Design #'!D325,Labels!$A:$B,2,FALSE)","v":"Preventing interruptions to the supply of water (e.g. planned works, burst pipes, leaks and outages) that cause problems ranging from low pressure to no water"},{"$f":"VLOOKUP('Design #'!E325,Labels!$A:$B,2,FALSE)","v":"Reduce and offset carbon emissions to achieve a 'net zero' position by 2030 "},{"$f":"VLOOKUP('Design #'!F325,Labels!$A:$B,2,FALSE)","v":"Preventing sewage entering gardens and public spaces from pipe collapses or blockages"}]
[22,10,{"$f":"VLOOKUP('Design #'!C326,Labels!$A:$B,2,FALSE)","v":"Ensuring that land owned by Yorkshire Water is conserved or enhanced to improve quality of the water it collects and reduce flooding"},{"$f":"VLOOKUP('Design #'!D326,Labels!$A:$B,2,FALSE)","v":"Ensuring additional support is available to those who need it e.g.  providing bills in braille, providing bottled water during times of interruptions for thos​e who can't get to a shop (elderly, medical conditions etc.)"},{"$f":"VLOOKUP('Design #'!E326,Labels!$A:$B,2,FALSE)","v":"Preventing leaks from Yorkshire Water's pipe network"},{"$f":"VLOOKUP('Design #'!F326,Labels!$A:$B,2,FALSE)","v":"Working with other organisations on common challenges (e.g. flooding) to share costs and expertise allowing for more and smarter investment to tackle problems"}]
[22,11,{"$f":"VLOOKUP('Design #'!C327,Labels!$A:$B,2,FALSE)","v":"Preventing leaks from Yorkshire Water's pipe network"},{"$f":"VLOOKUP('Design #'!D327,Labels!$A:$B,2,FALSE)","v":"Providing appropriate sewer capacity and pumping capabilities to cope with widespread flood events"},{"$f":"VLOOKUP('Design #'!E327,Labels!$A:$B,2,FALSE)","v":"Keeping bills affordable for all"},{"$f":"VLOOKUP('Design #'!F327,Labels!$A:$B,2,FALSE)","v":"Providing water that is aesthetically pleasing (clear and clean with no odour or unusual taste or colour)"}]
[22,12,{"$f":"VLOOKUP('Design #'!C328,Labels!$A:$B,2,FALSE)","v":"Providing good and constant water pressure"},{"$f":"VLOOKUP('Design #'!D328,Labels!$A:$B,2,FALSE)","v":"Working with other organisations on common challenges (e.g. flooding) to share costs and expertise allowing for more and smarter investment to tackle problems"},{"$f":"VLOOKUP('Design #'!E328,Labels!$A:$B,2,FALSE)","v":"Providing a continuous supply of water that is safe to drink"},{"$f":"VLOOKUP('Design #'!F328,Labels!$A:$B,2,FALSE)","v":"Reduce and offset carbon emissions to achieve a 'net zero' position by 2030 "}]
[22,13,{"$f":"VLOOKUP('Design #'!C329,Labels!$A:$B,2,FALSE)","v":"Providing water that is aesthetically pleasing (clear and clean with no odour or unusual taste or colour)"},{"$f":"VLOOKUP('Design #'!D329,Labels!$A:$B,2,FALSE)","v":"Preventing pollution of rivers or streams from sewage pipes"},{"$f":"VLOOKUP('Design #'!E329,Labels!$A:$B,2,FALSE)","v":"Ensuring that land owned by Yorkshire Water is conserved or enhanced to improve quality of the water it collects and reduce flooding"},{"$f":"VLOOKUP('Design #'!F329,Labels!$A:$B,2,FALSE)","v":"Preventing interruptions to the supply of water (e.g. planned works, burst pipes, leaks and outages) that cause problems ranging from low pressure to no water"}]
[22,14,{"$f":"VLOOKUP('Design #'!C330,Labels!$A:$B,2,FALSE)","v":"Treating waste water to a high standard to ensure good quality water in Yorkshire's rivers and beaches"},{"$f":"VLOOKUP('Design #'!D330,Labels!$A:$B,2,FALSE)","v":"Preventing sewage entering gardens and public spaces from pipe collapses or blockages"},{"$f":"VLOOKUP('Design #'!E330,Labels!$A:$B,2,FALSE)","v":"Preventing the likelihood of restrictions on water use, including hosepipe bans, in a drought"},{"$f":"VLOOKUP('Design #'!F330,Labels!$A:$B,2,FALSE)","v":"Ensuring that land owned by Yorkshire Water is conserved or enhanced to improve quality of the water it collects and reduce flooding"}]
[22,15,{"$f":"VLOOKUP('Design #'!C331,Labels!$A:$B,2,FALSE)","v":"Supporting customers to reduce their water use and prevent blockages through education and provision of free tools/devices"},{"$f":"VLOOKUP('Design #'!D331,Labels!$A:$B,2,FALSE)","v":"Preventing interruptions to the supply of water (e.g. planned works, burst pipes, leaks and outages) that cause problems ranging from low pressure to no water"},{"$f":"VLOOKUP('Design #'!E331,Labels!$A:$B,2,FALSE)","v":"Providing a continuous supply of water that is safe to drink"},{"$f":"VLOOKUP('Design #'!F331,Labels!$A:$B,2,FALSE)","v":"Reducing the release of untreated sewage mixed with rain water into rivers and streams during times of heavy rainfall"}]
[23,1,{"$f":"VLOOKUP('Design #'!C332,Labels!$A:$B,2,FALSE)","v":"Ensuring additional support is available to those who need it e.g.  providing bills in braille, providing bottled water during times of interruptions for thos​e who can't get to a shop (elderly, medical conditions etc.)"},{"$f":"VLOOKUP('Design #'!D332,Labels!$A:$B,2,FALSE)","v":"Reducing the release of untreated sewage mixed with rain water into rivers and streams during times of heavy rainfall"},{"$f":"VLOOKUP('Design #'!E332,Labels!$A:$B,2,FALSE)","v":"Supporting customers to reduce their water use and prevent blockages through education and provision of free tools/devices"},{"$f":"VLOOKUP('Design #'!F332,Labels!$A:$B,2,FALSE)","v":"Providing financial help and support to those who are struggling to pay their water bill"}]
[23,2,{"$f":"VLOOKUP('Design #'!C333,Labels!$A:$B,2,FALSE)","v":"Preventing the likelihood of restrictions on water use, including hosepipe bans, in a drought"},{"$f":"VLOOKUP('Design #'!D333,Labels!$A:$B,2,FALSE)","v":"Providing water that is aesthetically pleasing (clear and clean with no odour or unusual taste or colour)"},{"$f":"VLOOKUP('Design #'!E333,Labels!$A:$B,2,FALSE)","v":"Treating waste water to a high standard to ensure good quality water in Yorkshire's rivers and beaches"},{"$f":"VLOOKUP('Design #'!F333,Labels!$A:$B,2,FALSE)","v":"Providing a continuous supply of water that is safe to drink"}]
[23,3,{"$f":"VLOOKUP('Design #'!C334,Labels!$A:$B,2,FALSE)","v":"Reduce and offset carbon emissions to achieve a 'net zero' position by 2030 "},{"$f":"VLOOKUP('Design #'!D334,Labels!$A:$B,2,FALSE)","v":"Ensuring that land owned by Yorkshire Water is conserved or enhanced to improve quality of the water it collects and reduce flooding"},{"$f":"VLOOKUP('Design #'!E334,Labels!$A:$B,2,FALSE)","v":"Preventing interruptions to the supply of water (e.g. planned works, burst pipes, leaks and outages) that cause problems ranging from low pressure to no water"},{"$f":"VLOOKUP('Design #'!F334,Labels!$A:$B,2,FALSE)","v":"Providing appropriate sewer capacity and pumping capabilities to cope with widespread flood events"}]
[23,4,{"$f":"VLOOKUP('Design #'!C335,Labels!$A:$B,2,FALSE)","v":"Preventing interruptions to the supply of water (e.g. planned works, burst pipes, leaks and outages) that cause problems ranging from low pressure to no water"},{"$f":"VLOOKUP('Design #'!D335,Labels!$A:$B,2,FALSE)","v":"Treating waste water to a high standard to ensure good quality water in Yorkshire's rivers and beaches"},{"$f":"VLOOKUP('Design #'!E335,Labels!$A:$B,2,FALSE)","v":"Working with other organisations on common challenges (e.g. flooding) to share costs and expertise allowing for more and smarter investment to tackle problems"},{"$f":"VLOOKUP('Design #'!F335,Labels!$A:$B,2,FALSE)","v":"Providing financial help and support to those who are struggling to pay their water bill"}]
[23,5,{"$f":"VLOOKUP('Design #'!C336,Labels!$A:$B,2,FALSE)","v":"Preventing sewage entering gardens and public spaces from pipe collapses or blockages"},{"$f":"VLOOKUP('Design #'!D336,Labels!$A:$B,2,FALSE)","v":"Providing a continuous supply of water that is safe to drink"},{"$f":"VLOOKUP('Design #'!E336,Labels!$A:$B,2,FALSE)","v":"Providing good and constant water pressure"},{"$f":"VLOOKUP('Design #'!F336,Labels!$A:$B,2,FALSE)","v":"Providing a high level of customer service (e.g. resolving queries quickly)"}]
[23,6,{"$f":"VLOOKUP('Design #'!C337,Labels!$A:$B,2,FALSE)","v":"Ensuring additional support is available to those who need it e.g.  providing bills in braille, providing bottled water during times of interruptions for thos​e who can't get to a shop (elderly, medical conditions etc.)"},{"$f":"VLOOKUP('Design #'!D337,Labels!$A:$B,2,FALSE)","v":"Preventing leaks from Yorkshire Water's pipe network"},{"$f":"VLOOKUP('Design #'!E337,Labels!$A:$B,2,FALSE)","v":"Preventing sewage entering gardens and public spaces from pipe collapses or blockages"},{"$f":"VLOOKUP('Design #'!F337,Labels!$A:$B,2,FALSE)","v":"Supporting customers to reduce their water use and prevent blockages through education and provision of free tools/devices"}]
[23,7,{"$f":"VLOOKUP('Design #'!C338,Labels!$A:$B,2,FALSE)","v":"Reducing the release of untreated sewage mixed with rain water into rivers and streams during times of heavy rainfall"},{"$f":"VLOOKUP('Design #'!D338,Labels!$A:$B,2,FALSE)","v":"Providing good and constant water pressure"},{"$f":"VLOOKUP('Design #'!E338,Labels!$A:$B,2,FALSE)","v":"Preventing pollution of rivers or streams from sewage pipes"},{"$f":"VLOOKUP('Design #'!F338,Labels!$A:$B,2,FALSE)","v":"Providing water that is aesthetically pleasing (clear and clean with no odour or unusual taste or colour)"}]
[23,8,{"$f":"VLOOKUP('Design #'!C339,Labels!$A:$B,2,FALSE)","v":"Working with other organisations on common challenges (e.g. flooding) to share costs and expertise allowing for more and smarter investment to tackle problems"},{"$f":"VLOOKUP('Design #'!D339,Labels!$A:$B,2,FALSE)","v":"Providing a high level of customer service (e.g. resolving queries quickly)"},{"$f":"VLOOKUP('Design #'!E339,Labels!$A:$B,2,FALSE)","v":"Ensuring that land owned by Yorkshire Water is conserved or enhanced to improve quality of the water it collects and reduce flooding"},{"$f":"VLOOKUP('Design #'!F339,Labels!$A:$B,2,FALSE)","v":"Keeping bills affordable for all"}]
[23,9,{"$f":"VLOOKUP('Design #'!C340,Labels!$A:$B,2,FALSE)","v":"Reduce and offset carbon emissions to achieve a 'net zero' position by 2030 "},{"$f":"VLOOKUP('Design #'!D340,Labels!$A:$B,2,FALSE)","v":"Preventing the likelihood of restrictions on water use, including hosepipe bans, in a drought"},{"$f":"VLOOKUP('Design #'!E340,Labels!$A:$B,2,FALSE)","v":"Working with other organisations on common challenges (e.g. flooding) to share costs and expertise allowing for more and smarter investment to tackle problems"},{"$f":"VLOOKUP('Design #'!F340,Labels!$A:$B,2,FALSE)","v":"Reducing the release of untreated sewage mixed with rain water into rivers and streams during times of heavy rainfall"}]
[23,10,{"$f":"VLOOKUP('Design #'!C341,Labels!$A:$B,2,FALSE)","v":"Preventing sewage from entering homes and businesses "},{"$f":"VLOOKUP('Design #'!D341,Labels!$A:$B,2,FALSE)","v":"Providing good and constant water pressure"},{"$f":"VLOOKUP('Design #'!E341,Labels!$A:$B,2,FALSE)","v":"Providing appropriate sewer capacity and pumping capabilities to cope with widespread flood events"},{"$f":"VLOOKUP('Design #'!F341,Labels!$A:$B,2,FALSE)","v":"Supporting customers to reduce their water use and prevent blockages through education and provision of free tools/devices"}]
[23,11,{"$f":"VLOOKUP('Design #'!C342,Labels!$A:$B,2,FALSE)","v":"Ensuring that land owned by Yorkshire Water is conserved or enhanced to improve quality of the water it collects and reduce flooding"},{"$f":"VLOOKUP('Design #'!D342,Labels!$A:$B,2,FALSE)","v":"Providing appropriate sewer capacity and pumping capabilities to cope with widespread flood events"},{"$f":"VLOOKUP('Design #'!E342,Labels!$A:$B,2,FALSE)","v":"Providing water that is aesthetically pleasing (clear and clean with no odour or unusual taste or colour)"},{"$f":"VLOOKUP('Design #'!F342,Labels!$A:$B,2,FALSE)","v":"Preventing pollution of rivers or streams from sewage pipes"}]
[23,12,{"$f":"VLOOKUP('Design #'!C343,Labels!$A:$B,2,FALSE)","v":"Preventing sewage from entering homes and businesses "},{"$f":"VLOOKUP('Design #'!D343,Labels!$A:$B,2,FALSE)","v":"Preventing leaks from Yorkshire Water's pipe network"},{"$f":"VLOOKUP('Design #'!E343,Labels!$A:$B,2,FALSE)","v":"Providing a high level of customer service (e.g. resolving queries quickly)"},{"$f":"VLOOKUP('Design #'!F343,Labels!$A:$B,2,FALSE)","v":"Treating waste water to a high standard to ensure good quality water in Yorkshire's rivers and beaches"}]
[23,13,{"$f":"VLOOKUP('Design #'!C344,Labels!$A:$B,2,FALSE)","v":"Providing water that is aesthetically pleasing (clear and clean with no odour or unusual taste or colour)"},{"$f":"VLOOKUP('Design #'!D344,Labels!$A:$B,2,FALSE)","v":"Providing a continuous supply of water that is safe to drink"},{"$f":"VLOOKUP('Design #'!E344,Labels!$A:$B,2,FALSE)","v":"Preventing sewage from entering homes and businesses "},{"$f":"VLOOKUP('Design #'!F344,Labels!$A:$B,2,FALSE)","v":"Ensuring additional support is available to those who need it e.g.  providing bills in braille, providing bottled water during times of interruptions for thos​e who can't get to a shop (elderly, medical conditions etc.)"}]
[23,14,{"$f":"VLOOKUP('Design #'!C345,Labels!$A:$B,2,FALSE)","v":"Keeping bills affordable for all"},{"$f":"VLOOKUP('Design #'!D345,Labels!$A:$B,2,FALSE)","v":"Reduce and offset carbon emissions to achieve a 'net zero' position by 2030 "},{"$f":"VLOOKUP('Design #'!E345,Labels!$A:$B,2,FALSE)","v":"Preventing interruptions to the supply of water (e.g. planned works, burst pipes, leaks and outages) that cause problems ranging from low pressure to no water"},{"$f":"VLOOKUP('Design #'!F345,Labels!$A:$B,2,FALSE)","v":"Preventing sewage from entering homes and businesses "}]
[23,15,{"$f":"VLOOKUP('Design #'!C346,Labels!$A:$B,2,FALSE)","v":"Preventing sewage entering gardens and public spaces from pipe collapses or blockages"},{"$f":"VLOOKUP('Design #'!D346,Labels!$A:$B,2,FALSE)","v":"Keeping bills affordable for all"},{"$f":"VLOOKUP('Design #'!E346,Labels!$A:$B,2,FALSE)","v":"Preventing pollution of rivers or streams from sewage pipes"},{"$f":"VLOOKUP('Design #'!F346,Labels!$A:$B,2,FALSE)","v":"Preventing leaks from Yorkshire Water's pipe network"}]
[24,1,{"$f":"VLOOKUP('Design #'!C347,Labels!$A:$B,2,FALSE)","v":"Preventing interruptions to the supply of water (e.g. planned works, burst pipes, leaks and outages) that cause problems ranging from low pressure to no water"},{"$f":"VLOOKUP('Design #'!D347,Labels!$A:$B,2,FALSE)","v":"Ensuring additional support is available to those who need it e.g.  providing bills in braille, providing bottled water during times of interruptions for thos​e who can't get to a shop (elderly, medical conditions etc.)"},{"$f":"VLOOKUP('Design #'!E347,Labels!$A:$B,2,FALSE)","v":"Providing good and constant water pressure"},{"$f":"VLOOKUP('Design #'!F347,Labels!$A:$B,2,FALSE)","v":"Reduce and offset carbon emissions to achieve a 'net zero' position by 2030 "}]
[24,2,{"$f":"VLOOKUP('Design #'!C348,Labels!$A:$B,2,FALSE)","v":"Providing a high level of customer service (e.g. resolving queries quickly)"},{"$f":"VLOOKUP('Design #'!D348,Labels!$A:$B,2,FALSE)","v":"Preventing interruptions to the supply of water (e.g. planned works, burst pipes, leaks and outages) that cause problems ranging from low pressure to no water"},{"$f":"VLOOKUP('Design #'!E348,Labels!$A:$B,2,FALSE)","v":"Preventing sewage entering gardens and public spaces from pipe collapses or blockages"},{"$f":"VLOOKUP('Design #'!F348,Labels!$A:$B,2,FALSE)","v":"Reducing the release of untreated sewage mixed with rain water into rivers and streams during times of heavy rainfall"}]
[24,3,{"$f":"VLOOKUP('Design #'!C349,Labels!$A:$B,2,FALSE)","v":"Providing appropriate sewer capacity and pumping capabilities to cope with widespread flood events"},{"$f":"VLOOKUP('Design #'!D349,Labels!$A:$B,2,FALSE)","v":"Providing a continuous supply of water that is safe to drink"},{"$f":"VLOOKUP('Design #'!E349,Labels!$A:$B,2,FALSE)","v":"Keeping bills affordable for all"},{"$f":"VLOOKUP('Design #'!F349,Labels!$A:$B,2,FALSE)","v":"Ensuring additional support is available to those who need it e.g.  providing bills in braille, providing bottled water during times of interruptions for thos​e who can't get to a shop (elderly, medical conditions etc.)"}]
[24,4,{"$f":"VLOOKUP('Design #'!C350,Labels!$A:$B,2,FALSE)","v":"Providing good and constant water pressure"},{"$f":"VLOOKUP('Design #'!D350,Labels!$A:$B,2,FALSE)","v":"Preventing leaks from Yorkshire Water's pipe network"},{"$f":"VLOOKUP('Design #'!E350,Labels!$A:$B,2,FALSE)","v":"Providing appropriate sewer capacity and pumping capabilities to cope with widespread flood events"},{"$f":"VLOOKUP('Design #'!F350,Labels!$A:$B,2,FALSE)","v":"Preventing interruptions to the supply of water (e.g. planned works, burst pipes, leaks and outages) that cause problems ranging from low pressure to no water"}]
[24,5,{"$f":"VLOOKUP('Design #'!C351,Labels!$A:$B,2,FALSE)","v":"Preventing the likelihood of restrictions on water use, including hosepipe bans, in a drought"},{"$f":"VLOOKUP('Design #'!D351,Labels!$A:$B,2,FALSE)","v":"Providing a high level of customer service (e.g. resolving queries quickly)"},{"$f":"VLOOKUP('Design #'!E351,Labels!$A:$B,2,FALSE)","v":"Ensuring additional support is available to those who need it e.g.  providing bills in braille, providing bottled water during times of interruptions for thos​e who can't get to a shop (elderly, medical conditions etc.)"},{"$f":"VLOOKUP('Design #'!F351,Labels!$A:$B,2,FALSE)","v":"Preventing sewage entering gardens and public spaces from pipe collapses or blockages"}]
[24,6,{"$f":"VLOOKUP('Design #'!C352,Labels!$A:$B,2,FALSE)","v":"Working with other organisations on common challenges (e.g. flooding) to share costs and expertise allowing for more and smarter investment to tackle problems"},{"$f":"VLOOKUP('Design #'!D352,Labels!$A:$B,2,FALSE)","v":"Preventing the likelihood of restrictions on water use, including hosepipe bans, in a drought"},{"$f":"VLOOKUP('Design #'!E352,Labels!$A:$B,2,FALSE)","v":"Preventing sewage from entering homes and businesses "},{"$f":"VLOOKUP('Design #'!F352,Labels!$A:$B,2,FALSE)","v":"Providing water that is aesthetically pleasing (clear and clean with no odour or unusual taste or colour)"}]
[24,7,{"$f":"VLOOKUP('Design #'!C353,Labels!$A:$B,2,FALSE)","v":"Preventing leaks from Yorkshire Water's pipe network"},{"$f":"VLOOKUP('Design #'!D353,Labels!$A:$B,2,FALSE)","v":"Preventing pollution of rivers or streams from sewage pipes"},{"$f":"VLOOKUP('Design #'!E353,Labels!$A:$B,2,FALSE)","v":"Reduce and offset carbon emissions to achieve a 'net zero' position by 2030 "},{"$f":"VLOOKUP('Design #'!F353,Labels!$A:$B,2,FALSE)","v":"Providing good and constant water pressure"}]
[24,8,{"$f":"VLOOKUP('Design #'!C354,Labels!$A:$B,2,FALSE)","v":"Treating waste water to a high standard to ensure good quality water in Yorkshire's rivers and beaches"},{"$f":"VLOOKUP('Design #'!D354,Labels!$A:$B,2,FALSE)","v":"Supporting customers to reduce their water use and prevent blockages through education and provision of free tools/devices"},{"$f":"VLOOKUP('Design #'!E354,Labels!$A:$B,2,FALSE)","v":"Providing a high level of customer service (e.g. resolving queries quickly)"},{"$f":"VLOOKUP('Design #'!F354,Labels!$A:$B,2,FALSE)","v":"Preventing pollution of rivers or streams from sewage pipes"}]
[24,9,{"$f":"VLOOKUP('Design #'!C355,Labels!$A:$B,2,FALSE)","v":"Preventing pollution of rivers or streams from sewage pipes"},{"$f":"VLOOKUP('Design #'!D355,Labels!$A:$B,2,FALSE)","v":"Ensuring that land owned by Yorkshire Water is conserved or enhanced to improve quality of the water it collects and reduce flooding"},{"$f":"VLOOKUP('Design #'!E355,Labels!$A:$B,2,FALSE)","v":"Providing financial help and support to those who are struggling to pay their water bill"},{"$f":"VLOOKUP('Design #'!F355,Labels!$A:$B,2,FALSE)","v":"Supporting customers to reduce their water use and prevent blockages through education and provision of free tools/devices"}]
[24,10,{"$f":"VLOOKUP('Design #'!C356,Labels!$A:$B,2,FALSE)","v":"Working with other organisations on common challenges (e.g. flooding) to share costs and expertise allowing for more and smarter investment to tackle problems"},{"$f":"VLOOKUP('Design #'!D356,Labels!$A:$B,2,FALSE)","v":"Providing financial help and support to those who are struggling to pay their water bill"},{"$f":"VLOOKUP('Design #'!E356,Labels!$A:$B,2,FALSE)","v":"Preventing sewage entering gardens and public spaces from pipe collapses or blockages"},{"$f":"VLOOKUP('Design #'!F356,Labels!$A:$B,2,FALSE)","v":"Providing appropriate sewer capacity and pumping capabilities to cope with widespread flood events"}]
[24,11,{"$f":"VLOOKUP('Design #'!C357,Labels!$A:$B,2,FALSE)","v":"Reducing the release of untreated sewage mixed with rain water into rivers and streams during times of heavy rainfall"},{"$f":"VLOOKUP('Design #'!D357,Labels!$A:$B,2,FALSE)","v":"Preventing sewage from entering homes and businesses "},{"$f":"VLOOKUP('Design #'!E357,Labels!$A:$B,2,FALSE)","v":"Ensuring that land owned by Yorkshire Water is conserved or enhanced to improve quality of the water it collects and reduce flooding"},{"$f":"VLOOKUP('Design #'!F357,Labels!$A:$B,2,FALSE)","v":"Keeping bills affordable for all"}]
[24,12,{"$f":"VLOOKUP('Design #'!C358,Labels!$A:$B,2,FALSE)","v":"Providing a continuous supply of water that is safe to drink"},{"$f":"VLOOKUP('Design #'!D358,Labels!$A:$B,2,FALSE)","v":"Providing financial help and support to those who are struggling to pay their water bill"},{"$f":"VLOOKUP('Design #'!E358,Labels!$A:$B,2,FALSE)","v":"Preventing leaks from Yorkshire Water's pipe network"},{"$f":"VLOOKUP('Design #'!F358,Labels!$A:$B,2,FALSE)","v":"Preventing the likelihood of restrictions on water use, including hosepipe bans, in a drought"}]
[24,13,{"$f":"VLOOKUP('Design #'!C359,Labels!$A:$B,2,FALSE)","v":"Supporting customers to reduce their water use and prevent blockages through education and provision of free tools/devices"},{"$f":"VLOOKUP('Design #'!D359,Labels!$A:$B,2,FALSE)","v":"Providing water that is aesthetically pleasing (clear and clean with no odour or unusual taste or colour)"},{"$f":"VLOOKUP('Design #'!E359,Labels!$A:$B,2,FALSE)","v":"Keeping bills affordable for all"},{"$f":"VLOOKUP('Design #'!F359,Labels!$A:$B,2,FALSE)","v":"Treating waste water to a high standard to ensure good quality water in Yorkshire's rivers and beaches"}]
[24,14,{"$f":"VLOOKUP('Design #'!C360,Labels!$A:$B,2,FALSE)","v":"Preventing sewage from entering homes and businesses "},{"$f":"VLOOKUP('Design #'!D360,Labels!$A:$B,2,FALSE)","v":"Reducing the release of untreated sewage mixed with rain water into rivers and streams during times of heavy rainfall"},{"$f":"VLOOKUP('Design #'!E360,Labels!$A:$B,2,FALSE)","v":"Treating waste water to a high standard to ensure good quality water in Yorkshire's rivers and beaches"},{"$f":"VLOOKUP('Design #'!F360,Labels!$A:$B,2,FALSE)","v":"Working with other organisations on common challenges (e.g. flooding) to share costs and expertise allowing for more and smarter investment to tackle problems"}]
[24,15,{"$f":"VLOOKUP('Design #'!C361,Labels!$A:$B,2,FALSE)","v":"Ensuring that land owned by Yorkshire Water is conserved or enhanced to improve quality of the water it collects and reduce flooding"},{"$f":"VLOOKUP('Design #'!D361,Labels!$A:$B,2,FALSE)","v":"Reduce and offset carbon emissions to achieve a 'net zero' position by 2030 "},{"$f":"VLOOKUP('Design #'!E361,Labels!$A:$B,2,FALSE)","v":"Providing a continuous supply of water that is safe to drink"},{"$f":"VLOOKUP('Design #'!F361,Labels!$A:$B,2,FALSE)","v":"Providing financial help and support to those who are struggling to pay their water bill"}]
[25,1,{"$f":"VLOOKUP('Design #'!C362,Labels!$A:$B,2,FALSE)","v":"Preventing the likelihood of restrictions on water use, including hosepipe bans, in a drought"},{"$f":"VLOOKUP('Design #'!D362,Labels!$A:$B,2,FALSE)","v":"Preventing sewage entering gardens and public spaces from pipe collapses or blockages"},{"$f":"VLOOKUP('Design #'!E362,Labels!$A:$B,2,FALSE)","v":"Reducing the release of untreated sewage mixed with rain water into rivers and streams during times of heavy rainfall"},{"$f":"VLOOKUP('Design #'!F362,Labels!$A:$B,2,FALSE)","v":"Reduce and offset carbon emissions to achieve a 'net zero' position by 2030 "}]
[25,2,{"$f":"VLOOKUP('Design #'!C363,Labels!$A:$B,2,FALSE)","v":"Preventing interruptions to the supply of water (e.g. planned works, burst pipes, leaks and outages) that cause problems ranging from low pressure to no water"},{"$f":"VLOOKUP('Design #'!D363,Labels!$A:$B,2,FALSE)","v":"Preventing sewage from entering homes and businesses "},{"$f":"VLOOKUP('Design #'!E363,Labels!$A:$B,2,FALSE)","v":"Providing financial help and support to those who are struggling to pay their water bill"},{"$f":"VLOOKUP('Design #'!F363,Labels!$A:$B,2,FALSE)","v":"Preventing leaks from Yorkshire Water's pipe network"}]
[25,3,{"$f":"VLOOKUP('Design #'!C364,Labels!$A:$B,2,FALSE)","v":"Preventing sewage entering gardens and public spaces from pipe collapses or blockages"},{"$f":"VLOOKUP('Design #'!D364,Labels!$A:$B,2,FALSE)","v":"Providing good and constant water pressure"},{"$f":"VLOOKUP('Design #'!E364,Labels!$A:$B,2,FALSE)","v":"Supporting customers to reduce their water use and prevent blockages through education and provision of free tools/devices"},{"$f":"VLOOKUP('Design #'!F364,Labels!$A:$B,2,FALSE)","v":"Ensuring that land owned by Yorkshire Water is conserved or enhanced to improve quality of the water it collects and reduce flooding"}]
[25,4,{"$f":"VLOOKUP('Design #'!C365,Labels!$A:$B,2,FALSE)","v":"Providing financial help and support to those who are struggling to pay their water bill"},{"$f":"VLOOKUP('Design #'!D365,Labels!$A:$B,2,FALSE)","v":"Providing a high level of customer service (e.g. resolving queries quickly)"},{"$f":"VLOOKUP('Design #'!E365,Labels!$A:$B,2,FALSE)","v":"Providing appropriate sewer capacity and pumping capabilities to cope with widespread flood events"},{"$f":"VLOOKUP('Design #'!F365,Labels!$A:$B,2,FALSE)","v":"Preventing pollution of rivers or streams from sewage pipes"}]
[25,5,{"$f":"VLOOKUP('Design #'!C366,Labels!$A:$B,2,FALSE)","v":"Providing appropriate sewer capacity and pumping capabilities to cope with widespread flood events"},{"$f":"VLOOKUP('Design #'!D366,Labels!$A:$B,2,FALSE)","v":"Working with other organisations on common challenges (e.g. flooding) to share costs and expertise allowing for more and smarter investment to tackle problems"},{"$f":"VLOOKUP('Design #'!E366,Labels!$A:$B,2,FALSE)","v":"Ensuring additional support is available to those who need it e.g.  providing bills in braille, providing bottled water during times of interruptions for thos​e who can't get to a shop (elderly, medical conditions etc.)"},{"$f":"VLOOKUP('Design #'!F366,Labels!$A:$B,2,FALSE)","v":"Providing a continuous supply of water that is safe to drink"}]
[25,6,{"$f":"VLOOKUP('Design #'!C367,Labels!$A:$B,2,FALSE)","v":"Supporting customers to reduce their water use and prevent blockages through education and provision of free tools/devices"},{"$f":"VLOOKUP('Design #'!D367,Labels!$A:$B,2,FALSE)","v":"Preventing interruptions to the supply of water (e.g. planned works, burst pipes, leaks and outages) that cause problems ranging from low pressure to no water"},{"$f":"VLOOKUP('Design #'!E367,Labels!$A:$B,2,FALSE)","v":"Preventing the likelihood of restrictions on water use, including hosepipe bans, in a drought"},{"$f":"VLOOKUP('Design #'!F367,Labels!$A:$B,2,FALSE)","v":"Preventing leaks from Yorkshire Water's pipe network"}]
[25,7,{"$f":"VLOOKUP('Design #'!C368,Labels!$A:$B,2,FALSE)","v":"Reducing the release of untreated sewage mixed with rain water into rivers and streams during times of heavy rainfall"},{"$f":"VLOOKUP('Design #'!D368,Labels!$A:$B,2,FALSE)","v":"Ensuring that land owned by Yorkshire Water is conserved or enhanced to improve quality of the water it collects and reduce flooding"},{"$f":"VLOOKUP('Design #'!E368,Labels!$A:$B,2,FALSE)","v":"Providing water that is aesthetically pleasing (clear and clean with no odour or unusual taste or colour)"},{"$f":"VLOOKUP('Design #'!F368,Labels!$A:$B,2,FALSE)","v":"Providing a continuous supply of water that is safe to drink"}]
[25,8,{"$f":"VLOOKUP('Design #'!C369,Labels!$A:$B,2,FALSE)","v":"Keeping bills affordable for all"},{"$f":"VLOOKUP('Design #'!D369,Labels!$A:$B,2,FALSE)","v":"Working with other organisations on common challenges (e.g. flooding) to share costs and expertise allowing for more and smarter investment to tackle problems"},{"$f":"VLOOKUP('Design #'!E369,Labels!$A:$B,2,FALSE)","v":"Providing good and constant water pressure"},{"$f":"VLOOKUP('Design #'!F369,Labels!$A:$B,2,FALSE)","v":"Preventing sewage entering gardens and public spaces from pipe collapses or blockages"}]
[25,9,{"$f":"VLOOKUP('Design #'!C370,Labels!$A:$B,2,FALSE)","v":"Ensuring additional support is available to those who need it e.g.  providing bills in braille, providing bottled water during times of interruptions for thos​e who can't get to a shop (elderly, medical conditions etc.)"},{"$f":"VLOOKUP('Design #'!D370,Labels!$A:$B,2,FALSE)","v":"Treating waste water to a high standard to ensure good quality water in Yorkshire's rivers and beaches"},{"$f":"VLOOKUP('Design #'!E370,Labels!$A:$B,2,FALSE)","v":"Reduce and offset carbon emissions to achieve a 'net zero' position by 2030 "},{"$f":"VLOOKUP('Design #'!F370,Labels!$A:$B,2,FALSE)","v":"Preventing sewage from entering homes and businesses "}]
[25,10,{"$f":"VLOOKUP('Design #'!C371,Labels!$A:$B,2,FALSE)","v":"Providing financial help and support to those who are struggling to pay their water bill"},{"$f":"VLOOKUP('Design #'!D371,Labels!$A:$B,2,FALSE)","v":"Preventing the likelihood of restrictions on water use, including hosepipe bans, in a drought"},{"$f":"VLOOKUP('Design #'!E371,Labels!$A:$B,2,FALSE)","v":"Reducing the release of untreated sewage mixed with rain water into rivers and streams during times of heavy rainfall"},{"$f":"VLOOKUP('Design #'!F371,Labels!$A:$B,2,FALSE)","v":"Keeping bills affordable for all"}]
[25,11,{"$f":"VLOOKUP('Design #'!C372,Labels!$A:$B,2,FALSE)","v":"Preventing pollution of rivers or streams from sewage pipes"},{"$f":"VLOOKUP('Design #'!D372,Labels!$A:$B,2,FALSE)","v":"Treating waste water to a high standard to ensure good quality water in Yorkshire's rivers and beaches"},{"$f":"VLOOKUP('Design #'!E372,Labels!$A:$B,2,FALSE)","v":"Keeping bills affordable for all"},{"$f":"VLOOKUP('Design #'!F372,Labels!$A:$B,2,FALSE)","v":"Ensuring that land owned by Yorkshire Water is conserved or enhanced to improve quality of the water it collects and reduce flooding"}]
[25,12,{"$f":"VLOOKUP('Design #'!C373,Labels!$A:$B,2,FALSE)","v":"Preventing leaks from Yorkshire Water's pipe network"},{"$f":"VLOOKUP('Design #'!D373,Labels!$A:$B,2,FALSE)","v":"Reduce and offset carbon emissions to achieve a 'net zero' position by 2030 "},{"$f":"VLOOKUP('Design #'!E373,Labels!$A:$B,2,FALSE)","v":"Working with other organisations on common challenges (e.g. flooding) to share costs and expertise allowing for more and smarter investment to tackle problems"},{"$f":"VLOOKUP('Design #'!F373,Labels!$A:$B,2,FALSE)","v":"Providing water that is aesthetically pleasing (clear and clean with no odour or unusual taste or colour)"}]
[25,13,{"$f":"VLOOKUP('Design #'!C374,Labels!$A:$B,2,FALSE)","v":"Providing a continuous supply of water that is safe to drink"},{"$f":"VLOOKUP('Design #'!D374,Labels!$A:$B,2,FALSE)","v":"Preventing pollution of rivers or streams from sewage pipes"},{"$f":"VLOOKUP('Design #'!E374,Labels!$A:$B,2,FALSE)","v":"Preventing interruptions to the supply of water (e.g. planned works, burst pipes, leaks and outages) that cause problems ranging from low pressure to no water"},{"$f":"VLOOKUP('Design #'!F374,Labels!$A:$B,2,FALSE)","v":"Treating waste water to a high standard to ensure good quality water in Yorkshire's rivers and beaches"}]
[25,14,{"$f":"VLOOKUP('Design #'!C375,Labels!$A:$B,2,FALSE)","v":"Providing water that is aesthetically pleasing (clear and clean with no odour or unusual taste or colour)"},{"$f":"VLOOKUP('Design #'!D375,Labels!$A:$B,2,FALSE)","v":"Providing a high level of customer service (e.g. resolving queries quickly)"},{"$f":"VLOOKUP('Design #'!E375,Labels!$A:$B,2,FALSE)","v":"Supporting customers to reduce their water use and prevent blockages through education and provision of free tools/devices"},{"$f":"VLOOKUP('Design #'!F375,Labels!$A:$B,2,FALSE)","v":"Providing good and constant water pressure"}]
[25,15,{"$f":"VLOOKUP('Design #'!C376,Labels!$A:$B,2,FALSE)","v":"Providing a high level of customer service (e.g. resolving queries quickly)"},{"$f":"VLOOKUP('Design #'!D376,Labels!$A:$B,2,FALSE)","v":"Ensuring that land owned by Yorkshire Water is conserved or enhanced to improve quality of the water it collects and reduce flooding"},{"$f":"VLOOKUP('Design #'!E376,Labels!$A:$B,2,FALSE)","v":"Preventing sewage from entering homes and businesses "},{"$f":"VLOOKUP('Design #'!F376,Labels!$A:$B,2,FALSE)","v":"Ensuring additional support is available to those who need it e.g.  providing bills in braille, providing bottled water during times of interruptions for thos​e who can't get to a shop (elderly, medical conditions etc.)"}]
[26,1,{"$f":"VLOOKUP('Design #'!C377,Labels!$A:$B,2,FALSE)","v":"Providing good and constant water pressure"},{"$f":"VLOOKUP('Design #'!D377,Labels!$A:$B,2,FALSE)","v":"Providing water that is aesthetically pleasing (clear and clean with no odour or unusual taste or colour)"},{"$f":"VLOOKUP('Design #'!E377,Labels!$A:$B,2,FALSE)","v":"Providing financial help and support to those who are struggling to pay their water bill"},{"$f":"VLOOKUP('Design #'!F377,Labels!$A:$B,2,FALSE)","v":"Preventing sewage from entering homes and businesses "}]
[26,2,{"$f":"VLOOKUP('Design #'!C378,Labels!$A:$B,2,FALSE)","v":"Reduce and offset carbon emissions to achieve a 'net zero' position by 2030 "},{"$f":"VLOOKUP('Design #'!D378,Labels!$A:$B,2,FALSE)","v":"Supporting customers to reduce their water use and prevent blockages through education and provision of free tools/devices"},{"$f":"VLOOKUP('Design #'!E378,Labels!$A:$B,2,FALSE)","v":"Providing a high level of customer service (e.g. resolving queries quickly)"},{"$f":"VLOOKUP('Design #'!F378,Labels!$A:$B,2,FALSE)","v":"Providing appropriate sewer capacity and pumping capabilities to cope with widespread flood events"}]
[26,3,{"$f":"VLOOKUP('Design #'!C379,Labels!$A:$B,2,FALSE)","v":"Preventing sewage from entering homes and businesses "},{"$f":"VLOOKUP('Design #'!D379,Labels!$A:$B,2,FALSE)","v":"Providing appropriate sewer capacity and pumping capabilities to cope with widespread flood events"},{"$f":"VLOOKUP('Design #'!E379,Labels!$A:$B,2,FALSE)","v":"Preventing pollution of rivers or streams from sewage pipes"},{"$f":"VLOOKUP('Design #'!F379,Labels!$A:$B,2,FALSE)","v":"Preventing the likelihood of restrictions on water use, including hosepipe bans, in a drought"}]
[26,4,{"$f":"VLOOKUP('Design #'!C380,Labels!$A:$B,2,FALSE)","v":"Preventing sewage entering gardens and public spaces from pipe collapses or blockages"},{"$f":"VLOOKUP('Design #'!D380,Labels!$A:$B,2,FALSE)","v":"Reducing the release of untreated sewage mixed with rain water into rivers and streams during times of heavy rainfall"},{"$f":"VLOOKUP('Design #'!E380,Labels!$A:$B,2,FALSE)","v":"Providing water that is aesthetically pleasing (clear and clean with no odour or unusual taste or colour)"},{"$f":"VLOOKUP('Design #'!F380,Labels!$A:$B,2,FALSE)","v":"Providing appropriate sewer capacity and pumping capabilities to cope with widespread flood events"}]
[26,5,{"$f":"VLOOKUP('Design #'!C381,Labels!$A:$B,2,FALSE)","v":"Keeping bills affordable for all"},{"$f":"VLOOKUP('Design #'!D381,Labels!$A:$B,2,FALSE)","v":"Reducing the release of untreated sewage mixed with rain water into rivers and streams during times of heavy rainfall"},{"$f":"VLOOKUP('Design #'!E381,Labels!$A:$B,2,FALSE)","v":"Supporting customers to reduce their water use and prevent blockages through education and provision of free tools/devices"},{"$f":"VLOOKUP('Design #'!F381,Labels!$A:$B,2,FALSE)","v":"Preventing interruptions to the supply of water (e.g. planned works, burst pipes, leaks and outages) that cause problems ranging from low pressure to no water"}]
[26,6,{"$f":"VLOOKUP('Design #'!C382,Labels!$A:$B,2,FALSE)","v":"Preventing the likelihood of restrictions on water use, including hosepipe bans, in a drought"},{"$f":"VLOOKUP('Design #'!D382,Labels!$A:$B,2,FALSE)","v":"Preventing sewage entering gardens and public spaces from pipe collapses or blockages"},{"$f":"VLOOKUP('Design #'!E382,Labels!$A:$B,2,FALSE)","v":"Providing a continuous supply of water that is safe to drink"},{"$f":"VLOOKUP('Design #'!F382,Labels!$A:$B,2,FALSE)","v":"Providing good and constant water pressure"}]
[26,7,{"$f":"VLOOKUP('Design #'!C383,Labels!$A:$B,2,FALSE)","v":"Ensuring that land owned by Yorkshire Water is conserved or enhanced to improve quality of the water it collects and reduce flooding"},{"$f":"VLOOKUP('Design #'!D383,Labels!$A:$B,2,FALSE)","v":"Supporting customers to reduce their water use and prevent blockages through education and provision of free tools/devices"},{"$f":"VLOOKUP('Design #'!E383,Labels!$A:$B,2,FALSE)","v":"Preventing leaks from Yorkshire Water's pipe network"},{"$f":"VLOOKUP('Design #'!F383,Labels!$A:$B,2,FALSE)","v":"Providing financial help and support to those who are struggling to pay their water bill"}]
[26,8,{"$f":"VLOOKUP('Design #'!C384,Labels!$A:$B,2,FALSE)","v":"Providing financial help and support to those who are struggling to pay their water bill"},{"$f":"VLOOKUP('Design #'!D384,Labels!$A:$B,2,FALSE)","v":"Ensuring additional support is available to those who need it e.g.  providing bills in braille, providing bottled water during times of interruptions for thos​e who can't get to a shop (elderly, medical conditions etc.)"},{"$f":"VLOOKUP('Design #'!E384,Labels!$A:$B,2,FALSE)","v":"Treating waste water to a high standard to ensure good quality water in Yorkshire's rivers and beaches"},{"$f":"VLOOKUP('Design #'!F384,Labels!$A:$B,2,FALSE)","v":"Providing good and constant water pressure"}]
[26,9,{"$f":"VLOOKUP('Design #'!C385,Labels!$A:$B,2,FALSE)","v":"Treating waste water to a high standard to ensure good quality water in Yorkshire's rivers and beaches"},{"$f":"VLOOKUP('Design #'!D385,Labels!$A:$B,2,FALSE)","v":"Preventing sewage from entering homes and businesses "},{"$f":"VLOOKUP('Design #'!E385,Labels!$A:$B,2,FALSE)","v":"Preventing sewage entering gardens and public spaces from pipe collapses or blockages"},{"$f":"VLOOKUP('Design #'!F385,Labels!$A:$B,2,FALSE)","v":"Providing appropriate sewer capacity and pumping capabilities to cope with widespread flood events"}]
[26,10,{"$f":"VLOOKUP('Design #'!C386,Labels!$A:$B,2,FALSE)","v":"Providing water that is aesthetically pleasing (clear and clean with no odour or unusual taste or colour)"},{"$f":"VLOOKUP('Design #'!D386,Labels!$A:$B,2,FALSE)","v":"Preventing interruptions to the supply of water (e.g. planned works, burst pipes, leaks and outages) that cause problems ranging from low pressure to no water"},{"$f":"VLOOKUP('Design #'!E386,Labels!$A:$B,2,FALSE)","v":"Ensuring that land owned by Yorkshire Water is conserved or enhanced to improve quality of the water it collects and reduce flooding"},{"$f":"VLOOKUP('Design #'!F386,Labels!$A:$B,2,FALSE)","v":"Ensuring additional support is available to those who need it e.g.  providing bills in braille, providing bottled water during times of interruptions for thos​e who can't get to a shop (elderly, medical conditions etc.)"}]
[26,11,{"$f":"VLOOKUP('Design #'!C387,Labels!$A:$B,2,FALSE)","v":"Reduce and offset carbon emissions to achieve a 'net zero' position by 2030 "},{"$f":"VLOOKUP('Design #'!D387,Labels!$A:$B,2,FALSE)","v":"Keeping bills affordable for all"},{"$f":"VLOOKUP('Design #'!E387,Labels!$A:$B,2,FALSE)","v":"Preventing leaks from Yorkshire Water's pipe network"},{"$f":"VLOOKUP('Design #'!F387,Labels!$A:$B,2,FALSE)","v":"Providing a continuous supply of water that is safe to drink"}]
[26,12,{"$f":"VLOOKUP('Design #'!C388,Labels!$A:$B,2,FALSE)","v":"Providing a continuous supply of water that is safe to drink"},{"$f":"VLOOKUP('Design #'!D388,Labels!$A:$B,2,FALSE)","v":"Working with other organisations on common challenges (e.g. flooding) to share costs and expertise allowing for more and smarter investment to tackle problems"},{"$f":"VLOOKUP('Design #'!E388,Labels!$A:$B,2,FALSE)","v":"Reduce and offset carbon emissions to achieve a 'net zero' position by 2030 "},{"$f":"VLOOKUP('Design #'!F388,Labels!$A:$B,2,FALSE)","v":"Providing a high level of customer service (e.g. resolving queries quickly)"}]
[26,13,{"$f":"VLOOKUP('Design #'!C389,Labels!$A:$B,2,FALSE)","v":"Reducing the release of untreated sewage mixed with rain water into rivers and streams during times of heavy rainfall"},{"$f":"VLOOKUP('Design #'!D389,Labels!$A:$B,2,FALSE)","v":"Preventing leaks from Yorkshire Water's pipe network"},{"$f":"VLOOKUP('Design #'!E389,Labels!$A:$B,2,FALSE)","v":"Preventing pollution of rivers or streams from sewage pipes"},{"$f":"VLOOKUP('Design #'!F389,Labels!$A:$B,2,FALSE)","v":"Treating waste water to a high standard to ensure good quality water in Yorkshire's rivers and beaches"}]
[26,14,{"$f":"VLOOKUP('Design #'!C390,Labels!$A:$B,2,FALSE)","v":"Supporting customers to reduce their water use and prevent blockages through education and provision of free tools/devices"},{"$f":"VLOOKUP('Design #'!D390,Labels!$A:$B,2,FALSE)","v":"Providing a high level of customer service (e.g. resolving queries quickly)"},{"$f":"VLOOKUP('Design #'!E390,Labels!$A:$B,2,FALSE)","v":"Preventing interruptions to the supply of water (e.g. planned works, burst pipes, leaks and outages) that cause problems ranging from low pressure to no water"},{"$f":"VLOOKUP('Design #'!F390,Labels!$A:$B,2,FALSE)","v":"Working with other organisations on common challenges (e.g. flooding) to share costs and expertise allowing for more and smarter investment to tackle problems"}]
[26,15,{"$f":"VLOOKUP('Design #'!C391,Labels!$A:$B,2,FALSE)","v":"Ensuring additional support is available to those who need it e.g.  providing bills in braille, providing bottled water during times of interruptions for thos​e who can't get to a shop (elderly, medical conditions etc.)"},{"$f":"VLOOKUP('Design #'!D391,Labels!$A:$B,2,FALSE)","v":"Keeping bills affordable for all"},{"$f":"VLOOKUP('Design #'!E391,Labels!$A:$B,2,FALSE)","v":"Working with other organisations on common challenges (e.g. flooding) to share costs and expertise allowing for more and smarter investment to tackle problems"},{"$f":"VLOOKUP('Design #'!F391,Labels!$A:$B,2,FALSE)","v":"Preventing pollution of rivers or streams from sewage pipes"}]
[27,1,{"$f":"VLOOKUP('Design #'!C392,Labels!$A:$B,2,FALSE)","v":"Treating waste water to a high standard to ensure good quality water in Yorkshire's rivers and beaches"},{"$f":"VLOOKUP('Design #'!D392,Labels!$A:$B,2,FALSE)","v":"Providing water that is aesthetically pleasing (clear and clean with no odour or unusual taste or colour)"},{"$f":"VLOOKUP('Design #'!E392,Labels!$A:$B,2,FALSE)","v":"Preventing the likelihood of restrictions on water use, including hosepipe bans, in a drought"},{"$f":"VLOOKUP('Design #'!F392,Labels!$A:$B,2,FALSE)","v":"Keeping bills affordable for all"}]
[27,2,{"$f":"VLOOKUP('Design #'!C393,Labels!$A:$B,2,FALSE)","v":"Providing a high level of customer service (e.g. resolving queries quickly)"},{"$f":"VLOOKUP('Design #'!D393,Labels!$A:$B,2,FALSE)","v":"Preventing the likelihood of restrictions on water use, including hosepipe bans, in a drought"},{"$f":"VLOOKUP('Design #'!E393,Labels!$A:$B,2,FALSE)","v":"Preventing sewage from entering homes and businesses "},{"$f":"VLOOKUP('Design #'!F393,Labels!$A:$B,2,FALSE)","v":"Ensuring that land owned by Yorkshire Water is conserved or enhanced to improve quality of the water it collects and reduce flooding"}]
[27,3,{"$f":"VLOOKUP('Design #'!C394,Labels!$A:$B,2,FALSE)","v":"Preventing pollution of rivers or streams from sewage pipes"},{"$f":"VLOOKUP('Design #'!D394,Labels!$A:$B,2,FALSE)","v":"Preventing sewage entering gardens and public spaces from pipe collapses or blockages"},{"$f":"VLOOKUP('Design #'!E394,Labels!$A:$B,2,FALSE)","v":"Providing a continuous supply of water that is safe to drink"},{"$f":"VLOOKUP('Design #'!F394,Labels!$A:$B,2,FALSE)","v":"Preventing interruptions to the supply of water (e.g. planned works, burst pipes, leaks and outages) that cause problems ranging from low pressure to no water"}]
[27,4,{"$f":"VLOOKUP('Design #'!C395,Labels!$A:$B,2,FALSE)","v":"Preventing sewage entering gardens and public spaces from pipe collapses or blockages"},{"$f":"VLOOKUP('Design #'!D395,Labels!$A:$B,2,FALSE)","v":"Ensuring additional support is available to those who need it e.g.  providing bills in braille, providing bottled water during times of interruptions for thos​e who can't get to a shop (elderly, medical conditions etc.)"},{"$f":"VLOOKUP('Design #'!E395,Labels!$A:$B,2,FALSE)","v":"Preventing pollution of rivers or streams from sewage pipes"},{"$f":"VLOOKUP('Design #'!F395,Labels!$A:$B,2,FALSE)","v":"Reduce and offset carbon emissions to achieve a 'net zero' position by 2030 "}]
[27,5,{"$f":"VLOOKUP('Design #'!C396,Labels!$A:$B,2,FALSE)","v":"Providing good and constant water pressure"},{"$f":"VLOOKUP('Design #'!D396,Labels!$A:$B,2,FALSE)","v":"Preventing pollution of rivers or streams from sewage pipes"},{"$f":"VLOOKUP('Design #'!E396,Labels!$A:$B,2,FALSE)","v":"Providing a high level of customer service (e.g. resolving queries quickly)"},{"$f":"VLOOKUP('Design #'!F396,Labels!$A:$B,2,FALSE)","v":"Preventing the likelihood of restrictions on water use, including hosepipe bans, in a drought"}]
[27,6,{"$f":"VLOOKUP('Design #'!C397,Labels!$A:$B,2,FALSE)","v":"Reducing the release of untreated sewage mixed with rain water into rivers and streams during times of heavy rainfall"},{"$f":"VLOOKUP('Design #'!D397,Labels!$A:$B,2,FALSE)","v":"Providing financial help and support to those who are struggling to pay their water bill"},{"$f":"VLOOKUP('Design #'!E397,Labels!$A:$B,2,FALSE)","v":"Providing a continuous supply of water that is safe to drink"},{"$f":"VLOOKUP('Design #'!F397,Labels!$A:$B,2,FALSE)","v":"Providing a high level of customer service (e.g. resolving queries quickly)"}]
[27,7,{"$f":"VLOOKUP('Design #'!C398,Labels!$A:$B,2,FALSE)","v":"Keeping bills affordable for all"},{"$f":"VLOOKUP('Design #'!D398,Labels!$A:$B,2,FALSE)","v":"Providing appropriate sewer capacity and pumping capabilities to cope with widespread flood events"},{"$f":"VLOOKUP('Design #'!E398,Labels!$A:$B,2,FALSE)","v":"Reducing the release of untreated sewage mixed with rain water into rivers and streams during times of heavy rainfall"},{"$f":"VLOOKUP('Design #'!F398,Labels!$A:$B,2,FALSE)","v":"Preventing sewage from entering homes and businesses "}]
[27,8,{"$f":"VLOOKUP('Design #'!C399,Labels!$A:$B,2,FALSE)","v":"Preventing leaks from Yorkshire Water's pipe network"},{"$f":"VLOOKUP('Design #'!D399,Labels!$A:$B,2,FALSE)","v":"Providing good and constant water pressure"},{"$f":"VLOOKUP('Design #'!E399,Labels!$A:$B,2,FALSE)","v":"Ensuring additional support is available to those who need it e.g.  providing bills in braille, providing bottled water during times of interruptions for thos​e who can't get to a shop (elderly, medical conditions etc.)"},{"$f":"VLOOKUP('Design #'!F399,Labels!$A:$B,2,FALSE)","v":"Reducing the release of untreated sewage mixed with rain water into rivers and streams during times of heavy rainfall"}]
[27,9,{"$f":"VLOOKUP('Design #'!C400,Labels!$A:$B,2,FALSE)","v":"Working with other organisations on common challenges (e.g. flooding) to share costs and expertise allowing for more and smarter investment to tackle problems"},{"$f":"VLOOKUP('Design #'!D400,Labels!$A:$B,2,FALSE)","v":"Preventing the likelihood of restrictions on water use, including hosepipe bans, in a drought"},{"$f":"VLOOKUP('Design #'!E400,Labels!$A:$B,2,FALSE)","v":"Preventing sewage from entering homes and businesses "},{"$f":"VLOOKUP('Design #'!F400,Labels!$A:$B,2,FALSE)","v":"Preventing leaks from Yorkshire Water's pipe network"}]
[27,10,{"$f":"VLOOKUP('Design #'!C401,Labels!$A:$B,2,FALSE)","v":"Ensuring additional support is available to those who need it e.g.  providing bills in braille, providing bottled water during times of interruptions for thos​e who can't get to a shop (elderly, medical conditions etc.)"},{"$f":"VLOOKUP('Design #'!D401,Labels!$A:$B,2,FALSE)","v":"Working with other organisations on common challenges (e.g. flooding) to share costs and expertise allowing for more and smarter investment to tackle problems"},{"$f":"VLOOKUP('Design #'!E401,Labels!$A:$B,2,FALSE)","v":"Providing water that is aesthetically pleasing (clear and clean with no odour or unusual taste or colour)"},{"$f":"VLOOKUP('Design #'!F401,Labels!$A:$B,2,FALSE)","v":"Supporting customers to reduce their water use and prevent blockages through education and provision of free tools/devices"}]
[27,11,{"$f":"VLOOKUP('Design #'!C402,Labels!$A:$B,2,FALSE)","v":"Treating waste water to a high standard to ensure good quality water in Yorkshire's rivers and beaches"},{"$f":"VLOOKUP('Design #'!D402,Labels!$A:$B,2,FALSE)","v":"Providing a continuous supply of water that is safe to drink"},{"$f":"VLOOKUP('Design #'!E402,Labels!$A:$B,2,FALSE)","v":"Ensuring that land owned by Yorkshire Water is conserved or enhanced to improve quality of the water it collects and reduce flooding"},{"$f":"VLOOKUP('Design #'!F402,Labels!$A:$B,2,FALSE)","v":"Preventing leaks from Yorkshire Water's pipe network"}]
[27,12,{"$f":"VLOOKUP('Design #'!C403,Labels!$A:$B,2,FALSE)","v":"Preventing interruptions to the supply of water (e.g. planned works, burst pipes, leaks and outages) that cause problems ranging from low pressure to no water"},{"$f":"VLOOKUP('Design #'!D403,Labels!$A:$B,2,FALSE)","v":"Reduce and offset carbon emissions to achieve a 'net zero' position by 2030 "},{"$f":"VLOOKUP('Design #'!E403,Labels!$A:$B,2,FALSE)","v":"Providing financial help and support to those who are struggling to pay their water bill"},{"$f":"VLOOKUP('Design #'!F403,Labels!$A:$B,2,FALSE)","v":"Keeping bills affordable for all"}]
[27,13,{"$f":"VLOOKUP('Design #'!C404,Labels!$A:$B,2,FALSE)","v":"Providing appropriate sewer capacity and pumping capabilities to cope with widespread flood events"},{"$f":"VLOOKUP('Design #'!D404,Labels!$A:$B,2,FALSE)","v":"Reduce and offset carbon emissions to achieve a 'net zero' position by 2030 "},{"$f":"VLOOKUP('Design #'!E404,Labels!$A:$B,2,FALSE)","v":"Supporting customers to reduce their water use and prevent blockages through education and provision of free tools/devices"},{"$f":"VLOOKUP('Design #'!F404,Labels!$A:$B,2,FALSE)","v":"Providing water that is aesthetically pleasing (clear and clean with no odour or unusual taste or colour)"}]
[27,14,{"$f":"VLOOKUP('Design #'!C405,Labels!$A:$B,2,FALSE)","v":"Ensuring that land owned by Yorkshire Water is conserved or enhanced to improve quality of the water it collects and reduce flooding"},{"$f":"VLOOKUP('Design #'!D405,Labels!$A:$B,2,FALSE)","v":"Providing appropriate sewer capacity and pumping capabilities to cope with widespread flood events"},{"$f":"VLOOKUP('Design #'!E405,Labels!$A:$B,2,FALSE)","v":"Providing good and constant water pressure"},{"$f":"VLOOKUP('Design #'!F405,Labels!$A:$B,2,FALSE)","v":"Preventing interruptions to the supply of water (e.g. planned works, burst pipes, leaks and outages) that cause problems ranging from low pressure to no water"}]
[27,15,{"$f":"VLOOKUP('Design #'!C406,Labels!$A:$B,2,FALSE)","v":"Providing financial help and support to those who are struggling to pay their water bill"},{"$f":"VLOOKUP('Design #'!D406,Labels!$A:$B,2,FALSE)","v":"Treating waste water to a high standard to ensure good quality water in Yorkshire's rivers and beaches"},{"$f":"VLOOKUP('Design #'!E406,Labels!$A:$B,2,FALSE)","v":"Preventing sewage entering gardens and public spaces from pipe collapses or blockages"},{"$f":"VLOOKUP('Design #'!F406,Labels!$A:$B,2,FALSE)","v":"Working with other organisations on common challenges (e.g. flooding) to share costs and expertise allowing for more and smarter investment to tackle problems"}]
[28,1,{"$f":"VLOOKUP('Design #'!C407,Labels!$A:$B,2,FALSE)","v":"Providing a continuous supply of water that is safe to drink"},{"$f":"VLOOKUP('Design #'!D407,Labels!$A:$B,2,FALSE)","v":"Ensuring that land owned by Yorkshire Water is conserved or enhanced to improve quality of the water it collects and reduce flooding"},{"$f":"VLOOKUP('Design #'!E407,Labels!$A:$B,2,FALSE)","v":"Preventing sewage from entering homes and businesses "},{"$f":"VLOOKUP('Design #'!F407,Labels!$A:$B,2,FALSE)","v":"Preventing sewage entering gardens and public spaces from pipe collapses or blockages"}]
[28,2,{"$f":"VLOOKUP('Design #'!C408,Labels!$A:$B,2,FALSE)","v":"Keeping bills affordable for all"},{"$f":"VLOOKUP('Design #'!D408,Labels!$A:$B,2,FALSE)","v":"Ensuring additional support is available to those who need it e.g.  providing bills in braille, providing bottled water during times of interruptions for thos​e who can't get to a shop (elderly, medical conditions etc.)"},{"$f":"VLOOKUP('Design #'!E408,Labels!$A:$B,2,FALSE)","v":"Providing a high level of customer service (e.g. resolving queries quickly)"},{"$f":"VLOOKUP('Design #'!F408,Labels!$A:$B,2,FALSE)","v":"Preventing interruptions to the supply of water (e.g. planned works, burst pipes, leaks and outages) that cause problems ranging from low pressure to no water"}]
[28,3,{"$f":"VLOOKUP('Design #'!C409,Labels!$A:$B,2,FALSE)","v":"Working with other organisations on common challenges (e.g. flooding) to share costs and expertise allowing for more and smarter investment to tackle problems"},{"$f":"VLOOKUP('Design #'!D409,Labels!$A:$B,2,FALSE)","v":"Providing good and constant water pressure"},{"$f":"VLOOKUP('Design #'!E409,Labels!$A:$B,2,FALSE)","v":"Providing appropriate sewer capacity and pumping capabilities to cope with widespread flood events"},{"$f":"VLOOKUP('Design #'!F409,Labels!$A:$B,2,FALSE)","v":"Providing a continuous supply of water that is safe to drink"}]
[28,4,{"$f":"VLOOKUP('Design #'!C410,Labels!$A:$B,2,FALSE)","v":"Preventing the likelihood of restrictions on water use, including hosepipe bans, in a drought"},{"$f":"VLOOKUP('Design #'!D410,Labels!$A:$B,2,FALSE)","v":"Providing financial help and support to those who are struggling to pay their water bill"},{"$f":"VLOOKUP('Design #'!E410,Labels!$A:$B,2,FALSE)","v":"Providing appropriate sewer capacity and pumping capabilities to cope with widespread flood events"},{"$f":"VLOOKUP('Design #'!F410,Labels!$A:$B,2,FALSE)","v":"Ensuring additional support is available to those who need it e.g.  providing bills in braille, providing bottled water during times of interruptions for thos​e who can't get to a shop (elderly, medical conditions etc.)"}]
[28,5,{"$f":"VLOOKUP('Design #'!C411,Labels!$A:$B,2,FALSE)","v":"Preventing interruptions to the supply of water (e.g. planned works, burst pipes, leaks and outages) that cause problems ranging from low pressure to no water"},{"$f":"VLOOKUP('Design #'!D411,Labels!$A:$B,2,FALSE)","v":"Working with other organisations on common challenges (e.g. flooding) to share costs and expertise allowing for more and smarter investment to tackle problems"},{"$f":"VLOOKUP('Design #'!E411,Labels!$A:$B,2,FALSE)","v":"Reducing the release of untreated sewage mixed with rain water into rivers and streams during times of heavy rainfall"},{"$f":"VLOOKUP('Design #'!F411,Labels!$A:$B,2,FALSE)","v":"Ensuring that land owned by Yorkshire Water is conserved or enhanced to improve quality of the water it collects and reduce flooding"}]
[28,6,{"$f":"VLOOKUP('Design #'!C412,Labels!$A:$B,2,FALSE)","v":"Supporting customers to reduce their water use and prevent blockages through education and provision of free tools/devices"},{"$f":"VLOOKUP('Design #'!D412,Labels!$A:$B,2,FALSE)","v":"Preventing interruptions to the supply of water (e.g. planned works, burst pipes, leaks and outages) that cause problems ranging from low pressure to no water"},{"$f":"VLOOKUP('Design #'!E412,Labels!$A:$B,2,FALSE)","v":"Preventing the likelihood of restrictions on water use, including hosepipe bans, in a drought"},{"$f":"VLOOKUP('Design #'!F412,Labels!$A:$B,2,FALSE)","v":"Reducing the release of untreated sewage mixed with rain water into rivers and streams during times of heavy rainfall"}]
[28,7,{"$f":"VLOOKUP('Design #'!C413,Labels!$A:$B,2,FALSE)","v":"Providing a continuous supply of water that is safe to drink"},{"$f":"VLOOKUP('Design #'!D413,Labels!$A:$B,2,FALSE)","v":"Supporting customers to reduce their water use and prevent blockages through education and provision of free tools/devices"},{"$f":"VLOOKUP('Design #'!E413,Labels!$A:$B,2,FALSE)","v":"Keeping bills affordable for all"},{"$f":"VLOOKUP('Design #'!F413,Labels!$A:$B,2,FALSE)","v":"Preventing sewage entering gardens and public spaces from pipe collapses or blockages"}]
[28,8,{"$f":"VLOOKUP('Design #'!C414,Labels!$A:$B,2,FALSE)","v":"Providing water that is aesthetically pleasing (clear and clean with no odour or unusual taste or colour)"},{"$f":"VLOOKUP('Design #'!D414,Labels!$A:$B,2,FALSE)","v":"Preventing pollution of rivers or streams from sewage pipes"},{"$f":"VLOOKUP('Design #'!E414,Labels!$A:$B,2,FALSE)","v":"Preventing interruptions to the supply of water (e.g. planned works, burst pipes, leaks and outages) that cause problems ranging from low pressure to no water"},{"$f":"VLOOKUP('Design #'!F414,Labels!$A:$B,2,FALSE)","v":"Reducing the release of untreated sewage mixed with rain water into rivers and streams during times of heavy rainfall"}]
[28,9,{"$f":"VLOOKUP('Design #'!C415,Labels!$A:$B,2,FALSE)","v":"Preventing leaks from Yorkshire Water's pipe network"},{"$f":"VLOOKUP('Design #'!D415,Labels!$A:$B,2,FALSE)","v":"Providing water that is aesthetically pleasing (clear and clean with no odour or unusual taste or colour)"},{"$f":"VLOOKUP('Design #'!E415,Labels!$A:$B,2,FALSE)","v":"Preventing sewage entering gardens and public spaces from pipe collapses or blockages"},{"$f":"VLOOKUP('Design #'!F415,Labels!$A:$B,2,FALSE)","v":"Providing a high level of customer service (e.g. resolving queries quickly)"}]
[28,10,{"$f":"VLOOKUP('Design #'!C416,Labels!$A:$B,2,FALSE)","v":"Reduce and offset carbon emissions to achieve a 'net zero' position by 2030 "},{"$f":"VLOOKUP('Design #'!D416,Labels!$A:$B,2,FALSE)","v":"Ensuring that land owned by Yorkshire Water is conserved or enhanced to improve quality of the water it collects and reduce flooding"},{"$f":"VLOOKUP('Design #'!E416,Labels!$A:$B,2,FALSE)","v":"Ensuring additional support is available to those who need it e.g.  providing bills in braille, providing bottled water during times of interruptions for thos​e who can't get to a shop (elderly, medical conditions etc.)"},{"$f":"VLOOKUP('Design #'!F416,Labels!$A:$B,2,FALSE)","v":"Treating waste water to a high standard to ensure good quality water in Yorkshire's rivers and beaches"}]
[28,11,{"$f":"VLOOKUP('Design #'!C417,Labels!$A:$B,2,FALSE)","v":"Providing appropriate sewer capacity and pumping capabilities to cope with widespread flood events"},{"$f":"VLOOKUP('Design #'!D417,Labels!$A:$B,2,FALSE)","v":"Treating waste water to a high standard to ensure good quality water in Yorkshire's rivers and beaches"},{"$f":"VLOOKUP('Design #'!E417,Labels!$A:$B,2,FALSE)","v":"Providing good and constant water pressure"},{"$f":"VLOOKUP('Design #'!F417,Labels!$A:$B,2,FALSE)","v":"Preventing leaks from Yorkshire Water's pipe network"}]
[28,12,{"$f":"VLOOKUP('Design #'!C418,Labels!$A:$B,2,FALSE)","v":"Providing a high level of customer service (e.g. resolving queries quickly)"},{"$f":"VLOOKUP('Design #'!D418,Labels!$A:$B,2,FALSE)","v":"Providing good and constant water pressure"},{"$f":"VLOOKUP('Design #'!E418,Labels!$A:$B,2,FALSE)","v":"Keeping bills affordable for all"},{"$f":"VLOOKUP('Design #'!F418,Labels!$A:$B,2,FALSE)","v":"Providing financial help and support to those who are struggling to pay their water bill"}]
[28,13,{"$f":"VLOOKUP('Design #'!C419,Labels!$A:$B,2,FALSE)","v":"Preventing pollution of rivers or streams from sewage pipes"},{"$f":"VLOOKUP('Design #'!D419,Labels!$A:$B,2,FALSE)","v":"Providing financial help and support to those who are struggling to pay their water bill"},{"$f":"VLOOKUP('Design #'!E419,Labels!$A:$B,2,FALSE)","v":"Reduce and offset carbon emissions to achieve a 'net zero' position by 2030 "},{"$f":"VLOOKUP('Design #'!F419,Labels!$A:$B,2,FALSE)","v":"Preventing the likelihood of restrictions on water use, including hosepipe bans, in a drought"}]
[28,14,{"$f":"VLOOKUP('Design #'!C420,Labels!$A:$B,2,FALSE)","v":"Preventing sewage from entering homes and businesses "},{"$f":"VLOOKUP('Design #'!D420,Labels!$A:$B,2,FALSE)","v":"Reduce and offset carbon emissions to achieve a 'net zero' position by 2030 "},{"$f":"VLOOKUP('Design #'!E420,Labels!$A:$B,2,FALSE)","v":"Providing water that is aesthetically pleasing (clear and clean with no odour or unusual taste or colour)"},{"$f":"VLOOKUP('Design #'!F420,Labels!$A:$B,2,FALSE)","v":"Preventing pollution of rivers or streams from sewage pipes"}]
[28,15,{"$f":"VLOOKUP('Design #'!C421,Labels!$A:$B,2,FALSE)","v":"Preventing interruptions to the supply of water (e.g. planned works, burst pipes, leaks and outages) that cause problems ranging from low pressure to no water"},{"$f":"VLOOKUP('Design #'!D421,Labels!$A:$B,2,FALSE)","v":"Preventing sewage from entering homes and businesses "},{"$f":"VLOOKUP('Design #'!E421,Labels!$A:$B,2,FALSE)","v":"Treating waste water to a high standard to ensure good quality water in Yorkshire's rivers and beaches"},{"$f":"VLOOKUP('Design #'!F421,Labels!$A:$B,2,FALSE)","v":"Supporting customers to reduce their water use and prevent blockages through education and provision of free tools/devices"}]
[29,1,{"$f":"VLOOKUP('Design #'!C422,Labels!$A:$B,2,FALSE)","v":"Providing good and constant water pressure"},{"$f":"VLOOKUP('Design #'!D422,Labels!$A:$B,2,FALSE)","v":"Ensuring additional support is available to those who need it e.g.  providing bills in braille, providing bottled water during times of interruptions for thos​e who can't get to a shop (elderly, medical conditions etc.)"},{"$f":"VLOOKUP('Design #'!E422,Labels!$A:$B,2,FALSE)","v":"Working with other organisations on common challenges (e.g. flooding) to share costs and expertise allowing for more and smarter investment to tackle problems"},{"$f":"VLOOKUP('Design #'!F422,Labels!$A:$B,2,FALSE)","v":"Preventing sewage from entering homes and businesses "}]
[29,2,{"$f":"VLOOKUP('Design #'!C423,Labels!$A:$B,2,FALSE)","v":"Ensuring that land owned by Yorkshire Water is conserved or enhanced to improve quality of the water it collects and reduce flooding"},{"$f":"VLOOKUP('Design #'!D423,Labels!$A:$B,2,FALSE)","v":"Providing appropriate sewer capacity and pumping capabilities to cope with widespread flood events"},{"$f":"VLOOKUP('Design #'!E423,Labels!$A:$B,2,FALSE)","v":"Supporting customers to reduce their water use and prevent blockages through education and provision of free tools/devices"},{"$f":"VLOOKUP('Design #'!F423,Labels!$A:$B,2,FALSE)","v":"Preventing pollution of rivers or streams from sewage pipes"}]
[29,3,{"$f":"VLOOKUP('Design #'!C424,Labels!$A:$B,2,FALSE)","v":"Keeping bills affordable for all"},{"$f":"VLOOKUP('Design #'!D424,Labels!$A:$B,2,FALSE)","v":"Reducing the release of untreated sewage mixed with rain water into rivers and streams during times of heavy rainfall"},{"$f":"VLOOKUP('Design #'!E424,Labels!$A:$B,2,FALSE)","v":"Providing a continuous supply of water that is safe to drink"},{"$f":"VLOOKUP('Design #'!F424,Labels!$A:$B,2,FALSE)","v":"Preventing leaks from Yorkshire Water's pipe network"}]
[29,4,{"$f":"VLOOKUP('Design #'!C425,Labels!$A:$B,2,FALSE)","v":"Preventing pollution of rivers or streams from sewage pipes"},{"$f":"VLOOKUP('Design #'!D425,Labels!$A:$B,2,FALSE)","v":"Preventing sewage entering gardens and public spaces from pipe collapses or blockages"},{"$f":"VLOOKUP('Design #'!E425,Labels!$A:$B,2,FALSE)","v":"Keeping bills affordable for all"},{"$f":"VLOOKUP('Design #'!F425,Labels!$A:$B,2,FALSE)","v":"Working with other organisations on common challenges (e.g. flooding) to share costs and expertise allowing for more and smarter investment to tackle problems"}]
[29,5,{"$f":"VLOOKUP('Design #'!C426,Labels!$A:$B,2,FALSE)","v":"Ensuring additional support is available to those who need it e.g.  providing bills in braille, providing bottled water during times of interruptions for thos​e who can't get to a shop (elderly, medical conditions etc.)"},{"$f":"VLOOKUP('Design #'!D426,Labels!$A:$B,2,FALSE)","v":"Preventing pollution of rivers or streams from sewage pipes"},{"$f":"VLOOKUP('Design #'!E426,Labels!$A:$B,2,FALSE)","v":"Reducing the release of untreated sewage mixed with rain water into rivers and streams during times of heavy rainfall"},{"$f":"VLOOKUP('Design #'!F426,Labels!$A:$B,2,FALSE)","v":"Providing a high level of customer service (e.g. resolving queries quickly)"}]
[29,6,{"$f":"VLOOKUP('Design #'!C427,Labels!$A:$B,2,FALSE)","v":"Working with other organisations on common challenges (e.g. flooding) to share costs and expertise allowing for more and smarter investment to tackle problems"},{"$f":"VLOOKUP('Design #'!D427,Labels!$A:$B,2,FALSE)","v":"Preventing leaks from Yorkshire Water's pipe network"},{"$f":"VLOOKUP('Design #'!E427,Labels!$A:$B,2,FALSE)","v":"Providing financial help and support to those who are struggling to pay their water bill"},{"$f":"VLOOKUP('Design #'!F427,Labels!$A:$B,2,FALSE)","v":"Providing water that is aesthetically pleasing (clear and clean with no odour or unusual taste or colour)"}]
[29,7,{"$f":"VLOOKUP('Design #'!C428,Labels!$A:$B,2,FALSE)","v":"Providing good and constant water pressure"},{"$f":"VLOOKUP('Design #'!D428,Labels!$A:$B,2,FALSE)","v":"Preventing sewage from entering homes and businesses "},{"$f":"VLOOKUP('Design #'!E428,Labels!$A:$B,2,FALSE)","v":"Reducing the release of untreated sewage mixed with rain water into rivers and streams during times of heavy rainfall"},{"$f":"VLOOKUP('Design #'!F428,Labels!$A:$B,2,FALSE)","v":"Reduce and offset carbon emissions to achieve a 'net zero' position by 2030 "}]
[29,8,{"$f":"VLOOKUP('Design #'!C429,Labels!$A:$B,2,FALSE)","v":"Reduce and offset carbon emissions to achieve a 'net zero' position by 2030 "},{"$f":"VLOOKUP('Design #'!D429,Labels!$A:$B,2,FALSE)","v":"Preventing the likelihood of restrictions on water use, including hosepipe bans, in a drought"},{"$f":"VLOOKUP('Design #'!E429,Labels!$A:$B,2,FALSE)","v":"Working with other organisations on common challenges (e.g. flooding) to share costs and expertise allowing for more and smarter investment to tackle problems"},{"$f":"VLOOKUP('Design #'!F429,Labels!$A:$B,2,FALSE)","v":"Ensuring that land owned by Yorkshire Water is conserved or enhanced to improve quality of the water it collects and reduce flooding"}]
[29,9,{"$f":"VLOOKUP('Design #'!C430,Labels!$A:$B,2,FALSE)","v":"Preventing sewage entering gardens and public spaces from pipe collapses or blockages"},{"$f":"VLOOKUP('Design #'!D430,Labels!$A:$B,2,FALSE)","v":"Treating waste water to a high standard to ensure good quality water in Yorkshire's rivers and beaches"},{"$f":"VLOOKUP('Design #'!E430,Labels!$A:$B,2,FALSE)","v":"Reduce and offset carbon emissions to achieve a 'net zero' position by 2030 "},{"$f":"VLOOKUP('Design #'!F430,Labels!$A:$B,2,FALSE)","v":"Preventing the likelihood of restrictions on water use, including hosepipe bans, in a drought"}]
[29,10,{"$f":"VLOOKUP('Design #'!C431,Labels!$A:$B,2,FALSE)","v":"Preventing the likelihood of restrictions on water use, including hosepipe bans, in a drought"},{"$f":"VLOOKUP('Design #'!D431,Labels!$A:$B,2,FALSE)","v":"Supporting customers to reduce their water use and prevent blockages through education and provision of free tools/devices"},{"$f":"VLOOKUP('Design #'!E431,Labels!$A:$B,2,FALSE)","v":"Preventing leaks from Yorkshire Water's pipe network"},{"$f":"VLOOKUP('Design #'!F431,Labels!$A:$B,2,FALSE)","v":"Ensuring additional support is available to those who need it e.g.  providing bills in braille, providing bottled water during times of interruptions for thos​e who can't get to a shop (elderly, medical conditions etc.)"}]
[29,11,{"$f":"VLOOKUP('Design #'!C432,Labels!$A:$B,2,FALSE)","v":"Preventing sewage from entering homes and businesses "},{"$f":"VLOOKUP('Design #'!D432,Labels!$A:$B,2,FALSE)","v":"Keeping bills affordable for all"},{"$f":"VLOOKUP('Design #'!E432,Labels!$A:$B,2,FALSE)","v":"Supporting customers to reduce their water use and prevent blockages through education and provision of free tools/devices"},{"$f":"VLOOKUP('Design #'!F432,Labels!$A:$B,2,FALSE)","v":"Providing a continuous supply of water that is safe to drink"}]
[29,12,{"$f":"VLOOKUP('Design #'!C433,Labels!$A:$B,2,FALSE)","v":"Providing appropriate sewer capacity and pumping capabilities to cope with widespread flood events"},{"$f":"VLOOKUP('Design #'!D433,Labels!$A:$B,2,FALSE)","v":"Keeping bills affordable for all"},{"$f":"VLOOKUP('Design #'!E433,Labels!$A:$B,2,FALSE)","v":"Ensuring additional support is available to those who need it e.g.  providing bills in braille, providing bottled water during times of interruptions for thos​e who can't get to a shop (elderly, medical conditions etc.)"},{"$f":"VLOOKUP('Design #'!F433,Labels!$A:$B,2,FALSE)","v":"Providing water that is aesthetically pleasing (clear and clean with no odour or unusual taste or colour)"}]
[29,13,{"$f":"VLOOKUP('Design #'!C434,Labels!$A:$B,2,FALSE)","v":"Providing water that is aesthetically pleasing (clear and clean with no odour or unusual taste or colour)"},{"$f":"VLOOKUP('Design #'!D434,Labels!$A:$B,2,FALSE)","v":"Ensuring that land owned by Yorkshire Water is conserved or enhanced to improve quality of the water it collects and reduce flooding"},{"$f":"VLOOKUP('Design #'!E434,Labels!$A:$B,2,FALSE)","v":"Providing financial help and support to those who are struggling to pay their water bill"},{"$f":"VLOOKUP('Design #'!F434,Labels!$A:$B,2,FALSE)","v":"Providing a high level of customer service (e.g. resolving queries quickly)"}]
[29,14,{"$f":"VLOOKUP('Design #'!C435,Labels!$A:$B,2,FALSE)","v":"Preventing leaks from Yorkshire Water's pipe network"},{"$f":"VLOOKUP('Design #'!D435,Labels!$A:$B,2,FALSE)","v":"Preventing sewage entering gardens and public spaces from pipe collapses or blockages"},{"$f":"VLOOKUP('Design #'!E435,Labels!$A:$B,2,FALSE)","v":"Preventing interruptions to the supply of water (e.g. planned works, burst pipes, leaks and outages) that cause problems ranging from low pressure to no water"},{"$f":"VLOOKUP('Design #'!F435,Labels!$A:$B,2,FALSE)","v":"Providing financial help and support to those who are struggling to pay their water bill"}]
[29,15,{"$f":"VLOOKUP('Design #'!C436,Labels!$A:$B,2,FALSE)","v":"Providing a high level of customer service (e.g. resolving queries quickly)"},{"$f":"VLOOKUP('Design #'!D436,Labels!$A:$B,2,FALSE)","v":"Providing a continuous supply of water that is safe to drink"},{"$f":"VLOOKUP('Design #'!E436,Labels!$A:$B,2,FALSE)","v":"Providing appropriate sewer capacity and pumping capabilities to cope with widespread flood events"},{"$f":"VLOOKUP('Design #'!F436,Labels!$A:$B,2,FALSE)","v":"Treating waste water to a high standard to ensure good quality water in Yorkshire's rivers and beaches"}]
[30,1,{"$f":"VLOOKUP('Design #'!C437,Labels!$A:$B,2,FALSE)","v":"Ensuring that land owned by Yorkshire Water is conserved or enhanced to improve quality of the water it collects and reduce flooding"},{"$f":"VLOOKUP('Design #'!D437,Labels!$A:$B,2,FALSE)","v":"Preventing leaks from Yorkshire Water's pipe network"},{"$f":"VLOOKUP('Design #'!E437,Labels!$A:$B,2,FALSE)","v":"Preventing the likelihood of restrictions on water use, including hosepipe bans, in a drought"},{"$f":"VLOOKUP('Design #'!F437,Labels!$A:$B,2,FALSE)","v":"Providing appropriate sewer capacity and pumping capabilities to cope with widespread flood events"}]
[30,2,{"$f":"VLOOKUP('Design #'!C438,Labels!$A:$B,2,FALSE)","v":"Treating waste water to a high standard to ensure good quality water in Yorkshire's rivers and beaches"},{"$f":"VLOOKUP('Design #'!D438,Labels!$A:$B,2,FALSE)","v":"Providing a high level of customer service (e.g. resolving queries quickly)"},{"$f":"VLOOKUP('Design #'!E438,Labels!$A:$B,2,FALSE)","v":"Preventing leaks from Yorkshire Water's pipe network"},{"$f":"VLOOKUP('Design #'!F438,Labels!$A:$B,2,FALSE)","v":"Reduce and offset carbon emissions to achieve a 'net zero' position by 2030 "}]
[30,3,{"$f":"VLOOKUP('Design #'!C439,Labels!$A:$B,2,FALSE)","v":"Providing financial help and support to those who are struggling to pay their water bill"},{"$f":"VLOOKUP('Design #'!D439,Labels!$A:$B,2,FALSE)","v":"Preventing sewage from entering homes and businesses "},{"$f":"VLOOKUP('Design #'!E439,Labels!$A:$B,2,FALSE)","v":"Preventing pollution of rivers or streams from sewage pipes"},{"$f":"VLOOKUP('Design #'!F439,Labels!$A:$B,2,FALSE)","v":"Preventing sewage entering gardens and public spaces from pipe collapses or blockages"}]
[30,4,{"$f":"VLOOKUP('Design #'!C440,Labels!$A:$B,2,FALSE)","v":"Ensuring additional support is available to those who need it e.g.  providing bills in braille, providing bottled water during times of interruptions for thos​e who can't get to a shop (elderly, medical conditions etc.)"},{"$f":"VLOOKUP('Design #'!D440,Labels!$A:$B,2,FALSE)","v":"Providing water that is aesthetically pleasing (clear and clean with no odour or unusual taste or colour)"},{"$f":"VLOOKUP('Design #'!E440,Labels!$A:$B,2,FALSE)","v":"Treating waste water to a high standard to ensure good quality water in Yorkshire's rivers and beaches"},{"$f":"VLOOKUP('Design #'!F440,Labels!$A:$B,2,FALSE)","v":"Preventing sewage entering gardens and public spaces from pipe collapses or blockages"}]
[30,5,{"$f":"VLOOKUP('Design #'!C441,Labels!$A:$B,2,FALSE)","v":"Reducing the release of untreated sewage mixed with rain water into rivers and streams during times of heavy rainfall"},{"$f":"VLOOKUP('Design #'!D441,Labels!$A:$B,2,FALSE)","v":"Preventing sewage entering gardens and public spaces from pipe collapses or blockages"},{"$f":"VLOOKUP('Design #'!E441,Labels!$A:$B,2,FALSE)","v":"Ensuring that land owned by Yorkshire Water is conserved or enhanced to improve quality of the water it collects and reduce flooding"},{"$f":"VLOOKUP('Design #'!F441,Labels!$A:$B,2,FALSE)","v":"Supporting customers to reduce their water use and prevent blockages through education and provision of free tools/devices"}]
[30,6,{"$f":"VLOOKUP('Design #'!C442,Labels!$A:$B,2,FALSE)","v":"Providing appropriate sewer capacity and pumping capabilities to cope with widespread flood events"},{"$f":"VLOOKUP('Design #'!D442,Labels!$A:$B,2,FALSE)","v":"Preventing interruptions to the supply of water (e.g. planned works, burst pipes, leaks and outages) that cause problems ranging from low pressure to no water"},{"$f":"VLOOKUP('Design #'!E442,Labels!$A:$B,2,FALSE)","v":"Reduce and offset carbon emissions to achieve a 'net zero' position by 2030 "},{"$f":"VLOOKUP('Design #'!F442,Labels!$A:$B,2,FALSE)","v":"Working with other organisations on common challenges (e.g. flooding) to share costs and expertise allowing for more and smarter investment to tackle problems"}]
[30,7,{"$f":"VLOOKUP('Design #'!C443,Labels!$A:$B,2,FALSE)","v":"Ensuring that land owned by Yorkshire Water is conserved or enhanced to improve quality of the water it collects and reduce flooding"},{"$f":"VLOOKUP('Design #'!D443,Labels!$A:$B,2,FALSE)","v":"Treating waste water to a high standard to ensure good quality water in Yorkshire's rivers and beaches"},{"$f":"VLOOKUP('Design #'!E443,Labels!$A:$B,2,FALSE)","v":"Providing good and constant water pressure"},{"$f":"VLOOKUP('Design #'!F443,Labels!$A:$B,2,FALSE)","v":"Keeping bills affordable for all"}]
[30,8,{"$f":"VLOOKUP('Design #'!C444,Labels!$A:$B,2,FALSE)","v":"Preventing pollution of rivers or streams from sewage pipes"},{"$f":"VLOOKUP('Design #'!D444,Labels!$A:$B,2,FALSE)","v":"Reducing the release of untreated sewage mixed with rain water into rivers and streams during times of heavy rainfall"},{"$f":"VLOOKUP('Design #'!E444,Labels!$A:$B,2,FALSE)","v":"Providing a continuous supply of water that is safe to drink"},{"$f":"VLOOKUP('Design #'!F444,Labels!$A:$B,2,FALSE)","v":"Providing good and constant water pressure"}]
[30,9,{"$f":"VLOOKUP('Design #'!C445,Labels!$A:$B,2,FALSE)","v":"Treating waste water to a high standard to ensure good quality water in Yorkshire's rivers and beaches"},{"$f":"VLOOKUP('Design #'!D445,Labels!$A:$B,2,FALSE)","v":"Preventing interruptions to the supply of water (e.g. planned works, burst pipes, leaks and outages) that cause problems ranging from low pressure to no water"},{"$f":"VLOOKUP('Design #'!E445,Labels!$A:$B,2,FALSE)","v":"Providing water that is aesthetically pleasing (clear and clean with no odour or unusual taste or colour)"},{"$f":"VLOOKUP('Design #'!F445,Labels!$A:$B,2,FALSE)","v":"Providing good and constant water pressure"}]
[30,10,{"$f":"VLOOKUP('Design #'!C446,Labels!$A:$B,2,FALSE)","v":"Supporting customers to reduce their water use and prevent blockages through education and provision of free tools/devices"},{"$f":"VLOOKUP('Design #'!D446,Labels!$A:$B,2,FALSE)","v":"Providing a continuous supply of water that is safe to drink"},{"$f":"VLOOKUP('Design #'!E446,Labels!$A:$B,2,FALSE)","v":"Providing good and constant water pressure"},{"$f":"VLOOKUP('Design #'!F446,Labels!$A:$B,2,FALSE)","v":"Preventing the likelihood of restrictions on water use, including hosepipe bans, in a drought"}]
[30,11,{"$f":"VLOOKUP('Design #'!C447,Labels!$A:$B,2,FALSE)","v":"Reducing the release of untreated sewage mixed with rain water into rivers and streams during times of heavy rainfall"},{"$f":"VLOOKUP('Design #'!D447,Labels!$A:$B,2,FALSE)","v":"Providing appropriate sewer capacity and pumping capabilities to cope with widespread flood events"},{"$f":"VLOOKUP('Design #'!E447,Labels!$A:$B,2,FALSE)","v":"Providing financial help and support to those who are struggling to pay their water bill"},{"$f":"VLOOKUP('Design #'!F447,Labels!$A:$B,2,FALSE)","v":"Working with other organisations on common challenges (e.g. flooding) to share costs and expertise allowing for more and smarter investment to tackle problems"}]
[30,12,{"$f":"VLOOKUP('Design #'!C448,Labels!$A:$B,2,FALSE)","v":"Providing good and constant water pressure"},{"$f":"VLOOKUP('Design #'!D448,Labels!$A:$B,2,FALSE)","v":"Providing water that is aesthetically pleasing (clear and clean with no odour or unusual taste or colour)"},{"$f":"VLOOKUP('Design #'!E448,Labels!$A:$B,2,FALSE)","v":"Preventing the likelihood of restrictions on water use, including hosepipe bans, in a drought"},{"$f":"VLOOKUP('Design #'!F448,Labels!$A:$B,2,FALSE)","v":"Keeping bills affordable for all"}]
[30,13,{"$f":"VLOOKUP('Design #'!C449,Labels!$A:$B,2,FALSE)","v":"Working with other organisations on common challenges (e.g. flooding) to share costs and expertise allowing for more and smarter investment to tackle problems"},{"$f":"VLOOKUP('Design #'!D449,Labels!$A:$B,2,FALSE)","v":"Supporting customers to reduce their water use and prevent blockages through education and provision of free tools/devices"},{"$f":"VLOOKUP('Design #'!E449,Labels!$A:$B,2,FALSE)","v":"Providing a high level of customer service (e.g. resolving queries quickly)"},{"$f":"VLOOKUP('Design #'!F449,Labels!$A:$B,2,FALSE)","v":"Reduce and offset carbon emissions to achieve a 'net zero' position by 2030 "}]
[30,14,{"$f":"VLOOKUP('Design #'!C450,Labels!$A:$B,2,FALSE)","v":"Preventing leaks from Yorkshire Water's pipe network"},{"$f":"VLOOKUP('Design #'!D450,Labels!$A:$B,2,FALSE)","v":"Providing a high level of customer service (e.g. resolving queries quickly)"},{"$f":"VLOOKUP('Design #'!E450,Labels!$A:$B,2,FALSE)","v":"Preventing pollution of rivers or streams from sewage pipes"},{"$f":"VLOOKUP('Design #'!F450,Labels!$A:$B,2,FALSE)","v":"Preventing sewage from entering homes and businesses "}]
[30,15,{"$f":"VLOOKUP('Design #'!C451,Labels!$A:$B,2,FALSE)","v":"Providing financial help and support to those who are struggling to pay their water bill"},{"$f":"VLOOKUP('Design #'!D451,Labels!$A:$B,2,FALSE)","v":"Providing a continuous supply of water that is safe to drink"},{"$f":"VLOOKUP('Design #'!E451,Labels!$A:$B,2,FALSE)","v":"Preventing interruptions to the supply of water (e.g. planned works, burst pipes, leaks and outages) that cause problems ranging from low pressure to no water"},{"$f":"VLOOKUP('Design #'!F451,Labels!$A:$B,2,FALSE)","v":"Ensuring additional support is available to those who need it e.g.  providing bills in braille, providing bottled water during times of interruptions for thos​e who can't get to a shop (elderly, medical conditions etc.)"}]
[31,1,{"$f":"VLOOKUP('Design #'!C452,Labels!$A:$B,2,FALSE)","v":"Reduce and offset carbon emissions to achieve a 'net zero' position by 2030 "},{"$f":"VLOOKUP('Design #'!D452,Labels!$A:$B,2,FALSE)","v":"Preventing leaks from Yorkshire Water's pipe network"},{"$f":"VLOOKUP('Design #'!E452,Labels!$A:$B,2,FALSE)","v":"Providing water that is aesthetically pleasing (clear and clean with no odour or unusual taste or colour)"},{"$f":"VLOOKUP('Design #'!F452,Labels!$A:$B,2,FALSE)","v":"Providing a continuous supply of water that is safe to drink"}]
[31,2,{"$f":"VLOOKUP('Design #'!C453,Labels!$A:$B,2,FALSE)","v":"Providing water that is aesthetically pleasing (clear and clean with no odour or unusual taste or colour)"},{"$f":"VLOOKUP('Design #'!D453,Labels!$A:$B,2,FALSE)","v":"Preventing pollution of rivers or streams from sewage pipes"},{"$f":"VLOOKUP('Design #'!E453,Labels!$A:$B,2,FALSE)","v":"Preventing leaks from Yorkshire Water's pipe network"},{"$f":"VLOOKUP('Design #'!F453,Labels!$A:$B,2,FALSE)","v":"Preventing sewage entering gardens and public spaces from pipe collapses or blockages"}]
[31,3,{"$f":"VLOOKUP('Design #'!C454,Labels!$A:$B,2,FALSE)","v":"Preventing interruptions to the supply of water (e.g. planned works, burst pipes, leaks and outages) that cause problems ranging from low pressure to no water"},{"$f":"VLOOKUP('Design #'!D454,Labels!$A:$B,2,FALSE)","v":"Preventing the likelihood of restrictions on water use, including hosepipe bans, in a drought"},{"$f":"VLOOKUP('Design #'!E454,Labels!$A:$B,2,FALSE)","v":"Providing appropriate sewer capacity and pumping capabilities to cope with widespread flood events"},{"$f":"VLOOKUP('Design #'!F454,Labels!$A:$B,2,FALSE)","v":"Preventing pollution of rivers or streams from sewage pipes"}]
[31,4,{"$f":"VLOOKUP('Design #'!C455,Labels!$A:$B,2,FALSE)","v":"Providing a high level of customer service (e.g. resolving queries quickly)"},{"$f":"VLOOKUP('Design #'!D455,Labels!$A:$B,2,FALSE)","v":"Working with other organisations on common challenges (e.g. flooding) to share costs and expertise allowing for more and smarter investment to tackle problems"},{"$f":"VLOOKUP('Design #'!E455,Labels!$A:$B,2,FALSE)","v":"Keeping bills affordable for all"},{"$f":"VLOOKUP('Design #'!F455,Labels!$A:$B,2,FALSE)","v":"Preventing leaks from Yorkshire Water's pipe network"}]
[31,5,{"$f":"VLOOKUP('Design #'!C456,Labels!$A:$B,2,FALSE)","v":"Supporting customers to reduce their water use and prevent blockages through education and provision of free tools/devices"},{"$f":"VLOOKUP('Design #'!D456,Labels!$A:$B,2,FALSE)","v":"Providing financial help and support to those who are struggling to pay their water bill"},{"$f":"VLOOKUP('Design #'!E456,Labels!$A:$B,2,FALSE)","v":"Treating waste water to a high standard to ensure good quality water in Yorkshire's rivers and beaches"},{"$f":"VLOOKUP('Design #'!F456,Labels!$A:$B,2,FALSE)","v":"Providing appropriate sewer capacity and pumping capabilities to cope with widespread flood events"}]
[31,6,{"$f":"VLOOKUP('Design #'!C457,Labels!$A:$B,2,FALSE)","v":"Preventing sewage from entering homes and businesses "},{"$f":"VLOOKUP('Design #'!D457,Labels!$A:$B,2,FALSE)","v":"Preventing pollution of rivers or streams from sewage pipes"},{"$f":"VLOOKUP('Design #'!E457,Labels!$A:$B,2,FALSE)","v":"Working with other organisations on common challenges (e.g. flooding) to share costs and expertise allowing for more and smarter investment to tackle problems"},{"$f":"VLOOKUP('Design #'!F457,Labels!$A:$B,2,FALSE)","v":"Treating waste water to a high standard to ensure good quality water in Yorkshire's rivers and beaches"}]
[31,7,{"$f":"VLOOKUP('Design #'!C458,Labels!$A:$B,2,FALSE)","v":"Keeping bills affordable for all"},{"$f":"VLOOKUP('Design #'!D458,Labels!$A:$B,2,FALSE)","v":"Ensuring additional support is available to those who need it e.g.  providing bills in braille, providing bottled water during times of interruptions for thos​e who can't get to a shop (elderly, medical conditions etc.)"},{"$f":"VLOOKUP('Design #'!E458,Labels!$A:$B,2,FALSE)","v":"Preventing the likelihood of restrictions on water use, including hosepipe bans, in a drought"},{"$f":"VLOOKUP('Design #'!F458,Labels!$A:$B,2,FALSE)","v":"Reduce and offset carbon emissions to achieve a 'net zero' position by 2030 "}]
[31,8,{"$f":"VLOOKUP('Design #'!C459,Labels!$A:$B,2,FALSE)","v":"Providing a continuous supply of water that is safe to drink"},{"$f":"VLOOKUP('Design #'!D459,Labels!$A:$B,2,FALSE)","v":"Providing appropriate sewer capacity and pumping capabilities to cope with widespread flood events"},{"$f":"VLOOKUP('Design #'!E459,Labels!$A:$B,2,FALSE)","v":"Ensuring additional support is available to those who need it e.g.  providing bills in braille, providing bottled water during times of interruptions for thos​e who can't get to a shop (elderly, medical conditions etc.)"},{"$f":"VLOOKUP('Design #'!F459,Labels!$A:$B,2,FALSE)","v":"Providing water that is aesthetically pleasing (clear and clean with no odour or unusual taste or colour)"}]
[31,9,{"$f":"VLOOKUP('Design #'!C460,Labels!$A:$B,2,FALSE)","v":"Working with other organisations on common challenges (e.g. flooding) to share costs and expertise allowing for more and smarter investment to tackle problems"},{"$f":"VLOOKUP('Design #'!D460,Labels!$A:$B,2,FALSE)","v":"Providing good and constant water pressure"},{"$f":"VLOOKUP('Design #'!E460,Labels!$A:$B,2,FALSE)","v":"Ensuring that land owned by Yorkshire Water is conserved or enhanced to improve quality of the water it collects and reduce flooding"},{"$f":"VLOOKUP('Design #'!F460,Labels!$A:$B,2,FALSE)","v":"Preventing interruptions to the supply of water (e.g. planned works, burst pipes, leaks and outages) that cause problems ranging from low pressure to no water"}]
[31,10,{"$f":"VLOOKUP('Design #'!C461,Labels!$A:$B,2,FALSE)","v":"Preventing the likelihood of restrictions on water use, including hosepipe bans, in a drought"},{"$f":"VLOOKUP('Design #'!D461,Labels!$A:$B,2,FALSE)","v":"Providing a high level of customer service (e.g. resolving queries quickly)"},{"$f":"VLOOKUP('Design #'!E461,Labels!$A:$B,2,FALSE)","v":"Preventing sewage from entering homes and businesses "},{"$f":"VLOOKUP('Design #'!F461,Labels!$A:$B,2,FALSE)","v":"Preventing interruptions to the supply of water (e.g. planned works, burst pipes, leaks and outages) that cause problems ranging from low pressure to no water"}]
[31,11,{"$f":"VLOOKUP('Design #'!C462,Labels!$A:$B,2,FALSE)","v":"Providing a continuous supply of water that is safe to drink"},{"$f":"VLOOKUP('Design #'!D462,Labels!$A:$B,2,FALSE)","v":"Reduce and offset carbon emissions to achieve a 'net zero' position by 2030 "},{"$f":"VLOOKUP('Design #'!E462,Labels!$A:$B,2,FALSE)","v":"Preventing sewage from entering homes and businesses "},{"$f":"VLOOKUP('Design #'!F462,Labels!$A:$B,2,FALSE)","v":"Reducing the release of untreated sewage mixed with rain water into rivers and streams during times of heavy rainfall"}]
[31,12,{"$f":"VLOOKUP('Design #'!C463,Labels!$A:$B,2,FALSE)","v":"Preventing sewage entering gardens and public spaces from pipe collapses or blockages"},{"$f":"VLOOKUP('Design #'!D463,Labels!$A:$B,2,FALSE)","v":"Providing good and constant water pressure"},{"$f":"VLOOKUP('Design #'!E463,Labels!$A:$B,2,FALSE)","v":"Supporting customers to reduce their water use and prevent blockages through education and provision of free tools/devices"},{"$f":"VLOOKUP('Design #'!F463,Labels!$A:$B,2,FALSE)","v":"Preventing sewage from entering homes and businesses "}]
[31,13,{"$f":"VLOOKUP('Design #'!C464,Labels!$A:$B,2,FALSE)","v":"Reduce and offset carbon emissions to achieve a 'net zero' position by 2030 "},{"$f":"VLOOKUP('Design #'!D464,Labels!$A:$B,2,FALSE)","v":"Keeping bills affordable for all"},{"$f":"VLOOKUP('Design #'!E464,Labels!$A:$B,2,FALSE)","v":"Preventing sewage entering gardens and public spaces from pipe collapses or blockages"},{"$f":"VLOOKUP('Design #'!F464,Labels!$A:$B,2,FALSE)","v":"Ensuring that land owned by Yorkshire Water is conserved or enhanced to improve quality of the water it collects and reduce flooding"}]
[31,14,{"$f":"VLOOKUP('Design #'!C465,Labels!$A:$B,2,FALSE)","v":"Ensuring additional support is available to those who need it e.g.  providing bills in braille, providing bottled water during times of interruptions for thos​e who can't get to a shop (elderly, medical conditions etc.)"},{"$f":"VLOOKUP('Design #'!D465,Labels!$A:$B,2,FALSE)","v":"Reducing the release of untreated sewage mixed with rain water into rivers and streams during times of heavy rainfall"},{"$f":"VLOOKUP('Design #'!E465,Labels!$A:$B,2,FALSE)","v":"Ensuring that land owned by Yorkshire Water is conserved or enhanced to improve quality of the water it collects and reduce flooding"},{"$f":"VLOOKUP('Design #'!F465,Labels!$A:$B,2,FALSE)","v":"Providing financial help and support to those who are struggling to pay their water bill"}]
[31,15,{"$f":"VLOOKUP('Design #'!C466,Labels!$A:$B,2,FALSE)","v":"Treating waste water to a high standard to ensure good quality water in Yorkshire's rivers and beaches"},{"$f":"VLOOKUP('Design #'!D466,Labels!$A:$B,2,FALSE)","v":"Providing financial help and support to those who are struggling to pay their water bill"},{"$f":"VLOOKUP('Design #'!E466,Labels!$A:$B,2,FALSE)","v":"Reducing the release of untreated sewage mixed with rain water into rivers and streams during times of heavy rainfall"},{"$f":"VLOOKUP('Design #'!F466,Labels!$A:$B,2,FALSE)","v":"Supporting customers to reduce their water use and prevent blockages through education and provision of free tools/devices"}]
[32,1,{"$f":"VLOOKUP('Design #'!C467,Labels!$A:$B,2,FALSE)","v":"Preventing sewage entering gardens and public spaces from pipe collapses or blockages"},{"$f":"VLOOKUP('Design #'!D467,Labels!$A:$B,2,FALSE)","v":"Preventing interruptions to the supply of water (e.g. planned works, burst pipes, leaks and outages) that cause problems ranging from low pressure to no water"},{"$f":"VLOOKUP('Design #'!E467,Labels!$A:$B,2,FALSE)","v":"Providing a high level of customer service (e.g. resolving queries quickly)"},{"$f":"VLOOKUP('Design #'!F467,Labels!$A:$B,2,FALSE)","v":"Providing appropriate sewer capacity and pumping capabilities to cope with widespread flood events"}]
[32,2,{"$f":"VLOOKUP('Design #'!C468,Labels!$A:$B,2,FALSE)","v":"Preventing the likelihood of restrictions on water use, including hosepipe bans, in a drought"},{"$f":"VLOOKUP('Design #'!D468,Labels!$A:$B,2,FALSE)","v":"Treating waste water to a high standard to ensure good quality water in Yorkshire's rivers and beaches"},{"$f":"VLOOKUP('Design #'!E468,Labels!$A:$B,2,FALSE)","v":"Working with other organisations on common challenges (e.g. flooding) to share costs and expertise allowing for more and smarter investment to tackle problems"},{"$f":"VLOOKUP('Design #'!F468,Labels!$A:$B,2,FALSE)","v":"Providing water that is aesthetically pleasing (clear and clean with no odour or unusual taste or colour)"}]
[32,3,{"$f":"VLOOKUP('Design #'!C469,Labels!$A:$B,2,FALSE)","v":"Providing a high level of customer service (e.g. resolving queries quickly)"},{"$f":"VLOOKUP('Design #'!D469,Labels!$A:$B,2,FALSE)","v":"Ensuring additional support is available to those who need it e.g.  providing bills in braille, providing bottled water during times of interruptions for thos​e who can't get to a shop (elderly, medical conditions etc.)"},{"$f":"VLOOKUP('Design #'!E469,Labels!$A:$B,2,FALSE)","v":"Preventing sewage entering gardens and public spaces from pipe collapses or blockages"},{"$f":"VLOOKUP('Design #'!F469,Labels!$A:$B,2,FALSE)","v":"Treating waste water to a high standard to ensure good quality water in Yorkshire's rivers and beaches"}]
[32,4,{"$f":"VLOOKUP('Design #'!C470,Labels!$A:$B,2,FALSE)","v":"Keeping bills affordable for all"},{"$f":"VLOOKUP('Design #'!D470,Labels!$A:$B,2,FALSE)","v":"Preventing leaks from Yorkshire Water's pipe network"},{"$f":"VLOOKUP('Design #'!E470,Labels!$A:$B,2,FALSE)","v":"Providing good and constant water pressure"},{"$f":"VLOOKUP('Design #'!F470,Labels!$A:$B,2,FALSE)","v":"Providing financial help and support to those who are struggling to pay their water bill"}]
[32,5,{"$f":"VLOOKUP('Design #'!C471,Labels!$A:$B,2,FALSE)","v":"Supporting customers to reduce their water use and prevent blockages through education and provision of free tools/devices"},{"$f":"VLOOKUP('Design #'!D471,Labels!$A:$B,2,FALSE)","v":"Working with other organisations on common challenges (e.g. flooding) to share costs and expertise allowing for more and smarter investment to tackle problems"},{"$f":"VLOOKUP('Design #'!E471,Labels!$A:$B,2,FALSE)","v":"Preventing leaks from Yorkshire Water's pipe network"},{"$f":"VLOOKUP('Design #'!F471,Labels!$A:$B,2,FALSE)","v":"Ensuring additional support is available to those who need it e.g.  providing bills in braille, providing bottled water during times of interruptions for thos​e who can't get to a shop (elderly, medical conditions etc.)"}]
[32,6,{"$f":"VLOOKUP('Design #'!C472,Labels!$A:$B,2,FALSE)","v":"Preventing pollution of rivers or streams from sewage pipes"},{"$f":"VLOOKUP('Design #'!D472,Labels!$A:$B,2,FALSE)","v":"Reduce and offset carbon emissions to achieve a 'net zero' position by 2030 "},{"$f":"VLOOKUP('Design #'!E472,Labels!$A:$B,2,FALSE)","v":"Ensuring additional support is available to those who need it e.g.  providing bills in braille, providing bottled water during times of interruptions for thos​e who can't get to a shop (elderly, medical conditions etc.)"},{"$f":"VLOOKUP('Design #'!F472,Labels!$A:$B,2,FALSE)","v":"Providing good and constant water pressure"}]
[32,7,{"$f":"VLOOKUP('Design #'!C473,Labels!$A:$B,2,FALSE)","v":"Supporting customers to reduce their water use and prevent blockages through education and provision of free tools/devices"},{"$f":"VLOOKUP('Design #'!D473,Labels!$A:$B,2,FALSE)","v":"Reduce and offset carbon emissions to achieve a 'net zero' position by 2030 "},{"$f":"VLOOKUP('Design #'!E473,Labels!$A:$B,2,FALSE)","v":"Preventing pollution of rivers or streams from sewage pipes"},{"$f":"VLOOKUP('Design #'!F473,Labels!$A:$B,2,FALSE)","v":"Keeping bills affordable for all"}]
[32,8,{"$f":"VLOOKUP('Design #'!C474,Labels!$A:$B,2,FALSE)","v":"Reducing the release of untreated sewage mixed with rain water into rivers and streams during times of heavy rainfall"},{"$f":"VLOOKUP('Design #'!D474,Labels!$A:$B,2,FALSE)","v":"Preventing sewage entering gardens and public spaces from pipe collapses or blockages"},{"$f":"VLOOKUP('Design #'!E474,Labels!$A:$B,2,FALSE)","v":"Working with other organisations on common challenges (e.g. flooding) to share costs and expertise allowing for more and smarter investment to tackle problems"},{"$f":"VLOOKUP('Design #'!F474,Labels!$A:$B,2,FALSE)","v":"Preventing the likelihood of restrictions on water use, including hosepipe bans, in a drought"}]
[32,9,{"$f":"VLOOKUP('Design #'!C475,Labels!$A:$B,2,FALSE)","v":"Preventing sewage from entering homes and businesses "},{"$f":"VLOOKUP('Design #'!D475,Labels!$A:$B,2,FALSE)","v":"Keeping bills affordable for all"},{"$f":"VLOOKUP('Design #'!E475,Labels!$A:$B,2,FALSE)","v":"Preventing interruptions to the supply of water (e.g. planned works, burst pipes, leaks and outages) that cause problems ranging from low pressure to no water"},{"$f":"VLOOKUP('Design #'!F475,Labels!$A:$B,2,FALSE)","v":"Treating waste water to a high standard to ensure good quality water in Yorkshire's rivers and beaches"}]
[32,10,{"$f":"VLOOKUP('Design #'!C476,Labels!$A:$B,2,FALSE)","v":"Providing financial help and support to those who are struggling to pay their water bill"},{"$f":"VLOOKUP('Design #'!D476,Labels!$A:$B,2,FALSE)","v":"Preventing the likelihood of restrictions on water use, including hosepipe bans, in a drought"},{"$f":"VLOOKUP('Design #'!E476,Labels!$A:$B,2,FALSE)","v":"Providing a continuous supply of water that is safe to drink"},{"$f":"VLOOKUP('Design #'!F476,Labels!$A:$B,2,FALSE)","v":"Preventing pollution of rivers or streams from sewage pipes"}]
[32,11,{"$f":"VLOOKUP('Design #'!C477,Labels!$A:$B,2,FALSE)","v":"Providing water that is aesthetically pleasing (clear and clean with no odour or unusual taste or colour)"},{"$f":"VLOOKUP('Design #'!D477,Labels!$A:$B,2,FALSE)","v":"Supporting customers to reduce their water use and prevent blockages through education and provision of free tools/devices"},{"$f":"VLOOKUP('Design #'!E477,Labels!$A:$B,2,FALSE)","v":"Providing financial help and support to those who are struggling to pay their water bill"},{"$f":"VLOOKUP('Design #'!F477,Labels!$A:$B,2,FALSE)","v":"Preventing sewage from entering homes and businesses "}]
[32,12,{"$f":"VLOOKUP('Design #'!C478,Labels!$A:$B,2,FALSE)","v":"Ensuring that land owned by Yorkshire Water is conserved or enhanced to improve quality of the water it collects and reduce flooding"},{"$f":"VLOOKUP('Design #'!D478,Labels!$A:$B,2,FALSE)","v":"Providing a continuous supply of water that is safe to drink"},{"$f":"VLOOKUP('Design #'!E478,Labels!$A:$B,2,FALSE)","v":"Providing a high level of customer service (e.g. resolving queries quickly)"},{"$f":"VLOOKUP('Design #'!F478,Labels!$A:$B,2,FALSE)","v":"Providing good and constant water pressure"}]
[32,13,{"$f":"VLOOKUP('Design #'!C479,Labels!$A:$B,2,FALSE)","v":"Preventing leaks from Yorkshire Water's pipe network"},{"$f":"VLOOKUP('Design #'!D479,Labels!$A:$B,2,FALSE)","v":"Preventing sewage from entering homes and businesses "},{"$f":"VLOOKUP('Design #'!E479,Labels!$A:$B,2,FALSE)","v":"Providing appropriate sewer capacity and pumping capabilities to cope with widespread flood events"},{"$f":"VLOOKUP('Design #'!F479,Labels!$A:$B,2,FALSE)","v":"Reducing the release of untreated sewage mixed with rain water into rivers and streams during times of heavy rainfall"}]
[32,14,{"$f":"VLOOKUP('Design #'!C480,Labels!$A:$B,2,FALSE)","v":"Providing appropriate sewer capacity and pumping capabilities to cope with widespread flood events"},{"$f":"VLOOKUP('Design #'!D480,Labels!$A:$B,2,FALSE)","v":"Ensuring that land owned by Yorkshire Water is conserved or enhanced to improve quality of the water it collects and reduce flooding"},{"$f":"VLOOKUP('Design #'!E480,Labels!$A:$B,2,FALSE)","v":"Reduce and offset carbon emissions to achieve a 'net zero' position by 2030 "},{"$f":"VLOOKUP('Design #'!F480,Labels!$A:$B,2,FALSE)","v":"Preventing pollution of rivers or streams from sewage pipes"}]
[32,15,{"$f":"VLOOKUP('Design #'!C481,Labels!$A:$B,2,FALSE)","v":"Reducing the release of untreated sewage mixed with rain water into rivers and streams during times of heavy rainfall"},{"$f":"VLOOKUP('Design #'!D481,Labels!$A:$B,2,FALSE)","v":"Providing water that is aesthetically pleasing (clear and clean with no odour or unusual taste or colour)"},{"$f":"VLOOKUP('Design #'!E481,Labels!$A:$B,2,FALSE)","v":"Providing a high level of customer service (e.g. resolving queries quickly)"},{"$f":"VLOOKUP('Design #'!F481,Labels!$A:$B,2,FALSE)","v":"Ensuring that land owned by Yorkshire Water is conserved or enhanced to improve quality of the water it collects and reduce flooding"}]
[33,1,{"$f":"VLOOKUP('Design #'!C482,Labels!$A:$B,2,FALSE)","v":"Preventing interruptions to the supply of water (e.g. planned works, burst pipes, leaks and outages) that cause problems ranging from low pressure to no water"},{"$f":"VLOOKUP('Design #'!D482,Labels!$A:$B,2,FALSE)","v":"Preventing sewage from entering homes and businesses "},{"$f":"VLOOKUP('Design #'!E482,Labels!$A:$B,2,FALSE)","v":"Ensuring additional support is available to those who need it e.g.  providing bills in braille, providing bottled water during times of interruptions for thos​e who can't get to a shop (elderly, medical conditions etc.)"},{"$f":"VLOOKUP('Design #'!F482,Labels!$A:$B,2,FALSE)","v":"Preventing leaks from Yorkshire Water's pipe network"}]
[33,2,{"$f":"VLOOKUP('Design #'!C483,Labels!$A:$B,2,FALSE)","v":"Preventing leaks from Yorkshire Water's pipe network"},{"$f":"VLOOKUP('Design #'!D483,Labels!$A:$B,2,FALSE)","v":"Ensuring that land owned by Yorkshire Water is conserved or enhanced to improve quality of the water it collects and reduce flooding"},{"$f":"VLOOKUP('Design #'!E483,Labels!$A:$B,2,FALSE)","v":"Preventing interruptions to the supply of water (e.g. planned works, burst pipes, leaks and outages) that cause problems ranging from low pressure to no water"},{"$f":"VLOOKUP('Design #'!F483,Labels!$A:$B,2,FALSE)","v":"Providing a continuous supply of water that is safe to drink"}]
[33,3,{"$f":"VLOOKUP('Design #'!C484,Labels!$A:$B,2,FALSE)","v":"Ensuring that land owned by Yorkshire Water is conserved or enhanced to improve quality of the water it collects and reduce flooding"},{"$f":"VLOOKUP('Design #'!D484,Labels!$A:$B,2,FALSE)","v":"Ensuring additional support is available to those who need it e.g.  providing bills in braille, providing bottled water during times of interruptions for thos​e who can't get to a shop (elderly, medical conditions etc.)"},{"$f":"VLOOKUP('Design #'!E484,Labels!$A:$B,2,FALSE)","v":"Preventing sewage from entering homes and businesses "},{"$f":"VLOOKUP('Design #'!F484,Labels!$A:$B,2,FALSE)","v":"Preventing the likelihood of restrictions on water use, including hosepipe bans, in a drought"}]
[33,4,{"$f":"VLOOKUP('Design #'!C485,Labels!$A:$B,2,FALSE)","v":"Preventing the likelihood of restrictions on water use, including hosepipe bans, in a drought"},{"$f":"VLOOKUP('Design #'!D485,Labels!$A:$B,2,FALSE)","v":"Keeping bills affordable for all"},{"$f":"VLOOKUP('Design #'!E485,Labels!$A:$B,2,FALSE)","v":"Preventing sewage entering gardens and public spaces from pipe collapses or blockages"},{"$f":"VLOOKUP('Design #'!F485,Labels!$A:$B,2,FALSE)","v":"Providing appropriate sewer capacity and pumping capabilities to cope with widespread flood events"}]
[33,5,{"$f":"VLOOKUP('Design #'!C486,Labels!$A:$B,2,FALSE)","v":"Providing a continuous supply of water that is safe to drink"},{"$f":"VLOOKUP('Design #'!D486,Labels!$A:$B,2,FALSE)","v":"Preventing pollution of rivers or streams from sewage pipes"},{"$f":"VLOOKUP('Design #'!E486,Labels!$A:$B,2,FALSE)","v":"Treating waste water to a high standard to ensure good quality water in Yorkshire's rivers and beaches"},{"$f":"VLOOKUP('Design #'!F486,Labels!$A:$B,2,FALSE)","v":"Providing financial help and support to those who are struggling to pay their water bill"}]
[33,6,{"$f":"VLOOKUP('Design #'!C487,Labels!$A:$B,2,FALSE)","v":"Providing financial help and support to those who are struggling to pay their water bill"},{"$f":"VLOOKUP('Design #'!D487,Labels!$A:$B,2,FALSE)","v":"Preventing the likelihood of restrictions on water use, including hosepipe bans, in a drought"},{"$f":"VLOOKUP('Design #'!E487,Labels!$A:$B,2,FALSE)","v":"Preventing leaks from Yorkshire Water's pipe network"},{"$f":"VLOOKUP('Design #'!F487,Labels!$A:$B,2,FALSE)","v":"Providing a high level of customer service (e.g. resolving queries quickly)"}]
[33,7,{"$f":"VLOOKUP('Design #'!C488,Labels!$A:$B,2,FALSE)","v":"Preventing sewage from entering homes and businesses "},{"$f":"VLOOKUP('Design #'!D488,Labels!$A:$B,2,FALSE)","v":"Preventing sewage entering gardens and public spaces from pipe collapses or blockages"},{"$f":"VLOOKUP('Design #'!E488,Labels!$A:$B,2,FALSE)","v":"Providing a continuous supply of water that is safe to drink"},{"$f":"VLOOKUP('Design #'!F488,Labels!$A:$B,2,FALSE)","v":"Working with other organisations on common challenges (e.g. flooding) to share costs and expertise allowing for more and smarter investment to tackle problems"}]
[33,8,{"$f":"VLOOKUP('Design #'!C489,Labels!$A:$B,2,FALSE)","v":"Working with other organisations on common challenges (e.g. flooding) to share costs and expertise allowing for more and smarter investment to tackle problems"},{"$f":"VLOOKUP('Design #'!D489,Labels!$A:$B,2,FALSE)","v":"Reducing the release of untreated sewage mixed with rain water into rivers and streams during times of heavy rainfall"},{"$f":"VLOOKUP('Design #'!E489,Labels!$A:$B,2,FALSE)","v":"Treating waste water to a high standard to ensure good quality water in Yorkshire's rivers and beaches"},{"$f":"VLOOKUP('Design #'!F489,Labels!$A:$B,2,FALSE)","v":"Providing a continuous supply of water that is safe to drink"}]
[33,9,{"$f":"VLOOKUP('Design #'!C490,Labels!$A:$B,2,FALSE)","v":"Providing good and constant water pressure"},{"$f":"VLOOKUP('Design #'!D490,Labels!$A:$B,2,FALSE)","v":"Providing a high level of customer service (e.g. resolving queries quickly)"},{"$f":"VLOOKUP('Design #'!E490,Labels!$A:$B,2,FALSE)","v":"Reduce and offset carbon emissions to achieve a 'net zero' position by 2030 "},{"$f":"VLOOKUP('Design #'!F490,Labels!$A:$B,2,FALSE)","v":"Reducing the release of untreated sewage mixed with rain water into rivers and streams during times of heavy rainfall"}]
[33,10,{"$f":"VLOOKUP('Design #'!C491,Labels!$A:$B,2,FALSE)","v":"Treating waste water to a high standard to ensure good quality water in Yorkshire's rivers and beaches"},{"$f":"VLOOKUP('Design #'!D491,Labels!$A:$B,2,FALSE)","v":"Providing good and constant water pressure"},{"$f":"VLOOKUP('Design #'!E491,Labels!$A:$B,2,FALSE)","v":"Providing appropriate sewer capacity and pumping capabilities to cope with widespread flood events"},{"$f":"VLOOKUP('Design #'!F491,Labels!$A:$B,2,FALSE)","v":"Supporting customers to reduce their water use and prevent blockages through education and provision of free tools/devices"}]
[33,11,{"$f":"VLOOKUP('Design #'!C492,Labels!$A:$B,2,FALSE)","v":"Providing a high level of customer service (e.g. resolving queries quickly)"},{"$f":"VLOOKUP('Design #'!D492,Labels!$A:$B,2,FALSE)","v":"Supporting customers to reduce their water use and prevent blockages through education and provision of free tools/devices"},{"$f":"VLOOKUP('Design #'!E492,Labels!$A:$B,2,FALSE)","v":"Keeping bills affordable for all"},{"$f":"VLOOKUP('Design #'!F492,Labels!$A:$B,2,FALSE)","v":"Ensuring additional support is available to those who need it e.g.  providing bills in braille, providing bottled water during times of interruptions for thos​e who can't get to a shop (elderly, medical conditions etc.)"}]
[33,12,{"$f":"VLOOKUP('Design #'!C493,Labels!$A:$B,2,FALSE)","v":"Keeping bills affordable for all"},{"$f":"VLOOKUP('Design #'!D493,Labels!$A:$B,2,FALSE)","v":"Preventing interruptions to the supply of water (e.g. planned works, burst pipes, leaks and outages) that cause problems ranging from low pressure to no water"},{"$f":"VLOOKUP('Design #'!E493,Labels!$A:$B,2,FALSE)","v":"Providing water that is aesthetically pleasing (clear and clean with no odour or unusual taste or colour)"},{"$f":"VLOOKUP('Design #'!F493,Labels!$A:$B,2,FALSE)","v":"Preventing pollution of rivers or streams from sewage pipes"}]
[33,13,{"$f":"VLOOKUP('Design #'!C494,Labels!$A:$B,2,FALSE)","v":"Providing water that is aesthetically pleasing (clear and clean with no odour or unusual taste or colour)"},{"$f":"VLOOKUP('Design #'!D494,Labels!$A:$B,2,FALSE)","v":"Preventing sewage entering gardens and public spaces from pipe collapses or blockages"},{"$f":"VLOOKUP('Design #'!E494,Labels!$A:$B,2,FALSE)","v":"Providing good and constant water pressure"},{"$f":"VLOOKUP('Design #'!F494,Labels!$A:$B,2,FALSE)","v":"Preventing interruptions to the supply of water (e.g. planned works, burst pipes, leaks and outages) that cause problems ranging from low pressure to no water"}]
[33,14,{"$f":"VLOOKUP('Design #'!C495,Labels!$A:$B,2,FALSE)","v":"Working with other organisations on common challenges (e.g. flooding) to share costs and expertise allowing for more and smarter investment to tackle problems"},{"$f":"VLOOKUP('Design #'!D495,Labels!$A:$B,2,FALSE)","v":"Providing water that is aesthetically pleasing (clear and clean with no odour or unusual taste or colour)"},{"$f":"VLOOKUP('Design #'!E495,Labels!$A:$B,2,FALSE)","v":"Supporting customers to reduce their water use and prevent blockages through education and provision of free tools/devices"},{"$f":"VLOOKUP('Design #'!F495,Labels!$A:$B,2,FALSE)","v":"Ensuring that land owned by Yorkshire Water is conserved or enhanced to improve quality of the water it collects and reduce flooding"}]
[33,15,{"$f":"VLOOKUP('Design #'!C496,Labels!$A:$B,2,FALSE)","v":"Providing appropriate sewer capacity and pumping capabilities to cope with widespread flood events"},{"$f":"VLOOKUP('Design #'!D496,Labels!$A:$B,2,FALSE)","v":"Reducing the release of untreated sewage mixed with rain water into rivers and streams during times of heavy rainfall"},{"$f":"VLOOKUP('Design #'!E496,Labels!$A:$B,2,FALSE)","v":"Providing financial help and support to those who are struggling to pay their water bill"},{"$f":"VLOOKUP('Design #'!F496,Labels!$A:$B,2,FALSE)","v":"Reduce and offset carbon emissions to achieve a 'net zero' position by 2030 "}]
[34,1,{"$f":"VLOOKUP('Design #'!C497,Labels!$A:$B,2,FALSE)","v":"Preventing interruptions to the supply of water (e.g. planned works, burst pipes, leaks and outages) that cause problems ranging from low pressure to no water"},{"$f":"VLOOKUP('Design #'!D497,Labels!$A:$B,2,FALSE)","v":"Working with other organisations on common challenges (e.g. flooding) to share costs and expertise allowing for more and smarter investment to tackle problems"},{"$f":"VLOOKUP('Design #'!E497,Labels!$A:$B,2,FALSE)","v":"Reduce and offset carbon emissions to achieve a 'net zero' position by 2030 "},{"$f":"VLOOKUP('Design #'!F497,Labels!$A:$B,2,FALSE)","v":"Providing financial help and support to those who are struggling to pay their water bill"}]
[34,2,{"$f":"VLOOKUP('Design #'!C498,Labels!$A:$B,2,FALSE)","v":"Keeping bills affordable for all"},{"$f":"VLOOKUP('Design #'!D498,Labels!$A:$B,2,FALSE)","v":"Providing a continuous supply of water that is safe to drink"},{"$f":"VLOOKUP('Design #'!E498,Labels!$A:$B,2,FALSE)","v":"Treating waste water to a high standard to ensure good quality water in Yorkshire's rivers and beaches"},{"$f":"VLOOKUP('Design #'!F498,Labels!$A:$B,2,FALSE)","v":"Providing a high level of customer service (e.g. resolving queries quickly)"}]
[34,3,{"$f":"VLOOKUP('Design #'!C499,Labels!$A:$B,2,FALSE)","v":"Providing good and constant water pressure"},{"$f":"VLOOKUP('Design #'!D499,Labels!$A:$B,2,FALSE)","v":"Ensuring additional support is available to those who need it e.g.  providing bills in braille, providing bottled water during times of interruptions for thos​e who can't get to a shop (elderly, medical conditions etc.)"},{"$f":"VLOOKUP('Design #'!E499,Labels!$A:$B,2,FALSE)","v":"Providing appropriate sewer capacity and pumping capabilities to cope with widespread flood events"},{"$f":"VLOOKUP('Design #'!F499,Labels!$A:$B,2,FALSE)","v":"Providing a continuous supply of water that is safe to drink"}]
[34,4,{"$f":"VLOOKUP('Design #'!C500,Labels!$A:$B,2,FALSE)","v":"Providing a continuous supply of water that is safe to drink"},{"$f":"VLOOKUP('Design #'!D500,Labels!$A:$B,2,FALSE)","v":"Preventing interruptions to the supply of water (e.g. planned works, burst pipes, leaks and outages) that cause problems ranging from low pressure to no water"},{"$f":"VLOOKUP('Design #'!E500,Labels!$A:$B,2,FALSE)","v":"Preventing the likelihood of restrictions on water use, including hosepipe bans, in a drought"},{"$f":"VLOOKUP('Design #'!F500,Labels!$A:$B,2,FALSE)","v":"Supporting customers to reduce their water use and prevent blockages through education and provision of free tools/devices"}]
[34,5,{"$f":"VLOOKUP('Design #'!C501,Labels!$A:$B,2,FALSE)","v":"Ensuring that land owned by Yorkshire Water is conserved or enhanced to improve quality of the water it collects and reduce flooding"},{"$f":"VLOOKUP('Design #'!D501,Labels!$A:$B,2,FALSE)","v":"Providing financial help and support to those who are struggling to pay their water bill"},{"$f":"VLOOKUP('Design #'!E501,Labels!$A:$B,2,FALSE)","v":"Preventing sewage from entering homes and businesses "},{"$f":"VLOOKUP('Design #'!F501,Labels!$A:$B,2,FALSE)","v":"Keeping bills affordable for all"}]
[34,6,{"$f":"VLOOKUP('Design #'!C502,Labels!$A:$B,2,FALSE)","v":"Providing a high level of customer service (e.g. resolving queries quickly)"},{"$f":"VLOOKUP('Design #'!D502,Labels!$A:$B,2,FALSE)","v":"Providing appropriate sewer capacity and pumping capabilities to cope with widespread flood events"},{"$f":"VLOOKUP('Design #'!E502,Labels!$A:$B,2,FALSE)","v":"Providing water that is aesthetically pleasing (clear and clean with no odour or unusual taste or colour)"},{"$f":"VLOOKUP('Design #'!F502,Labels!$A:$B,2,FALSE)","v":"Preventing sewage from entering homes and businesses "}]
[34,7,{"$f":"VLOOKUP('Design #'!C503,Labels!$A:$B,2,FALSE)","v":"Preventing the likelihood of restrictions on water use, including hosepipe bans, in a drought"},{"$f":"VLOOKUP('Design #'!D503,Labels!$A:$B,2,FALSE)","v":"Treating waste water to a high standard to ensure good quality water in Yorkshire's rivers and beaches"},{"$f":"VLOOKUP('Design #'!E503,Labels!$A:$B,2,FALSE)","v":"Reducing the release of untreated sewage mixed with rain water into rivers and streams during times of heavy rainfall"},{"$f":"VLOOKUP('Design #'!F503,Labels!$A:$B,2,FALSE)","v":"Providing water that is aesthetically pleasing (clear and clean with no odour or unusual taste or colour)"}]
[34,8,{"$f":"VLOOKUP('Design #'!C504,Labels!$A:$B,2,FALSE)","v":"Ensuring additional support is available to those who need it e.g.  providing bills in braille, providing bottled water during times of interruptions for thos​e who can't get to a shop (elderly, medical conditions etc.)"},{"$f":"VLOOKUP('Design #'!D504,Labels!$A:$B,2,FALSE)","v":"Preventing leaks from Yorkshire Water's pipe network"},{"$f":"VLOOKUP('Design #'!E504,Labels!$A:$B,2,FALSE)","v":"Preventing pollution of rivers or streams from sewage pipes"},{"$f":"VLOOKUP('Design #'!F504,Labels!$A:$B,2,FALSE)","v":"Reducing the release of untreated sewage mixed with rain water into rivers and streams during times of heavy rainfall"}]
[34,9,{"$f":"VLOOKUP('Design #'!C505,Labels!$A:$B,2,FALSE)","v":"Preventing leaks from Yorkshire Water's pipe network"},{"$f":"VLOOKUP('Design #'!D505,Labels!$A:$B,2,FALSE)","v":"Providing appropriate sewer capacity and pumping capabilities to cope with widespread flood events"},{"$f":"VLOOKUP('Design #'!E505,Labels!$A:$B,2,FALSE)","v":"Keeping bills affordable for all"},{"$f":"VLOOKUP('Design #'!F505,Labels!$A:$B,2,FALSE)","v":"Working with other organisations on common challenges (e.g. flooding) to share costs and expertise allowing for more and smarter investment to tackle problems"}]
[34,10,{"$f":"VLOOKUP('Design #'!C506,Labels!$A:$B,2,FALSE)","v":"Preventing sewage entering gardens and public spaces from pipe collapses or blockages"},{"$f":"VLOOKUP('Design #'!D506,Labels!$A:$B,2,FALSE)","v":"Providing financial help and support to those who are struggling to pay their water bill"},{"$f":"VLOOKUP('Design #'!E506,Labels!$A:$B,2,FALSE)","v":"Ensuring that land owned by Yorkshire Water is conserved or enhanced to improve quality of the water it collects and reduce flooding"},{"$f":"VLOOKUP('Design #'!F506,Labels!$A:$B,2,FALSE)","v":"Ensuring additional support is available to those who need it e.g.  providing bills in braille, providing bottled water during times of interruptions for thos​e who can't get to a shop (elderly, medical conditions etc.)"}]
[34,11,{"$f":"VLOOKUP('Design #'!C507,Labels!$A:$B,2,FALSE)","v":"Reduce and offset carbon emissions to achieve a 'net zero' position by 2030 "},{"$f":"VLOOKUP('Design #'!D507,Labels!$A:$B,2,FALSE)","v":"Preventing the likelihood of restrictions on water use, including hosepipe bans, in a drought"},{"$f":"VLOOKUP('Design #'!E507,Labels!$A:$B,2,FALSE)","v":"Providing good and constant water pressure"},{"$f":"VLOOKUP('Design #'!F507,Labels!$A:$B,2,FALSE)","v":"Preventing sewage from entering homes and businesses "}]
[34,12,{"$f":"VLOOKUP('Design #'!C508,Labels!$A:$B,2,FALSE)","v":"Reduce and offset carbon emissions to achieve a 'net zero' position by 2030 "},{"$f":"VLOOKUP('Design #'!D508,Labels!$A:$B,2,FALSE)","v":"Reducing the release of untreated sewage mixed with rain water into rivers and streams during times of heavy rainfall"},{"$f":"VLOOKUP('Design #'!E508,Labels!$A:$B,2,FALSE)","v":"Providing water that is aesthetically pleasing (clear and clean with no odour or unusual taste or colour)"},{"$f":"VLOOKUP('Design #'!F508,Labels!$A:$B,2,FALSE)","v":"Preventing sewage entering gardens and public spaces from pipe collapses or blockages"}]
[34,13,{"$f":"VLOOKUP('Design #'!C509,Labels!$A:$B,2,FALSE)","v":"Preventing pollution of rivers or streams from sewage pipes"},{"$f":"VLOOKUP('Design #'!D509,Labels!$A:$B,2,FALSE)","v":"Keeping bills affordable for all"},{"$f":"VLOOKUP('Design #'!E509,Labels!$A:$B,2,FALSE)","v":"Reducing the release of untreated sewage mixed with rain water into rivers and streams during times of heavy rainfall"},{"$f":"VLOOKUP('Design #'!F509,Labels!$A:$B,2,FALSE)","v":"Supporting customers to reduce their water use and prevent blockages through education and provision of free tools/devices"}]
[34,14,{"$f":"VLOOKUP('Design #'!C510,Labels!$A:$B,2,FALSE)","v":"Preventing sewage entering gardens and public spaces from pipe collapses or blockages"},{"$f":"VLOOKUP('Design #'!D510,Labels!$A:$B,2,FALSE)","v":"Supporting customers to reduce their water use and prevent blockages through education and provision of free tools/devices"},{"$f":"VLOOKUP('Design #'!E510,Labels!$A:$B,2,FALSE)","v":"Preventing leaks from Yorkshire Water's pipe network"},{"$f":"VLOOKUP('Design #'!F510,Labels!$A:$B,2,FALSE)","v":"Reduce and offset carbon emissions to achieve a 'net zero' position by 2030 "}]
[34,15,{"$f":"VLOOKUP('Design #'!C511,Labels!$A:$B,2,FALSE)","v":"Providing good and constant water pressure"},{"$f":"VLOOKUP('Design #'!D511,Labels!$A:$B,2,FALSE)","v":"Working with other organisations on common challenges (e.g. flooding) to share costs and expertise allowing for more and smarter investment to tackle problems"},{"$f":"VLOOKUP('Design #'!E511,Labels!$A:$B,2,FALSE)","v":"Preventing pollution of rivers or streams from sewage pipes"},{"$f":"VLOOKUP('Design #'!F511,Labels!$A:$B,2,FALSE)","v":"Providing a high level of customer service (e.g. resolving queries quickly)"}]
[35,1,{"$f":"VLOOKUP('Design #'!C512,Labels!$A:$B,2,FALSE)","v":"Providing financial help and support to those who are struggling to pay their water bill"},{"$f":"VLOOKUP('Design #'!D512,Labels!$A:$B,2,FALSE)","v":"Preventing sewage from entering homes and businesses "},{"$f":"VLOOKUP('Design #'!E512,Labels!$A:$B,2,FALSE)","v":"Preventing sewage entering gardens and public spaces from pipe collapses or blockages"},{"$f":"VLOOKUP('Design #'!F512,Labels!$A:$B,2,FALSE)","v":"Providing a high level of customer service (e.g. resolving queries quickly)"}]
[35,2,{"$f":"VLOOKUP('Design #'!C513,Labels!$A:$B,2,FALSE)","v":"Preventing pollution of rivers or streams from sewage pipes"},{"$f":"VLOOKUP('Design #'!D513,Labels!$A:$B,2,FALSE)","v":"Providing good and constant water pressure"},{"$f":"VLOOKUP('Design #'!E513,Labels!$A:$B,2,FALSE)","v":"Ensuring that land owned by Yorkshire Water is conserved or enhanced to improve quality of the water it collects and reduce flooding"},{"$f":"VLOOKUP('Design #'!F513,Labels!$A:$B,2,FALSE)","v":"Working with other organisations on common challenges (e.g. flooding) to share costs and expertise allowing for more and smarter investment to tackle problems"}]
[35,3,{"$f":"VLOOKUP('Design #'!C514,Labels!$A:$B,2,FALSE)","v":"Ensuring additional support is available to those who need it e.g.  providing bills in braille, providing bottled water during times of interruptions for thos​e who can't get to a shop (elderly, medical conditions etc.)"},{"$f":"VLOOKUP('Design #'!D514,Labels!$A:$B,2,FALSE)","v":"Supporting customers to reduce their water use and prevent blockages through education and provision of free tools/devices"},{"$f":"VLOOKUP('Design #'!E514,Labels!$A:$B,2,FALSE)","v":"Preventing the likelihood of restrictions on water use, including hosepipe bans, in a drought"},{"$f":"VLOOKUP('Design #'!F514,Labels!$A:$B,2,FALSE)","v":"Preventing sewage entering gardens and public spaces from pipe collapses or blockages"}]
[35,4,{"$f":"VLOOKUP('Design #'!C515,Labels!$A:$B,2,FALSE)","v":"Providing water that is aesthetically pleasing (clear and clean with no odour or unusual taste or colour)"},{"$f":"VLOOKUP('Design #'!D515,Labels!$A:$B,2,FALSE)","v":"Preventing sewage from entering homes and businesses "},{"$f":"VLOOKUP('Design #'!E515,Labels!$A:$B,2,FALSE)","v":"Working with other organisations on common challenges (e.g. flooding) to share costs and expertise allowing for more and smarter investment to tackle problems"},{"$f":"VLOOKUP('Design #'!F515,Labels!$A:$B,2,FALSE)","v":"Providing a continuous supply of water that is safe to drink"}]
[35,5,{"$f":"VLOOKUP('Design #'!C516,Labels!$A:$B,2,FALSE)","v":"Treating waste water to a high standard to ensure good quality water in Yorkshire's rivers and beaches"},{"$f":"VLOOKUP('Design #'!D516,Labels!$A:$B,2,FALSE)","v":"Reduce and offset carbon emissions to achieve a 'net zero' position by 2030 "},{"$f":"VLOOKUP('Design #'!E516,Labels!$A:$B,2,FALSE)","v":"Providing financial help and support to those who are struggling to pay their water bill"},{"$f":"VLOOKUP('Design #'!F516,Labels!$A:$B,2,FALSE)","v":"Providing good and constant water pressure"}]
[35,6,{"$f":"VLOOKUP('Design #'!C517,Labels!$A:$B,2,FALSE)","v":"Preventing interruptions to the supply of water (e.g. planned works, burst pipes, leaks and outages) that cause problems ranging from low pressure to no water"},{"$f":"VLOOKUP('Design #'!D517,Labels!$A:$B,2,FALSE)","v":"Preventing leaks from Yorkshire Water's pipe network"},{"$f":"VLOOKUP('Design #'!E517,Labels!$A:$B,2,FALSE)","v":"Providing good and constant water pressure"},{"$f":"VLOOKUP('Design #'!F517,Labels!$A:$B,2,FALSE)","v":"Providing financial help and support to those who are struggling to pay their water bill"}]
[35,7,{"$f":"VLOOKUP('Design #'!C518,Labels!$A:$B,2,FALSE)","v":"Preventing pollution of rivers or streams from sewage pipes"},{"$f":"VLOOKUP('Design #'!D518,Labels!$A:$B,2,FALSE)","v":"Providing a high level of customer service (e.g. resolving queries quickly)"},{"$f":"VLOOKUP('Design #'!E518,Labels!$A:$B,2,FALSE)","v":"Ensuring additional support is available to those who need it e.g.  providing bills in braille, providing bottled water during times of interruptions for thos​e who can't get to a shop (elderly, medical conditions etc.)"},{"$f":"VLOOKUP('Design #'!F518,Labels!$A:$B,2,FALSE)","v":"Providing appropriate sewer capacity and pumping capabilities to cope with widespread flood events"}]
[35,8,{"$f":"VLOOKUP('Design #'!C519,Labels!$A:$B,2,FALSE)","v":"Preventing sewage from entering homes and businesses "},{"$f":"VLOOKUP('Design #'!D519,Labels!$A:$B,2,FALSE)","v":"Reducing the release of untreated sewage mixed with rain water into rivers and streams during times of heavy rainfall"},{"$f":"VLOOKUP('Design #'!E519,Labels!$A:$B,2,FALSE)","v":"Supporting customers to reduce their water use and prevent blockages through education and provision of free tools/devices"},{"$f":"VLOOKUP('Design #'!F519,Labels!$A:$B,2,FALSE)","v":"Working with other organisations on common challenges (e.g. flooding) to share costs and expertise allowing for more and smarter investment to tackle problems"}]
[35,9,{"$f":"VLOOKUP('Design #'!C520,Labels!$A:$B,2,FALSE)","v":"Reducing the release of untreated sewage mixed with rain water into rivers and streams during times of heavy rainfall"},{"$f":"VLOOKUP('Design #'!D520,Labels!$A:$B,2,FALSE)","v":"Treating waste water to a high standard to ensure good quality water in Yorkshire's rivers and beaches"},{"$f":"VLOOKUP('Design #'!E520,Labels!$A:$B,2,FALSE)","v":"Keeping bills affordable for all"},{"$f":"VLOOKUP('Design #'!F520,Labels!$A:$B,2,FALSE)","v":"Preventing the likelihood of restrictions on water use, including hosepipe bans, in a drought"}]
[35,10,{"$f":"VLOOKUP('Design #'!C521,Labels!$A:$B,2,FALSE)","v":"Supporting customers to reduce their water use and prevent blockages through education and provision of free tools/devices"},{"$f":"VLOOKUP('Design #'!D521,Labels!$A:$B,2,FALSE)","v":"Providing a continuous supply of water that is safe to drink"},{"$f":"VLOOKUP('Design #'!E521,Labels!$A:$B,2,FALSE)","v":"Providing appropriate sewer capacity and pumping capabilities to cope with widespread flood events"},{"$f":"VLOOKUP('Design #'!F521,Labels!$A:$B,2,FALSE)","v":"Preventing leaks from Yorkshire Water's pipe network"}]
[35,11,{"$f":"VLOOKUP('Design #'!C522,Labels!$A:$B,2,FALSE)","v":"Preventing sewage entering gardens and public spaces from pipe collapses or blockages"},{"$f":"VLOOKUP('Design #'!D522,Labels!$A:$B,2,FALSE)","v":"Ensuring that land owned by Yorkshire Water is conserved or enhanced to improve quality of the water it collects and reduce flooding"},{"$f":"VLOOKUP('Design #'!E522,Labels!$A:$B,2,FALSE)","v":"Providing a continuous supply of water that is safe to drink"},{"$f":"VLOOKUP('Design #'!F522,Labels!$A:$B,2,FALSE)","v":"Keeping bills affordable for all"}]
[35,12,{"$f":"VLOOKUP('Design #'!C523,Labels!$A:$B,2,FALSE)","v":"Providing appropriate sewer capacity and pumping capabilities to cope with widespread flood events"},{"$f":"VLOOKUP('Design #'!D523,Labels!$A:$B,2,FALSE)","v":"Providing water that is aesthetically pleasing (clear and clean with no odour or unusual taste or colour)"},{"$f":"VLOOKUP('Design #'!E523,Labels!$A:$B,2,FALSE)","v":"Preventing interruptions to the supply of water (e.g. planned works, burst pipes, leaks and outages) that cause problems ranging from low pressure to no water"},{"$f":"VLOOKUP('Design #'!F523,Labels!$A:$B,2,FALSE)","v":"Preventing the likelihood of restrictions on water use, including hosepipe bans, in a drought"}]
[35,13,{"$f":"VLOOKUP('Design #'!C524,Labels!$A:$B,2,FALSE)","v":"Preventing leaks from Yorkshire Water's pipe network"},{"$f":"VLOOKUP('Design #'!D524,Labels!$A:$B,2,FALSE)","v":"Preventing pollution of rivers or streams from sewage pipes"},{"$f":"VLOOKUP('Design #'!E524,Labels!$A:$B,2,FALSE)","v":"Treating waste water to a high standard to ensure good quality water in Yorkshire's rivers and beaches"},{"$f":"VLOOKUP('Design #'!F524,Labels!$A:$B,2,FALSE)","v":"Ensuring that land owned by Yorkshire Water is conserved or enhanced to improve quality of the water it collects and reduce flooding"}]
[35,14,{"$f":"VLOOKUP('Design #'!C525,Labels!$A:$B,2,FALSE)","v":"Preventing interruptions to the supply of water (e.g. planned works, burst pipes, leaks and outages) that cause problems ranging from low pressure to no water"},{"$f":"VLOOKUP('Design #'!D525,Labels!$A:$B,2,FALSE)","v":"Ensuring that land owned by Yorkshire Water is conserved or enhanced to improve quality of the water it collects and reduce flooding"},{"$f":"VLOOKUP('Design #'!E525,Labels!$A:$B,2,FALSE)","v":"Providing a high level of customer service (e.g. resolving queries quickly)"},{"$f":"VLOOKUP('Design #'!F525,Labels!$A:$B,2,FALSE)","v":"Treating waste water to a high standard to ensure good quality water in Yorkshire's rivers and beaches"}]
[35,15,{"$f":"VLOOKUP('Design #'!C526,Labels!$A:$B,2,FALSE)","v":"Providing water that is aesthetically pleasing (clear and clean with no odour or unusual taste or colour)"},{"$f":"VLOOKUP('Design #'!D526,Labels!$A:$B,2,FALSE)","v":"Ensuring additional support is available to those who need it e.g.  providing bills in braille, providing bottled water during times of interruptions for thos​e who can't get to a shop (elderly, medical conditions etc.)"},{"$f":"VLOOKUP('Design #'!E526,Labels!$A:$B,2,FALSE)","v":"Reduce and offset carbon emissions to achieve a 'net zero' position by 2030 "},{"$f":"VLOOKUP('Design #'!F526,Labels!$A:$B,2,FALSE)","v":"Preventing interruptions to the supply of water (e.g. planned works, burst pipes, leaks and outages) that cause problems ranging from low pressure to no water"}]
[36,1,{"$f":"VLOOKUP('Design #'!C527,Labels!$A:$B,2,FALSE)","v":"Working with other organisations on common challenges (e.g. flooding) to share costs and expertise allowing for more and smarter investment to tackle problems"},{"$f":"VLOOKUP('Design #'!D527,Labels!$A:$B,2,FALSE)","v":"Preventing interruptions to the supply of water (e.g. planned works, burst pipes, leaks and outages) that cause problems ranging from low pressure to no water"},{"$f":"VLOOKUP('Design #'!E527,Labels!$A:$B,2,FALSE)","v":"Reducing the release of untreated sewage mixed with rain water into rivers and streams during times of heavy rainfall"},{"$f":"VLOOKUP('Design #'!F527,Labels!$A:$B,2,FALSE)","v":"Providing a high level of customer service (e.g. resolving queries quickly)"}]
[36,2,{"$f":"VLOOKUP('Design #'!C528,Labels!$A:$B,2,FALSE)","v":"Supporting customers to reduce their water use and prevent blockages through education and provision of free tools/devices"},{"$f":"VLOOKUP('Design #'!D528,Labels!$A:$B,2,FALSE)","v":"Providing good and constant water pressure"},{"$f":"VLOOKUP('Design #'!E528,Labels!$A:$B,2,FALSE)","v":"Ensuring that land owned by Yorkshire Water is conserved or enhanced to improve quality of the water it collects and reduce flooding"},{"$f":"VLOOKUP('Design #'!F528,Labels!$A:$B,2,FALSE)","v":"Reducing the release of untreated sewage mixed with rain water into rivers and streams during times of heavy rainfall"}]
[36,3,{"$f":"VLOOKUP('Design #'!C529,Labels!$A:$B,2,FALSE)","v":"Preventing sewage from entering homes and businesses "},{"$f":"VLOOKUP('Design #'!D529,Labels!$A:$B,2,FALSE)","v":"Preventing the likelihood of restrictions on water use, including hosepipe bans, in a drought"},{"$f":"VLOOKUP('Design #'!E529,Labels!$A:$B,2,FALSE)","v":"Preventing pollution of rivers or streams from sewage pipes"},{"$f":"VLOOKUP('Design #'!F529,Labels!$A:$B,2,FALSE)","v":"Preventing leaks from Yorkshire Water's pipe network"}]
[36,4,{"$f":"VLOOKUP('Design #'!C530,Labels!$A:$B,2,FALSE)","v":"Ensuring additional support is available to those who need it e.g.  providing bills in braille, providing bottled water during times of interruptions for thos​e who can't get to a shop (elderly, medical conditions etc.)"},{"$f":"VLOOKUP('Design #'!D530,Labels!$A:$B,2,FALSE)","v":"Preventing leaks from Yorkshire Water's pipe network"},{"$f":"VLOOKUP('Design #'!E530,Labels!$A:$B,2,FALSE)","v":"Providing good and constant water pressure"},{"$f":"VLOOKUP('Design #'!F530,Labels!$A:$B,2,FALSE)","v":"Treating waste water to a high standard to ensure good quality water in Yorkshire's rivers and beaches"}]
[36,5,{"$f":"VLOOKUP('Design #'!C531,Labels!$A:$B,2,FALSE)","v":"Providing appropriate sewer capacity and pumping capabilities to cope with widespread flood events"},{"$f":"VLOOKUP('Design #'!D531,Labels!$A:$B,2,FALSE)","v":"Working with other organisations on common challenges (e.g. flooding) to share costs and expertise allowing for more and smarter investment to tackle problems"},{"$f":"VLOOKUP('Design #'!E531,Labels!$A:$B,2,FALSE)","v":"Preventing sewage entering gardens and public spaces from pipe collapses or blockages"},{"$f":"VLOOKUP('Design #'!F531,Labels!$A:$B,2,FALSE)","v":"Treating waste water to a high standard to ensure good quality water in Yorkshire's rivers and beaches"}]
[36,6,{"$f":"VLOOKUP('Design #'!C532,Labels!$A:$B,2,FALSE)","v":"Preventing interruptions to the supply of water (e.g. planned works, burst pipes, leaks and outages) that cause problems ranging from low pressure to no water"},{"$f":"VLOOKUP('Design #'!D532,Labels!$A:$B,2,FALSE)","v":"Preventing pollution of rivers or streams from sewage pipes"},{"$f":"VLOOKUP('Design #'!E532,Labels!$A:$B,2,FALSE)","v":"Providing a continuous supply of water that is safe to drink"},{"$f":"VLOOKUP('Design #'!F532,Labels!$A:$B,2,FALSE)","v":"Preventing sewage entering gardens and public spaces from pipe collapses or blockages"}]
[36,7,{"$f":"VLOOKUP('Design #'!C533,Labels!$A:$B,2,FALSE)","v":"Keeping bills affordable for all"},{"$f":"VLOOKUP('Design #'!D533,Labels!$A:$B,2,FALSE)","v":"Providing water that is aesthetically pleasing (clear and clean with no odour or unusual taste or colour)"},{"$f":"VLOOKUP('Design #'!E533,Labels!$A:$B,2,FALSE)","v":"Preventing interruptions to the supply of water (e.g. planned works, burst pipes, leaks and outages) that cause problems ranging from low pressure to no water"},{"$f":"VLOOKUP('Design #'!F533,Labels!$A:$B,2,FALSE)","v":"Preventing sewage from entering homes and businesses "}]
[36,8,{"$f":"VLOOKUP('Design #'!C534,Labels!$A:$B,2,FALSE)","v":"Providing a high level of customer service (e.g. resolving queries quickly)"},{"$f":"VLOOKUP('Design #'!D534,Labels!$A:$B,2,FALSE)","v":"Preventing leaks from Yorkshire Water's pipe network"},{"$f":"VLOOKUP('Design #'!E534,Labels!$A:$B,2,FALSE)","v":"Providing water that is aesthetically pleasing (clear and clean with no odour or unusual taste or colour)"},{"$f":"VLOOKUP('Design #'!F534,Labels!$A:$B,2,FALSE)","v":"Ensuring that land owned by Yorkshire Water is conserved or enhanced to improve quality of the water it collects and reduce flooding"}]
[36,9,{"$f":"VLOOKUP('Design #'!C535,Labels!$A:$B,2,FALSE)","v":"Supporting customers to reduce their water use and prevent blockages through education and provision of free tools/devices"},{"$f":"VLOOKUP('Design #'!D535,Labels!$A:$B,2,FALSE)","v":"Preventing pollution of rivers or streams from sewage pipes"},{"$f":"VLOOKUP('Design #'!E535,Labels!$A:$B,2,FALSE)","v":"Providing financial help and support to those who are struggling to pay their water bill"},{"$f":"VLOOKUP('Design #'!F535,Labels!$A:$B,2,FALSE)","v":"Providing water that is aesthetically pleasing (clear and clean with no odour or unusual taste or colour)"}]
[36,10,{"$f":"VLOOKUP('Design #'!C536,Labels!$A:$B,2,FALSE)","v":"Reduce and offset carbon emissions to achieve a 'net zero' position by 2030 "},{"$f":"VLOOKUP('Design #'!D536,Labels!$A:$B,2,FALSE)","v":"Providing appropriate sewer capacity and pumping capabilities to cope with widespread flood events"},{"$f":"VLOOKUP('Design #'!E536,Labels!$A:$B,2,FALSE)","v":"Preventing sewage from entering homes and businesses "},{"$f":"VLOOKUP('Design #'!F536,Labels!$A:$B,2,FALSE)","v":"Ensuring that land owned by Yorkshire Water is conserved or enhanced to improve quality of the water it collects and reduce flooding"}]
[36,11,{"$f":"VLOOKUP('Design #'!C537,Labels!$A:$B,2,FALSE)","v":"Treating waste water to a high standard to ensure good quality water in Yorkshire's rivers and beaches"},{"$f":"VLOOKUP('Design #'!D537,Labels!$A:$B,2,FALSE)","v":"Providing a high level of customer service (e.g. resolving queries quickly)"},{"$f":"VLOOKUP('Design #'!E537,Labels!$A:$B,2,FALSE)","v":"Supporting customers to reduce their water use and prevent blockages through education and provision of free tools/devices"},{"$f":"VLOOKUP('Design #'!F537,Labels!$A:$B,2,FALSE)","v":"Reduce and offset carbon emissions to achieve a 'net zero' position by 2030 "}]
[36,12,{"$f":"VLOOKUP('Design #'!C538,Labels!$A:$B,2,FALSE)","v":"Providing a continuous supply of water that is safe to drink"},{"$f":"VLOOKUP('Design #'!D538,Labels!$A:$B,2,FALSE)","v":"Keeping bills affordable for all"},{"$f":"VLOOKUP('Design #'!E538,Labels!$A:$B,2,FALSE)","v":"Reduce and offset carbon emissions to achieve a 'net zero' position by 2030 "},{"$f":"VLOOKUP('Design #'!F538,Labels!$A:$B,2,FALSE)","v":"Preventing the likelihood of restrictions on water use, including hosepipe bans, in a drought"}]
[36,13,{"$f":"VLOOKUP('Design #'!C539,Labels!$A:$B,2,FALSE)","v":"Preventing the likelihood of restrictions on water use, including hosepipe bans, in a drought"},{"$f":"VLOOKUP('Design #'!D539,Labels!$A:$B,2,FALSE)","v":"Providing financial help and support to those who are struggling to pay their water bill"},{"$f":"VLOOKUP('Design #'!E539,Labels!$A:$B,2,FALSE)","v":"Ensuring additional support is available to those who need it e.g.  providing bills in braille, providing bottled water during times of interruptions for thos​e who can't get to a shop (elderly, medical conditions etc.)"},{"$f":"VLOOKUP('Design #'!F539,Labels!$A:$B,2,FALSE)","v":"Working with other organisations on common challenges (e.g. flooding) to share costs and expertise allowing for more and smarter investment to tackle problems"}]
[36,14,{"$f":"VLOOKUP('Design #'!C540,Labels!$A:$B,2,FALSE)","v":"Reducing the release of untreated sewage mixed with rain water into rivers and streams during times of heavy rainfall"},{"$f":"VLOOKUP('Design #'!D540,Labels!$A:$B,2,FALSE)","v":"Providing financial help and support to those who are struggling to pay their water bill"},{"$f":"VLOOKUP('Design #'!E540,Labels!$A:$B,2,FALSE)","v":"Preventing sewage entering gardens and public spaces from pipe collapses or blockages"},{"$f":"VLOOKUP('Design #'!F540,Labels!$A:$B,2,FALSE)","v":"Providing appropriate sewer capacity and pumping capabilities to cope with widespread flood events"}]
[36,15,{"$f":"VLOOKUP('Design #'!C541,Labels!$A:$B,2,FALSE)","v":"Providing good and constant water pressure"},{"$f":"VLOOKUP('Design #'!D541,Labels!$A:$B,2,FALSE)","v":"Preventing sewage from entering homes and businesses "},{"$f":"VLOOKUP('Design #'!E541,Labels!$A:$B,2,FALSE)","v":"Keeping bills affordable for all"},{"$f":"VLOOKUP('Design #'!F541,Labels!$A:$B,2,FALSE)","v":"Ensuring additional support is available to those who need it e.g.  providing bills in braille, providing bottled water during times of interruptions for thos​e who can't get to a shop (elderly, medical conditions etc.)"}]
[37,1,{"$f":"VLOOKUP('Design #'!C542,Labels!$A:$B,2,FALSE)","v":"Ensuring additional support is available to those who need it e.g.  providing bills in braille, providing bottled water during times of interruptions for thos​e who can't get to a shop (elderly, medical conditions etc.)"},{"$f":"VLOOKUP('Design #'!D542,Labels!$A:$B,2,FALSE)","v":"Reduce and offset carbon emissions to achieve a 'net zero' position by 2030 "},{"$f":"VLOOKUP('Design #'!E542,Labels!$A:$B,2,FALSE)","v":"Preventing leaks from Yorkshire Water's pipe network"},{"$f":"VLOOKUP('Design #'!F542,Labels!$A:$B,2,FALSE)","v":"Reducing the release of untreated sewage mixed with rain water into rivers and streams during times of heavy rainfall"}]
[37,2,{"$f":"VLOOKUP('Design #'!C543,Labels!$A:$B,2,FALSE)","v":"Preventing sewage from entering homes and businesses "},{"$f":"VLOOKUP('Design #'!D543,Labels!$A:$B,2,FALSE)","v":"Treating waste water to a high standard to ensure good quality water in Yorkshire's rivers and beaches"},{"$f":"VLOOKUP('Design #'!E543,Labels!$A:$B,2,FALSE)","v":"Ensuring additional support is available to those who need it e.g.  providing bills in braille, providing bottled water during times of interruptions for thos​e who can't get to a shop (elderly, medical conditions etc.)"},{"$f":"VLOOKUP('Design #'!F543,Labels!$A:$B,2,FALSE)","v":"Providing a continuous supply of water that is safe to drink"}]
[37,3,{"$f":"VLOOKUP('Design #'!C544,Labels!$A:$B,2,FALSE)","v":"Providing financial help and support to those who are struggling to pay their water bill"},{"$f":"VLOOKUP('Design #'!D544,Labels!$A:$B,2,FALSE)","v":"Providing a continuous supply of water that is safe to drink"},{"$f":"VLOOKUP('Design #'!E544,Labels!$A:$B,2,FALSE)","v":"Working with other organisations on common challenges (e.g. flooding) to share costs and expertise allowing for more and smarter investment to tackle problems"},{"$f":"VLOOKUP('Design #'!F544,Labels!$A:$B,2,FALSE)","v":"Keeping bills affordable for all"}]
[37,4,{"$f":"VLOOKUP('Design #'!C545,Labels!$A:$B,2,FALSE)","v":"Providing good and constant water pressure"},{"$f":"VLOOKUP('Design #'!D545,Labels!$A:$B,2,FALSE)","v":"Reducing the release of untreated sewage mixed with rain water into rivers and streams during times of heavy rainfall"},{"$f":"VLOOKUP('Design #'!E545,Labels!$A:$B,2,FALSE)","v":"Preventing the likelihood of restrictions on water use, including hosepipe bans, in a drought"},{"$f":"VLOOKUP('Design #'!F545,Labels!$A:$B,2,FALSE)","v":"Preventing interruptions to the supply of water (e.g. planned works, burst pipes, leaks and outages) that cause problems ranging from low pressure to no water"}]
[37,5,{"$f":"VLOOKUP('Design #'!C546,Labels!$A:$B,2,FALSE)","v":"Reduce and offset carbon emissions to achieve a 'net zero' position by 2030 "},{"$f":"VLOOKUP('Design #'!D546,Labels!$A:$B,2,FALSE)","v":"Preventing interruptions to the supply of water (e.g. planned works, burst pipes, leaks and outages) that cause problems ranging from low pressure to no water"},{"$f":"VLOOKUP('Design #'!E546,Labels!$A:$B,2,FALSE)","v":"Providing financial help and support to those who are struggling to pay their water bill"},{"$f":"VLOOKUP('Design #'!F546,Labels!$A:$B,2,FALSE)","v":"Providing appropriate sewer capacity and pumping capabilities to cope with widespread flood events"}]
[37,6,{"$f":"VLOOKUP('Design #'!C547,Labels!$A:$B,2,FALSE)","v":"Preventing interruptions to the supply of water (e.g. planned works, burst pipes, leaks and outages) that cause problems ranging from low pressure to no water"},{"$f":"VLOOKUP('Design #'!D547,Labels!$A:$B,2,FALSE)","v":"Supporting customers to reduce their water use and prevent blockages through education and provision of free tools/devices"},{"$f":"VLOOKUP('Design #'!E547,Labels!$A:$B,2,FALSE)","v":"Treating waste water to a high standard to ensure good quality water in Yorkshire's rivers and beaches"},{"$f":"VLOOKUP('Design #'!F547,Labels!$A:$B,2,FALSE)","v":"Preventing pollution of rivers or streams from sewage pipes"}]
[37,7,{"$f":"VLOOKUP('Design #'!C548,Labels!$A:$B,2,FALSE)","v":"Ensuring that land owned by Yorkshire Water is conserved or enhanced to improve quality of the water it collects and reduce flooding"},{"$f":"VLOOKUP('Design #'!D548,Labels!$A:$B,2,FALSE)","v":"Keeping bills affordable for all"},{"$f":"VLOOKUP('Design #'!E548,Labels!$A:$B,2,FALSE)","v":"Working with other organisations on common challenges (e.g. flooding) to share costs and expertise allowing for more and smarter investment to tackle problems"},{"$f":"VLOOKUP('Design #'!F548,Labels!$A:$B,2,FALSE)","v":"Supporting customers to reduce their water use and prevent blockages through education and provision of free tools/devices"}]
[37,8,{"$f":"VLOOKUP('Design #'!C549,Labels!$A:$B,2,FALSE)","v":"Reducing the release of untreated sewage mixed with rain water into rivers and streams during times of heavy rainfall"},{"$f":"VLOOKUP('Design #'!D549,Labels!$A:$B,2,FALSE)","v":"Preventing sewage entering gardens and public spaces from pipe collapses or blockages"},{"$f":"VLOOKUP('Design #'!E549,Labels!$A:$B,2,FALSE)","v":"Providing water that is aesthetically pleasing (clear and clean with no odour or unusual taste or colour)"},{"$f":"VLOOKUP('Design #'!F549,Labels!$A:$B,2,FALSE)","v":"Ensuring additional support is available to those who need it e.g.  providing bills in braille, providing bottled water during times of interruptions for thos​e who can't get to a shop (elderly, medical conditions etc.)"}]
[37,9,{"$f":"VLOOKUP('Design #'!C550,Labels!$A:$B,2,FALSE)","v":"Preventing pollution of rivers or streams from sewage pipes"},{"$f":"VLOOKUP('Design #'!D550,Labels!$A:$B,2,FALSE)","v":"Preventing sewage entering gardens and public spaces from pipe collapses or blockages"},{"$f":"VLOOKUP('Design #'!E550,Labels!$A:$B,2,FALSE)","v":"Providing a high level of customer service (e.g. resolving queries quickly)"},{"$f":"VLOOKUP('Design #'!F550,Labels!$A:$B,2,FALSE)","v":"Keeping bills affordable for all"}]
[37,10,{"$f":"VLOOKUP('Design #'!C551,Labels!$A:$B,2,FALSE)","v":"Preventing the likelihood of restrictions on water use, including hosepipe bans, in a drought"},{"$f":"VLOOKUP('Design #'!D551,Labels!$A:$B,2,FALSE)","v":"Treating waste water to a high standard to ensure good quality water in Yorkshire's rivers and beaches"},{"$f":"VLOOKUP('Design #'!E551,Labels!$A:$B,2,FALSE)","v":"Supporting customers to reduce their water use and prevent blockages through education and provision of free tools/devices"},{"$f":"VLOOKUP('Design #'!F551,Labels!$A:$B,2,FALSE)","v":"Providing financial help and support to those who are struggling to pay their water bill"}]
[37,11,{"$f":"VLOOKUP('Design #'!C552,Labels!$A:$B,2,FALSE)","v":"Ensuring that land owned by Yorkshire Water is conserved or enhanced to improve quality of the water it collects and reduce flooding"},{"$f":"VLOOKUP('Design #'!D552,Labels!$A:$B,2,FALSE)","v":"Preventing the likelihood of restrictions on water use, including hosepipe bans, in a drought"},{"$f":"VLOOKUP('Design #'!E552,Labels!$A:$B,2,FALSE)","v":"Providing a high level of customer service (e.g. resolving queries quickly)"},{"$f":"VLOOKUP('Design #'!F552,Labels!$A:$B,2,FALSE)","v":"Providing appropriate sewer capacity and pumping capabilities to cope with widespread flood events"}]
[37,12,{"$f":"VLOOKUP('Design #'!C553,Labels!$A:$B,2,FALSE)","v":"Preventing sewage entering gardens and public spaces from pipe collapses or blockages"},{"$f":"VLOOKUP('Design #'!D553,Labels!$A:$B,2,FALSE)","v":"Preventing leaks from Yorkshire Water's pipe network"},{"$f":"VLOOKUP('Design #'!E553,Labels!$A:$B,2,FALSE)","v":"Preventing the likelihood of restrictions on water use, including hosepipe bans, in a drought"},{"$f":"VLOOKUP('Design #'!F553,Labels!$A:$B,2,FALSE)","v":"Providing good and constant water pressure"}]
[37,13,{"$f":"VLOOKUP('Design #'!C554,Labels!$A:$B,2,FALSE)","v":"Providing appropriate sewer capacity and pumping capabilities to cope with widespread flood events"},{"$f":"VLOOKUP('Design #'!D554,Labels!$A:$B,2,FALSE)","v":"Providing a continuous supply of water that is safe to drink"},{"$f":"VLOOKUP('Design #'!E554,Labels!$A:$B,2,FALSE)","v":"Preventing pollution of rivers or streams from sewage pipes"},{"$f":"VLOOKUP('Design #'!F554,Labels!$A:$B,2,FALSE)","v":"Providing water that is aesthetically pleasing (clear and clean with no odour or unusual taste or colour)"}]
[37,14,{"$f":"VLOOKUP('Design #'!C555,Labels!$A:$B,2,FALSE)","v":"Preventing leaks from Yorkshire Water's pipe network"},{"$f":"VLOOKUP('Design #'!D555,Labels!$A:$B,2,FALSE)","v":"Ensuring that land owned by Yorkshire Water is conserved or enhanced to improve quality of the water it collects and reduce flooding"},{"$f":"VLOOKUP('Design #'!E555,Labels!$A:$B,2,FALSE)","v":"Preventing sewage from entering homes and businesses "},{"$f":"VLOOKUP('Design #'!F555,Labels!$A:$B,2,FALSE)","v":"Reduce and offset carbon emissions to achieve a 'net zero' position by 2030 "}]
[37,15,{"$f":"VLOOKUP('Design #'!C556,Labels!$A:$B,2,FALSE)","v":"Providing a continuous supply of water that is safe to drink"},{"$f":"VLOOKUP('Design #'!D556,Labels!$A:$B,2,FALSE)","v":"Providing water that is aesthetically pleasing (clear and clean with no odour or unusual taste or colour)"},{"$f":"VLOOKUP('Design #'!E556,Labels!$A:$B,2,FALSE)","v":"Providing a high level of customer service (e.g. resolving queries quickly)"},{"$f":"VLOOKUP('Design #'!F556,Labels!$A:$B,2,FALSE)","v":"Providing good and constant water pressure"}]
[38,1,{"$f":"VLOOKUP('Design #'!C557,Labels!$A:$B,2,FALSE)","v":"Working with other organisations on common challenges (e.g. flooding) to share costs and expertise allowing for more and smarter investment to tackle problems"},{"$f":"VLOOKUP('Design #'!D557,Labels!$A:$B,2,FALSE)","v":"Reduce and offset carbon emissions to achieve a 'net zero' position by 2030 "},{"$f":"VLOOKUP('Design #'!E557,Labels!$A:$B,2,FALSE)","v":"Treating waste water to a high standard to ensure good quality water in Yorkshire's rivers and beaches"},{"$f":"VLOOKUP('Design #'!F557,Labels!$A:$B,2,FALSE)","v":"Preventing sewage entering gardens and public spaces from pipe collapses or blockages"}]
[38,2,{"$f":"VLOOKUP('Design #'!C558,Labels!$A:$B,2,FALSE)","v":"Providing financial help and support to those who are struggling to pay their water bill"},{"$f":"VLOOKUP('Design #'!D558,Labels!$A:$B,2,FALSE)","v":"Reducing the release of untreated sewage mixed with rain water into rivers and streams during times of heavy rainfall"},{"$f":"VLOOKUP('Design #'!E558,Labels!$A:$B,2,FALSE)","v":"Providing a continuous supply of water that is safe to drink"},{"$f":"VLOOKUP('Design #'!F558,Labels!$A:$B,2,FALSE)","v":"Ensuring that land owned by Yorkshire Water is conserved or enhanced to improve quality of the water it collects and reduce flooding"}]
[38,3,{"$f":"VLOOKUP('Design #'!C559,Labels!$A:$B,2,FALSE)","v":"Treating waste water to a high standard to ensure good quality water in Yorkshire's rivers and beaches"},{"$f":"VLOOKUP('Design #'!D559,Labels!$A:$B,2,FALSE)","v":"Keeping bills affordable for all"},{"$f":"VLOOKUP('Design #'!E559,Labels!$A:$B,2,FALSE)","v":"Preventing interruptions to the supply of water (e.g. planned works, burst pipes, leaks and outages) that cause problems ranging from low pressure to no water"},{"$f":"VLOOKUP('Design #'!F559,Labels!$A:$B,2,FALSE)","v":"Preventing leaks from Yorkshire Water's pipe network"}]
[38,4,{"$f":"VLOOKUP('Design #'!C560,Labels!$A:$B,2,FALSE)","v":"Providing a high level of customer service (e.g. resolving queries quickly)"},{"$f":"VLOOKUP('Design #'!D560,Labels!$A:$B,2,FALSE)","v":"Reduce and offset carbon emissions to achieve a 'net zero' position by 2030 "},{"$f":"VLOOKUP('Design #'!E560,Labels!$A:$B,2,FALSE)","v":"Providing a continuous supply of water that is safe to drink"},{"$f":"VLOOKUP('Design #'!F560,Labels!$A:$B,2,FALSE)","v":"Supporting customers to reduce their water use and prevent blockages through education and provision of free tools/devices"}]
[38,5,{"$f":"VLOOKUP('Design #'!C561,Labels!$A:$B,2,FALSE)","v":"Preventing the likelihood of restrictions on water use, including hosepipe bans, in a drought"},{"$f":"VLOOKUP('Design #'!D561,Labels!$A:$B,2,FALSE)","v":"Ensuring additional support is available to those who need it e.g.  providing bills in braille, providing bottled water during times of interruptions for thos​e who can't get to a shop (elderly, medical conditions etc.)"},{"$f":"VLOOKUP('Design #'!E561,Labels!$A:$B,2,FALSE)","v":"Ensuring that land owned by Yorkshire Water is conserved or enhanced to improve quality of the water it collects and reduce flooding"},{"$f":"VLOOKUP('Design #'!F561,Labels!$A:$B,2,FALSE)","v":"Preventing pollution of rivers or streams from sewage pipes"}]
[38,6,{"$f":"VLOOKUP('Design #'!C562,Labels!$A:$B,2,FALSE)","v":"Providing water that is aesthetically pleasing (clear and clean with no odour or unusual taste or colour)"},{"$f":"VLOOKUP('Design #'!D562,Labels!$A:$B,2,FALSE)","v":"Working with other organisations on common challenges (e.g. flooding) to share costs and expertise allowing for more and smarter investment to tackle problems"},{"$f":"VLOOKUP('Design #'!E562,Labels!$A:$B,2,FALSE)","v":"Providing good and constant water pressure"},{"$f":"VLOOKUP('Design #'!F562,Labels!$A:$B,2,FALSE)","v":"Preventing sewage entering gardens and public spaces from pipe collapses or blockages"}]
[38,7,{"$f":"VLOOKUP('Design #'!C563,Labels!$A:$B,2,FALSE)","v":"Preventing sewage entering gardens and public spaces from pipe collapses or blockages"},{"$f":"VLOOKUP('Design #'!D563,Labels!$A:$B,2,FALSE)","v":"Providing a high level of customer service (e.g. resolving queries quickly)"},{"$f":"VLOOKUP('Design #'!E563,Labels!$A:$B,2,FALSE)","v":"Preventing sewage from entering homes and businesses "},{"$f":"VLOOKUP('Design #'!F563,Labels!$A:$B,2,FALSE)","v":"Preventing interruptions to the supply of water (e.g. planned works, burst pipes, leaks and outages) that cause problems ranging from low pressure to no water"}]
[38,8,{"$f":"VLOOKUP('Design #'!C564,Labels!$A:$B,2,FALSE)","v":"Treating waste water to a high standard to ensure good quality water in Yorkshire's rivers and beaches"},{"$f":"VLOOKUP('Design #'!D564,Labels!$A:$B,2,FALSE)","v":"Ensuring that land owned by Yorkshire Water is conserved or enhanced to improve quality of the water it collects and reduce flooding"},{"$f":"VLOOKUP('Design #'!E564,Labels!$A:$B,2,FALSE)","v":"Reducing the release of untreated sewage mixed with rain water into rivers and streams during times of heavy rainfall"},{"$f":"VLOOKUP('Design #'!F564,Labels!$A:$B,2,FALSE)","v":"Providing water that is aesthetically pleasing (clear and clean with no odour or unusual taste or colour)"}]
[38,9,{"$f":"VLOOKUP('Design #'!C565,Labels!$A:$B,2,FALSE)","v":"Providing water that is aesthetically pleasing (clear and clean with no odour or unusual taste or colour)"},{"$f":"VLOOKUP('Design #'!D565,Labels!$A:$B,2,FALSE)","v":"Providing appropriate sewer capacity and pumping capabilities to cope with widespread flood events"},{"$f":"VLOOKUP('Design #'!E565,Labels!$A:$B,2,FALSE)","v":"Preventing leaks from Yorkshire Water's pipe network"},{"$f":"VLOOKUP('Design #'!F565,Labels!$A:$B,2,FALSE)","v":"Supporting customers to reduce their water use and prevent blockages through education and provision of free tools/devices"}]
[38,10,{"$f":"VLOOKUP('Design #'!C566,Labels!$A:$B,2,FALSE)","v":"Preventing leaks from Yorkshire Water's pipe network"},{"$f":"VLOOKUP('Design #'!D566,Labels!$A:$B,2,FALSE)","v":"Preventing the likelihood of restrictions on water use, including hosepipe bans, in a drought"},{"$f":"VLOOKUP('Design #'!E566,Labels!$A:$B,2,FALSE)","v":"Working with other organisations on common challenges (e.g. flooding) to share costs and expertise allowing for more and smarter investment to tackle problems"},{"$f":"VLOOKUP('Design #'!F566,Labels!$A:$B,2,FALSE)","v":"Providing a continuous supply of water that is safe to drink"}]
[38,11,{"$f":"VLOOKUP('Design #'!C567,Labels!$A:$B,2,FALSE)","v":"Providing a high level of customer service (e.g. resolving queries quickly)"},{"$f":"VLOOKUP('Design #'!D567,Labels!$A:$B,2,FALSE)","v":"Preventing interruptions to the supply of water (e.g. planned works, burst pipes, leaks and outages) that cause problems ranging from low pressure to no water"},{"$f":"VLOOKUP('Design #'!E567,Labels!$A:$B,2,FALSE)","v":"Ensuring additional support is available to those who need it e.g.  providing bills in braille, providing bottled water during times of interruptions for thos​e who can't get to a shop (elderly, medical conditions etc.)"},{"$f":"VLOOKUP('Design #'!F567,Labels!$A:$B,2,FALSE)","v":"Working with other organisations on common challenges (e.g. flooding) to share costs and expertise allowing for more and smarter investment to tackle problems"}]
[38,12,{"$f":"VLOOKUP('Design #'!C568,Labels!$A:$B,2,FALSE)","v":"Keeping bills affordable for all"},{"$f":"VLOOKUP('Design #'!D568,Labels!$A:$B,2,FALSE)","v":"Providing water that is aesthetically pleasing (clear and clean with no odour or unusual taste or colour)"},{"$f":"VLOOKUP('Design #'!E568,Labels!$A:$B,2,FALSE)","v":"Providing financial help and support to those who are struggling to pay their water bill"},{"$f":"VLOOKUP('Design #'!F568,Labels!$A:$B,2,FALSE)","v":"Ensuring additional support is available to those who need it e.g.  providing bills in braille, providing bottled water during times of interruptions for thos​e who can't get to a shop (elderly, medical conditions etc.)"}]
[38,13,{"$f":"VLOOKUP('Design #'!C569,Labels!$A:$B,2,FALSE)","v":"Providing financial help and support to those who are struggling to pay their water bill"},{"$f":"VLOOKUP('Design #'!D569,Labels!$A:$B,2,FALSE)","v":"Providing good and constant water pressure"},{"$f":"VLOOKUP('Design #'!E569,Labels!$A:$B,2,FALSE)","v":"Preventing pollution of rivers or streams from sewage pipes"},{"$f":"VLOOKUP('Design #'!F569,Labels!$A:$B,2,FALSE)","v":"Preventing sewage from entering homes and businesses "}]
[38,14,{"$f":"VLOOKUP('Design #'!C570,Labels!$A:$B,2,FALSE)","v":"Keeping bills affordable for all"},{"$f":"VLOOKUP('Design #'!D570,Labels!$A:$B,2,FALSE)","v":"Preventing sewage from entering homes and businesses "},{"$f":"VLOOKUP('Design #'!E570,Labels!$A:$B,2,FALSE)","v":"Providing appropriate sewer capacity and pumping capabilities to cope with widespread flood events"},{"$f":"VLOOKUP('Design #'!F570,Labels!$A:$B,2,FALSE)","v":"Reducing the release of untreated sewage mixed with rain water into rivers and streams during times of heavy rainfall"}]
[38,15,{"$f":"VLOOKUP('Design #'!C571,Labels!$A:$B,2,FALSE)","v":"Providing appropriate sewer capacity and pumping capabilities to cope with widespread flood events"},{"$f":"VLOOKUP('Design #'!D571,Labels!$A:$B,2,FALSE)","v":"Ensuring additional support is available to those who need it e.g.  providing bills in braille, providing bottled water during times of interruptions for thos​e who can't get to a shop (elderly, medical conditions etc.)"},{"$f":"VLOOKUP('Design #'!E571,Labels!$A:$B,2,FALSE)","v":"Supporting customers to reduce their water use and prevent blockages through education and provision of free tools/devices"},{"$f":"VLOOKUP('Design #'!F571,Labels!$A:$B,2,FALSE)","v":"Providing good and constant water pressure"}]
[39,1,{"$f":"VLOOKUP('Design #'!C572,Labels!$A:$B,2,FALSE)","v":"Ensuring that land owned by Yorkshire Water is conserved or enhanced to improve quality of the water it collects and reduce flooding"},{"$f":"VLOOKUP('Design #'!D572,Labels!$A:$B,2,FALSE)","v":"Treating waste water to a high standard to ensure good quality water in Yorkshire's rivers and beaches"},{"$f":"VLOOKUP('Design #'!E572,Labels!$A:$B,2,FALSE)","v":"Providing water that is aesthetically pleasing (clear and clean with no odour or unusual taste or colour)"},{"$f":"VLOOKUP('Design #'!F572,Labels!$A:$B,2,FALSE)","v":"Providing financial help and support to those who are struggling to pay their water bill"}]
[39,2,{"$f":"VLOOKUP('Design #'!C573,Labels!$A:$B,2,FALSE)","v":"Reduce and offset carbon emissions to achieve a 'net zero' position by 2030 "},{"$f":"VLOOKUP('Design #'!D573,Labels!$A:$B,2,FALSE)","v":"Providing a continuous supply of water that is safe to drink"},{"$f":"VLOOKUP('Design #'!E573,Labels!$A:$B,2,FALSE)","v":"Preventing leaks from Yorkshire Water's pipe network"},{"$f":"VLOOKUP('Design #'!F573,Labels!$A:$B,2,FALSE)","v":"Supporting customers to reduce their water use and prevent blockages through education and provision of free tools/devices"}]
[39,3,{"$f":"VLOOKUP('Design #'!C574,Labels!$A:$B,2,FALSE)","v":"Reducing the release of untreated sewage mixed with rain water into rivers and streams during times of heavy rainfall"},{"$f":"VLOOKUP('Design #'!D574,Labels!$A:$B,2,FALSE)","v":"Preventing sewage from entering homes and businesses "},{"$f":"VLOOKUP('Design #'!E574,Labels!$A:$B,2,FALSE)","v":"Preventing the likelihood of restrictions on water use, including hosepipe bans, in a drought"},{"$f":"VLOOKUP('Design #'!F574,Labels!$A:$B,2,FALSE)","v":"Preventing interruptions to the supply of water (e.g. planned works, burst pipes, leaks and outages) that cause problems ranging from low pressure to no water"}]
[39,4,{"$f":"VLOOKUP('Design #'!C575,Labels!$A:$B,2,FALSE)","v":"Providing a continuous supply of water that is safe to drink"},{"$f":"VLOOKUP('Design #'!D575,Labels!$A:$B,2,FALSE)","v":"Ensuring additional support is available to those who need it e.g.  providing bills in braille, providing bottled water during times of interruptions for thos​e who can't get to a shop (elderly, medical conditions etc.)"},{"$f":"VLOOKUP('Design #'!E575,Labels!$A:$B,2,FALSE)","v":"Preventing interruptions to the supply of water (e.g. planned works, burst pipes, leaks and outages) that cause problems ranging from low pressure to no water"},{"$f":"VLOOKUP('Design #'!F575,Labels!$A:$B,2,FALSE)","v":"Ensuring that land owned by Yorkshire Water is conserved or enhanced to improve quality of the water it collects and reduce flooding"}]
[39,5,{"$f":"VLOOKUP('Design #'!C576,Labels!$A:$B,2,FALSE)","v":"Preventing sewage entering gardens and public spaces from pipe collapses or blockages"},{"$f":"VLOOKUP('Design #'!D576,Labels!$A:$B,2,FALSE)","v":"Providing a high level of customer service (e.g. resolving queries quickly)"},{"$f":"VLOOKUP('Design #'!E576,Labels!$A:$B,2,FALSE)","v":"Reducing the release of untreated sewage mixed with rain water into rivers and streams during times of heavy rainfall"},{"$f":"VLOOKUP('Design #'!F576,Labels!$A:$B,2,FALSE)","v":"Preventing leaks from Yorkshire Water's pipe network"}]
[39,6,{"$f":"VLOOKUP('Design #'!C577,Labels!$A:$B,2,FALSE)","v":"Supporting customers to reduce their water use and prevent blockages through education and provision of free tools/devices"},{"$f":"VLOOKUP('Design #'!D577,Labels!$A:$B,2,FALSE)","v":"Providing financial help and support to those who are struggling to pay their water bill"},{"$f":"VLOOKUP('Design #'!E577,Labels!$A:$B,2,FALSE)","v":"Providing a high level of customer service (e.g. resolving queries quickly)"},{"$f":"VLOOKUP('Design #'!F577,Labels!$A:$B,2,FALSE)","v":"Preventing sewage from entering homes and businesses "}]
[39,7,{"$f":"VLOOKUP('Design #'!C578,Labels!$A:$B,2,FALSE)","v":"Providing financial help and support to those who are struggling to pay their water bill"},{"$f":"VLOOKUP('Design #'!D578,Labels!$A:$B,2,FALSE)","v":"Working with other organisations on common challenges (e.g. flooding) to share costs and expertise allowing for more and smarter investment to tackle problems"},{"$f":"VLOOKUP('Design #'!E578,Labels!$A:$B,2,FALSE)","v":"Keeping bills affordable for all"},{"$f":"VLOOKUP('Design #'!F578,Labels!$A:$B,2,FALSE)","v":"Reduce and offset carbon emissions to achieve a 'net zero' position by 2030 "}]
[39,8,{"$f":"VLOOKUP('Design #'!C579,Labels!$A:$B,2,FALSE)","v":"Working with other organisations on common challenges (e.g. flooding) to share costs and expertise allowing for more and smarter investment to tackle problems"},{"$f":"VLOOKUP('Design #'!D579,Labels!$A:$B,2,FALSE)","v":"Providing good and constant water pressure"},{"$f":"VLOOKUP('Design #'!E579,Labels!$A:$B,2,FALSE)","v":"Preventing pollution of rivers or streams from sewage pipes"},{"$f":"VLOOKUP('Design #'!F579,Labels!$A:$B,2,FALSE)","v":"Preventing the likelihood of restrictions on water use, including hosepipe bans, in a drought"}]
[39,9,{"$f":"VLOOKUP('Design #'!C580,Labels!$A:$B,2,FALSE)","v":"Preventing sewage from entering homes and businesses "},{"$f":"VLOOKUP('Design #'!D580,Labels!$A:$B,2,FALSE)","v":"Providing appropriate sewer capacity and pumping capabilities to cope with widespread flood events"},{"$f":"VLOOKUP('Design #'!E580,Labels!$A:$B,2,FALSE)","v":"Preventing leaks from Yorkshire Water's pipe network"},{"$f":"VLOOKUP('Design #'!F580,Labels!$A:$B,2,FALSE)","v":"Treating waste water to a high standard to ensure good quality water in Yorkshire's rivers and beaches"}]
[39,10,{"$f":"VLOOKUP('Design #'!C581,Labels!$A:$B,2,FALSE)","v":"Providing water that is aesthetically pleasing (clear and clean with no odour or unusual taste or colour)"},{"$f":"VLOOKUP('Design #'!D581,Labels!$A:$B,2,FALSE)","v":"Preventing the likelihood of restrictions on water use, including hosepipe bans, in a drought"},{"$f":"VLOOKUP('Design #'!E581,Labels!$A:$B,2,FALSE)","v":"Reduce and offset carbon emissions to achieve a 'net zero' position by 2030 "},{"$f":"VLOOKUP('Design #'!F581,Labels!$A:$B,2,FALSE)","v":"Providing a high level of customer service (e.g. resolving queries quickly)"}]
[39,11,{"$f":"VLOOKUP('Design #'!C582,Labels!$A:$B,2,FALSE)","v":"Ensuring additional support is available to those who need it e.g.  providing bills in braille, providing bottled water during times of interruptions for thos​e who can't get to a shop (elderly, medical conditions etc.)"},{"$f":"VLOOKUP('Design #'!D582,Labels!$A:$B,2,FALSE)","v":"Preventing sewage entering gardens and public spaces from pipe collapses or blockages"},{"$f":"VLOOKUP('Design #'!E582,Labels!$A:$B,2,FALSE)","v":"Providing appropriate sewer capacity and pumping capabilities to cope with widespread flood events"},{"$f":"VLOOKUP('Design #'!F582,Labels!$A:$B,2,FALSE)","v":"Keeping bills affordable for all"}]
[39,12,{"$f":"VLOOKUP('Design #'!C583,Labels!$A:$B,2,FALSE)","v":"Ensuring that land owned by Yorkshire Water is conserved or enhanced to improve quality of the water it collects and reduce flooding"},{"$f":"VLOOKUP('Design #'!D583,Labels!$A:$B,2,FALSE)","v":"Supporting customers to reduce their water use and prevent blockages through education and provision of free tools/devices"},{"$f":"VLOOKUP('Design #'!E583,Labels!$A:$B,2,FALSE)","v":"Preventing sewage entering gardens and public spaces from pipe collapses or blockages"},{"$f":"VLOOKUP('Design #'!F583,Labels!$A:$B,2,FALSE)","v":"Preventing interruptions to the supply of water (e.g. planned works, burst pipes, leaks and outages) that cause problems ranging from low pressure to no water"}]
[39,13,{"$f":"VLOOKUP('Design #'!C584,Labels!$A:$B,2,FALSE)","v":"Preventing pollution of rivers or streams from sewage pipes"},{"$f":"VLOOKUP('Design #'!D584,Labels!$A:$B,2,FALSE)","v":"Providing good and constant water pressure"},{"$f":"VLOOKUP('Design #'!E584,Labels!$A:$B,2,FALSE)","v":"Keeping bills affordable for all"},{"$f":"VLOOKUP('Design #'!F584,Labels!$A:$B,2,FALSE)","v":"Reduce and offset carbon emissions to achieve a 'net zero' position by 2030 "}]
[39,14,{"$f":"VLOOKUP('Design #'!C585,Labels!$A:$B,2,FALSE)","v":"Working with other organisations on common challenges (e.g. flooding) to share costs and expertise allowing for more and smarter investment to tackle problems"},{"$f":"VLOOKUP('Design #'!D585,Labels!$A:$B,2,FALSE)","v":"Preventing pollution of rivers or streams from sewage pipes"},{"$f":"VLOOKUP('Design #'!E585,Labels!$A:$B,2,FALSE)","v":"Treating waste water to a high standard to ensure good quality water in Yorkshire's rivers and beaches"},{"$f":"VLOOKUP('Design #'!F585,Labels!$A:$B,2,FALSE)","v":"Providing appropriate sewer capacity and pumping capabilities to cope with widespread flood events"}]
[39,15,{"$f":"VLOOKUP('Design #'!C586,Labels!$A:$B,2,FALSE)","v":"Providing good and constant water pressure"},{"$f":"VLOOKUP('Design #'!D586,Labels!$A:$B,2,FALSE)","v":"Providing a continuous supply of water that is safe to drink"},{"$f":"VLOOKUP('Design #'!E586,Labels!$A:$B,2,FALSE)","v":"Reducing the release of untreated sewage mixed with rain water into rivers and streams during times of heavy rainfall"},{"$f":"VLOOKUP('Design #'!F586,Labels!$A:$B,2,FALSE)","v":"Preventing pollution of rivers or streams from sewage pipes"}]
[40,1,{"$f":"VLOOKUP('Design #'!C587,Labels!$A:$B,2,FALSE)","v":"Preventing pollution of rivers or streams from sewage pipes"},{"$f":"VLOOKUP('Design #'!D587,Labels!$A:$B,2,FALSE)","v":"Providing financial help and support to those who are struggling to pay their water bill"},{"$f":"VLOOKUP('Design #'!E587,Labels!$A:$B,2,FALSE)","v":"Preventing sewage entering gardens and public spaces from pipe collapses or blockages"},{"$f":"VLOOKUP('Design #'!F587,Labels!$A:$B,2,FALSE)","v":"Preventing leaks from Yorkshire Water's pipe network"}]
[40,2,{"$f":"VLOOKUP('Design #'!C588,Labels!$A:$B,2,FALSE)","v":"Ensuring additional support is available to those who need it e.g.  providing bills in braille, providing bottled water during times of interruptions for thos​e who can't get to a shop (elderly, medical conditions etc.)"},{"$f":"VLOOKUP('Design #'!D588,Labels!$A:$B,2,FALSE)","v":"Keeping bills affordable for all"},{"$f":"VLOOKUP('Design #'!E588,Labels!$A:$B,2,FALSE)","v":"Ensuring that land owned by Yorkshire Water is conserved or enhanced to improve quality of the water it collects and reduce flooding"},{"$f":"VLOOKUP('Design #'!F588,Labels!$A:$B,2,FALSE)","v":"Reduce and offset carbon emissions to achieve a 'net zero' position by 2030 "}]
[40,3,{"$f":"VLOOKUP('Design #'!C589,Labels!$A:$B,2,FALSE)","v":"Reducing the release of untreated sewage mixed with rain water into rivers and streams during times of heavy rainfall"},{"$f":"VLOOKUP('Design #'!D589,Labels!$A:$B,2,FALSE)","v":"Preventing interruptions to the supply of water (e.g. planned works, burst pipes, leaks and outages) that cause problems ranging from low pressure to no water"},{"$f":"VLOOKUP('Design #'!E589,Labels!$A:$B,2,FALSE)","v":"Preventing leaks from Yorkshire Water's pipe network"},{"$f":"VLOOKUP('Design #'!F589,Labels!$A:$B,2,FALSE)","v":"Working with other organisations on common challenges (e.g. flooding) to share costs and expertise allowing for more and smarter investment to tackle problems"}]
[40,4,{"$f":"VLOOKUP('Design #'!C590,Labels!$A:$B,2,FALSE)","v":"Preventing sewage from entering homes and businesses "},{"$f":"VLOOKUP('Design #'!D590,Labels!$A:$B,2,FALSE)","v":"Providing appropriate sewer capacity and pumping capabilities to cope with widespread flood events"},{"$f":"VLOOKUP('Design #'!E590,Labels!$A:$B,2,FALSE)","v":"Providing a continuous supply of water that is safe to drink"},{"$f":"VLOOKUP('Design #'!F590,Labels!$A:$B,2,FALSE)","v":"Ensuring additional support is available to those who need it e.g.  providing bills in braille, providing bottled water during times of interruptions for thos​e who can't get to a shop (elderly, medical conditions etc.)"}]
[40,5,{"$f":"VLOOKUP('Design #'!C591,Labels!$A:$B,2,FALSE)","v":"Providing a continuous supply of water that is safe to drink"},{"$f":"VLOOKUP('Design #'!D591,Labels!$A:$B,2,FALSE)","v":"Treating waste water to a high standard to ensure good quality water in Yorkshire's rivers and beaches"},{"$f":"VLOOKUP('Design #'!E591,Labels!$A:$B,2,FALSE)","v":"Providing financial help and support to those who are struggling to pay their water bill"},{"$f":"VLOOKUP('Design #'!F591,Labels!$A:$B,2,FALSE)","v":"Preventing interruptions to the supply of water (e.g. planned works, burst pipes, leaks and outages) that cause problems ranging from low pressure to no water"}]
[40,6,{"$f":"VLOOKUP('Design #'!C592,Labels!$A:$B,2,FALSE)","v":"Reduce and offset carbon emissions to achieve a 'net zero' position by 2030 "},{"$f":"VLOOKUP('Design #'!D592,Labels!$A:$B,2,FALSE)","v":"Preventing pollution of rivers or streams from sewage pipes"},{"$f":"VLOOKUP('Design #'!E592,Labels!$A:$B,2,FALSE)","v":"Providing appropriate sewer capacity and pumping capabilities to cope with widespread flood events"},{"$f":"VLOOKUP('Design #'!F592,Labels!$A:$B,2,FALSE)","v":"Reducing the release of untreated sewage mixed with rain water into rivers and streams during times of heavy rainfall"}]
[40,7,{"$f":"VLOOKUP('Design #'!C593,Labels!$A:$B,2,FALSE)","v":"Preventing leaks from Yorkshire Water's pipe network"},{"$f":"VLOOKUP('Design #'!D593,Labels!$A:$B,2,FALSE)","v":"Providing water that is aesthetically pleasing (clear and clean with no odour or unusual taste or colour)"},{"$f":"VLOOKUP('Design #'!E593,Labels!$A:$B,2,FALSE)","v":"Preventing the likelihood of restrictions on water use, including hosepipe bans, in a drought"},{"$f":"VLOOKUP('Design #'!F593,Labels!$A:$B,2,FALSE)","v":"Keeping bills affordable for all"}]
[40,8,{"$f":"VLOOKUP('Design #'!C594,Labels!$A:$B,2,FALSE)","v":"Providing a high level of customer service (e.g. resolving queries quickly)"},{"$f":"VLOOKUP('Design #'!D594,Labels!$A:$B,2,FALSE)","v":"Working with other organisations on common challenges (e.g. flooding) to share costs and expertise allowing for more and smarter investment to tackle problems"},{"$f":"VLOOKUP('Design #'!E594,Labels!$A:$B,2,FALSE)","v":"Ensuring additional support is available to those who need it e.g.  providing bills in braille, providing bottled water during times of interruptions for thos​e who can't get to a shop (elderly, medical conditions etc.)"},{"$f":"VLOOKUP('Design #'!F594,Labels!$A:$B,2,FALSE)","v":"Supporting customers to reduce their water use and prevent blockages through education and provision of free tools/devices"}]
[40,9,{"$f":"VLOOKUP('Design #'!C595,Labels!$A:$B,2,FALSE)","v":"Treating waste water to a high standard to ensure good quality water in Yorkshire's rivers and beaches"},{"$f":"VLOOKUP('Design #'!D595,Labels!$A:$B,2,FALSE)","v":"Preventing sewage entering gardens and public spaces from pipe collapses or blockages"},{"$f":"VLOOKUP('Design #'!E595,Labels!$A:$B,2,FALSE)","v":"Preventing the likelihood of restrictions on water use, including hosepipe bans, in a drought"},{"$f":"VLOOKUP('Design #'!F595,Labels!$A:$B,2,FALSE)","v":"Providing a continuous supply of water that is safe to drink"}]
[40,10,{"$f":"VLOOKUP('Design #'!C596,Labels!$A:$B,2,FALSE)","v":"Preventing the likelihood of restrictions on water use, including hosepipe bans, in a drought"},{"$f":"VLOOKUP('Design #'!D596,Labels!$A:$B,2,FALSE)","v":"Providing appropriate sewer capacity and pumping capabilities to cope with widespread flood events"},{"$f":"VLOOKUP('Design #'!E596,Labels!$A:$B,2,FALSE)","v":"Ensuring that land owned by Yorkshire Water is conserved or enhanced to improve quality of the water it collects and reduce flooding"},{"$f":"VLOOKUP('Design #'!F596,Labels!$A:$B,2,FALSE)","v":"Working with other organisations on common challenges (e.g. flooding) to share costs and expertise allowing for more and smarter investment to tackle problems"}]
[40,11,{"$f":"VLOOKUP('Design #'!C597,Labels!$A:$B,2,FALSE)","v":"Keeping bills affordable for all"},{"$f":"VLOOKUP('Design #'!D597,Labels!$A:$B,2,FALSE)","v":"Reducing the release of untreated sewage mixed with rain water into rivers and streams during times of heavy rainfall"},{"$f":"VLOOKUP('Design #'!E597,Labels!$A:$B,2,FALSE)","v":"Providing a high level of customer service (e.g. resolving queries quickly)"},{"$f":"VLOOKUP('Design #'!F597,Labels!$A:$B,2,FALSE)","v":"Treating waste water to a high standard to ensure good quality water in Yorkshire's rivers and beaches"}]
[40,12,{"$f":"VLOOKUP('Design #'!C598,Labels!$A:$B,2,FALSE)","v":"Preventing interruptions to the supply of water (e.g. planned works, burst pipes, leaks and outages) that cause problems ranging from low pressure to no water"},{"$f":"VLOOKUP('Design #'!D598,Labels!$A:$B,2,FALSE)","v":"Providing a continuous supply of water that is safe to drink"},{"$f":"VLOOKUP('Design #'!E598,Labels!$A:$B,2,FALSE)","v":"Providing water that is aesthetically pleasing (clear and clean with no odour or unusual taste or colour)"},{"$f":"VLOOKUP('Design #'!F598,Labels!$A:$B,2,FALSE)","v":"Providing good and constant water pressure"}]
[40,13,{"$f":"VLOOKUP('Design #'!C599,Labels!$A:$B,2,FALSE)","v":"Providing good and constant water pressure"},{"$f":"VLOOKUP('Design #'!D599,Labels!$A:$B,2,FALSE)","v":"Ensuring that land owned by Yorkshire Water is conserved or enhanced to improve quality of the water it collects and reduce flooding"},{"$f":"VLOOKUP('Design #'!E599,Labels!$A:$B,2,FALSE)","v":"Preventing sewage from entering homes and businesses "},{"$f":"VLOOKUP('Design #'!F599,Labels!$A:$B,2,FALSE)","v":"Preventing sewage entering gardens and public spaces from pipe collapses or blockages"}]
[40,14,{"$f":"VLOOKUP('Design #'!C600,Labels!$A:$B,2,FALSE)","v":"Supporting customers to reduce their water use and prevent blockages through education and provision of free tools/devices"},{"$f":"VLOOKUP('Design #'!D600,Labels!$A:$B,2,FALSE)","v":"Preventing pollution of rivers or streams from sewage pipes"},{"$f":"VLOOKUP('Design #'!E600,Labels!$A:$B,2,FALSE)","v":"Preventing sewage from entering homes and businesses "},{"$f":"VLOOKUP('Design #'!F600,Labels!$A:$B,2,FALSE)","v":"Providing water that is aesthetically pleasing (clear and clean with no odour or unusual taste or colour)"}]
[40,15,{"$f":"VLOOKUP('Design #'!C601,Labels!$A:$B,2,FALSE)","v":"Providing appropriate sewer capacity and pumping capabilities to cope with widespread flood events"},{"$f":"VLOOKUP('Design #'!D601,Labels!$A:$B,2,FALSE)","v":"Providing a high level of customer service (e.g. resolving queries quickly)"},{"$f":"VLOOKUP('Design #'!E601,Labels!$A:$B,2,FALSE)","v":"Providing good and constant water pressure"},{"$f":"VLOOKUP('Design #'!F601,Labels!$A:$B,2,FALSE)","v":"Providing financial help and support to those who are struggling to pay their water bill"}]
[41,1,{"$f":"VLOOKUP('Design #'!C602,Labels!$A:$B,2,FALSE)","v":"Providing financial help and support to those who are struggling to pay their water bill"},{"$f":"VLOOKUP('Design #'!D602,Labels!$A:$B,2,FALSE)","v":"Preventing leaks from Yorkshire Water's pipe network"},{"$f":"VLOOKUP('Design #'!E602,Labels!$A:$B,2,FALSE)","v":"Working with other organisations on common challenges (e.g. flooding) to share costs and expertise allowing for more and smarter investment to tackle problems"},{"$f":"VLOOKUP('Design #'!F602,Labels!$A:$B,2,FALSE)","v":"Providing water that is aesthetically pleasing (clear and clean with no odour or unusual taste or colour)"}]
[41,2,{"$f":"VLOOKUP('Design #'!C603,Labels!$A:$B,2,FALSE)","v":"Preventing sewage entering gardens and public spaces from pipe collapses or blockages"},{"$f":"VLOOKUP('Design #'!D603,Labels!$A:$B,2,FALSE)","v":"Supporting customers to reduce their water use and prevent blockages through education and provision of free tools/devices"},{"$f":"VLOOKUP('Design #'!E603,Labels!$A:$B,2,FALSE)","v":"Providing financial help and support to those who are struggling to pay their water bill"},{"$f":"VLOOKUP('Design #'!F603,Labels!$A:$B,2,FALSE)","v":"Preventing the likelihood of restrictions on water use, including hosepipe bans, in a drought"}]
[41,3,{"$f":"VLOOKUP('Design #'!C604,Labels!$A:$B,2,FALSE)","v":"Keeping bills affordable for all"},{"$f":"VLOOKUP('Design #'!D604,Labels!$A:$B,2,FALSE)","v":"Working with other organisations on common challenges (e.g. flooding) to share costs and expertise allowing for more and smarter investment to tackle problems"},{"$f":"VLOOKUP('Design #'!E604,Labels!$A:$B,2,FALSE)","v":"Providing a continuous supply of water that is safe to drink"},{"$f":"VLOOKUP('Design #'!F604,Labels!$A:$B,2,FALSE)","v":"Preventing sewage from entering homes and businesses "}]
[41,4,{"$f":"VLOOKUP('Design #'!C605,Labels!$A:$B,2,FALSE)","v":"Preventing pollution of rivers or streams from sewage pipes"},{"$f":"VLOOKUP('Design #'!D605,Labels!$A:$B,2,FALSE)","v":"Preventing the likelihood of restrictions on water use, including hosepipe bans, in a drought"},{"$f":"VLOOKUP('Design #'!E605,Labels!$A:$B,2,FALSE)","v":"Ensuring additional support is available to those who need it e.g.  providing bills in braille, providing bottled water during times of interruptions for thos​e who can't get to a shop (elderly, medical conditions etc.)"},{"$f":"VLOOKUP('Design #'!F605,Labels!$A:$B,2,FALSE)","v":"Providing a high level of customer service (e.g. resolving queries quickly)"}]
[41,5,{"$f":"VLOOKUP('Design #'!C606,Labels!$A:$B,2,FALSE)","v":"Preventing sewage from entering homes and businesses "},{"$f":"VLOOKUP('Design #'!D606,Labels!$A:$B,2,FALSE)","v":"Reduce and offset carbon emissions to achieve a 'net zero' position by 2030 "},{"$f":"VLOOKUP('Design #'!E606,Labels!$A:$B,2,FALSE)","v":"Preventing interruptions to the supply of water (e.g. planned works, burst pipes, leaks and outages) that cause problems ranging from low pressure to no water"},{"$f":"VLOOKUP('Design #'!F606,Labels!$A:$B,2,FALSE)","v":"Preventing pollution of rivers or streams from sewage pipes"}]
[41,6,{"$f":"VLOOKUP('Design #'!C607,Labels!$A:$B,2,FALSE)","v":"Preventing leaks from Yorkshire Water's pipe network"},{"$f":"VLOOKUP('Design #'!D607,Labels!$A:$B,2,FALSE)","v":"Keeping bills affordable for all"},{"$f":"VLOOKUP('Design #'!E607,Labels!$A:$B,2,FALSE)","v":"Ensuring that land owned by Yorkshire Water is conserved or enhanced to improve quality of the water it collects and reduce flooding"},{"$f":"VLOOKUP('Design #'!F607,Labels!$A:$B,2,FALSE)","v":"Providing good and constant water pressure"}]
[41,7,{"$f":"VLOOKUP('Design #'!C608,Labels!$A:$B,2,FALSE)","v":"Ensuring that land owned by Yorkshire Water is conserved or enhanced to improve quality of the water it collects and reduce flooding"},{"$f":"VLOOKUP('Design #'!D608,Labels!$A:$B,2,FALSE)","v":"Preventing sewage entering gardens and public spaces from pipe collapses or blockages"},{"$f":"VLOOKUP('Design #'!E608,Labels!$A:$B,2,FALSE)","v":"Supporting customers to reduce their water use and prevent blockages through education and provision of free tools/devices"},{"$f":"VLOOKUP('Design #'!F608,Labels!$A:$B,2,FALSE)","v":"Preventing leaks from Yorkshire Water's pipe network"}]
[41,8,{"$f":"VLOOKUP('Design #'!C609,Labels!$A:$B,2,FALSE)","v":"Ensuring additional support is available to those who need it e.g.  providing bills in braille, providing bottled water during times of interruptions for thos​e who can't get to a shop (elderly, medical conditions etc.)"},{"$f":"VLOOKUP('Design #'!D609,Labels!$A:$B,2,FALSE)","v":"Providing good and constant water pressure"},{"$f":"VLOOKUP('Design #'!E609,Labels!$A:$B,2,FALSE)","v":"Reducing the release of untreated sewage mixed with rain water into rivers and streams during times of heavy rainfall"},{"$f":"VLOOKUP('Design #'!F609,Labels!$A:$B,2,FALSE)","v":"Providing financial help and support to those who are struggling to pay their water bill"}]
[41,9,{"$f":"VLOOKUP('Design #'!C610,Labels!$A:$B,2,FALSE)","v":"Treating waste water to a high standard to ensure good quality water in Yorkshire's rivers and beaches"},{"$f":"VLOOKUP('Design #'!D610,Labels!$A:$B,2,FALSE)","v":"Reducing the release of untreated sewage mixed with rain water into rivers and streams during times of heavy rainfall"},{"$f":"VLOOKUP('Design #'!E610,Labels!$A:$B,2,FALSE)","v":"Preventing pollution of rivers or streams from sewage pipes"},{"$f":"VLOOKUP('Design #'!F610,Labels!$A:$B,2,FALSE)","v":"Ensuring additional support is available to those who need it e.g.  providing bills in braille, providing bottled water during times of interruptions for thos​e who can't get to a shop (elderly, medical conditions etc.)"}]
[41,10,{"$f":"VLOOKUP('Design #'!C611,Labels!$A:$B,2,FALSE)","v":"Supporting customers to reduce their water use and prevent blockages through education and provision of free tools/devices"},{"$f":"VLOOKUP('Design #'!D611,Labels!$A:$B,2,FALSE)","v":"Preventing interruptions to the supply of water (e.g. planned works, burst pipes, leaks and outages) that cause problems ranging from low pressure to no water"},{"$f":"VLOOKUP('Design #'!E611,Labels!$A:$B,2,FALSE)","v":"Keeping bills affordable for all"},{"$f":"VLOOKUP('Design #'!F611,Labels!$A:$B,2,FALSE)","v":"Reducing the release of untreated sewage mixed with rain water into rivers and streams during times of heavy rainfall"}]
[41,11,{"$f":"VLOOKUP('Design #'!C612,Labels!$A:$B,2,FALSE)","v":"Providing water that is aesthetically pleasing (clear and clean with no odour or unusual taste or colour)"},{"$f":"VLOOKUP('Design #'!D612,Labels!$A:$B,2,FALSE)","v":"Providing a high level of customer service (e.g. resolving queries quickly)"},{"$f":"VLOOKUP('Design #'!E612,Labels!$A:$B,2,FALSE)","v":"Providing appropriate sewer capacity and pumping capabilities to cope with widespread flood events"},{"$f":"VLOOKUP('Design #'!F612,Labels!$A:$B,2,FALSE)","v":"Preventing the likelihood of restrictions on water use, including hosepipe bans, in a drought"}]
[41,12,{"$f":"VLOOKUP('Design #'!C613,Labels!$A:$B,2,FALSE)","v":"Providing good and constant water pressure"},{"$f":"VLOOKUP('Design #'!D613,Labels!$A:$B,2,FALSE)","v":"Supporting customers to reduce their water use and prevent blockages through education and provision of free tools/devices"},{"$f":"VLOOKUP('Design #'!E613,Labels!$A:$B,2,FALSE)","v":"Reduce and offset carbon emissions to achieve a 'net zero' position by 2030 "},{"$f":"VLOOKUP('Design #'!F613,Labels!$A:$B,2,FALSE)","v":"Treating waste water to a high standard to ensure good quality water in Yorkshire's rivers and beaches"}]
[41,13,{"$f":"VLOOKUP('Design #'!C614,Labels!$A:$B,2,FALSE)","v":"Reduce and offset carbon emissions to achieve a 'net zero' position by 2030 "},{"$f":"VLOOKUP('Design #'!D614,Labels!$A:$B,2,FALSE)","v":"Preventing sewage from entering homes and businesses "},{"$f":"VLOOKUP('Design #'!E614,Labels!$A:$B,2,FALSE)","v":"Providing water that is aesthetically pleasing (clear and clean with no odour or unusual taste or colour)"},{"$f":"VLOOKUP('Design #'!F614,Labels!$A:$B,2,FALSE)","v":"Working with other organisations on common challenges (e.g. flooding) to share costs and expertise allowing for more and smarter investment to tackle problems"}]
[41,14,{"$f":"VLOOKUP('Design #'!C615,Labels!$A:$B,2,FALSE)","v":"Providing a high level of customer service (e.g. resolving queries quickly)"},{"$f":"VLOOKUP('Design #'!D615,Labels!$A:$B,2,FALSE)","v":"Ensuring that land owned by Yorkshire Water is conserved or enhanced to improve quality of the water it collects and reduce flooding"},{"$f":"VLOOKUP('Design #'!E615,Labels!$A:$B,2,FALSE)","v":"Providing a continuous supply of water that is safe to drink"},{"$f":"VLOOKUP('Design #'!F615,Labels!$A:$B,2,FALSE)","v":"Preventing pollution of rivers or streams from sewage pipes"}]
[41,15,{"$f":"VLOOKUP('Design #'!C616,Labels!$A:$B,2,FALSE)","v":"Preventing interruptions to the supply of water (e.g. planned works, burst pipes, leaks and outages) that cause problems ranging from low pressure to no water"},{"$f":"VLOOKUP('Design #'!D616,Labels!$A:$B,2,FALSE)","v":"Preventing sewage entering gardens and public spaces from pipe collapses or blockages"},{"$f":"VLOOKUP('Design #'!E616,Labels!$A:$B,2,FALSE)","v":"Reduce and offset carbon emissions to achieve a 'net zero' position by 2030 "},{"$f":"VLOOKUP('Design #'!F616,Labels!$A:$B,2,FALSE)","v":"Providing appropriate sewer capacity and pumping capabilities to cope with widespread flood events"}]
[42,1,{"$f":"VLOOKUP('Design #'!C617,Labels!$A:$B,2,FALSE)","v":"Ensuring that land owned by Yorkshire Water is conserved or enhanced to improve quality of the water it collects and reduce flooding"},{"$f":"VLOOKUP('Design #'!D617,Labels!$A:$B,2,FALSE)","v":"Providing financial help and support to those who are struggling to pay their water bill"},{"$f":"VLOOKUP('Design #'!E617,Labels!$A:$B,2,FALSE)","v":"Providing a high level of customer service (e.g. resolving queries quickly)"},{"$f":"VLOOKUP('Design #'!F617,Labels!$A:$B,2,FALSE)","v":"Preventing sewage from entering homes and businesses "}]
[42,2,{"$f":"VLOOKUP('Design #'!C618,Labels!$A:$B,2,FALSE)","v":"Providing a continuous supply of water that is safe to drink"},{"$f":"VLOOKUP('Design #'!D618,Labels!$A:$B,2,FALSE)","v":"Preventing leaks from Yorkshire Water's pipe network"},{"$f":"VLOOKUP('Design #'!E618,Labels!$A:$B,2,FALSE)","v":"Supporting customers to reduce their water use and prevent blockages through education and provision of free tools/devices"},{"$f":"VLOOKUP('Design #'!F618,Labels!$A:$B,2,FALSE)","v":"Preventing pollution of rivers or streams from sewage pipes"}]
[42,3,{"$f":"VLOOKUP('Design #'!C619,Labels!$A:$B,2,FALSE)","v":"Reduce and offset carbon emissions to achieve a 'net zero' position by 2030 "},{"$f":"VLOOKUP('Design #'!D619,Labels!$A:$B,2,FALSE)","v":"Treating waste water to a high standard to ensure good quality water in Yorkshire's rivers and beaches"},{"$f":"VLOOKUP('Design #'!E619,Labels!$A:$B,2,FALSE)","v":"Preventing sewage entering gardens and public spaces from pipe collapses or blockages"},{"$f":"VLOOKUP('Design #'!F619,Labels!$A:$B,2,FALSE)","v":"Keeping bills affordable for all"}]
[42,4,{"$f":"VLOOKUP('Design #'!C620,Labels!$A:$B,2,FALSE)","v":"Preventing the likelihood of restrictions on water use, including hosepipe bans, in a drought"},{"$f":"VLOOKUP('Design #'!D620,Labels!$A:$B,2,FALSE)","v":"Providing water that is aesthetically pleasing (clear and clean with no odour or unusual taste or colour)"},{"$f":"VLOOKUP('Design #'!E620,Labels!$A:$B,2,FALSE)","v":"Treating waste water to a high standard to ensure good quality water in Yorkshire's rivers and beaches"},{"$f":"VLOOKUP('Design #'!F620,Labels!$A:$B,2,FALSE)","v":"Ensuring additional support is available to those who need it e.g.  providing bills in braille, providing bottled water during times of interruptions for thos​e who can't get to a shop (elderly, medical conditions etc.)"}]
[42,5,{"$f":"VLOOKUP('Design #'!C621,Labels!$A:$B,2,FALSE)","v":"Working with other organisations on common challenges (e.g. flooding) to share costs and expertise allowing for more and smarter investment to tackle problems"},{"$f":"VLOOKUP('Design #'!D621,Labels!$A:$B,2,FALSE)","v":"Treating waste water to a high standard to ensure good quality water in Yorkshire's rivers and beaches"},{"$f":"VLOOKUP('Design #'!E621,Labels!$A:$B,2,FALSE)","v":"Providing good and constant water pressure"},{"$f":"VLOOKUP('Design #'!F621,Labels!$A:$B,2,FALSE)","v":"Providing a high level of customer service (e.g. resolving queries quickly)"}]
[42,6,{"$f":"VLOOKUP('Design #'!C622,Labels!$A:$B,2,FALSE)","v":"Providing good and constant water pressure"},{"$f":"VLOOKUP('Design #'!D622,Labels!$A:$B,2,FALSE)","v":"Keeping bills affordable for all"},{"$f":"VLOOKUP('Design #'!E622,Labels!$A:$B,2,FALSE)","v":"Providing water that is aesthetically pleasing (clear and clean with no odour or unusual taste or colour)"},{"$f":"VLOOKUP('Design #'!F622,Labels!$A:$B,2,FALSE)","v":"Supporting customers to reduce their water use and prevent blockages through education and provision of free tools/devices"}]
[42,7,{"$f":"VLOOKUP('Design #'!C623,Labels!$A:$B,2,FALSE)","v":"Keeping bills affordable for all"},{"$f":"VLOOKUP('Design #'!D623,Labels!$A:$B,2,FALSE)","v":"Providing financial help and support to those who are struggling to pay their water bill"},{"$f":"VLOOKUP('Design #'!E623,Labels!$A:$B,2,FALSE)","v":"Preventing interruptions to the supply of water (e.g. planned works, burst pipes, leaks and outages) that cause problems ranging from low pressure to no water"},{"$f":"VLOOKUP('Design #'!F623,Labels!$A:$B,2,FALSE)","v":"Preventing the likelihood of restrictions on water use, including hosepipe bans, in a drought"}]
[42,8,{"$f":"VLOOKUP('Design #'!C624,Labels!$A:$B,2,FALSE)","v":"Providing appropriate sewer capacity and pumping capabilities to cope with widespread flood events"},{"$f":"VLOOKUP('Design #'!D624,Labels!$A:$B,2,FALSE)","v":"Reduce and offset carbon emissions to achieve a 'net zero' position by 2030 "},{"$f":"VLOOKUP('Design #'!E624,Labels!$A:$B,2,FALSE)","v":"Supporting customers to reduce their water use and prevent blockages through education and provision of free tools/devices"},{"$f":"VLOOKUP('Design #'!F624,Labels!$A:$B,2,FALSE)","v":"Ensuring that land owned by Yorkshire Water is conserved or enhanced to improve quality of the water it collects and reduce flooding"}]
[42,9,{"$f":"VLOOKUP('Design #'!C625,Labels!$A:$B,2,FALSE)","v":"Providing a high level of customer service (e.g. resolving queries quickly)"},{"$f":"VLOOKUP('Design #'!D625,Labels!$A:$B,2,FALSE)","v":"Providing appropriate sewer capacity and pumping capabilities to cope with widespread flood events"},{"$f":"VLOOKUP('Design #'!E625,Labels!$A:$B,2,FALSE)","v":"Preventing leaks from Yorkshire Water's pipe network"},{"$f":"VLOOKUP('Design #'!F625,Labels!$A:$B,2,FALSE)","v":"Preventing interruptions to the supply of water (e.g. planned works, burst pipes, leaks and outages) that cause problems ranging from low pressure to no water"}]
[42,10,{"$f":"VLOOKUP('Design #'!C626,Labels!$A:$B,2,FALSE)","v":"Preventing interruptions to the supply of water (e.g. planned works, burst pipes, leaks and outages) that cause problems ranging from low pressure to no water"},{"$f":"VLOOKUP('Design #'!D626,Labels!$A:$B,2,FALSE)","v":"Preventing pollution of rivers or streams from sewage pipes"},{"$f":"VLOOKUP('Design #'!E626,Labels!$A:$B,2,FALSE)","v":"Working with other organisations on common challenges (e.g. flooding) to share costs and expertise allowing for more and smarter investment to tackle problems"},{"$f":"VLOOKUP('Design #'!F626,Labels!$A:$B,2,FALSE)","v":"Preventing sewage entering gardens and public spaces from pipe collapses or blockages"}]
[42,11,{"$f":"VLOOKUP('Design #'!C627,Labels!$A:$B,2,FALSE)","v":"Reducing the release of untreated sewage mixed with rain water into rivers and streams during times of heavy rainfall"},{"$f":"VLOOKUP('Design #'!D627,Labels!$A:$B,2,FALSE)","v":"Providing water that is aesthetically pleasing (clear and clean with no odour or unusual taste or colour)"},{"$f":"VLOOKUP('Design #'!E627,Labels!$A:$B,2,FALSE)","v":"Preventing sewage entering gardens and public spaces from pipe collapses or blockages"},{"$f":"VLOOKUP('Design #'!F627,Labels!$A:$B,2,FALSE)","v":"Providing a continuous supply of water that is safe to drink"}]
[42,12,{"$f":"VLOOKUP('Design #'!C628,Labels!$A:$B,2,FALSE)","v":"Working with other organisations on common challenges (e.g. flooding) to share costs and expertise allowing for more and smarter investment to tackle problems"},{"$f":"VLOOKUP('Design #'!D628,Labels!$A:$B,2,FALSE)","v":"Supporting customers to reduce their water use and prevent blockages through education and provision of free tools/devices"},{"$f":"VLOOKUP('Design #'!E628,Labels!$A:$B,2,FALSE)","v":"Providing appropriate sewer capacity and pumping capabilities to cope with widespread flood events"},{"$f":"VLOOKUP('Design #'!F628,Labels!$A:$B,2,FALSE)","v":"Reducing the release of untreated sewage mixed with rain water into rivers and streams during times of heavy rainfall"}]
[42,13,{"$f":"VLOOKUP('Design #'!C629,Labels!$A:$B,2,FALSE)","v":"Reducing the release of untreated sewage mixed with rain water into rivers and streams during times of heavy rainfall"},{"$f":"VLOOKUP('Design #'!D629,Labels!$A:$B,2,FALSE)","v":"Ensuring that land owned by Yorkshire Water is conserved or enhanced to improve quality of the water it collects and reduce flooding"},{"$f":"VLOOKUP('Design #'!E629,Labels!$A:$B,2,FALSE)","v":"Preventing the likelihood of restrictions on water use, including hosepipe bans, in a drought"},{"$f":"VLOOKUP('Design #'!F629,Labels!$A:$B,2,FALSE)","v":"Preventing sewage from entering homes and businesses "}]
[42,14,{"$f":"VLOOKUP('Design #'!C630,Labels!$A:$B,2,FALSE)","v":"Preventing leaks from Yorkshire Water's pipe network"},{"$f":"VLOOKUP('Design #'!D630,Labels!$A:$B,2,FALSE)","v":"Ensuring additional support is available to those who need it e.g.  providing bills in braille, providing bottled water during times of interruptions for thos​e who can't get to a shop (elderly, medical conditions etc.)"},{"$f":"VLOOKUP('Design #'!E630,Labels!$A:$B,2,FALSE)","v":"Treating waste water to a high standard to ensure good quality water in Yorkshire's rivers and beaches"},{"$f":"VLOOKUP('Design #'!F630,Labels!$A:$B,2,FALSE)","v":"Preventing sewage from entering homes and businesses "}]
[42,15,{"$f":"VLOOKUP('Design #'!C631,Labels!$A:$B,2,FALSE)","v":"Providing a continuous supply of water that is safe to drink"},{"$f":"VLOOKUP('Design #'!D631,Labels!$A:$B,2,FALSE)","v":"Reduce and offset carbon emissions to achieve a 'net zero' position by 2030 "},{"$f":"VLOOKUP('Design #'!E631,Labels!$A:$B,2,FALSE)","v":"Providing financial help and support to those who are struggling to pay their water bill"},{"$f":"VLOOKUP('Design #'!F631,Labels!$A:$B,2,FALSE)","v":"Ensuring additional support is available to those who need it e.g.  providing bills in braille, providing bottled water during times of interruptions for thos​e who can't get to a shop (elderly, medical conditions etc.)"}]
[43,1,{"$f":"VLOOKUP('Design #'!C632,Labels!$A:$B,2,FALSE)","v":"Treating waste water to a high standard to ensure good quality water in Yorkshire's rivers and beaches"},{"$f":"VLOOKUP('Design #'!D632,Labels!$A:$B,2,FALSE)","v":"Providing good and constant water pressure"},{"$f":"VLOOKUP('Design #'!E632,Labels!$A:$B,2,FALSE)","v":"Preventing interruptions to the supply of water (e.g. planned works, burst pipes, leaks and outages) that cause problems ranging from low pressure to no water"},{"$f":"VLOOKUP('Design #'!F632,Labels!$A:$B,2,FALSE)","v":"Ensuring that land owned by Yorkshire Water is conserved or enhanced to improve quality of the water it collects and reduce flooding"}]
[43,2,{"$f":"VLOOKUP('Design #'!C633,Labels!$A:$B,2,FALSE)","v":"Providing financial help and support to those who are struggling to pay their water bill"},{"$f":"VLOOKUP('Design #'!D633,Labels!$A:$B,2,FALSE)","v":"Working with other organisations on common challenges (e.g. flooding) to share costs and expertise allowing for more and smarter investment to tackle problems"},{"$f":"VLOOKUP('Design #'!E633,Labels!$A:$B,2,FALSE)","v":"Ensuring that land owned by Yorkshire Water is conserved or enhanced to improve quality of the water it collects and reduce flooding"},{"$f":"VLOOKUP('Design #'!F633,Labels!$A:$B,2,FALSE)","v":"Preventing pollution of rivers or streams from sewage pipes"}]
[43,3,{"$f":"VLOOKUP('Design #'!C634,Labels!$A:$B,2,FALSE)","v":"Providing appropriate sewer capacity and pumping capabilities to cope with widespread flood events"},{"$f":"VLOOKUP('Design #'!D634,Labels!$A:$B,2,FALSE)","v":"Preventing the likelihood of restrictions on water use, including hosepipe bans, in a drought"},{"$f":"VLOOKUP('Design #'!E634,Labels!$A:$B,2,FALSE)","v":"Treating waste water to a high standard to ensure good quality water in Yorkshire's rivers and beaches"},{"$f":"VLOOKUP('Design #'!F634,Labels!$A:$B,2,FALSE)","v":"Providing a continuous supply of water that is safe to drink"}]
[43,4,{"$f":"VLOOKUP('Design #'!C635,Labels!$A:$B,2,FALSE)","v":"Preventing the likelihood of restrictions on water use, including hosepipe bans, in a drought"},{"$f":"VLOOKUP('Design #'!D635,Labels!$A:$B,2,FALSE)","v":"Supporting customers to reduce their water use and prevent blockages through education and provision of free tools/devices"},{"$f":"VLOOKUP('Design #'!E635,Labels!$A:$B,2,FALSE)","v":"Providing good and constant water pressure"},{"$f":"VLOOKUP('Design #'!F635,Labels!$A:$B,2,FALSE)","v":"Providing appropriate sewer capacity and pumping capabilities to cope with widespread flood events"}]
[43,5,{"$f":"VLOOKUP('Design #'!C636,Labels!$A:$B,2,FALSE)","v":"Supporting customers to reduce their water use and prevent blockages through education and provision of free tools/devices"},{"$f":"VLOOKUP('Design #'!D636,Labels!$A:$B,2,FALSE)","v":"Preventing sewage from entering homes and businesses "},{"$f":"VLOOKUP('Design #'!E636,Labels!$A:$B,2,FALSE)","v":"Preventing pollution of rivers or streams from sewage pipes"},{"$f":"VLOOKUP('Design #'!F636,Labels!$A:$B,2,FALSE)","v":"Providing water that is aesthetically pleasing (clear and clean with no odour or unusual taste or colour)"}]
[43,6,{"$f":"VLOOKUP('Design #'!C637,Labels!$A:$B,2,FALSE)","v":"Reducing the release of untreated sewage mixed with rain water into rivers and streams during times of heavy rainfall"},{"$f":"VLOOKUP('Design #'!D637,Labels!$A:$B,2,FALSE)","v":"Providing a high level of customer service (e.g. resolving queries quickly)"},{"$f":"VLOOKUP('Design #'!E637,Labels!$A:$B,2,FALSE)","v":"Reduce and offset carbon emissions to achieve a 'net zero' position by 2030 "},{"$f":"VLOOKUP('Design #'!F637,Labels!$A:$B,2,FALSE)","v":"Preventing the likelihood of restrictions on water use, including hosepipe bans, in a drought"}]
[43,7,{"$f":"VLOOKUP('Design #'!C638,Labels!$A:$B,2,FALSE)","v":"Providing a continuous supply of water that is safe to drink"},{"$f":"VLOOKUP('Design #'!D638,Labels!$A:$B,2,FALSE)","v":"Reducing the release of untreated sewage mixed with rain water into rivers and streams during times of heavy rainfall"},{"$f":"VLOOKUP('Design #'!E638,Labels!$A:$B,2,FALSE)","v":"Providing a high level of customer service (e.g. resolving queries quickly)"},{"$f":"VLOOKUP('Design #'!F638,Labels!$A:$B,2,FALSE)","v":"Preventing leaks from Yorkshire Water's pipe network"}]
[43,8,{"$f":"VLOOKUP('Design #'!C639,Labels!$A:$B,2,FALSE)","v":"Preventing pollution of rivers or streams from sewage pipes"},{"$f":"VLOOKUP('Design #'!D639,Labels!$A:$B,2,FALSE)","v":"Providing appropriate sewer capacity and pumping capabilities to cope with widespread flood events"},{"$f":"VLOOKUP('Design #'!E639,Labels!$A:$B,2,FALSE)","v":"Keeping bills affordable for all"},{"$f":"VLOOKUP('Design #'!F639,Labels!$A:$B,2,FALSE)","v":"Providing financial help and support to those who are struggling to pay their water bill"}]
[43,9,{"$f":"VLOOKUP('Design #'!C640,Labels!$A:$B,2,FALSE)","v":"Preventing sewage from entering homes and businesses "},{"$f":"VLOOKUP('Design #'!D640,Labels!$A:$B,2,FALSE)","v":"Reduce and offset carbon emissions to achieve a 'net zero' position by 2030 "},{"$f":"VLOOKUP('Design #'!E640,Labels!$A:$B,2,FALSE)","v":"Reducing the release of untreated sewage mixed with rain water into rivers and streams during times of heavy rainfall"},{"$f":"VLOOKUP('Design #'!F640,Labels!$A:$B,2,FALSE)","v":"Treating waste water to a high standard to ensure good quality water in Yorkshire's rivers and beaches"}]
[43,10,{"$f":"VLOOKUP('Design #'!C641,Labels!$A:$B,2,FALSE)","v":"Ensuring additional support is available to those who need it e.g.  providing bills in braille, providing bottled water during times of interruptions for thos​e who can't get to a shop (elderly, medical conditions etc.)"},{"$f":"VLOOKUP('Design #'!D641,Labels!$A:$B,2,FALSE)","v":"Providing good and constant water pressure"},{"$f":"VLOOKUP('Design #'!E641,Labels!$A:$B,2,FALSE)","v":"Preventing sewage from entering homes and businesses "},{"$f":"VLOOKUP('Design #'!F641,Labels!$A:$B,2,FALSE)","v":"Preventing sewage entering gardens and public spaces from pipe collapses or blockages"}]
[43,11,{"$f":"VLOOKUP('Design #'!C642,Labels!$A:$B,2,FALSE)","v":"Providing good and constant water pressure"},{"$f":"VLOOKUP('Design #'!D642,Labels!$A:$B,2,FALSE)","v":"Preventing leaks from Yorkshire Water's pipe network"},{"$f":"VLOOKUP('Design #'!E642,Labels!$A:$B,2,FALSE)","v":"Preventing sewage entering gardens and public spaces from pipe collapses or blockages"},{"$f":"VLOOKUP('Design #'!F642,Labels!$A:$B,2,FALSE)","v":"Reduce and offset carbon emissions to achieve a 'net zero' position by 2030 "}]
[43,12,{"$f":"VLOOKUP('Design #'!C643,Labels!$A:$B,2,FALSE)","v":"Preventing leaks from Yorkshire Water's pipe network"},{"$f":"VLOOKUP('Design #'!D643,Labels!$A:$B,2,FALSE)","v":"Preventing interruptions to the supply of water (e.g. planned works, burst pipes, leaks and outages) that cause problems ranging from low pressure to no water"},{"$f":"VLOOKUP('Design #'!E643,Labels!$A:$B,2,FALSE)","v":"Providing financial help and support to those who are struggling to pay their water bill"},{"$f":"VLOOKUP('Design #'!F643,Labels!$A:$B,2,FALSE)","v":"Keeping bills affordable for all"}]
[43,13,{"$f":"VLOOKUP('Design #'!C644,Labels!$A:$B,2,FALSE)","v":"Providing water that is aesthetically pleasing (clear and clean with no odour or unusual taste or colour)"},{"$f":"VLOOKUP('Design #'!D644,Labels!$A:$B,2,FALSE)","v":"Ensuring additional support is available to those who need it e.g.  providing bills in braille, providing bottled water during times of interruptions for thos​e who can't get to a shop (elderly, medical conditions etc.)"},{"$f":"VLOOKUP('Design #'!E644,Labels!$A:$B,2,FALSE)","v":"Working with other organisations on common challenges (e.g. flooding) to share costs and expertise allowing for more and smarter investment to tackle problems"},{"$f":"VLOOKUP('Design #'!F644,Labels!$A:$B,2,FALSE)","v":"Preventing interruptions to the supply of water (e.g. planned works, burst pipes, leaks and outages) that cause problems ranging from low pressure to no water"}]
[43,14,{"$f":"VLOOKUP('Design #'!C645,Labels!$A:$B,2,FALSE)","v":"Supporting customers to reduce their water use and prevent blockages through education and provision of free tools/devices"},{"$f":"VLOOKUP('Design #'!D645,Labels!$A:$B,2,FALSE)","v":"Providing a continuous supply of water that is safe to drink"},{"$f":"VLOOKUP('Design #'!E645,Labels!$A:$B,2,FALSE)","v":"Ensuring additional support is available to those who need it e.g.  providing bills in braille, providing bottled water during times of interruptions for thos​e who can't get to a shop (elderly, medical conditions etc.)"},{"$f":"VLOOKUP('Design #'!F645,Labels!$A:$B,2,FALSE)","v":"Working with other organisations on common challenges (e.g. flooding) to share costs and expertise allowing for more and smarter investment to tackle problems"}]
[43,15,{"$f":"VLOOKUP('Design #'!C646,Labels!$A:$B,2,FALSE)","v":"Ensuring that land owned by Yorkshire Water is conserved or enhanced to improve quality of the water it collects and reduce flooding"},{"$f":"VLOOKUP('Design #'!D646,Labels!$A:$B,2,FALSE)","v":"Keeping bills affordable for all"},{"$f":"VLOOKUP('Design #'!E646,Labels!$A:$B,2,FALSE)","v":"Providing water that is aesthetically pleasing (clear and clean with no odour or unusual taste or colour)"},{"$f":"VLOOKUP('Design #'!F646,Labels!$A:$B,2,FALSE)","v":"Providing a high level of customer service (e.g. resolving queries quickly)"}]
[44,1,{"$f":"VLOOKUP('Design #'!C647,Labels!$A:$B,2,FALSE)","v":"Preventing interruptions to the supply of water (e.g. planned works, burst pipes, leaks and outages) that cause problems ranging from low pressure to no water"},{"$f":"VLOOKUP('Design #'!D647,Labels!$A:$B,2,FALSE)","v":"Providing a high level of customer service (e.g. resolving queries quickly)"},{"$f":"VLOOKUP('Design #'!E647,Labels!$A:$B,2,FALSE)","v":"Ensuring additional support is available to those who need it e.g.  providing bills in braille, providing bottled water during times of interruptions for thos​e who can't get to a shop (elderly, medical conditions etc.)"},{"$f":"VLOOKUP('Design #'!F647,Labels!$A:$B,2,FALSE)","v":"Providing good and constant water pressure"}]
[44,2,{"$f":"VLOOKUP('Design #'!C648,Labels!$A:$B,2,FALSE)","v":"Preventing pollution of rivers or streams from sewage pipes"},{"$f":"VLOOKUP('Design #'!D648,Labels!$A:$B,2,FALSE)","v":"Providing a continuous supply of water that is safe to drink"},{"$f":"VLOOKUP('Design #'!E648,Labels!$A:$B,2,FALSE)","v":"Reducing the release of untreated sewage mixed with rain water into rivers and streams during times of heavy rainfall"},{"$f":"VLOOKUP('Design #'!F648,Labels!$A:$B,2,FALSE)","v":"Keeping bills affordable for all"}]
[44,3,{"$f":"VLOOKUP('Design #'!C649,Labels!$A:$B,2,FALSE)","v":"Preventing sewage entering gardens and public spaces from pipe collapses or blockages"},{"$f":"VLOOKUP('Design #'!D649,Labels!$A:$B,2,FALSE)","v":"Treating waste water to a high standard to ensure good quality water in Yorkshire's rivers and beaches"},{"$f":"VLOOKUP('Design #'!E649,Labels!$A:$B,2,FALSE)","v":"Keeping bills affordable for all"},{"$f":"VLOOKUP('Design #'!F649,Labels!$A:$B,2,FALSE)","v":"Providing a high level of customer service (e.g. resolving queries quickly)"}]
[44,4,{"$f":"VLOOKUP('Design #'!C650,Labels!$A:$B,2,FALSE)","v":"Preventing sewage from entering homes and businesses "},{"$f":"VLOOKUP('Design #'!D650,Labels!$A:$B,2,FALSE)","v":"Providing a high level of customer service (e.g. resolving queries quickly)"},{"$f":"VLOOKUP('Design #'!E650,Labels!$A:$B,2,FALSE)","v":"Preventing leaks from Yorkshire Water's pipe network"},{"$f":"VLOOKUP('Design #'!F650,Labels!$A:$B,2,FALSE)","v":"Preventing pollution of rivers or streams from sewage pipes"}]
[44,5,{"$f":"VLOOKUP('Design #'!C651,Labels!$A:$B,2,FALSE)","v":"Providing water that is aesthetically pleasing (clear and clean with no odour or unusual taste or colour)"},{"$f":"VLOOKUP('Design #'!D651,Labels!$A:$B,2,FALSE)","v":"Providing financial help and support to those who are struggling to pay their water bill"},{"$f":"VLOOKUP('Design #'!E651,Labels!$A:$B,2,FALSE)","v":"Providing a continuous supply of water that is safe to drink"},{"$f":"VLOOKUP('Design #'!F651,Labels!$A:$B,2,FALSE)","v":"Reduce and offset carbon emissions to achieve a 'net zero' position by 2030 "}]
[44,6,{"$f":"VLOOKUP('Design #'!C652,Labels!$A:$B,2,FALSE)","v":"Keeping bills affordable for all"},{"$f":"VLOOKUP('Design #'!D652,Labels!$A:$B,2,FALSE)","v":"Working with other organisations on common challenges (e.g. flooding) to share costs and expertise allowing for more and smarter investment to tackle problems"},{"$f":"VLOOKUP('Design #'!E652,Labels!$A:$B,2,FALSE)","v":"Supporting customers to reduce their water use and prevent blockages through education and provision of free tools/devices"},{"$f":"VLOOKUP('Design #'!F652,Labels!$A:$B,2,FALSE)","v":"Ensuring additional support is available to those who need it e.g.  providing bills in braille, providing bottled water during times of interruptions for thos​e who can't get to a shop (elderly, medical conditions etc.)"}]
[44,7,{"$f":"VLOOKUP('Design #'!C653,Labels!$A:$B,2,FALSE)","v":"Preventing the likelihood of restrictions on water use, including hosepipe bans, in a drought"},{"$f":"VLOOKUP('Design #'!D653,Labels!$A:$B,2,FALSE)","v":"Preventing leaks from Yorkshire Water's pipe network"},{"$f":"VLOOKUP('Design #'!E653,Labels!$A:$B,2,FALSE)","v":"Providing good and constant water pressure"},{"$f":"VLOOKUP('Design #'!F653,Labels!$A:$B,2,FALSE)","v":"Reducing the release of untreated sewage mixed with rain water into rivers and streams during times of heavy rainfall"}]
[44,8,{"$f":"VLOOKUP('Design #'!C654,Labels!$A:$B,2,FALSE)","v":"Reduce and offset carbon emissions to achieve a 'net zero' position by 2030 "},{"$f":"VLOOKUP('Design #'!D654,Labels!$A:$B,2,FALSE)","v":"Preventing interruptions to the supply of water (e.g. planned works, burst pipes, leaks and outages) that cause problems ranging from low pressure to no water"},{"$f":"VLOOKUP('Design #'!E654,Labels!$A:$B,2,FALSE)","v":"Preventing the likelihood of restrictions on water use, including hosepipe bans, in a drought"},{"$f":"VLOOKUP('Design #'!F654,Labels!$A:$B,2,FALSE)","v":"Providing a continuous supply of water that is safe to drink"}]
[44,9,{"$f":"VLOOKUP('Design #'!C655,Labels!$A:$B,2,FALSE)","v":"Ensuring additional support is available to those who need it e.g.  providing bills in braille, providing bottled water during times of interruptions for thos​e who can't get to a shop (elderly, medical conditions etc.)"},{"$f":"VLOOKUP('Design #'!D655,Labels!$A:$B,2,FALSE)","v":"Preventing pollution of rivers or streams from sewage pipes"},{"$f":"VLOOKUP('Design #'!E655,Labels!$A:$B,2,FALSE)","v":"Preventing interruptions to the supply of water (e.g. planned works, burst pipes, leaks and outages) that cause problems ranging from low pressure to no water"},{"$f":"VLOOKUP('Design #'!F655,Labels!$A:$B,2,FALSE)","v":"Ensuring that land owned by Yorkshire Water is conserved or enhanced to improve quality of the water it collects and reduce flooding"}]
[44,10,{"$f":"VLOOKUP('Design #'!C656,Labels!$A:$B,2,FALSE)","v":"Working with other organisations on common challenges (e.g. flooding) to share costs and expertise allowing for more and smarter investment to tackle problems"},{"$f":"VLOOKUP('Design #'!D656,Labels!$A:$B,2,FALSE)","v":"Preventing sewage from entering homes and businesses "},{"$f":"VLOOKUP('Design #'!E656,Labels!$A:$B,2,FALSE)","v":"Providing appropriate sewer capacity and pumping capabilities to cope with widespread flood events"},{"$f":"VLOOKUP('Design #'!F656,Labels!$A:$B,2,FALSE)","v":"Preventing sewage entering gardens and public spaces from pipe collapses or blockages"}]
[44,11,{"$f":"VLOOKUP('Design #'!C657,Labels!$A:$B,2,FALSE)","v":"Treating waste water to a high standard to ensure good quality water in Yorkshire's rivers and beaches"},{"$f":"VLOOKUP('Design #'!D657,Labels!$A:$B,2,FALSE)","v":"Ensuring that land owned by Yorkshire Water is conserved or enhanced to improve quality of the water it collects and reduce flooding"},{"$f":"VLOOKUP('Design #'!E657,Labels!$A:$B,2,FALSE)","v":"Working with other organisations on common challenges (e.g. flooding) to share costs and expertise allowing for more and smarter investment to tackle problems"},{"$f":"VLOOKUP('Design #'!F657,Labels!$A:$B,2,FALSE)","v":"Preventing leaks from Yorkshire Water's pipe network"}]
[44,12,{"$f":"VLOOKUP('Design #'!C658,Labels!$A:$B,2,FALSE)","v":"Preventing sewage entering gardens and public spaces from pipe collapses or blockages"},{"$f":"VLOOKUP('Design #'!D658,Labels!$A:$B,2,FALSE)","v":"Providing water that is aesthetically pleasing (clear and clean with no odour or unusual taste or colour)"},{"$f":"VLOOKUP('Design #'!E658,Labels!$A:$B,2,FALSE)","v":"Ensuring that land owned by Yorkshire Water is conserved or enhanced to improve quality of the water it collects and reduce flooding"},{"$f":"VLOOKUP('Design #'!F658,Labels!$A:$B,2,FALSE)","v":"Treating waste water to a high standard to ensure good quality water in Yorkshire's rivers and beaches"}]
[44,13,{"$f":"VLOOKUP('Design #'!C659,Labels!$A:$B,2,FALSE)","v":"Providing financial help and support to those who are struggling to pay their water bill"},{"$f":"VLOOKUP('Design #'!D659,Labels!$A:$B,2,FALSE)","v":"Preventing the likelihood of restrictions on water use, including hosepipe bans, in a drought"},{"$f":"VLOOKUP('Design #'!E659,Labels!$A:$B,2,FALSE)","v":"Preventing sewage from entering homes and businesses "},{"$f":"VLOOKUP('Design #'!F659,Labels!$A:$B,2,FALSE)","v":"Supporting customers to reduce their water use and prevent blockages through education and provision of free tools/devices"}]
[44,14,{"$f":"VLOOKUP('Design #'!C660,Labels!$A:$B,2,FALSE)","v":"Providing appropriate sewer capacity and pumping capabilities to cope with widespread flood events"},{"$f":"VLOOKUP('Design #'!D660,Labels!$A:$B,2,FALSE)","v":"Reducing the release of untreated sewage mixed with rain water into rivers and streams during times of heavy rainfall"},{"$f":"VLOOKUP('Design #'!E660,Labels!$A:$B,2,FALSE)","v":"Providing financial help and support to those who are struggling to pay their water bill"},{"$f":"VLOOKUP('Design #'!F660,Labels!$A:$B,2,FALSE)","v":"Providing good and constant water pressure"}]
[44,15,{"$f":"VLOOKUP('Design #'!C661,Labels!$A:$B,2,FALSE)","v":"Preventing leaks from Yorkshire Water's pipe network"},{"$f":"VLOOKUP('Design #'!D661,Labels!$A:$B,2,FALSE)","v":"Providing water that is aesthetically pleasing (clear and clean with no odour or unusual taste or colour)"},{"$f":"VLOOKUP('Design #'!E661,Labels!$A:$B,2,FALSE)","v":"Reduce and offset carbon emissions to achieve a 'net zero' position by 2030 "},{"$f":"VLOOKUP('Design #'!F661,Labels!$A:$B,2,FALSE)","v":"Providing appropriate sewer capacity and pumping capabilities to cope with widespread flood events"}]
[45,1,{"$f":"VLOOKUP('Design #'!C662,Labels!$A:$B,2,FALSE)","v":"Preventing the likelihood of restrictions on water use, including hosepipe bans, in a drought"},{"$f":"VLOOKUP('Design #'!D662,Labels!$A:$B,2,FALSE)","v":"Preventing sewage entering gardens and public spaces from pipe collapses or blockages"},{"$f":"VLOOKUP('Design #'!E662,Labels!$A:$B,2,FALSE)","v":"Preventing pollution of rivers or streams from sewage pipes"},{"$f":"VLOOKUP('Design #'!F662,Labels!$A:$B,2,FALSE)","v":"Keeping bills affordable for all"}]
[45,2,{"$f":"VLOOKUP('Design #'!C663,Labels!$A:$B,2,FALSE)","v":"Preventing interruptions to the supply of water (e.g. planned works, burst pipes, leaks and outages) that cause problems ranging from low pressure to no water"},{"$f":"VLOOKUP('Design #'!D663,Labels!$A:$B,2,FALSE)","v":"Providing appropriate sewer capacity and pumping capabilities to cope with widespread flood events"},{"$f":"VLOOKUP('Design #'!E663,Labels!$A:$B,2,FALSE)","v":"Treating waste water to a high standard to ensure good quality water in Yorkshire's rivers and beaches"},{"$f":"VLOOKUP('Design #'!F663,Labels!$A:$B,2,FALSE)","v":"Supporting customers to reduce their water use and prevent blockages through education and provision of free tools/devices"}]
[45,3,{"$f":"VLOOKUP('Design #'!C664,Labels!$A:$B,2,FALSE)","v":"Keeping bills affordable for all"},{"$f":"VLOOKUP('Design #'!D664,Labels!$A:$B,2,FALSE)","v":"Preventing interruptions to the supply of water (e.g. planned works, burst pipes, leaks and outages) that cause problems ranging from low pressure to no water"},{"$f":"VLOOKUP('Design #'!E664,Labels!$A:$B,2,FALSE)","v":"Providing appropriate sewer capacity and pumping capabilities to cope with widespread flood events"},{"$f":"VLOOKUP('Design #'!F664,Labels!$A:$B,2,FALSE)","v":"Preventing sewage from entering homes and businesses "}]
[45,4,{"$f":"VLOOKUP('Design #'!C665,Labels!$A:$B,2,FALSE)","v":"Working with other organisations on common challenges (e.g. flooding) to share costs and expertise allowing for more and smarter investment to tackle problems"},{"$f":"VLOOKUP('Design #'!D665,Labels!$A:$B,2,FALSE)","v":"Keeping bills affordable for all"},{"$f":"VLOOKUP('Design #'!E665,Labels!$A:$B,2,FALSE)","v":"Preventing the likelihood of restrictions on water use, including hosepipe bans, in a drought"},{"$f":"VLOOKUP('Design #'!F665,Labels!$A:$B,2,FALSE)","v":"Providing good and constant water pressure"}]
[45,5,{"$f":"VLOOKUP('Design #'!C666,Labels!$A:$B,2,FALSE)","v":"Reducing the release of untreated sewage mixed with rain water into rivers and streams during times of heavy rainfall"},{"$f":"VLOOKUP('Design #'!D666,Labels!$A:$B,2,FALSE)","v":"Supporting customers to reduce their water use and prevent blockages through education and provision of free tools/devices"},{"$f":"VLOOKUP('Design #'!E666,Labels!$A:$B,2,FALSE)","v":"Ensuring that land owned by Yorkshire Water is conserved or enhanced to improve quality of the water it collects and reduce flooding"},{"$f":"VLOOKUP('Design #'!F666,Labels!$A:$B,2,FALSE)","v":"Providing water that is aesthetically pleasing (clear and clean with no odour or unusual taste or colour)"}]
[45,6,{"$f":"VLOOKUP('Design #'!C667,Labels!$A:$B,2,FALSE)","v":"Providing water that is aesthetically pleasing (clear and clean with no odour or unusual taste or colour)"},{"$f":"VLOOKUP('Design #'!D667,Labels!$A:$B,2,FALSE)","v":"Treating waste water to a high standard to ensure good quality water in Yorkshire's rivers and beaches"},{"$f":"VLOOKUP('Design #'!E667,Labels!$A:$B,2,FALSE)","v":"Preventing pollution of rivers or streams from sewage pipes"},{"$f":"VLOOKUP('Design #'!F667,Labels!$A:$B,2,FALSE)","v":"Providing financial help and support to those who are struggling to pay their water bill"}]
[45,7,{"$f":"VLOOKUP('Design #'!C668,Labels!$A:$B,2,FALSE)","v":"Preventing pollution of rivers or streams from sewage pipes"},{"$f":"VLOOKUP('Design #'!D668,Labels!$A:$B,2,FALSE)","v":"Ensuring additional support is available to those who need it e.g.  providing bills in braille, providing bottled water during times of interruptions for thos​e who can't get to a shop (elderly, medical conditions etc.)"},{"$f":"VLOOKUP('Design #'!E668,Labels!$A:$B,2,FALSE)","v":"Reduce and offset carbon emissions to achieve a 'net zero' position by 2030 "},{"$f":"VLOOKUP('Design #'!F668,Labels!$A:$B,2,FALSE)","v":"Providing appropriate sewer capacity and pumping capabilities to cope with widespread flood events"}]
[45,8,{"$f":"VLOOKUP('Design #'!C669,Labels!$A:$B,2,FALSE)","v":"Treating waste water to a high standard to ensure good quality water in Yorkshire's rivers and beaches"},{"$f":"VLOOKUP('Design #'!D669,Labels!$A:$B,2,FALSE)","v":"Preventing leaks from Yorkshire Water's pipe network"},{"$f":"VLOOKUP('Design #'!E669,Labels!$A:$B,2,FALSE)","v":"Reducing the release of untreated sewage mixed with rain water into rivers and streams during times of heavy rainfall"},{"$f":"VLOOKUP('Design #'!F669,Labels!$A:$B,2,FALSE)","v":"Preventing interruptions to the supply of water (e.g. planned works, burst pipes, leaks and outages) that cause problems ranging from low pressure to no water"}]
[45,9,{"$f":"VLOOKUP('Design #'!C670,Labels!$A:$B,2,FALSE)","v":"Reduce and offset carbon emissions to achieve a 'net zero' position by 2030 "},{"$f":"VLOOKUP('Design #'!D670,Labels!$A:$B,2,FALSE)","v":"Ensuring that land owned by Yorkshire Water is conserved or enhanced to improve quality of the water it collects and reduce flooding"},{"$f":"VLOOKUP('Design #'!E670,Labels!$A:$B,2,FALSE)","v":"Working with other organisations on common challenges (e.g. flooding) to share costs and expertise allowing for more and smarter investment to tackle problems"},{"$f":"VLOOKUP('Design #'!F670,Labels!$A:$B,2,FALSE)","v":"Reducing the release of untreated sewage mixed with rain water into rivers and streams during times of heavy rainfall"}]
[45,10,{"$f":"VLOOKUP('Design #'!C671,Labels!$A:$B,2,FALSE)","v":"Ensuring that land owned by Yorkshire Water is conserved or enhanced to improve quality of the water it collects and reduce flooding"},{"$f":"VLOOKUP('Design #'!D671,Labels!$A:$B,2,FALSE)","v":"Preventing the likelihood of restrictions on water use, including hosepipe bans, in a drought"},{"$f":"VLOOKUP('Design #'!E671,Labels!$A:$B,2,FALSE)","v":"Providing appropriate sewer capacity and pumping capabilities to cope with widespread flood events"},{"$f":"VLOOKUP('Design #'!F671,Labels!$A:$B,2,FALSE)","v":"Providing a continuous supply of water that is safe to drink"}]
[45,11,{"$f":"VLOOKUP('Design #'!C672,Labels!$A:$B,2,FALSE)","v":"Providing a high level of customer service (e.g. resolving queries quickly)"},{"$f":"VLOOKUP('Design #'!D672,Labels!$A:$B,2,FALSE)","v":"Providing a continuous supply of water that is safe to drink"},{"$f":"VLOOKUP('Design #'!E672,Labels!$A:$B,2,FALSE)","v":"Supporting customers to reduce their water use and prevent blockages through education and provision of free tools/devices"},{"$f":"VLOOKUP('Design #'!F672,Labels!$A:$B,2,FALSE)","v":"Preventing sewage entering gardens and public spaces from pipe collapses or blockages"}]
[45,12,{"$f":"VLOOKUP('Design #'!C673,Labels!$A:$B,2,FALSE)","v":"Providing a high level of customer service (e.g. resolving queries quickly)"},{"$f":"VLOOKUP('Design #'!D673,Labels!$A:$B,2,FALSE)","v":"Ensuring additional support is available to those who need it e.g.  providing bills in braille, providing bottled water during times of interruptions for thos​e who can't get to a shop (elderly, medical conditions etc.)"},{"$f":"VLOOKUP('Design #'!E673,Labels!$A:$B,2,FALSE)","v":"Preventing leaks from Yorkshire Water's pipe network"},{"$f":"VLOOKUP('Design #'!F673,Labels!$A:$B,2,FALSE)","v":"Reduce and offset carbon emissions to achieve a 'net zero' position by 2030 "}]
[45,13,{"$f":"VLOOKUP('Design #'!C674,Labels!$A:$B,2,FALSE)","v":"Preventing sewage from entering homes and businesses "},{"$f":"VLOOKUP('Design #'!D674,Labels!$A:$B,2,FALSE)","v":"Providing good and constant water pressure"},{"$f":"VLOOKUP('Design #'!E674,Labels!$A:$B,2,FALSE)","v":"Providing water that is aesthetically pleasing (clear and clean with no odour or unusual taste or colour)"},{"$f":"VLOOKUP('Design #'!F674,Labels!$A:$B,2,FALSE)","v":"Providing a continuous supply of water that is safe to drink"}]
[45,14,{"$f":"VLOOKUP('Design #'!C675,Labels!$A:$B,2,FALSE)","v":"Ensuring additional support is available to those who need it e.g.  providing bills in braille, providing bottled water during times of interruptions for thos​e who can't get to a shop (elderly, medical conditions etc.)"},{"$f":"VLOOKUP('Design #'!D675,Labels!$A:$B,2,FALSE)","v":"Reducing the release of untreated sewage mixed with rain water into rivers and streams during times of heavy rainfall"},{"$f":"VLOOKUP('Design #'!E675,Labels!$A:$B,2,FALSE)","v":"Preventing sewage entering gardens and public spaces from pipe collapses or blockages"},{"$f":"VLOOKUP('Design #'!F675,Labels!$A:$B,2,FALSE)","v":"Providing financial help and support to those who are struggling to pay their water bill"}]
[45,15,{"$f":"VLOOKUP('Design #'!C676,Labels!$A:$B,2,FALSE)","v":"Providing good and constant water pressure"},{"$f":"VLOOKUP('Design #'!D676,Labels!$A:$B,2,FALSE)","v":"Working with other organisations on common challenges (e.g. flooding) to share costs and expertise allowing for more and smarter investment to tackle problems"},{"$f":"VLOOKUP('Design #'!E676,Labels!$A:$B,2,FALSE)","v":"Providing financial help and support to those who are struggling to pay their water bill"},{"$f":"VLOOKUP('Design #'!F676,Labels!$A:$B,2,FALSE)","v":"Providing a high level of customer service (e.g. resolving queries quickly)"}]
[46,1,{"$f":"VLOOKUP('Design #'!C677,Labels!$A:$B,2,FALSE)","v":"Supporting customers to reduce their water use and prevent blockages through education and provision of free tools/devices"},{"$f":"VLOOKUP('Design #'!D677,Labels!$A:$B,2,FALSE)","v":"Preventing pollution of rivers or streams from sewage pipes"},{"$f":"VLOOKUP('Design #'!E677,Labels!$A:$B,2,FALSE)","v":"Preventing sewage entering gardens and public spaces from pipe collapses or blockages"},{"$f":"VLOOKUP('Design #'!F677,Labels!$A:$B,2,FALSE)","v":"Reduce and offset carbon emissions to achieve a 'net zero' position by 2030 "}]
[46,2,{"$f":"VLOOKUP('Design #'!C678,Labels!$A:$B,2,FALSE)","v":"Providing appropriate sewer capacity and pumping capabilities to cope with widespread flood events"},{"$f":"VLOOKUP('Design #'!D678,Labels!$A:$B,2,FALSE)","v":"Providing water that is aesthetically pleasing (clear and clean with no odour or unusual taste or colour)"},{"$f":"VLOOKUP('Design #'!E678,Labels!$A:$B,2,FALSE)","v":"Providing good and constant water pressure"},{"$f":"VLOOKUP('Design #'!F678,Labels!$A:$B,2,FALSE)","v":"Treating waste water to a high standard to ensure good quality water in Yorkshire's rivers and beaches"}]
[46,3,{"$f":"VLOOKUP('Design #'!C679,Labels!$A:$B,2,FALSE)","v":"Providing appropriate sewer capacity and pumping capabilities to cope with widespread flood events"},{"$f":"VLOOKUP('Design #'!D679,Labels!$A:$B,2,FALSE)","v":"Reducing the release of untreated sewage mixed with rain water into rivers and streams during times of heavy rainfall"},{"$f":"VLOOKUP('Design #'!E679,Labels!$A:$B,2,FALSE)","v":"Providing a high level of customer service (e.g. resolving queries quickly)"},{"$f":"VLOOKUP('Design #'!F679,Labels!$A:$B,2,FALSE)","v":"Working with other organisations on common challenges (e.g. flooding) to share costs and expertise allowing for more and smarter investment to tackle problems"}]
[46,4,{"$f":"VLOOKUP('Design #'!C680,Labels!$A:$B,2,FALSE)","v":"Keeping bills affordable for all"},{"$f":"VLOOKUP('Design #'!D680,Labels!$A:$B,2,FALSE)","v":"Supporting customers to reduce their water use and prevent blockages through education and provision of free tools/devices"},{"$f":"VLOOKUP('Design #'!E680,Labels!$A:$B,2,FALSE)","v":"Ensuring additional support is available to those who need it e.g.  providing bills in braille, providing bottled water during times of interruptions for thos​e who can't get to a shop (elderly, medical conditions etc.)"},{"$f":"VLOOKUP('Design #'!F680,Labels!$A:$B,2,FALSE)","v":"Preventing leaks from Yorkshire Water's pipe network"}]
[46,5,{"$f":"VLOOKUP('Design #'!C681,Labels!$A:$B,2,FALSE)","v":"Supporting customers to reduce their water use and prevent blockages through education and provision of free tools/devices"},{"$f":"VLOOKUP('Design #'!D681,Labels!$A:$B,2,FALSE)","v":"Providing a high level of customer service (e.g. resolving queries quickly)"},{"$f":"VLOOKUP('Design #'!E681,Labels!$A:$B,2,FALSE)","v":"Preventing interruptions to the supply of water (e.g. planned works, burst pipes, leaks and outages) that cause problems ranging from low pressure to no water"},{"$f":"VLOOKUP('Design #'!F681,Labels!$A:$B,2,FALSE)","v":"Preventing the likelihood of restrictions on water use, including hosepipe bans, in a drought"}]
[46,6,{"$f":"VLOOKUP('Design #'!C682,Labels!$A:$B,2,FALSE)","v":"Reducing the release of untreated sewage mixed with rain water into rivers and streams during times of heavy rainfall"},{"$f":"VLOOKUP('Design #'!D682,Labels!$A:$B,2,FALSE)","v":"Preventing sewage from entering homes and businesses "},{"$f":"VLOOKUP('Design #'!E682,Labels!$A:$B,2,FALSE)","v":"Keeping bills affordable for all"},{"$f":"VLOOKUP('Design #'!F682,Labels!$A:$B,2,FALSE)","v":"Ensuring additional support is available to those who need it e.g.  providing bills in braille, providing bottled water during times of interruptions for thos​e who can't get to a shop (elderly, medical conditions etc.)"}]
[46,7,{"$f":"VLOOKUP('Design #'!C683,Labels!$A:$B,2,FALSE)","v":"Preventing leaks from Yorkshire Water's pipe network"},{"$f":"VLOOKUP('Design #'!D683,Labels!$A:$B,2,FALSE)","v":"Keeping bills affordable for all"},{"$f":"VLOOKUP('Design #'!E683,Labels!$A:$B,2,FALSE)","v":"Preventing the likelihood of restrictions on water use, including hosepipe bans, in a drought"},{"$f":"VLOOKUP('Design #'!F683,Labels!$A:$B,2,FALSE)","v":"Providing water that is aesthetically pleasing (clear and clean with no odour or unusual taste or colour)"}]
[46,8,{"$f":"VLOOKUP('Design #'!C684,Labels!$A:$B,2,FALSE)","v":"Providing a high level of customer service (e.g. resolving queries quickly)"},{"$f":"VLOOKUP('Design #'!D684,Labels!$A:$B,2,FALSE)","v":"Reduce and offset carbon emissions to achieve a 'net zero' position by 2030 "},{"$f":"VLOOKUP('Design #'!E684,Labels!$A:$B,2,FALSE)","v":"Preventing sewage from entering homes and businesses "},{"$f":"VLOOKUP('Design #'!F684,Labels!$A:$B,2,FALSE)","v":"Treating waste water to a high standard to ensure good quality water in Yorkshire's rivers and beaches"}]
[46,9,{"$f":"VLOOKUP('Design #'!C685,Labels!$A:$B,2,FALSE)","v":"Preventing sewage entering gardens and public spaces from pipe collapses or blockages"},{"$f":"VLOOKUP('Design #'!D685,Labels!$A:$B,2,FALSE)","v":"Preventing leaks from Yorkshire Water's pipe network"},{"$f":"VLOOKUP('Design #'!E685,Labels!$A:$B,2,FALSE)","v":"Providing a continuous supply of water that is safe to drink"},{"$f":"VLOOKUP('Design #'!F685,Labels!$A:$B,2,FALSE)","v":"Working with other organisations on common challenges (e.g. flooding) to share costs and expertise allowing for more and smarter investment to tackle problems"}]
[46,10,{"$f":"VLOOKUP('Design #'!C686,Labels!$A:$B,2,FALSE)","v":"Providing financial help and support to those who are struggling to pay their water bill"},{"$f":"VLOOKUP('Design #'!D686,Labels!$A:$B,2,FALSE)","v":"Preventing sewage entering gardens and public spaces from pipe collapses or blockages"},{"$f":"VLOOKUP('Design #'!E686,Labels!$A:$B,2,FALSE)","v":"Preventing sewage from entering homes and businesses "},{"$f":"VLOOKUP('Design #'!F686,Labels!$A:$B,2,FALSE)","v":"Preventing the likelihood of restrictions on water use, including hosepipe bans, in a drought"}]
[46,11,{"$f":"VLOOKUP('Design #'!C687,Labels!$A:$B,2,FALSE)","v":"Preventing pollution of rivers or streams from sewage pipes"},{"$f":"VLOOKUP('Design #'!D687,Labels!$A:$B,2,FALSE)","v":"Providing financial help and support to those who are struggling to pay their water bill"},{"$f":"VLOOKUP('Design #'!E687,Labels!$A:$B,2,FALSE)","v":"Reduce and offset carbon emissions to achieve a 'net zero' position by 2030 "},{"$f":"VLOOKUP('Design #'!F687,Labels!$A:$B,2,FALSE)","v":"Ensuring that land owned by Yorkshire Water is conserved or enhanced to improve quality of the water it collects and reduce flooding"}]
[46,12,{"$f":"VLOOKUP('Design #'!C688,Labels!$A:$B,2,FALSE)","v":"Providing a continuous supply of water that is safe to drink"},{"$f":"VLOOKUP('Design #'!D688,Labels!$A:$B,2,FALSE)","v":"Preventing sewage entering gardens and public spaces from pipe collapses or blockages"},{"$f":"VLOOKUP('Design #'!E688,Labels!$A:$B,2,FALSE)","v":"Providing good and constant water pressure"},{"$f":"VLOOKUP('Design #'!F688,Labels!$A:$B,2,FALSE)","v":"Ensuring that land owned by Yorkshire Water is conserved or enhanced to improve quality of the water it collects and reduce flooding"}]
[46,13,{"$f":"VLOOKUP('Design #'!C689,Labels!$A:$B,2,FALSE)","v":"Providing water that is aesthetically pleasing (clear and clean with no odour or unusual taste or colour)"},{"$f":"VLOOKUP('Design #'!D689,Labels!$A:$B,2,FALSE)","v":"Preventing pollution of rivers or streams from sewage pipes"},{"$f":"VLOOKUP('Design #'!E689,Labels!$A:$B,2,FALSE)","v":"Working with other organisations on common challenges (e.g. flooding) to share costs and expertise allowing for more and smarter investment to tackle problems"},{"$f":"VLOOKUP('Design #'!F689,Labels!$A:$B,2,FALSE)","v":"Preventing interruptions to the supply of water (e.g. planned works, burst pipes, leaks and outages) that cause problems ranging from low pressure to no water"}]
[46,14,{"$f":"VLOOKUP('Design #'!C690,Labels!$A:$B,2,FALSE)","v":"Ensuring additional support is available to those who need it e.g.  providing bills in braille, providing bottled water during times of interruptions for thos​e who can't get to a shop (elderly, medical conditions etc.)"},{"$f":"VLOOKUP('Design #'!D690,Labels!$A:$B,2,FALSE)","v":"Providing financial help and support to those who are struggling to pay their water bill"},{"$f":"VLOOKUP('Design #'!E690,Labels!$A:$B,2,FALSE)","v":"Treating waste water to a high standard to ensure good quality water in Yorkshire's rivers and beaches"},{"$f":"VLOOKUP('Design #'!F690,Labels!$A:$B,2,FALSE)","v":"Providing a continuous supply of water that is safe to drink"}]
[46,15,{"$f":"VLOOKUP('Design #'!C691,Labels!$A:$B,2,FALSE)","v":"Preventing sewage from entering homes and businesses "},{"$f":"VLOOKUP('Design #'!D691,Labels!$A:$B,2,FALSE)","v":"Ensuring that land owned by Yorkshire Water is conserved or enhanced to improve quality of the water it collects and reduce flooding"},{"$f":"VLOOKUP('Design #'!E691,Labels!$A:$B,2,FALSE)","v":"Preventing interruptions to the supply of water (e.g. planned works, burst pipes, leaks and outages) that cause problems ranging from low pressure to no water"},{"$f":"VLOOKUP('Design #'!F691,Labels!$A:$B,2,FALSE)","v":"Providing good and constant water pressure"}]
[47,1,{"$f":"VLOOKUP('Design #'!C692,Labels!$A:$B,2,FALSE)","v":"Providing financial help and support to those who are struggling to pay their water bill"},{"$f":"VLOOKUP('Design #'!D692,Labels!$A:$B,2,FALSE)","v":"Providing appropriate sewer capacity and pumping capabilities to cope with widespread flood events"},{"$f":"VLOOKUP('Design #'!E692,Labels!$A:$B,2,FALSE)","v":"Providing a high level of customer service (e.g. resolving queries quickly)"},{"$f":"VLOOKUP('Design #'!F692,Labels!$A:$B,2,FALSE)","v":"Keeping bills affordable for all"}]
[47,2,{"$f":"VLOOKUP('Design #'!C693,Labels!$A:$B,2,FALSE)","v":"Preventing the likelihood of restrictions on water use, including hosepipe bans, in a drought"},{"$f":"VLOOKUP('Design #'!D693,Labels!$A:$B,2,FALSE)","v":"Providing good and constant water pressure"},{"$f":"VLOOKUP('Design #'!E693,Labels!$A:$B,2,FALSE)","v":"Preventing leaks from Yorkshire Water's pipe network"},{"$f":"VLOOKUP('Design #'!F693,Labels!$A:$B,2,FALSE)","v":"Preventing pollution of rivers or streams from sewage pipes"}]
[47,3,{"$f":"VLOOKUP('Design #'!C694,Labels!$A:$B,2,FALSE)","v":"Working with other organisations on common challenges (e.g. flooding) to share costs and expertise allowing for more and smarter investment to tackle problems"},{"$f":"VLOOKUP('Design #'!D694,Labels!$A:$B,2,FALSE)","v":"Preventing sewage from entering homes and businesses "},{"$f":"VLOOKUP('Design #'!E694,Labels!$A:$B,2,FALSE)","v":"Providing appropriate sewer capacity and pumping capabilities to cope with widespread flood events"},{"$f":"VLOOKUP('Design #'!F694,Labels!$A:$B,2,FALSE)","v":"Preventing leaks from Yorkshire Water's pipe network"}]
[47,4,{"$f":"VLOOKUP('Design #'!C695,Labels!$A:$B,2,FALSE)","v":"Treating waste water to a high standard to ensure good quality water in Yorkshire's rivers and beaches"},{"$f":"VLOOKUP('Design #'!D695,Labels!$A:$B,2,FALSE)","v":"Working with other organisations on common challenges (e.g. flooding) to share costs and expertise allowing for more and smarter investment to tackle problems"},{"$f":"VLOOKUP('Design #'!E695,Labels!$A:$B,2,FALSE)","v":"Preventing the likelihood of restrictions on water use, including hosepipe bans, in a drought"},{"$f":"VLOOKUP('Design #'!F695,Labels!$A:$B,2,FALSE)","v":"Reduce and offset carbon emissions to achieve a 'net zero' position by 2030 "}]
[47,5,{"$f":"VLOOKUP('Design #'!C696,Labels!$A:$B,2,FALSE)","v":"Reduce and offset carbon emissions to achieve a 'net zero' position by 2030 "},{"$f":"VLOOKUP('Design #'!D696,Labels!$A:$B,2,FALSE)","v":"Keeping bills affordable for all"},{"$f":"VLOOKUP('Design #'!E696,Labels!$A:$B,2,FALSE)","v":"Ensuring that land owned by Yorkshire Water is conserved or enhanced to improve quality of the water it collects and reduce flooding"},{"$f":"VLOOKUP('Design #'!F696,Labels!$A:$B,2,FALSE)","v":"Preventing interruptions to the supply of water (e.g. planned works, burst pipes, leaks and outages) that cause problems ranging from low pressure to no water"}]
[47,6,{"$f":"VLOOKUP('Design #'!C697,Labels!$A:$B,2,FALSE)","v":"Providing a continuous supply of water that is safe to drink"},{"$f":"VLOOKUP('Design #'!D697,Labels!$A:$B,2,FALSE)","v":"Preventing interruptions to the supply of water (e.g. planned works, burst pipes, leaks and outages) that cause problems ranging from low pressure to no water"},{"$f":"VLOOKUP('Design #'!E697,Labels!$A:$B,2,FALSE)","v":"Providing water that is aesthetically pleasing (clear and clean with no odour or unusual taste or colour)"},{"$f":"VLOOKUP('Design #'!F697,Labels!$A:$B,2,FALSE)","v":"Providing a high level of customer service (e.g. resolving queries quickly)"}]
[47,7,{"$f":"VLOOKUP('Design #'!C698,Labels!$A:$B,2,FALSE)","v":"Working with other organisations on common challenges (e.g. flooding) to share costs and expertise allowing for more and smarter investment to tackle problems"},{"$f":"VLOOKUP('Design #'!D698,Labels!$A:$B,2,FALSE)","v":"Reduce and offset carbon emissions to achieve a 'net zero' position by 2030 "},{"$f":"VLOOKUP('Design #'!E698,Labels!$A:$B,2,FALSE)","v":"Providing financial help and support to those who are struggling to pay their water bill"},{"$f":"VLOOKUP('Design #'!F698,Labels!$A:$B,2,FALSE)","v":"Providing water that is aesthetically pleasing (clear and clean with no odour or unusual taste or colour)"}]
[47,8,{"$f":"VLOOKUP('Design #'!C699,Labels!$A:$B,2,FALSE)","v":"Providing good and constant water pressure"},{"$f":"VLOOKUP('Design #'!D699,Labels!$A:$B,2,FALSE)","v":"Providing a continuous supply of water that is safe to drink"},{"$f":"VLOOKUP('Design #'!E699,Labels!$A:$B,2,FALSE)","v":"Keeping bills affordable for all"},{"$f":"VLOOKUP('Design #'!F699,Labels!$A:$B,2,FALSE)","v":"Providing appropriate sewer capacity and pumping capabilities to cope with widespread flood events"}]
[47,9,{"$f":"VLOOKUP('Design #'!C700,Labels!$A:$B,2,FALSE)","v":"Preventing sewage entering gardens and public spaces from pipe collapses or blockages"},{"$f":"VLOOKUP('Design #'!D700,Labels!$A:$B,2,FALSE)","v":"Ensuring additional support is available to those who need it e.g.  providing bills in braille, providing bottled water during times of interruptions for thos​e who can't get to a shop (elderly, medical conditions etc.)"},{"$f":"VLOOKUP('Design #'!E700,Labels!$A:$B,2,FALSE)","v":"Reducing the release of untreated sewage mixed with rain water into rivers and streams during times of heavy rainfall"},{"$f":"VLOOKUP('Design #'!F700,Labels!$A:$B,2,FALSE)","v":"Providing water that is aesthetically pleasing (clear and clean with no odour or unusual taste or colour)"}]
[47,10,{"$f":"VLOOKUP('Design #'!C701,Labels!$A:$B,2,FALSE)","v":"Preventing interruptions to the supply of water (e.g. planned works, burst pipes, leaks and outages) that cause problems ranging from low pressure to no water"},{"$f":"VLOOKUP('Design #'!D701,Labels!$A:$B,2,FALSE)","v":"Preventing leaks from Yorkshire Water's pipe network"},{"$f":"VLOOKUP('Design #'!E701,Labels!$A:$B,2,FALSE)","v":"Preventing sewage entering gardens and public spaces from pipe collapses or blockages"},{"$f":"VLOOKUP('Design #'!F701,Labels!$A:$B,2,FALSE)","v":"Providing financial help and support to those who are struggling to pay their water bill"}]
[47,11,{"$f":"VLOOKUP('Design #'!C702,Labels!$A:$B,2,FALSE)","v":"Ensuring that land owned by Yorkshire Water is conserved or enhanced to improve quality of the water it collects and reduce flooding"},{"$f":"VLOOKUP('Design #'!D702,Labels!$A:$B,2,FALSE)","v":"Preventing the likelihood of restrictions on water use, including hosepipe bans, in a drought"},{"$f":"VLOOKUP('Design #'!E702,Labels!$A:$B,2,FALSE)","v":"Ensuring additional support is available to those who need it e.g.  providing bills in braille, providing bottled water during times of interruptions for thos​e who can't get to a shop (elderly, medical conditions etc.)"},{"$f":"VLOOKUP('Design #'!F702,Labels!$A:$B,2,FALSE)","v":"Preventing leaks from Yorkshire Water's pipe network"}]
[47,12,{"$f":"VLOOKUP('Design #'!C703,Labels!$A:$B,2,FALSE)","v":"Keeping bills affordable for all"},{"$f":"VLOOKUP('Design #'!D703,Labels!$A:$B,2,FALSE)","v":"Treating waste water to a high standard to ensure good quality water in Yorkshire's rivers and beaches"},{"$f":"VLOOKUP('Design #'!E703,Labels!$A:$B,2,FALSE)","v":"Preventing pollution of rivers or streams from sewage pipes"},{"$f":"VLOOKUP('Design #'!F703,Labels!$A:$B,2,FALSE)","v":"Providing a high level of customer service (e.g. resolving queries quickly)"}]
[47,13,{"$f":"VLOOKUP('Design #'!C704,Labels!$A:$B,2,FALSE)","v":"Preventing pollution of rivers or streams from sewage pipes"},{"$f":"VLOOKUP('Design #'!D704,Labels!$A:$B,2,FALSE)","v":"Providing good and constant water pressure"},{"$f":"VLOOKUP('Design #'!E704,Labels!$A:$B,2,FALSE)","v":"Supporting customers to reduce their water use and prevent blockages through education and provision of free tools/devices"},{"$f":"VLOOKUP('Design #'!F704,Labels!$A:$B,2,FALSE)","v":"Reducing the release of untreated sewage mixed with rain water into rivers and streams during times of heavy rainfall"}]
[47,14,{"$f":"VLOOKUP('Design #'!C705,Labels!$A:$B,2,FALSE)","v":"Ensuring additional support is available to those who need it e.g.  providing bills in braille, providing bottled water during times of interruptions for thos​e who can't get to a shop (elderly, medical conditions etc.)"},{"$f":"VLOOKUP('Design #'!D705,Labels!$A:$B,2,FALSE)","v":"Providing appropriate sewer capacity and pumping capabilities to cope with widespread flood events"},{"$f":"VLOOKUP('Design #'!E705,Labels!$A:$B,2,FALSE)","v":"Ensuring that land owned by Yorkshire Water is conserved or enhanced to improve quality of the water it collects and reduce flooding"},{"$f":"VLOOKUP('Design #'!F705,Labels!$A:$B,2,FALSE)","v":"Preventing sewage entering gardens and public spaces from pipe collapses or blockages"}]
[47,15,{"$f":"VLOOKUP('Design #'!C706,Labels!$A:$B,2,FALSE)","v":"Preventing sewage from entering homes and businesses "},{"$f":"VLOOKUP('Design #'!D706,Labels!$A:$B,2,FALSE)","v":"Treating waste water to a high standard to ensure good quality water in Yorkshire's rivers and beaches"},{"$f":"VLOOKUP('Design #'!E706,Labels!$A:$B,2,FALSE)","v":"Providing a continuous supply of water that is safe to drink"},{"$f":"VLOOKUP('Design #'!F706,Labels!$A:$B,2,FALSE)","v":"Supporting customers to reduce their water use and prevent blockages through education and provision of free tools/devices"}]
[48,1,{"$f":"VLOOKUP('Design #'!C707,Labels!$A:$B,2,FALSE)","v":"Preventing leaks from Yorkshire Water's pipe network"},{"$f":"VLOOKUP('Design #'!D707,Labels!$A:$B,2,FALSE)","v":"Reducing the release of untreated sewage mixed with rain water into rivers and streams during times of heavy rainfall"},{"$f":"VLOOKUP('Design #'!E707,Labels!$A:$B,2,FALSE)","v":"Preventing pollution of rivers or streams from sewage pipes"},{"$f":"VLOOKUP('Design #'!F707,Labels!$A:$B,2,FALSE)","v":"Providing appropriate sewer capacity and pumping capabilities to cope with widespread flood events"}]
[48,2,{"$f":"VLOOKUP('Design #'!C708,Labels!$A:$B,2,FALSE)","v":"Treating waste water to a high standard to ensure good quality water in Yorkshire's rivers and beaches"},{"$f":"VLOOKUP('Design #'!D708,Labels!$A:$B,2,FALSE)","v":"Ensuring that land owned by Yorkshire Water is conserved or enhanced to improve quality of the water it collects and reduce flooding"},{"$f":"VLOOKUP('Design #'!E708,Labels!$A:$B,2,FALSE)","v":"Preventing leaks from Yorkshire Water's pipe network"},{"$f":"VLOOKUP('Design #'!F708,Labels!$A:$B,2,FALSE)","v":"Supporting customers to reduce their water use and prevent blockages through education and provision of free tools/devices"}]
[48,3,{"$f":"VLOOKUP('Design #'!C709,Labels!$A:$B,2,FALSE)","v":"Preventing leaks from Yorkshire Water's pipe network"},{"$f":"VLOOKUP('Design #'!D709,Labels!$A:$B,2,FALSE)","v":"Providing water that is aesthetically pleasing (clear and clean with no odour or unusual taste or colour)"},{"$f":"VLOOKUP('Design #'!E709,Labels!$A:$B,2,FALSE)","v":"Reduce and offset carbon emissions to achieve a 'net zero' position by 2030 "},{"$f":"VLOOKUP('Design #'!F709,Labels!$A:$B,2,FALSE)","v":"Preventing sewage from entering homes and businesses "}]
[48,4,{"$f":"VLOOKUP('Design #'!C710,Labels!$A:$B,2,FALSE)","v":"Providing water that is aesthetically pleasing (clear and clean with no odour or unusual taste or colour)"},{"$f":"VLOOKUP('Design #'!D710,Labels!$A:$B,2,FALSE)","v":"Preventing sewage entering gardens and public spaces from pipe collapses or blockages"},{"$f":"VLOOKUP('Design #'!E710,Labels!$A:$B,2,FALSE)","v":"Reducing the release of untreated sewage mixed with rain water into rivers and streams during times of heavy rainfall"},{"$f":"VLOOKUP('Design #'!F710,Labels!$A:$B,2,FALSE)","v":"Preventing the likelihood of restrictions on water use, including hosepipe bans, in a drought"}]
[48,5,{"$f":"VLOOKUP('Design #'!C711,Labels!$A:$B,2,FALSE)","v":"Preventing interruptions to the supply of water (e.g. planned works, burst pipes, leaks and outages) that cause problems ranging from low pressure to no water"},{"$f":"VLOOKUP('Design #'!D711,Labels!$A:$B,2,FALSE)","v":"Reduce and offset carbon emissions to achieve a 'net zero' position by 2030 "},{"$f":"VLOOKUP('Design #'!E711,Labels!$A:$B,2,FALSE)","v":"Providing a continuous supply of water that is safe to drink"},{"$f":"VLOOKUP('Design #'!F711,Labels!$A:$B,2,FALSE)","v":"Reducing the release of untreated sewage mixed with rain water into rivers and streams during times of heavy rainfall"}]
[48,6,{"$f":"VLOOKUP('Design #'!C712,Labels!$A:$B,2,FALSE)","v":"Preventing the likelihood of restrictions on water use, including hosepipe bans, in a drought"},{"$f":"VLOOKUP('Design #'!D712,Labels!$A:$B,2,FALSE)","v":"Ensuring additional support is available to those who need it e.g.  providing bills in braille, providing bottled water during times of interruptions for thos​e who can't get to a shop (elderly, medical conditions etc.)"},{"$f":"VLOOKUP('Design #'!E712,Labels!$A:$B,2,FALSE)","v":"Preventing interruptions to the supply of water (e.g. planned works, burst pipes, leaks and outages) that cause problems ranging from low pressure to no water"},{"$f":"VLOOKUP('Design #'!F712,Labels!$A:$B,2,FALSE)","v":"Working with other organisations on common challenges (e.g. flooding) to share costs and expertise allowing for more and smarter investment to tackle problems"}]
[48,7,{"$f":"VLOOKUP('Design #'!C713,Labels!$A:$B,2,FALSE)","v":"Ensuring that land owned by Yorkshire Water is conserved or enhanced to improve quality of the water it collects and reduce flooding"},{"$f":"VLOOKUP('Design #'!D713,Labels!$A:$B,2,FALSE)","v":"Providing a continuous supply of water that is safe to drink"},{"$f":"VLOOKUP('Design #'!E713,Labels!$A:$B,2,FALSE)","v":"Keeping bills affordable for all"},{"$f":"VLOOKUP('Design #'!F713,Labels!$A:$B,2,FALSE)","v":"Working with other organisations on common challenges (e.g. flooding) to share costs and expertise allowing for more and smarter investment to tackle problems"}]
[48,8,{"$f":"VLOOKUP('Design #'!C714,Labels!$A:$B,2,FALSE)","v":"Providing financial help and support to those who are struggling to pay their water bill"},{"$f":"VLOOKUP('Design #'!D714,Labels!$A:$B,2,FALSE)","v":"Preventing sewage from entering homes and businesses "},{"$f":"VLOOKUP('Design #'!E714,Labels!$A:$B,2,FALSE)","v":"Supporting customers to reduce their water use and prevent blockages through education and provision of free tools/devices"},{"$f":"VLOOKUP('Design #'!F714,Labels!$A:$B,2,FALSE)","v":"Reducing the release of untreated sewage mixed with rain water into rivers and streams during times of heavy rainfall"}]
[48,9,{"$f":"VLOOKUP('Design #'!C715,Labels!$A:$B,2,FALSE)","v":"Providing appropriate sewer capacity and pumping capabilities to cope with widespread flood events"},{"$f":"VLOOKUP('Design #'!D715,Labels!$A:$B,2,FALSE)","v":"Providing financial help and support to those who are struggling to pay their water bill"},{"$f":"VLOOKUP('Design #'!E715,Labels!$A:$B,2,FALSE)","v":"Treating waste water to a high standard to ensure good quality water in Yorkshire's rivers and beaches"},{"$f":"VLOOKUP('Design #'!F715,Labels!$A:$B,2,FALSE)","v":"Ensuring that land owned by Yorkshire Water is conserved or enhanced to improve quality of the water it collects and reduce flooding"}]
[48,10,{"$f":"VLOOKUP('Design #'!C716,Labels!$A:$B,2,FALSE)","v":"Providing good and constant water pressure"},{"$f":"VLOOKUP('Design #'!D716,Labels!$A:$B,2,FALSE)","v":"Preventing interruptions to the supply of water (e.g. planned works, burst pipes, leaks and outages) that cause problems ranging from low pressure to no water"},{"$f":"VLOOKUP('Design #'!E716,Labels!$A:$B,2,FALSE)","v":"Treating waste water to a high standard to ensure good quality water in Yorkshire's rivers and beaches"},{"$f":"VLOOKUP('Design #'!F716,Labels!$A:$B,2,FALSE)","v":"Preventing sewage entering gardens and public spaces from pipe collapses or blockages"}]
[48,11,{"$f":"VLOOKUP('Design #'!C717,Labels!$A:$B,2,FALSE)","v":"Providing a continuous supply of water that is safe to drink"},{"$f":"VLOOKUP('Design #'!D717,Labels!$A:$B,2,FALSE)","v":"Working with other organisations on common challenges (e.g. flooding) to share costs and expertise allowing for more and smarter investment to tackle problems"},{"$f":"VLOOKUP('Design #'!E717,Labels!$A:$B,2,FALSE)","v":"Preventing sewage from entering homes and businesses "},{"$f":"VLOOKUP('Design #'!F717,Labels!$A:$B,2,FALSE)","v":"Preventing pollution of rivers or streams from sewage pipes"}]
[48,12,{"$f":"VLOOKUP('Design #'!C718,Labels!$A:$B,2,FALSE)","v":"Preventing sewage entering gardens and public spaces from pipe collapses or blockages"},{"$f":"VLOOKUP('Design #'!D718,Labels!$A:$B,2,FALSE)","v":"Preventing pollution of rivers or streams from sewage pipes"},{"$f":"VLOOKUP('Design #'!E718,Labels!$A:$B,2,FALSE)","v":"Providing water that is aesthetically pleasing (clear and clean with no odour or unusual taste or colour)"},{"$f":"VLOOKUP('Design #'!F718,Labels!$A:$B,2,FALSE)","v":"Providing a high level of customer service (e.g. resolving queries quickly)"}]
[48,13,{"$f":"VLOOKUP('Design #'!C719,Labels!$A:$B,2,FALSE)","v":"Preventing sewage from entering homes and businesses "},{"$f":"VLOOKUP('Design #'!D719,Labels!$A:$B,2,FALSE)","v":"Ensuring additional support is available to those who need it e.g.  providing bills in braille, providing bottled water during times of interruptions for thos​e who can't get to a shop (elderly, medical conditions etc.)"},{"$f":"VLOOKUP('Design #'!E719,Labels!$A:$B,2,FALSE)","v":"Providing good and constant water pressure"},{"$f":"VLOOKUP('Design #'!F719,Labels!$A:$B,2,FALSE)","v":"Keeping bills affordable for all"}]
[48,14,{"$f":"VLOOKUP('Design #'!C720,Labels!$A:$B,2,FALSE)","v":"Providing a high level of customer service (e.g. resolving queries quickly)"},{"$f":"VLOOKUP('Design #'!D720,Labels!$A:$B,2,FALSE)","v":"Supporting customers to reduce their water use and prevent blockages through education and provision of free tools/devices"},{"$f":"VLOOKUP('Design #'!E720,Labels!$A:$B,2,FALSE)","v":"Reduce and offset carbon emissions to achieve a 'net zero' position by 2030 "},{"$f":"VLOOKUP('Design #'!F720,Labels!$A:$B,2,FALSE)","v":"Providing good and constant water pressure"}]
[48,15,{"$f":"VLOOKUP('Design #'!C721,Labels!$A:$B,2,FALSE)","v":"Supporting customers to reduce their water use and prevent blockages through education and provision of free tools/devices"},{"$f":"VLOOKUP('Design #'!D721,Labels!$A:$B,2,FALSE)","v":"Preventing the likelihood of restrictions on water use, including hosepipe bans, in a drought"},{"$f":"VLOOKUP('Design #'!E721,Labels!$A:$B,2,FALSE)","v":"Ensuring additional support is available to those who need it e.g.  providing bills in braille, providing bottled water during times of interruptions for thos​e who can't get to a shop (elderly, medical conditions etc.)"},{"$f":"VLOOKUP('Design #'!F721,Labels!$A:$B,2,FALSE)","v":"Providing financial help and support to those who are struggling to pay their water bill"}]
[49,1,{"$f":"VLOOKUP('Design #'!C722,Labels!$A:$B,2,FALSE)","v":"Reduce and offset carbon emissions to achieve a 'net zero' position by 2030 "},{"$f":"VLOOKUP('Design #'!D722,Labels!$A:$B,2,FALSE)","v":"Preventing sewage entering gardens and public spaces from pipe collapses or blockages"},{"$f":"VLOOKUP('Design #'!E722,Labels!$A:$B,2,FALSE)","v":"Providing appropriate sewer capacity and pumping capabilities to cope with widespread flood events"},{"$f":"VLOOKUP('Design #'!F722,Labels!$A:$B,2,FALSE)","v":"Ensuring additional support is available to those who need it e.g.  providing bills in braille, providing bottled water during times of interruptions for thos​e who can't get to a shop (elderly, medical conditions etc.)"}]
[49,2,{"$f":"VLOOKUP('Design #'!C723,Labels!$A:$B,2,FALSE)","v":"Ensuring additional support is available to those who need it e.g.  providing bills in braille, providing bottled water during times of interruptions for thos​e who can't get to a shop (elderly, medical conditions etc.)"},{"$f":"VLOOKUP('Design #'!D723,Labels!$A:$B,2,FALSE)","v":"Providing a high level of customer service (e.g. resolving queries quickly)"},{"$f":"VLOOKUP('Design #'!E723,Labels!$A:$B,2,FALSE)","v":"Providing water that is aesthetically pleasing (clear and clean with no odour or unusual taste or colour)"},{"$f":"VLOOKUP('Design #'!F723,Labels!$A:$B,2,FALSE)","v":"Supporting customers to reduce their water use and prevent blockages through education and provision of free tools/devices"}]
[49,3,{"$f":"VLOOKUP('Design #'!C724,Labels!$A:$B,2,FALSE)","v":"Preventing the likelihood of restrictions on water use, including hosepipe bans, in a drought"},{"$f":"VLOOKUP('Design #'!D724,Labels!$A:$B,2,FALSE)","v":"Preventing sewage from entering homes and businesses "},{"$f":"VLOOKUP('Design #'!E724,Labels!$A:$B,2,FALSE)","v":"Preventing interruptions to the supply of water (e.g. planned works, burst pipes, leaks and outages) that cause problems ranging from low pressure to no water"},{"$f":"VLOOKUP('Design #'!F724,Labels!$A:$B,2,FALSE)","v":"Treating waste water to a high standard to ensure good quality water in Yorkshire's rivers and beaches"}]
[49,4,{"$f":"VLOOKUP('Design #'!C725,Labels!$A:$B,2,FALSE)","v":"Providing water that is aesthetically pleasing (clear and clean with no odour or unusual taste or colour)"},{"$f":"VLOOKUP('Design #'!D725,Labels!$A:$B,2,FALSE)","v":"Providing good and constant water pressure"},{"$f":"VLOOKUP('Design #'!E725,Labels!$A:$B,2,FALSE)","v":"Providing financial help and support to those who are struggling to pay their water bill"},{"$f":"VLOOKUP('Design #'!F725,Labels!$A:$B,2,FALSE)","v":"Keeping bills affordable for all"}]
[49,5,{"$f":"VLOOKUP('Design #'!C726,Labels!$A:$B,2,FALSE)","v":"Preventing interruptions to the supply of water (e.g. planned works, burst pipes, leaks and outages) that cause problems ranging from low pressure to no water"},{"$f":"VLOOKUP('Design #'!D726,Labels!$A:$B,2,FALSE)","v":"Providing financial help and support to those who are struggling to pay their water bill"},{"$f":"VLOOKUP('Design #'!E726,Labels!$A:$B,2,FALSE)","v":"Providing a high level of customer service (e.g. resolving queries quickly)"},{"$f":"VLOOKUP('Design #'!F726,Labels!$A:$B,2,FALSE)","v":"Preventing pollution of rivers or streams from sewage pipes"}]
[49,6,{"$f":"VLOOKUP('Design #'!C727,Labels!$A:$B,2,FALSE)","v":"Providing appropriate sewer capacity and pumping capabilities to cope with widespread flood events"},{"$f":"VLOOKUP('Design #'!D727,Labels!$A:$B,2,FALSE)","v":"Providing water that is aesthetically pleasing (clear and clean with no odour or unusual taste or colour)"},{"$f":"VLOOKUP('Design #'!E727,Labels!$A:$B,2,FALSE)","v":"Providing a continuous supply of water that is safe to drink"},{"$f":"VLOOKUP('Design #'!F727,Labels!$A:$B,2,FALSE)","v":"Ensuring that land owned by Yorkshire Water is conserved or enhanced to improve quality of the water it collects and reduce flooding"}]
[49,7,{"$f":"VLOOKUP('Design #'!C728,Labels!$A:$B,2,FALSE)","v":"Preventing pollution of rivers or streams from sewage pipes"},{"$f":"VLOOKUP('Design #'!D728,Labels!$A:$B,2,FALSE)","v":"Treating waste water to a high standard to ensure good quality water in Yorkshire's rivers and beaches"},{"$f":"VLOOKUP('Design #'!E728,Labels!$A:$B,2,FALSE)","v":"Ensuring additional support is available to those who need it e.g.  providing bills in braille, providing bottled water during times of interruptions for thos​e who can't get to a shop (elderly, medical conditions etc.)"},{"$f":"VLOOKUP('Design #'!F728,Labels!$A:$B,2,FALSE)","v":"Providing a continuous supply of water that is safe to drink"}]
[49,8,{"$f":"VLOOKUP('Design #'!C729,Labels!$A:$B,2,FALSE)","v":"Reducing the release of untreated sewage mixed with rain water into rivers and streams during times of heavy rainfall"},{"$f":"VLOOKUP('Design #'!D729,Labels!$A:$B,2,FALSE)","v":"Keeping bills affordable for all"},{"$f":"VLOOKUP('Design #'!E729,Labels!$A:$B,2,FALSE)","v":"Ensuring that land owned by Yorkshire Water is conserved or enhanced to improve quality of the water it collects and reduce flooding"},{"$f":"VLOOKUP('Design #'!F729,Labels!$A:$B,2,FALSE)","v":"Preventing sewage from entering homes and businesses "}]
[49,9,{"$f":"VLOOKUP('Design #'!C730,Labels!$A:$B,2,FALSE)","v":"Providing good and constant water pressure"},{"$f":"VLOOKUP('Design #'!D730,Labels!$A:$B,2,FALSE)","v":"Preventing leaks from Yorkshire Water's pipe network"},{"$f":"VLOOKUP('Design #'!E730,Labels!$A:$B,2,FALSE)","v":"Working with other organisations on common challenges (e.g. flooding) to share costs and expertise allowing for more and smarter investment to tackle problems"},{"$f":"VLOOKUP('Design #'!F730,Labels!$A:$B,2,FALSE)","v":"Providing a continuous supply of water that is safe to drink"}]
[49,10,{"$f":"VLOOKUP('Design #'!C731,Labels!$A:$B,2,FALSE)","v":"Reducing the release of untreated sewage mixed with rain water into rivers and streams during times of heavy rainfall"},{"$f":"VLOOKUP('Design #'!D731,Labels!$A:$B,2,FALSE)","v":"Reduce and offset carbon emissions to achieve a 'net zero' position by 2030 "},{"$f":"VLOOKUP('Design #'!E731,Labels!$A:$B,2,FALSE)","v":"Preventing leaks from Yorkshire Water's pipe network"},{"$f":"VLOOKUP('Design #'!F731,Labels!$A:$B,2,FALSE)","v":"Providing good and constant water pressure"}]
[49,11,{"$f":"VLOOKUP('Design #'!C732,Labels!$A:$B,2,FALSE)","v":"Providing a continuous supply of water that is safe to drink"},{"$f":"VLOOKUP('Design #'!D732,Labels!$A:$B,2,FALSE)","v":"Preventing the likelihood of restrictions on water use, including hosepipe bans, in a drought"},{"$f":"VLOOKUP('Design #'!E732,Labels!$A:$B,2,FALSE)","v":"Preventing pollution of rivers or streams from sewage pipes"},{"$f":"VLOOKUP('Design #'!F732,Labels!$A:$B,2,FALSE)","v":"Providing financial help and support to those who are struggling to pay their water bill"}]
[49,12,{"$f":"VLOOKUP('Design #'!C733,Labels!$A:$B,2,FALSE)","v":"Supporting customers to reduce their water use and prevent blockages through education and provision of free tools/devices"},{"$f":"VLOOKUP('Design #'!D733,Labels!$A:$B,2,FALSE)","v":"Preventing interruptions to the supply of water (e.g. planned works, burst pipes, leaks and outages) that cause problems ranging from low pressure to no water"},{"$f":"VLOOKUP('Design #'!E733,Labels!$A:$B,2,FALSE)","v":"Preventing sewage entering gardens and public spaces from pipe collapses or blockages"},{"$f":"VLOOKUP('Design #'!F733,Labels!$A:$B,2,FALSE)","v":"Providing appropriate sewer capacity and pumping capabilities to cope with widespread flood events"}]
[49,13,{"$f":"VLOOKUP('Design #'!C734,Labels!$A:$B,2,FALSE)","v":"Treating waste water to a high standard to ensure good quality water in Yorkshire's rivers and beaches"},{"$f":"VLOOKUP('Design #'!D734,Labels!$A:$B,2,FALSE)","v":"Reducing the release of untreated sewage mixed with rain water into rivers and streams during times of heavy rainfall"},{"$f":"VLOOKUP('Design #'!E734,Labels!$A:$B,2,FALSE)","v":"Working with other organisations on common challenges (e.g. flooding) to share costs and expertise allowing for more and smarter investment to tackle problems"},{"$f":"VLOOKUP('Design #'!F734,Labels!$A:$B,2,FALSE)","v":"Providing a high level of customer service (e.g. resolving queries quickly)"}]
[49,14,{"$f":"VLOOKUP('Design #'!C735,Labels!$A:$B,2,FALSE)","v":"Preventing sewage entering gardens and public spaces from pipe collapses or blockages"},{"$f":"VLOOKUP('Design #'!D735,Labels!$A:$B,2,FALSE)","v":"Supporting customers to reduce their water use and prevent blockages through education and provision of free tools/devices"},{"$f":"VLOOKUP('Design #'!E735,Labels!$A:$B,2,FALSE)","v":"Keeping bills affordable for all"},{"$f":"VLOOKUP('Design #'!F735,Labels!$A:$B,2,FALSE)","v":"Working with other organisations on common challenges (e.g. flooding) to share costs and expertise allowing for more and smarter investment to tackle problems"}]
[49,15,{"$f":"VLOOKUP('Design #'!C736,Labels!$A:$B,2,FALSE)","v":"Providing a high level of customer service (e.g. resolving queries quickly)"},{"$f":"VLOOKUP('Design #'!D736,Labels!$A:$B,2,FALSE)","v":"Ensuring that land owned by Yorkshire Water is conserved or enhanced to improve quality of the water it collects and reduce flooding"},{"$f":"VLOOKUP('Design #'!E736,Labels!$A:$B,2,FALSE)","v":"Preventing the likelihood of restrictions on water use, including hosepipe bans, in a drought"},{"$f":"VLOOKUP('Design #'!F736,Labels!$A:$B,2,FALSE)","v":"Reduce and offset carbon emissions to achieve a 'net zero' position by 2030 "}]
[50,1,{"$f":"VLOOKUP('Design #'!C737,Labels!$A:$B,2,FALSE)","v":"Working with other organisations on common challenges (e.g. flooding) to share costs and expertise allowing for more and smarter investment to tackle problems"},{"$f":"VLOOKUP('Design #'!D737,Labels!$A:$B,2,FALSE)","v":"Ensuring that land owned by Yorkshire Water is conserved or enhanced to improve quality of the water it collects and reduce flooding"},{"$f":"VLOOKUP('Design #'!E737,Labels!$A:$B,2,FALSE)","v":"Reducing the release of untreated sewage mixed with rain water into rivers and streams during times of heavy rainfall"},{"$f":"VLOOKUP('Design #'!F737,Labels!$A:$B,2,FALSE)","v":"Preventing pollution of rivers or streams from sewage pipes"}]
[50,2,{"$f":"VLOOKUP('Design #'!C738,Labels!$A:$B,2,FALSE)","v":"Preventing sewage from entering homes and businesses "},{"$f":"VLOOKUP('Design #'!D738,Labels!$A:$B,2,FALSE)","v":"Working with other organisations on common challenges (e.g. flooding) to share costs and expertise allowing for more and smarter investment to tackle problems"},{"$f":"VLOOKUP('Design #'!E738,Labels!$A:$B,2,FALSE)","v":"Providing a high level of customer service (e.g. resolving queries quickly)"},{"$f":"VLOOKUP('Design #'!F738,Labels!$A:$B,2,FALSE)","v":"Preventing the likelihood of restrictions on water use, including hosepipe bans, in a drought"}]
[50,3,{"$f":"VLOOKUP('Design #'!C739,Labels!$A:$B,2,FALSE)","v":"Reducing the release of untreated sewage mixed with rain water into rivers and streams during times of heavy rainfall"},{"$f":"VLOOKUP('Design #'!D739,Labels!$A:$B,2,FALSE)","v":"Preventing pollution of rivers or streams from sewage pipes"},{"$f":"VLOOKUP('Design #'!E739,Labels!$A:$B,2,FALSE)","v":"Treating waste water to a high standard to ensure good quality water in Yorkshire's rivers and beaches"},{"$f":"VLOOKUP('Design #'!F739,Labels!$A:$B,2,FALSE)","v":"Ensuring additional support is available to those who need it e.g.  providing bills in braille, providing bottled water during times of interruptions for thos​e who can't get to a shop (elderly, medical conditions etc.)"}]
[50,4,{"$f":"VLOOKUP('Design #'!C740,Labels!$A:$B,2,FALSE)","v":"Providing financial help and support to those who are struggling to pay their water bill"},{"$f":"VLOOKUP('Design #'!D740,Labels!$A:$B,2,FALSE)","v":"Providing appropriate sewer capacity and pumping capabilities to cope with widespread flood events"},{"$f":"VLOOKUP('Design #'!E740,Labels!$A:$B,2,FALSE)","v":"Providing good and constant water pressure"},{"$f":"VLOOKUP('Design #'!F740,Labels!$A:$B,2,FALSE)","v":"Preventing leaks from Yorkshire Water's pipe network"}]
[50,5,{"$f":"VLOOKUP('Design #'!C741,Labels!$A:$B,2,FALSE)","v":"Reduce and offset carbon emissions to achieve a 'net zero' position by 2030 "},{"$f":"VLOOKUP('Design #'!D741,Labels!$A:$B,2,FALSE)","v":"Keeping bills affordable for all"},{"$f":"VLOOKUP('Design #'!E741,Labels!$A:$B,2,FALSE)","v":"Supporting customers to reduce their water use and prevent blockages through education and provision of free tools/devices"},{"$f":"VLOOKUP('Design #'!F741,Labels!$A:$B,2,FALSE)","v":"Treating waste water to a high standard to ensure good quality water in Yorkshire's rivers and beaches"}]
[50,6,{"$f":"VLOOKUP('Design #'!C742,Labels!$A:$B,2,FALSE)","v":"Ensuring that land owned by Yorkshire Water is conserved or enhanced to improve quality of the water it collects and reduce flooding"},{"$f":"VLOOKUP('Design #'!D742,Labels!$A:$B,2,FALSE)","v":"Preventing the likelihood of restrictions on water use, including hosepipe bans, in a drought"},{"$f":"VLOOKUP('Design #'!E742,Labels!$A:$B,2,FALSE)","v":"Supporting customers to reduce their water use and prevent blockages through education and provision of free tools/devices"},{"$f":"VLOOKUP('Design #'!F742,Labels!$A:$B,2,FALSE)","v":"Providing water that is aesthetically pleasing (clear and clean with no odour or unusual taste or colour)"}]
[50,7,{"$f":"VLOOKUP('Design #'!C743,Labels!$A:$B,2,FALSE)","v":"Working with other organisations on common challenges (e.g. flooding) to share costs and expertise allowing for more and smarter investment to tackle problems"},{"$f":"VLOOKUP('Design #'!D743,Labels!$A:$B,2,FALSE)","v":"Providing a high level of customer service (e.g. resolving queries quickly)"},{"$f":"VLOOKUP('Design #'!E743,Labels!$A:$B,2,FALSE)","v":"Providing good and constant water pressure"},{"$f":"VLOOKUP('Design #'!F743,Labels!$A:$B,2,FALSE)","v":"Preventing interruptions to the supply of water (e.g. planned works, burst pipes, leaks and outages) that cause problems ranging from low pressure to no water"}]
[50,8,{"$f":"VLOOKUP('Design #'!C744,Labels!$A:$B,2,FALSE)","v":"Supporting customers to reduce their water use and prevent blockages through education and provision of free tools/devices"},{"$f":"VLOOKUP('Design #'!D744,Labels!$A:$B,2,FALSE)","v":"Reducing the release of untreated sewage mixed with rain water into rivers and streams during times of heavy rainfall"},{"$f":"VLOOKUP('Design #'!E744,Labels!$A:$B,2,FALSE)","v":"Providing financial help and support to those who are struggling to pay their water bill"},{"$f":"VLOOKUP('Design #'!F744,Labels!$A:$B,2,FALSE)","v":"Preventing interruptions to the supply of water (e.g. planned works, burst pipes, leaks and outages) that cause problems ranging from low pressure to no water"}]
[50,9,{"$f":"VLOOKUP('Design #'!C745,Labels!$A:$B,2,FALSE)","v":"Keeping bills affordable for all"},{"$f":"VLOOKUP('Design #'!D745,Labels!$A:$B,2,FALSE)","v":"Providing appropriate sewer capacity and pumping capabilities to cope with widespread flood events"},{"$f":"VLOOKUP('Design #'!E745,Labels!$A:$B,2,FALSE)","v":"Reduce and offset carbon emissions to achieve a 'net zero' position by 2030 "},{"$f":"VLOOKUP('Design #'!F745,Labels!$A:$B,2,FALSE)","v":"Ensuring additional support is available to those who need it e.g.  providing bills in braille, providing bottled water during times of interruptions for thos​e who can't get to a shop (elderly, medical conditions etc.)"}]
[50,10,{"$f":"VLOOKUP('Design #'!C746,Labels!$A:$B,2,FALSE)","v":"Providing appropriate sewer capacity and pumping capabilities to cope with widespread flood events"},{"$f":"VLOOKUP('Design #'!D746,Labels!$A:$B,2,FALSE)","v":"Providing a continuous supply of water that is safe to drink"},{"$f":"VLOOKUP('Design #'!E746,Labels!$A:$B,2,FALSE)","v":"Keeping bills affordable for all"},{"$f":"VLOOKUP('Design #'!F746,Labels!$A:$B,2,FALSE)","v":"Preventing leaks from Yorkshire Water's pipe network"}]
[50,11,{"$f":"VLOOKUP('Design #'!C747,Labels!$A:$B,2,FALSE)","v":"Preventing the likelihood of restrictions on water use, including hosepipe bans, in a drought"},{"$f":"VLOOKUP('Design #'!D747,Labels!$A:$B,2,FALSE)","v":"Treating waste water to a high standard to ensure good quality water in Yorkshire's rivers and beaches"},{"$f":"VLOOKUP('Design #'!E747,Labels!$A:$B,2,FALSE)","v":"Providing good and constant water pressure"},{"$f":"VLOOKUP('Design #'!F747,Labels!$A:$B,2,FALSE)","v":"Preventing sewage entering gardens and public spaces from pipe collapses or blockages"}]
[50,12,{"$f":"VLOOKUP('Design #'!C748,Labels!$A:$B,2,FALSE)","v":"Preventing interruptions to the supply of water (e.g. planned works, burst pipes, leaks and outages) that cause problems ranging from low pressure to no water"},{"$f":"VLOOKUP('Design #'!D748,Labels!$A:$B,2,FALSE)","v":"Ensuring additional support is available to those who need it e.g.  providing bills in braille, providing bottled water during times of interruptions for thos​e who can't get to a shop (elderly, medical conditions etc.)"},{"$f":"VLOOKUP('Design #'!E748,Labels!$A:$B,2,FALSE)","v":"Preventing sewage from entering homes and businesses "},{"$f":"VLOOKUP('Design #'!F748,Labels!$A:$B,2,FALSE)","v":"Providing water that is aesthetically pleasing (clear and clean with no odour or unusual taste or colour)"}]
[50,13,{"$f":"VLOOKUP('Design #'!C749,Labels!$A:$B,2,FALSE)","v":"Preventing pollution of rivers or streams from sewage pipes"},{"$f":"VLOOKUP('Design #'!D749,Labels!$A:$B,2,FALSE)","v":"Preventing leaks from Yorkshire Water's pipe network"},{"$f":"VLOOKUP('Design #'!E749,Labels!$A:$B,2,FALSE)","v":"Providing water that is aesthetically pleasing (clear and clean with no odour or unusual taste or colour)"},{"$f":"VLOOKUP('Design #'!F749,Labels!$A:$B,2,FALSE)","v":"Ensuring that land owned by Yorkshire Water is conserved or enhanced to improve quality of the water it collects and reduce flooding"}]
[50,14,{"$f":"VLOOKUP('Design #'!C750,Labels!$A:$B,2,FALSE)","v":"Preventing sewage entering gardens and public spaces from pipe collapses or blockages"},{"$f":"VLOOKUP('Design #'!D750,Labels!$A:$B,2,FALSE)","v":"Providing a high level of customer service (e.g. resolving queries quickly)"},{"$f":"VLOOKUP('Design #'!E750,Labels!$A:$B,2,FALSE)","v":"Providing a continuous supply of water that is safe to drink"},{"$f":"VLOOKUP('Design #'!F750,Labels!$A:$B,2,FALSE)","v":"Preventing sewage from entering homes and businesses "}]
[50,15,{"$f":"VLOOKUP('Design #'!C751,Labels!$A:$B,2,FALSE)","v":"Reduce and offset carbon emissions to achieve a 'net zero' position by 2030 "},{"$f":"VLOOKUP('Design #'!D751,Labels!$A:$B,2,FALSE)","v":"Preventing sewage entering gardens and public spaces from pipe collapses or blockages"},{"$f":"VLOOKUP('Design #'!E751,Labels!$A:$B,2,FALSE)","v":"Preventing sewage from entering homes and businesses "},{"$f":"VLOOKUP('Design #'!F751,Labels!$A:$B,2,FALSE)","v":"Providing financial help and support to those who are struggling to pay their water bill"}]
[51,1,{"$f":"VLOOKUP('Design #'!C752,Labels!$A:$B,2,FALSE)","v":"Providing good and constant water pressure"},{"$f":"VLOOKUP('Design #'!D752,Labels!$A:$B,2,FALSE)","v":"Working with other organisations on common challenges (e.g. flooding) to share costs and expertise allowing for more and smarter investment to tackle problems"},{"$f":"VLOOKUP('Design #'!E752,Labels!$A:$B,2,FALSE)","v":"Providing water that is aesthetically pleasing (clear and clean with no odour or unusual taste or colour)"},{"$f":"VLOOKUP('Design #'!F752,Labels!$A:$B,2,FALSE)","v":"Reduce and offset carbon emissions to achieve a 'net zero' position by 2030 "}]
[51,2,{"$f":"VLOOKUP('Design #'!C753,Labels!$A:$B,2,FALSE)","v":"Providing a continuous supply of water that is safe to drink"},{"$f":"VLOOKUP('Design #'!D753,Labels!$A:$B,2,FALSE)","v":"Preventing interruptions to the supply of water (e.g. planned works, burst pipes, leaks and outages) that cause problems ranging from low pressure to no water"},{"$f":"VLOOKUP('Design #'!E753,Labels!$A:$B,2,FALSE)","v":"Reducing the release of untreated sewage mixed with rain water into rivers and streams during times of heavy rainfall"},{"$f":"VLOOKUP('Design #'!F753,Labels!$A:$B,2,FALSE)","v":"Preventing the likelihood of restrictions on water use, including hosepipe bans, in a drought"}]
[51,3,{"$f":"VLOOKUP('Design #'!C754,Labels!$A:$B,2,FALSE)","v":"Preventing pollution of rivers or streams from sewage pipes"},{"$f":"VLOOKUP('Design #'!D754,Labels!$A:$B,2,FALSE)","v":"Preventing sewage from entering homes and businesses "},{"$f":"VLOOKUP('Design #'!E754,Labels!$A:$B,2,FALSE)","v":"Providing appropriate sewer capacity and pumping capabilities to cope with widespread flood events"},{"$f":"VLOOKUP('Design #'!F754,Labels!$A:$B,2,FALSE)","v":"Preventing the likelihood of restrictions on water use, including hosepipe bans, in a drought"}]
[51,4,{"$f":"VLOOKUP('Design #'!C755,Labels!$A:$B,2,FALSE)","v":"Providing financial help and support to those who are struggling to pay their water bill"},{"$f":"VLOOKUP('Design #'!D755,Labels!$A:$B,2,FALSE)","v":"Ensuring that land owned by Yorkshire Water is conserved or enhanced to improve quality of the water it collects and reduce flooding"},{"$f":"VLOOKUP('Design #'!E755,Labels!$A:$B,2,FALSE)","v":"Preventing leaks from Yorkshire Water's pipe network"},{"$f":"VLOOKUP('Design #'!F755,Labels!$A:$B,2,FALSE)","v":"Preventing sewage entering gardens and public spaces from pipe collapses or blockages"}]
[51,5,{"$f":"VLOOKUP('Design #'!C756,Labels!$A:$B,2,FALSE)","v":"Ensuring that land owned by Yorkshire Water is conserved or enhanced to improve quality of the water it collects and reduce flooding"},{"$f":"VLOOKUP('Design #'!D756,Labels!$A:$B,2,FALSE)","v":"Preventing interruptions to the supply of water (e.g. planned works, burst pipes, leaks and outages) that cause problems ranging from low pressure to no water"},{"$f":"VLOOKUP('Design #'!E756,Labels!$A:$B,2,FALSE)","v":"Treating waste water to a high standard to ensure good quality water in Yorkshire's rivers and beaches"},{"$f":"VLOOKUP('Design #'!F756,Labels!$A:$B,2,FALSE)","v":"Providing appropriate sewer capacity and pumping capabilities to cope with widespread flood events"}]
[51,6,{"$f":"VLOOKUP('Design #'!C757,Labels!$A:$B,2,FALSE)","v":"Keeping bills affordable for all"},{"$f":"VLOOKUP('Design #'!D757,Labels!$A:$B,2,FALSE)","v":"Preventing pollution of rivers or streams from sewage pipes"},{"$f":"VLOOKUP('Design #'!E757,Labels!$A:$B,2,FALSE)","v":"Preventing sewage entering gardens and public spaces from pipe collapses or blockages"},{"$f":"VLOOKUP('Design #'!F757,Labels!$A:$B,2,FALSE)","v":"Reducing the release of untreated sewage mixed with rain water into rivers and streams during times of heavy rainfall"}]
[51,7,{"$f":"VLOOKUP('Design #'!C758,Labels!$A:$B,2,FALSE)","v":"Preventing leaks from Yorkshire Water's pipe network"},{"$f":"VLOOKUP('Design #'!D758,Labels!$A:$B,2,FALSE)","v":"Supporting customers to reduce their water use and prevent blockages through education and provision of free tools/devices"},{"$f":"VLOOKUP('Design #'!E758,Labels!$A:$B,2,FALSE)","v":"Providing a continuous supply of water that is safe to drink"},{"$f":"VLOOKUP('Design #'!F758,Labels!$A:$B,2,FALSE)","v":"Reduce and offset carbon emissions to achieve a 'net zero' position by 2030 "}]
[51,8,{"$f":"VLOOKUP('Design #'!C759,Labels!$A:$B,2,FALSE)","v":"Preventing interruptions to the supply of water (e.g. planned works, burst pipes, leaks and outages) that cause problems ranging from low pressure to no water"},{"$f":"VLOOKUP('Design #'!D759,Labels!$A:$B,2,FALSE)","v":"Preventing pollution of rivers or streams from sewage pipes"},{"$f":"VLOOKUP('Design #'!E759,Labels!$A:$B,2,FALSE)","v":"Preventing the likelihood of restrictions on water use, including hosepipe bans, in a drought"},{"$f":"VLOOKUP('Design #'!F759,Labels!$A:$B,2,FALSE)","v":"Reduce and offset carbon emissions to achieve a 'net zero' position by 2030 "}]
[51,9,{"$f":"VLOOKUP('Design #'!C760,Labels!$A:$B,2,FALSE)","v":"Ensuring additional support is available to those who need it e.g.  providing bills in braille, providing bottled water during times of interruptions for thos​e who can't get to a shop (elderly, medical conditions etc.)"},{"$f":"VLOOKUP('Design #'!D760,Labels!$A:$B,2,FALSE)","v":"Providing good and constant water pressure"},{"$f":"VLOOKUP('Design #'!E760,Labels!$A:$B,2,FALSE)","v":"Preventing pollution of rivers or streams from sewage pipes"},{"$f":"VLOOKUP('Design #'!F760,Labels!$A:$B,2,FALSE)","v":"Supporting customers to reduce their water use and prevent blockages through education and provision of free tools/devices"}]
[51,10,{"$f":"VLOOKUP('Design #'!C761,Labels!$A:$B,2,FALSE)","v":"Treating waste water to a high standard to ensure good quality water in Yorkshire's rivers and beaches"},{"$f":"VLOOKUP('Design #'!D761,Labels!$A:$B,2,FALSE)","v":"Providing financial help and support to those who are struggling to pay their water bill"},{"$f":"VLOOKUP('Design #'!E761,Labels!$A:$B,2,FALSE)","v":"Providing a high level of customer service (e.g. resolving queries quickly)"},{"$f":"VLOOKUP('Design #'!F761,Labels!$A:$B,2,FALSE)","v":"Preventing leaks from Yorkshire Water's pipe network"}]
[51,11,{"$f":"VLOOKUP('Design #'!C762,Labels!$A:$B,2,FALSE)","v":"Providing a high level of customer service (e.g. resolving queries quickly)"},{"$f":"VLOOKUP('Design #'!D762,Labels!$A:$B,2,FALSE)","v":"Providing a continuous supply of water that is safe to drink"},{"$f":"VLOOKUP('Design #'!E762,Labels!$A:$B,2,FALSE)","v":"Ensuring additional support is available to those who need it e.g.  providing bills in braille, providing bottled water during times of interruptions for thos​e who can't get to a shop (elderly, medical conditions etc.)"},{"$f":"VLOOKUP('Design #'!F762,Labels!$A:$B,2,FALSE)","v":"Providing financial help and support to those who are struggling to pay their water bill"}]
[51,12,{"$f":"VLOOKUP('Design #'!C763,Labels!$A:$B,2,FALSE)","v":"Providing water that is aesthetically pleasing (clear and clean with no odour or unusual taste or colour)"},{"$f":"VLOOKUP('Design #'!D763,Labels!$A:$B,2,FALSE)","v":"Providing appropriate sewer capacity and pumping capabilities to cope with widespread flood events"},{"$f":"VLOOKUP('Design #'!E763,Labels!$A:$B,2,FALSE)","v":"Reducing the release of untreated sewage mixed with rain water into rivers and streams during times of heavy rainfall"},{"$f":"VLOOKUP('Design #'!F763,Labels!$A:$B,2,FALSE)","v":"Providing a high level of customer service (e.g. resolving queries quickly)"}]
[51,13,{"$f":"VLOOKUP('Design #'!C764,Labels!$A:$B,2,FALSE)","v":"Working with other organisations on common challenges (e.g. flooding) to share costs and expertise allowing for more and smarter investment to tackle problems"},{"$f":"VLOOKUP('Design #'!D764,Labels!$A:$B,2,FALSE)","v":"Providing water that is aesthetically pleasing (clear and clean with no odour or unusual taste or colour)"},{"$f":"VLOOKUP('Design #'!E764,Labels!$A:$B,2,FALSE)","v":"Keeping bills affordable for all"},{"$f":"VLOOKUP('Design #'!F764,Labels!$A:$B,2,FALSE)","v":"Treating waste water to a high standard to ensure good quality water in Yorkshire's rivers and beaches"}]
[51,14,{"$f":"VLOOKUP('Design #'!C765,Labels!$A:$B,2,FALSE)","v":"Preventing sewage from entering homes and businesses "},{"$f":"VLOOKUP('Design #'!D765,Labels!$A:$B,2,FALSE)","v":"Supporting customers to reduce their water use and prevent blockages through education and provision of free tools/devices"},{"$f":"VLOOKUP('Design #'!E765,Labels!$A:$B,2,FALSE)","v":"Working with other organisations on common challenges (e.g. flooding) to share costs and expertise allowing for more and smarter investment to tackle problems"},{"$f":"VLOOKUP('Design #'!F765,Labels!$A:$B,2,FALSE)","v":"Providing good and constant water pressure"}]
[51,15,{"$f":"VLOOKUP('Design #'!C766,Labels!$A:$B,2,FALSE)","v":"Providing good and constant water pressure"},{"$f":"VLOOKUP('Design #'!D766,Labels!$A:$B,2,FALSE)","v":"Ensuring additional support is available to those who need it e.g.  providing bills in braille, providing bottled water during times of interruptions for thos​e who can't get to a shop (elderly, medical conditions etc.)"},{"$f":"VLOOKUP('Design #'!E766,Labels!$A:$B,2,FALSE)","v":"Ensuring that land owned by Yorkshire Water is conserved or enhanced to improve quality of the water it collects and reduce flooding"},{"$f":"VLOOKUP('Design #'!F766,Labels!$A:$B,2,FALSE)","v":"Preventing sewage from entering homes and businesses "}]
[52,1,{"$f":"VLOOKUP('Design #'!C767,Labels!$A:$B,2,FALSE)","v":"Providing a continuous supply of water that is safe to drink"},{"$f":"VLOOKUP('Design #'!D767,Labels!$A:$B,2,FALSE)","v":"Preventing the likelihood of restrictions on water use, including hosepipe bans, in a drought"},{"$f":"VLOOKUP('Design #'!E767,Labels!$A:$B,2,FALSE)","v":"Treating waste water to a high standard to ensure good quality water in Yorkshire's rivers and beaches"},{"$f":"VLOOKUP('Design #'!F767,Labels!$A:$B,2,FALSE)","v":"Keeping bills affordable for all"}]
[52,2,{"$f":"VLOOKUP('Design #'!C768,Labels!$A:$B,2,FALSE)","v":"Reducing the release of untreated sewage mixed with rain water into rivers and streams during times of heavy rainfall"},{"$f":"VLOOKUP('Design #'!D768,Labels!$A:$B,2,FALSE)","v":"Providing a high level of customer service (e.g. resolving queries quickly)"},{"$f":"VLOOKUP('Design #'!E768,Labels!$A:$B,2,FALSE)","v":"Supporting customers to reduce their water use and prevent blockages through education and provision of free tools/devices"},{"$f":"VLOOKUP('Design #'!F768,Labels!$A:$B,2,FALSE)","v":"Preventing sewage entering gardens and public spaces from pipe collapses or blockages"}]
[52,3,{"$f":"VLOOKUP('Design #'!C769,Labels!$A:$B,2,FALSE)","v":"Preventing the likelihood of restrictions on water use, including hosepipe bans, in a drought"},{"$f":"VLOOKUP('Design #'!D769,Labels!$A:$B,2,FALSE)","v":"Reducing the release of untreated sewage mixed with rain water into rivers and streams during times of heavy rainfall"},{"$f":"VLOOKUP('Design #'!E769,Labels!$A:$B,2,FALSE)","v":"Ensuring additional support is available to those who need it e.g.  providing bills in braille, providing bottled water during times of interruptions for thos​e who can't get to a shop (elderly, medical conditions etc.)"},{"$f":"VLOOKUP('Design #'!F769,Labels!$A:$B,2,FALSE)","v":"Preventing leaks from Yorkshire Water's pipe network"}]
[52,4,{"$f":"VLOOKUP('Design #'!C770,Labels!$A:$B,2,FALSE)","v":"Providing financial help and support to those who are struggling to pay their water bill"},{"$f":"VLOOKUP('Design #'!D770,Labels!$A:$B,2,FALSE)","v":"Reduce and offset carbon emissions to achieve a 'net zero' position by 2030 "},{"$f":"VLOOKUP('Design #'!E770,Labels!$A:$B,2,FALSE)","v":"Working with other organisations on common challenges (e.g. flooding) to share costs and expertise allowing for more and smarter investment to tackle problems"},{"$f":"VLOOKUP('Design #'!F770,Labels!$A:$B,2,FALSE)","v":"Reducing the release of untreated sewage mixed with rain water into rivers and streams during times of heavy rainfall"}]
[52,5,{"$f":"VLOOKUP('Design #'!C771,Labels!$A:$B,2,FALSE)","v":"Treating waste water to a high standard to ensure good quality water in Yorkshire's rivers and beaches"},{"$f":"VLOOKUP('Design #'!D771,Labels!$A:$B,2,FALSE)","v":"Reduce and offset carbon emissions to achieve a 'net zero' position by 2030 "},{"$f":"VLOOKUP('Design #'!E771,Labels!$A:$B,2,FALSE)","v":"Preventing sewage entering gardens and public spaces from pipe collapses or blockages"},{"$f":"VLOOKUP('Design #'!F771,Labels!$A:$B,2,FALSE)","v":"Providing good and constant water pressure"}]
[52,6,{"$f":"VLOOKUP('Design #'!C772,Labels!$A:$B,2,FALSE)","v":"Providing good and constant water pressure"},{"$f":"VLOOKUP('Design #'!D772,Labels!$A:$B,2,FALSE)","v":"Providing a continuous supply of water that is safe to drink"},{"$f":"VLOOKUP('Design #'!E772,Labels!$A:$B,2,FALSE)","v":"Providing financial help and support to those who are struggling to pay their water bill"},{"$f":"VLOOKUP('Design #'!F772,Labels!$A:$B,2,FALSE)","v":"Providing appropriate sewer capacity and pumping capabilities to cope with widespread flood events"}]
[52,7,{"$f":"VLOOKUP('Design #'!C773,Labels!$A:$B,2,FALSE)","v":"Providing appropriate sewer capacity and pumping capabilities to cope with widespread flood events"},{"$f":"VLOOKUP('Design #'!D773,Labels!$A:$B,2,FALSE)","v":"Providing a high level of customer service (e.g. resolving queries quickly)"},{"$f":"VLOOKUP('Design #'!E773,Labels!$A:$B,2,FALSE)","v":"Preventing pollution of rivers or streams from sewage pipes"},{"$f":"VLOOKUP('Design #'!F773,Labels!$A:$B,2,FALSE)","v":"Supporting customers to reduce their water use and prevent blockages through education and provision of free tools/devices"}]
[52,8,{"$f":"VLOOKUP('Design #'!C774,Labels!$A:$B,2,FALSE)","v":"Reduce and offset carbon emissions to achieve a 'net zero' position by 2030 "},{"$f":"VLOOKUP('Design #'!D774,Labels!$A:$B,2,FALSE)","v":"Providing water that is aesthetically pleasing (clear and clean with no odour or unusual taste or colour)"},{"$f":"VLOOKUP('Design #'!E774,Labels!$A:$B,2,FALSE)","v":"Preventing sewage from entering homes and businesses "},{"$f":"VLOOKUP('Design #'!F774,Labels!$A:$B,2,FALSE)","v":"Preventing pollution of rivers or streams from sewage pipes"}]
[52,9,{"$f":"VLOOKUP('Design #'!C775,Labels!$A:$B,2,FALSE)","v":"Preventing sewage entering gardens and public spaces from pipe collapses or blockages"},{"$f":"VLOOKUP('Design #'!D775,Labels!$A:$B,2,FALSE)","v":"Working with other organisations on common challenges (e.g. flooding) to share costs and expertise allowing for more and smarter investment to tackle problems"},{"$f":"VLOOKUP('Design #'!E775,Labels!$A:$B,2,FALSE)","v":"Providing appropriate sewer capacity and pumping capabilities to cope with widespread flood events"},{"$f":"VLOOKUP('Design #'!F775,Labels!$A:$B,2,FALSE)","v":"Ensuring additional support is available to those who need it e.g.  providing bills in braille, providing bottled water during times of interruptions for thos​e who can't get to a shop (elderly, medical conditions etc.)"}]
[52,10,{"$f":"VLOOKUP('Design #'!C776,Labels!$A:$B,2,FALSE)","v":"Providing a high level of customer service (e.g. resolving queries quickly)"},{"$f":"VLOOKUP('Design #'!D776,Labels!$A:$B,2,FALSE)","v":"Keeping bills affordable for all"},{"$f":"VLOOKUP('Design #'!E776,Labels!$A:$B,2,FALSE)","v":"Ensuring that land owned by Yorkshire Water is conserved or enhanced to improve quality of the water it collects and reduce flooding"},{"$f":"VLOOKUP('Design #'!F776,Labels!$A:$B,2,FALSE)","v":"Preventing the likelihood of restrictions on water use, including hosepipe bans, in a drought"}]
[52,11,{"$f":"VLOOKUP('Design #'!C777,Labels!$A:$B,2,FALSE)","v":"Preventing leaks from Yorkshire Water's pipe network"},{"$f":"VLOOKUP('Design #'!D777,Labels!$A:$B,2,FALSE)","v":"Treating waste water to a high standard to ensure good quality water in Yorkshire's rivers and beaches"},{"$f":"VLOOKUP('Design #'!E777,Labels!$A:$B,2,FALSE)","v":"Supporting customers to reduce their water use and prevent blockages through education and provision of free tools/devices"},{"$f":"VLOOKUP('Design #'!F777,Labels!$A:$B,2,FALSE)","v":"Preventing sewage from entering homes and businesses "}]
[52,12,{"$f":"VLOOKUP('Design #'!C778,Labels!$A:$B,2,FALSE)","v":"Keeping bills affordable for all"},{"$f":"VLOOKUP('Design #'!D778,Labels!$A:$B,2,FALSE)","v":"Preventing sewage entering gardens and public spaces from pipe collapses or blockages"},{"$f":"VLOOKUP('Design #'!E778,Labels!$A:$B,2,FALSE)","v":"Preventing interruptions to the supply of water (e.g. planned works, burst pipes, leaks and outages) that cause problems ranging from low pressure to no water"},{"$f":"VLOOKUP('Design #'!F778,Labels!$A:$B,2,FALSE)","v":"Providing water that is aesthetically pleasing (clear and clean with no odour or unusual taste or colour)"}]
[52,13,{"$f":"VLOOKUP('Design #'!C779,Labels!$A:$B,2,FALSE)","v":"Ensuring additional support is available to those who need it e.g.  providing bills in braille, providing bottled water during times of interruptions for thos​e who can't get to a shop (elderly, medical conditions etc.)"},{"$f":"VLOOKUP('Design #'!D779,Labels!$A:$B,2,FALSE)","v":"Preventing leaks from Yorkshire Water's pipe network"},{"$f":"VLOOKUP('Design #'!E779,Labels!$A:$B,2,FALSE)","v":"Preventing interruptions to the supply of water (e.g. planned works, burst pipes, leaks and outages) that cause problems ranging from low pressure to no water"},{"$f":"VLOOKUP('Design #'!F779,Labels!$A:$B,2,FALSE)","v":"Ensuring that land owned by Yorkshire Water is conserved or enhanced to improve quality of the water it collects and reduce flooding"}]
[52,14,{"$f":"VLOOKUP('Design #'!C780,Labels!$A:$B,2,FALSE)","v":"Providing financial help and support to those who are struggling to pay their water bill"},{"$f":"VLOOKUP('Design #'!D780,Labels!$A:$B,2,FALSE)","v":"Preventing sewage from entering homes and businesses "},{"$f":"VLOOKUP('Design #'!E780,Labels!$A:$B,2,FALSE)","v":"Preventing interruptions to the supply of water (e.g. planned works, burst pipes, leaks and outages) that cause problems ranging from low pressure to no water"},{"$f":"VLOOKUP('Design #'!F780,Labels!$A:$B,2,FALSE)","v":"Keeping bills affordable for all"}]
[52,15,{"$f":"VLOOKUP('Design #'!C781,Labels!$A:$B,2,FALSE)","v":"Supporting customers to reduce their water use and prevent blockages through education and provision of free tools/devices"},{"$f":"VLOOKUP('Design #'!D781,Labels!$A:$B,2,FALSE)","v":"Ensuring that land owned by Yorkshire Water is conserved or enhanced to improve quality of the water it collects and reduce flooding"},{"$f":"VLOOKUP('Design #'!E781,Labels!$A:$B,2,FALSE)","v":"Providing water that is aesthetically pleasing (clear and clean with no odour or unusual taste or colour)"},{"$f":"VLOOKUP('Design #'!F781,Labels!$A:$B,2,FALSE)","v":"Providing a continuous supply of water that is safe to drink"}]
[53,1,{"$f":"VLOOKUP('Design #'!C782,Labels!$A:$B,2,FALSE)","v":"Providing appropriate sewer capacity and pumping capabilities to cope with widespread flood events"},{"$f":"VLOOKUP('Design #'!D782,Labels!$A:$B,2,FALSE)","v":"Providing a continuous supply of water that is safe to drink"},{"$f":"VLOOKUP('Design #'!E782,Labels!$A:$B,2,FALSE)","v":"Reducing the release of untreated sewage mixed with rain water into rivers and streams during times of heavy rainfall"},{"$f":"VLOOKUP('Design #'!F782,Labels!$A:$B,2,FALSE)","v":"Preventing interruptions to the supply of water (e.g. planned works, burst pipes, leaks and outages) that cause problems ranging from low pressure to no water"}]
[53,2,{"$f":"VLOOKUP('Design #'!C783,Labels!$A:$B,2,FALSE)","v":"Preventing sewage from entering homes and businesses "},{"$f":"VLOOKUP('Design #'!D783,Labels!$A:$B,2,FALSE)","v":"Providing appropriate sewer capacity and pumping capabilities to cope with widespread flood events"},{"$f":"VLOOKUP('Design #'!E783,Labels!$A:$B,2,FALSE)","v":"Preventing the likelihood of restrictions on water use, including hosepipe bans, in a drought"},{"$f":"VLOOKUP('Design #'!F783,Labels!$A:$B,2,FALSE)","v":"Preventing sewage entering gardens and public spaces from pipe collapses or blockages"}]
[53,3,{"$f":"VLOOKUP('Design #'!C784,Labels!$A:$B,2,FALSE)","v":"Providing water that is aesthetically pleasing (clear and clean with no odour or unusual taste or colour)"},{"$f":"VLOOKUP('Design #'!D784,Labels!$A:$B,2,FALSE)","v":"Ensuring additional support is available to those who need it e.g.  providing bills in braille, providing bottled water during times of interruptions for thos​e who can't get to a shop (elderly, medical conditions etc.)"},{"$f":"VLOOKUP('Design #'!E784,Labels!$A:$B,2,FALSE)","v":"Providing appropriate sewer capacity and pumping capabilities to cope with widespread flood events"},{"$f":"VLOOKUP('Design #'!F784,Labels!$A:$B,2,FALSE)","v":"Treating waste water to a high standard to ensure good quality water in Yorkshire's rivers and beaches"}]
[53,4,{"$f":"VLOOKUP('Design #'!C785,Labels!$A:$B,2,FALSE)","v":"Providing a continuous supply of water that is safe to drink"},{"$f":"VLOOKUP('Design #'!D785,Labels!$A:$B,2,FALSE)","v":"Reduce and offset carbon emissions to achieve a 'net zero' position by 2030 "},{"$f":"VLOOKUP('Design #'!E785,Labels!$A:$B,2,FALSE)","v":"Providing a high level of customer service (e.g. resolving queries quickly)"},{"$f":"VLOOKUP('Design #'!F785,Labels!$A:$B,2,FALSE)","v":"Ensuring additional support is available to those who need it e.g.  providing bills in braille, providing bottled water during times of interruptions for thos​e who can't get to a shop (elderly, medical conditions etc.)"}]
[53,5,{"$f":"VLOOKUP('Design #'!C786,Labels!$A:$B,2,FALSE)","v":"Ensuring that land owned by Yorkshire Water is conserved or enhanced to improve quality of the water it collects and reduce flooding"},{"$f":"VLOOKUP('Design #'!D786,Labels!$A:$B,2,FALSE)","v":"Providing financial help and support to those who are struggling to pay their water bill"},{"$f":"VLOOKUP('Design #'!E786,Labels!$A:$B,2,FALSE)","v":"Preventing sewage entering gardens and public spaces from pipe collapses or blockages"},{"$f":"VLOOKUP('Design #'!F786,Labels!$A:$B,2,FALSE)","v":"Working with other organisations on common challenges (e.g. flooding) to share costs and expertise allowing for more and smarter investment to tackle problems"}]
[53,6,{"$f":"VLOOKUP('Design #'!C787,Labels!$A:$B,2,FALSE)","v":"Providing water that is aesthetically pleasing (clear and clean with no odour or unusual taste or colour)"},{"$f":"VLOOKUP('Design #'!D787,Labels!$A:$B,2,FALSE)","v":"Providing financial help and support to those who are struggling to pay their water bill"},{"$f":"VLOOKUP('Design #'!E787,Labels!$A:$B,2,FALSE)","v":"Preventing leaks from Yorkshire Water's pipe network"},{"$f":"VLOOKUP('Design #'!F787,Labels!$A:$B,2,FALSE)","v":"Providing a high level of customer service (e.g. resolving queries quickly)"}]
[53,7,{"$f":"VLOOKUP('Design #'!C788,Labels!$A:$B,2,FALSE)","v":"Preventing leaks from Yorkshire Water's pipe network"},{"$f":"VLOOKUP('Design #'!D788,Labels!$A:$B,2,FALSE)","v":"Providing good and constant water pressure"},{"$f":"VLOOKUP('Design #'!E788,Labels!$A:$B,2,FALSE)","v":"Preventing pollution of rivers or streams from sewage pipes"},{"$f":"VLOOKUP('Design #'!F788,Labels!$A:$B,2,FALSE)","v":"Keeping bills affordable for all"}]
[53,8,{"$f":"VLOOKUP('Design #'!C789,Labels!$A:$B,2,FALSE)","v":"Preventing interruptions to the supply of water (e.g. planned works, burst pipes, leaks and outages) that cause problems ranging from low pressure to no water"},{"$f":"VLOOKUP('Design #'!D789,Labels!$A:$B,2,FALSE)","v":"Preventing leaks from Yorkshire Water's pipe network"},{"$f":"VLOOKUP('Design #'!E789,Labels!$A:$B,2,FALSE)","v":"Working with other organisations on common challenges (e.g. flooding) to share costs and expertise allowing for more and smarter investment to tackle problems"},{"$f":"VLOOKUP('Design #'!F789,Labels!$A:$B,2,FALSE)","v":"Preventing pollution of rivers or streams from sewage pipes"}]
[53,9,{"$f":"VLOOKUP('Design #'!C790,Labels!$A:$B,2,FALSE)","v":"Reducing the release of untreated sewage mixed with rain water into rivers and streams during times of heavy rainfall"},{"$f":"VLOOKUP('Design #'!D790,Labels!$A:$B,2,FALSE)","v":"Providing good and constant water pressure"},{"$f":"VLOOKUP('Design #'!E790,Labels!$A:$B,2,FALSE)","v":"Providing water that is aesthetically pleasing (clear and clean with no odour or unusual taste or colour)"},{"$f":"VLOOKUP('Design #'!F790,Labels!$A:$B,2,FALSE)","v":"Treating waste water to a high standard to ensure good quality water in Yorkshire's rivers and beaches"}]
[53,10,{"$f":"VLOOKUP('Design #'!C791,Labels!$A:$B,2,FALSE)","v":"Ensuring that land owned by Yorkshire Water is conserved or enhanced to improve quality of the water it collects and reduce flooding"},{"$f":"VLOOKUP('Design #'!D791,Labels!$A:$B,2,FALSE)","v":"Preventing pollution of rivers or streams from sewage pipes"},{"$f":"VLOOKUP('Design #'!E791,Labels!$A:$B,2,FALSE)","v":"Reduce and offset carbon emissions to achieve a 'net zero' position by 2030 "},{"$f":"VLOOKUP('Design #'!F791,Labels!$A:$B,2,FALSE)","v":"Preventing sewage entering gardens and public spaces from pipe collapses or blockages"}]
[53,11,{"$f":"VLOOKUP('Design #'!C792,Labels!$A:$B,2,FALSE)","v":"Supporting customers to reduce their water use and prevent blockages through education and provision of free tools/devices"},{"$f":"VLOOKUP('Design #'!D792,Labels!$A:$B,2,FALSE)","v":"Working with other organisations on common challenges (e.g. flooding) to share costs and expertise allowing for more and smarter investment to tackle problems"},{"$f":"VLOOKUP('Design #'!E792,Labels!$A:$B,2,FALSE)","v":"Treating waste water to a high standard to ensure good quality water in Yorkshire's rivers and beaches"},{"$f":"VLOOKUP('Design #'!F792,Labels!$A:$B,2,FALSE)","v":"Providing financial help and support to those who are struggling to pay their water bill"}]
[53,12,{"$f":"VLOOKUP('Design #'!C793,Labels!$A:$B,2,FALSE)","v":"Providing a high level of customer service (e.g. resolving queries quickly)"},{"$f":"VLOOKUP('Design #'!D793,Labels!$A:$B,2,FALSE)","v":"Preventing the likelihood of restrictions on water use, including hosepipe bans, in a drought"},{"$f":"VLOOKUP('Design #'!E793,Labels!$A:$B,2,FALSE)","v":"Keeping bills affordable for all"},{"$f":"VLOOKUP('Design #'!F793,Labels!$A:$B,2,FALSE)","v":"Reduce and offset carbon emissions to achieve a 'net zero' position by 2030 "}]
[53,13,{"$f":"VLOOKUP('Design #'!C794,Labels!$A:$B,2,FALSE)","v":"Preventing the likelihood of restrictions on water use, including hosepipe bans, in a drought"},{"$f":"VLOOKUP('Design #'!D794,Labels!$A:$B,2,FALSE)","v":"Supporting customers to reduce their water use and prevent blockages through education and provision of free tools/devices"},{"$f":"VLOOKUP('Design #'!E794,Labels!$A:$B,2,FALSE)","v":"Providing good and constant water pressure"},{"$f":"VLOOKUP('Design #'!F794,Labels!$A:$B,2,FALSE)","v":"Preventing interruptions to the supply of water (e.g. planned works, burst pipes, leaks and outages) that cause problems ranging from low pressure to no water"}]
[53,14,{"$f":"VLOOKUP('Design #'!C795,Labels!$A:$B,2,FALSE)","v":"Preventing sewage entering gardens and public spaces from pipe collapses or blockages"},{"$f":"VLOOKUP('Design #'!D795,Labels!$A:$B,2,FALSE)","v":"Preventing sewage from entering homes and businesses "},{"$f":"VLOOKUP('Design #'!E795,Labels!$A:$B,2,FALSE)","v":"Preventing leaks from Yorkshire Water's pipe network"},{"$f":"VLOOKUP('Design #'!F795,Labels!$A:$B,2,FALSE)","v":"Providing a continuous supply of water that is safe to drink"}]
[53,15,{"$f":"VLOOKUP('Design #'!C796,Labels!$A:$B,2,FALSE)","v":"Reducing the release of untreated sewage mixed with rain water into rivers and streams during times of heavy rainfall"},{"$f":"VLOOKUP('Design #'!D796,Labels!$A:$B,2,FALSE)","v":"Providing a continuous supply of water that is safe to drink"},{"$f":"VLOOKUP('Design #'!E796,Labels!$A:$B,2,FALSE)","v":"Ensuring that land owned by Yorkshire Water is conserved or enhanced to improve quality of the water it collects and reduce flooding"},{"$f":"VLOOKUP('Design #'!F796,Labels!$A:$B,2,FALSE)","v":"Preventing sewage from entering homes and businesses "}]
[54,1,{"$f":"VLOOKUP('Design #'!C797,Labels!$A:$B,2,FALSE)","v":"Providing a high level of customer service (e.g. resolving queries quickly)"},{"$f":"VLOOKUP('Design #'!D797,Labels!$A:$B,2,FALSE)","v":"Providing good and constant water pressure"},{"$f":"VLOOKUP('Design #'!E797,Labels!$A:$B,2,FALSE)","v":"Preventing sewage from entering homes and businesses "},{"$f":"VLOOKUP('Design #'!F797,Labels!$A:$B,2,FALSE)","v":"Ensuring that land owned by Yorkshire Water is conserved or enhanced to improve quality of the water it collects and reduce flooding"}]
[54,2,{"$f":"VLOOKUP('Design #'!C798,Labels!$A:$B,2,FALSE)","v":"Keeping bills affordable for all"},{"$f":"VLOOKUP('Design #'!D798,Labels!$A:$B,2,FALSE)","v":"Reducing the release of untreated sewage mixed with rain water into rivers and streams during times of heavy rainfall"},{"$f":"VLOOKUP('Design #'!E798,Labels!$A:$B,2,FALSE)","v":"Ensuring additional support is available to those who need it e.g.  providing bills in braille, providing bottled water during times of interruptions for thos​e who can't get to a shop (elderly, medical conditions etc.)"},{"$f":"VLOOKUP('Design #'!F798,Labels!$A:$B,2,FALSE)","v":"Supporting customers to reduce their water use and prevent blockages through education and provision of free tools/devices"}]
[54,3,{"$f":"VLOOKUP('Design #'!C799,Labels!$A:$B,2,FALSE)","v":"Ensuring additional support is available to those who need it e.g.  providing bills in braille, providing bottled water during times of interruptions for thos​e who can't get to a shop (elderly, medical conditions etc.)"},{"$f":"VLOOKUP('Design #'!D799,Labels!$A:$B,2,FALSE)","v":"Preventing the likelihood of restrictions on water use, including hosepipe bans, in a drought"},{"$f":"VLOOKUP('Design #'!E799,Labels!$A:$B,2,FALSE)","v":"Providing financial help and support to those who are struggling to pay their water bill"},{"$f":"VLOOKUP('Design #'!F799,Labels!$A:$B,2,FALSE)","v":"Ensuring that land owned by Yorkshire Water is conserved or enhanced to improve quality of the water it collects and reduce flooding"}]
[54,4,{"$f":"VLOOKUP('Design #'!C800,Labels!$A:$B,2,FALSE)","v":"Preventing pollution of rivers or streams from sewage pipes"},{"$f":"VLOOKUP('Design #'!D800,Labels!$A:$B,2,FALSE)","v":"Preventing interruptions to the supply of water (e.g. planned works, burst pipes, leaks and outages) that cause problems ranging from low pressure to no water"},{"$f":"VLOOKUP('Design #'!E800,Labels!$A:$B,2,FALSE)","v":"Preventing sewage from entering homes and businesses "},{"$f":"VLOOKUP('Design #'!F800,Labels!$A:$B,2,FALSE)","v":"Supporting customers to reduce their water use and prevent blockages through education and provision of free tools/devices"}]
[54,5,{"$f":"VLOOKUP('Design #'!C801,Labels!$A:$B,2,FALSE)","v":"Ensuring additional support is available to those who need it e.g.  providing bills in braille, providing bottled water during times of interruptions for thos​e who can't get to a shop (elderly, medical conditions etc.)"},{"$f":"VLOOKUP('Design #'!D801,Labels!$A:$B,2,FALSE)","v":"Preventing sewage entering gardens and public spaces from pipe collapses or blockages"},{"$f":"VLOOKUP('Design #'!E801,Labels!$A:$B,2,FALSE)","v":"Preventing pollution of rivers or streams from sewage pipes"},{"$f":"VLOOKUP('Design #'!F801,Labels!$A:$B,2,FALSE)","v":"Providing good and constant water pressure"}]
[54,6,{"$f":"VLOOKUP('Design #'!C802,Labels!$A:$B,2,FALSE)","v":"Reduce and offset carbon emissions to achieve a 'net zero' position by 2030 "},{"$f":"VLOOKUP('Design #'!D802,Labels!$A:$B,2,FALSE)","v":"Providing water that is aesthetically pleasing (clear and clean with no odour or unusual taste or colour)"},{"$f":"VLOOKUP('Design #'!E802,Labels!$A:$B,2,FALSE)","v":"Preventing sewage from entering homes and businesses "},{"$f":"VLOOKUP('Design #'!F802,Labels!$A:$B,2,FALSE)","v":"Reducing the release of untreated sewage mixed with rain water into rivers and streams during times of heavy rainfall"}]
[54,7,{"$f":"VLOOKUP('Design #'!C803,Labels!$A:$B,2,FALSE)","v":"Ensuring that land owned by Yorkshire Water is conserved or enhanced to improve quality of the water it collects and reduce flooding"},{"$f":"VLOOKUP('Design #'!D803,Labels!$A:$B,2,FALSE)","v":"Keeping bills affordable for all"},{"$f":"VLOOKUP('Design #'!E803,Labels!$A:$B,2,FALSE)","v":"Providing a high level of customer service (e.g. resolving queries quickly)"},{"$f":"VLOOKUP('Design #'!F803,Labels!$A:$B,2,FALSE)","v":"Providing appropriate sewer capacity and pumping capabilities to cope with widespread flood events"}]
[54,8,{"$f":"VLOOKUP('Design #'!C804,Labels!$A:$B,2,FALSE)","v":"Providing good and constant water pressure"},{"$f":"VLOOKUP('Design #'!D804,Labels!$A:$B,2,FALSE)","v":"Keeping bills affordable for all"},{"$f":"VLOOKUP('Design #'!E804,Labels!$A:$B,2,FALSE)","v":"Providing a continuous supply of water that is safe to drink"},{"$f":"VLOOKUP('Design #'!F804,Labels!$A:$B,2,FALSE)","v":"Providing water that is aesthetically pleasing (clear and clean with no odour or unusual taste or colour)"}]
[54,9,{"$f":"VLOOKUP('Design #'!C805,Labels!$A:$B,2,FALSE)","v":"Keeping bills affordable for all"},{"$f":"VLOOKUP('Design #'!D805,Labels!$A:$B,2,FALSE)","v":"Providing financial help and support to those who are struggling to pay their water bill"},{"$f":"VLOOKUP('Design #'!E805,Labels!$A:$B,2,FALSE)","v":"Reduce and offset carbon emissions to achieve a 'net zero' position by 2030 "},{"$f":"VLOOKUP('Design #'!F805,Labels!$A:$B,2,FALSE)","v":"Preventing interruptions to the supply of water (e.g. planned works, burst pipes, leaks and outages) that cause problems ranging from low pressure to no water"}]
[54,10,{"$f":"VLOOKUP('Design #'!C806,Labels!$A:$B,2,FALSE)","v":"Treating waste water to a high standard to ensure good quality water in Yorkshire's rivers and beaches"},{"$f":"VLOOKUP('Design #'!D806,Labels!$A:$B,2,FALSE)","v":"Reduce and offset carbon emissions to achieve a 'net zero' position by 2030 "},{"$f":"VLOOKUP('Design #'!E806,Labels!$A:$B,2,FALSE)","v":"Providing appropriate sewer capacity and pumping capabilities to cope with widespread flood events"},{"$f":"VLOOKUP('Design #'!F806,Labels!$A:$B,2,FALSE)","v":"Preventing leaks from Yorkshire Water's pipe network"}]
[54,11,{"$f":"VLOOKUP('Design #'!C807,Labels!$A:$B,2,FALSE)","v":"Providing a continuous supply of water that is safe to drink"},{"$f":"VLOOKUP('Design #'!D807,Labels!$A:$B,2,FALSE)","v":"Treating waste water to a high standard to ensure good quality water in Yorkshire's rivers and beaches"},{"$f":"VLOOKUP('Design #'!E807,Labels!$A:$B,2,FALSE)","v":"Preventing the likelihood of restrictions on water use, including hosepipe bans, in a drought"},{"$f":"VLOOKUP('Design #'!F807,Labels!$A:$B,2,FALSE)","v":"Providing financial help and support to those who are struggling to pay their water bill"}]
[54,12,{"$f":"VLOOKUP('Design #'!C808,Labels!$A:$B,2,FALSE)","v":"Working with other organisations on common challenges (e.g. flooding) to share costs and expertise allowing for more and smarter investment to tackle problems"},{"$f":"VLOOKUP('Design #'!D808,Labels!$A:$B,2,FALSE)","v":"Ensuring additional support is available to those who need it e.g.  providing bills in braille, providing bottled water during times of interruptions for thos​e who can't get to a shop (elderly, medical conditions etc.)"},{"$f":"VLOOKUP('Design #'!E808,Labels!$A:$B,2,FALSE)","v":"Preventing the likelihood of restrictions on water use, including hosepipe bans, in a drought"},{"$f":"VLOOKUP('Design #'!F808,Labels!$A:$B,2,FALSE)","v":"Providing water that is aesthetically pleasing (clear and clean with no odour or unusual taste or colour)"}]
[54,13,{"$f":"VLOOKUP('Design #'!C809,Labels!$A:$B,2,FALSE)","v":"Preventing sewage entering gardens and public spaces from pipe collapses or blockages"},{"$f":"VLOOKUP('Design #'!D809,Labels!$A:$B,2,FALSE)","v":"Reducing the release of untreated sewage mixed with rain water into rivers and streams during times of heavy rainfall"},{"$f":"VLOOKUP('Design #'!E809,Labels!$A:$B,2,FALSE)","v":"Providing a high level of customer service (e.g. resolving queries quickly)"},{"$f":"VLOOKUP('Design #'!F809,Labels!$A:$B,2,FALSE)","v":"Working with other organisations on common challenges (e.g. flooding) to share costs and expertise allowing for more and smarter investment to tackle problems"}]
[54,14,{"$f":"VLOOKUP('Design #'!C810,Labels!$A:$B,2,FALSE)","v":"Providing appropriate sewer capacity and pumping capabilities to cope with widespread flood events"},{"$f":"VLOOKUP('Design #'!D810,Labels!$A:$B,2,FALSE)","v":"Treating waste water to a high standard to ensure good quality water in Yorkshire's rivers and beaches"},{"$f":"VLOOKUP('Design #'!E810,Labels!$A:$B,2,FALSE)","v":"Working with other organisations on common challenges (e.g. flooding) to share costs and expertise allowing for more and smarter investment to tackle problems"},{"$f":"VLOOKUP('Design #'!F810,Labels!$A:$B,2,FALSE)","v":"Preventing pollution of rivers or streams from sewage pipes"}]
[54,15,{"$f":"VLOOKUP('Design #'!C811,Labels!$A:$B,2,FALSE)","v":"Preventing leaks from Yorkshire Water's pipe network"},{"$f":"VLOOKUP('Design #'!D811,Labels!$A:$B,2,FALSE)","v":"Preventing interruptions to the supply of water (e.g. planned works, burst pipes, leaks and outages) that cause problems ranging from low pressure to no water"},{"$f":"VLOOKUP('Design #'!E811,Labels!$A:$B,2,FALSE)","v":"Supporting customers to reduce their water use and prevent blockages through education and provision of free tools/devices"},{"$f":"VLOOKUP('Design #'!F811,Labels!$A:$B,2,FALSE)","v":"Working with other organisations on common challenges (e.g. flooding) to share costs and expertise allowing for more and smarter investment to tackle problems"}]
[55,1,{"$f":"VLOOKUP('Design #'!C812,Labels!$A:$B,2,FALSE)","v":"Supporting customers to reduce their water use and prevent blockages through education and provision of free tools/devices"},{"$f":"VLOOKUP('Design #'!D812,Labels!$A:$B,2,FALSE)","v":"Preventing sewage entering gardens and public spaces from pipe collapses or blockages"},{"$f":"VLOOKUP('Design #'!E812,Labels!$A:$B,2,FALSE)","v":"Providing a continuous supply of water that is safe to drink"},{"$f":"VLOOKUP('Design #'!F812,Labels!$A:$B,2,FALSE)","v":"Keeping bills affordable for all"}]
[55,2,{"$f":"VLOOKUP('Design #'!C813,Labels!$A:$B,2,FALSE)","v":"Working with other organisations on common challenges (e.g. flooding) to share costs and expertise allowing for more and smarter investment to tackle problems"},{"$f":"VLOOKUP('Design #'!D813,Labels!$A:$B,2,FALSE)","v":"Preventing pollution of rivers or streams from sewage pipes"},{"$f":"VLOOKUP('Design #'!E813,Labels!$A:$B,2,FALSE)","v":"Ensuring that land owned by Yorkshire Water is conserved or enhanced to improve quality of the water it collects and reduce flooding"},{"$f":"VLOOKUP('Design #'!F813,Labels!$A:$B,2,FALSE)","v":"Providing a continuous supply of water that is safe to drink"}]
[55,3,{"$f":"VLOOKUP('Design #'!C814,Labels!$A:$B,2,FALSE)","v":"Supporting customers to reduce their water use and prevent blockages through education and provision of free tools/devices"},{"$f":"VLOOKUP('Design #'!D814,Labels!$A:$B,2,FALSE)","v":"Providing appropriate sewer capacity and pumping capabilities to cope with widespread flood events"},{"$f":"VLOOKUP('Design #'!E814,Labels!$A:$B,2,FALSE)","v":"Providing financial help and support to those who are struggling to pay their water bill"},{"$f":"VLOOKUP('Design #'!F814,Labels!$A:$B,2,FALSE)","v":"Providing water that is aesthetically pleasing (clear and clean with no odour or unusual taste or colour)"}]
[55,4,{"$f":"VLOOKUP('Design #'!C815,Labels!$A:$B,2,FALSE)","v":"Providing financial help and support to those who are struggling to pay their water bill"},{"$f":"VLOOKUP('Design #'!D815,Labels!$A:$B,2,FALSE)","v":"Reduce and offset carbon emissions to achieve a 'net zero' position by 2030 "},{"$f":"VLOOKUP('Design #'!E815,Labels!$A:$B,2,FALSE)","v":"Providing good and constant water pressure"},{"$f":"VLOOKUP('Design #'!F815,Labels!$A:$B,2,FALSE)","v":"Ensuring additional support is available to those who need it e.g.  providing bills in braille, providing bottled water during times of interruptions for thos​e who can't get to a shop (elderly, medical conditions etc.)"}]
[55,5,{"$f":"VLOOKUP('Design #'!C816,Labels!$A:$B,2,FALSE)","v":"Providing water that is aesthetically pleasing (clear and clean with no odour or unusual taste or colour)"},{"$f":"VLOOKUP('Design #'!D816,Labels!$A:$B,2,FALSE)","v":"Preventing pollution of rivers or streams from sewage pipes"},{"$f":"VLOOKUP('Design #'!E816,Labels!$A:$B,2,FALSE)","v":"Preventing leaks from Yorkshire Water's pipe network"},{"$f":"VLOOKUP('Design #'!F816,Labels!$A:$B,2,FALSE)","v":"Providing financial help and support to those who are struggling to pay their water bill"}]
[55,6,{"$f":"VLOOKUP('Design #'!C817,Labels!$A:$B,2,FALSE)","v":"Reduce and offset carbon emissions to achieve a 'net zero' position by 2030 "},{"$f":"VLOOKUP('Design #'!D817,Labels!$A:$B,2,FALSE)","v":"Ensuring that land owned by Yorkshire Water is conserved or enhanced to improve quality of the water it collects and reduce flooding"},{"$f":"VLOOKUP('Design #'!E817,Labels!$A:$B,2,FALSE)","v":"Preventing interruptions to the supply of water (e.g. planned works, burst pipes, leaks and outages) that cause problems ranging from low pressure to no water"},{"$f":"VLOOKUP('Design #'!F817,Labels!$A:$B,2,FALSE)","v":"Treating waste water to a high standard to ensure good quality water in Yorkshire's rivers and beaches"}]
[55,7,{"$f":"VLOOKUP('Design #'!C818,Labels!$A:$B,2,FALSE)","v":"Preventing sewage from entering homes and businesses "},{"$f":"VLOOKUP('Design #'!D818,Labels!$A:$B,2,FALSE)","v":"Treating waste water to a high standard to ensure good quality water in Yorkshire's rivers and beaches"},{"$f":"VLOOKUP('Design #'!E818,Labels!$A:$B,2,FALSE)","v":"Keeping bills affordable for all"},{"$f":"VLOOKUP('Design #'!F818,Labels!$A:$B,2,FALSE)","v":"Reducing the release of untreated sewage mixed with rain water into rivers and streams during times of heavy rainfall"}]
[55,8,{"$f":"VLOOKUP('Design #'!C819,Labels!$A:$B,2,FALSE)","v":"Working with other organisations on common challenges (e.g. flooding) to share costs and expertise allowing for more and smarter investment to tackle problems"},{"$f":"VLOOKUP('Design #'!D819,Labels!$A:$B,2,FALSE)","v":"Preventing sewage from entering homes and businesses "},{"$f":"VLOOKUP('Design #'!E819,Labels!$A:$B,2,FALSE)","v":"Ensuring additional support is available to those who need it e.g.  providing bills in braille, providing bottled water during times of interruptions for thos​e who can't get to a shop (elderly, medical conditions etc.)"},{"$f":"VLOOKUP('Design #'!F819,Labels!$A:$B,2,FALSE)","v":"Providing a high level of customer service (e.g. resolving queries quickly)"}]
[55,9,{"$f":"VLOOKUP('Design #'!C820,Labels!$A:$B,2,FALSE)","v":"Preventing leaks from Yorkshire Water's pipe network"},{"$f":"VLOOKUP('Design #'!D820,Labels!$A:$B,2,FALSE)","v":"Providing water that is aesthetically pleasing (clear and clean with no odour or unusual taste or colour)"},{"$f":"VLOOKUP('Design #'!E820,Labels!$A:$B,2,FALSE)","v":"Preventing sewage entering gardens and public spaces from pipe collapses or blockages"},{"$f":"VLOOKUP('Design #'!F820,Labels!$A:$B,2,FALSE)","v":"Ensuring additional support is available to those who need it e.g.  providing bills in braille, providing bottled water during times of interruptions for thos​e who can't get to a shop (elderly, medical conditions etc.)"}]
[55,10,{"$f":"VLOOKUP('Design #'!C821,Labels!$A:$B,2,FALSE)","v":"Preventing the likelihood of restrictions on water use, including hosepipe bans, in a drought"},{"$f":"VLOOKUP('Design #'!D821,Labels!$A:$B,2,FALSE)","v":"Providing good and constant water pressure"},{"$f":"VLOOKUP('Design #'!E821,Labels!$A:$B,2,FALSE)","v":"Reducing the release of untreated sewage mixed with rain water into rivers and streams during times of heavy rainfall"},{"$f":"VLOOKUP('Design #'!F821,Labels!$A:$B,2,FALSE)","v":"Providing appropriate sewer capacity and pumping capabilities to cope with widespread flood events"}]
[55,11,{"$f":"VLOOKUP('Design #'!C822,Labels!$A:$B,2,FALSE)","v":"Preventing interruptions to the supply of water (e.g. planned works, burst pipes, leaks and outages) that cause problems ranging from low pressure to no water"},{"$f":"VLOOKUP('Design #'!D822,Labels!$A:$B,2,FALSE)","v":"Providing a high level of customer service (e.g. resolving queries quickly)"},{"$f":"VLOOKUP('Design #'!E822,Labels!$A:$B,2,FALSE)","v":"Ensuring that land owned by Yorkshire Water is conserved or enhanced to improve quality of the water it collects and reduce flooding"},{"$f":"VLOOKUP('Design #'!F822,Labels!$A:$B,2,FALSE)","v":"Providing good and constant water pressure"}]
[55,12,{"$f":"VLOOKUP('Design #'!C823,Labels!$A:$B,2,FALSE)","v":"Treating waste water to a high standard to ensure good quality water in Yorkshire's rivers and beaches"},{"$f":"VLOOKUP('Design #'!D823,Labels!$A:$B,2,FALSE)","v":"Providing a high level of customer service (e.g. resolving queries quickly)"},{"$f":"VLOOKUP('Design #'!E823,Labels!$A:$B,2,FALSE)","v":"Preventing pollution of rivers or streams from sewage pipes"},{"$f":"VLOOKUP('Design #'!F823,Labels!$A:$B,2,FALSE)","v":"Providing a continuous supply of water that is safe to drink"}]
[55,13,{"$f":"VLOOKUP('Design #'!C824,Labels!$A:$B,2,FALSE)","v":"Ensuring that land owned by Yorkshire Water is conserved or enhanced to improve quality of the water it collects and reduce flooding"},{"$f":"VLOOKUP('Design #'!D824,Labels!$A:$B,2,FALSE)","v":"Preventing leaks from Yorkshire Water's pipe network"},{"$f":"VLOOKUP('Design #'!E824,Labels!$A:$B,2,FALSE)","v":"Reducing the release of untreated sewage mixed with rain water into rivers and streams during times of heavy rainfall"},{"$f":"VLOOKUP('Design #'!F824,Labels!$A:$B,2,FALSE)","v":"Keeping bills affordable for all"}]
[55,14,{"$f":"VLOOKUP('Design #'!C825,Labels!$A:$B,2,FALSE)","v":"Preventing the likelihood of restrictions on water use, including hosepipe bans, in a drought"},{"$f":"VLOOKUP('Design #'!D825,Labels!$A:$B,2,FALSE)","v":"Working with other organisations on common challenges (e.g. flooding) to share costs and expertise allowing for more and smarter investment to tackle problems"},{"$f":"VLOOKUP('Design #'!E825,Labels!$A:$B,2,FALSE)","v":"Reduce and offset carbon emissions to achieve a 'net zero' position by 2030 "},{"$f":"VLOOKUP('Design #'!F825,Labels!$A:$B,2,FALSE)","v":"Supporting customers to reduce their water use and prevent blockages through education and provision of free tools/devices"}]
[55,15,{"$f":"VLOOKUP('Design #'!C826,Labels!$A:$B,2,FALSE)","v":"Preventing sewage entering gardens and public spaces from pipe collapses or blockages"},{"$f":"VLOOKUP('Design #'!D826,Labels!$A:$B,2,FALSE)","v":"Providing appropriate sewer capacity and pumping capabilities to cope with widespread flood events"},{"$f":"VLOOKUP('Design #'!E826,Labels!$A:$B,2,FALSE)","v":"Preventing interruptions to the supply of water (e.g. planned works, burst pipes, leaks and outages) that cause problems ranging from low pressure to no water"},{"$f":"VLOOKUP('Design #'!F826,Labels!$A:$B,2,FALSE)","v":"Preventing sewage from entering homes and businesses "}]
[56,1,{"$f":"VLOOKUP('Design #'!C827,Labels!$A:$B,2,FALSE)","v":"Providing a continuous supply of water that is safe to drink"},{"$f":"VLOOKUP('Design #'!D827,Labels!$A:$B,2,FALSE)","v":"Providing financial help and support to those who are struggling to pay their water bill"},{"$f":"VLOOKUP('Design #'!E827,Labels!$A:$B,2,FALSE)","v":"Ensuring additional support is available to those who need it e.g.  providing bills in braille, providing bottled water during times of interruptions for thos​e who can't get to a shop (elderly, medical conditions etc.)"},{"$f":"VLOOKUP('Design #'!F827,Labels!$A:$B,2,FALSE)","v":"Preventing sewage from entering homes and businesses "}]
[56,2,{"$f":"VLOOKUP('Design #'!C828,Labels!$A:$B,2,FALSE)","v":"Preventing pollution of rivers or streams from sewage pipes"},{"$f":"VLOOKUP('Design #'!D828,Labels!$A:$B,2,FALSE)","v":"Supporting customers to reduce their water use and prevent blockages through education and provision of free tools/devices"},{"$f":"VLOOKUP('Design #'!E828,Labels!$A:$B,2,FALSE)","v":"Providing water that is aesthetically pleasing (clear and clean with no odour or unusual taste or colour)"},{"$f":"VLOOKUP('Design #'!F828,Labels!$A:$B,2,FALSE)","v":"Treating waste water to a high standard to ensure good quality water in Yorkshire's rivers and beaches"}]
[56,3,{"$f":"VLOOKUP('Design #'!C829,Labels!$A:$B,2,FALSE)","v":"Supporting customers to reduce their water use and prevent blockages through education and provision of free tools/devices"},{"$f":"VLOOKUP('Design #'!D829,Labels!$A:$B,2,FALSE)","v":"Reducing the release of untreated sewage mixed with rain water into rivers and streams during times of heavy rainfall"},{"$f":"VLOOKUP('Design #'!E829,Labels!$A:$B,2,FALSE)","v":"Preventing leaks from Yorkshire Water's pipe network"},{"$f":"VLOOKUP('Design #'!F829,Labels!$A:$B,2,FALSE)","v":"Preventing the likelihood of restrictions on water use, including hosepipe bans, in a drought"}]
[56,4,{"$f":"VLOOKUP('Design #'!C830,Labels!$A:$B,2,FALSE)","v":"Reducing the release of untreated sewage mixed with rain water into rivers and streams during times of heavy rainfall"},{"$f":"VLOOKUP('Design #'!D830,Labels!$A:$B,2,FALSE)","v":"Ensuring additional support is available to those who need it e.g.  providing bills in braille, providing bottled water during times of interruptions for thos​e who can't get to a shop (elderly, medical conditions etc.)"},{"$f":"VLOOKUP('Design #'!E830,Labels!$A:$B,2,FALSE)","v":"Treating waste water to a high standard to ensure good quality water in Yorkshire's rivers and beaches"},{"$f":"VLOOKUP('Design #'!F830,Labels!$A:$B,2,FALSE)","v":"Preventing sewage entering gardens and public spaces from pipe collapses or blockages"}]
[56,5,{"$f":"VLOOKUP('Design #'!C831,Labels!$A:$B,2,FALSE)","v":"Reduce and offset carbon emissions to achieve a 'net zero' position by 2030 "},{"$f":"VLOOKUP('Design #'!D831,Labels!$A:$B,2,FALSE)","v":"Working with other organisations on common challenges (e.g. flooding) to share costs and expertise allowing for more and smarter investment to tackle problems"},{"$f":"VLOOKUP('Design #'!E831,Labels!$A:$B,2,FALSE)","v":"Providing a continuous supply of water that is safe to drink"},{"$f":"VLOOKUP('Design #'!F831,Labels!$A:$B,2,FALSE)","v":"Providing appropriate sewer capacity and pumping capabilities to cope with widespread flood events"}]
[56,6,{"$f":"VLOOKUP('Design #'!C832,Labels!$A:$B,2,FALSE)","v":"Preventing sewage from entering homes and businesses "},{"$f":"VLOOKUP('Design #'!D832,Labels!$A:$B,2,FALSE)","v":"Supporting customers to reduce their water use and prevent blockages through education and provision of free tools/devices"},{"$f":"VLOOKUP('Design #'!E832,Labels!$A:$B,2,FALSE)","v":"Providing good and constant water pressure"},{"$f":"VLOOKUP('Design #'!F832,Labels!$A:$B,2,FALSE)","v":"Ensuring that land owned by Yorkshire Water is conserved or enhanced to improve quality of the water it collects and reduce flooding"}]
[56,7,{"$f":"VLOOKUP('Design #'!C833,Labels!$A:$B,2,FALSE)","v":"Providing appropriate sewer capacity and pumping capabilities to cope with widespread flood events"},{"$f":"VLOOKUP('Design #'!D833,Labels!$A:$B,2,FALSE)","v":"Preventing the likelihood of restrictions on water use, including hosepipe bans, in a drought"},{"$f":"VLOOKUP('Design #'!E833,Labels!$A:$B,2,FALSE)","v":"Providing a high level of customer service (e.g. resolving queries quickly)"},{"$f":"VLOOKUP('Design #'!F833,Labels!$A:$B,2,FALSE)","v":"Preventing pollution of rivers or streams from sewage pipes"}]
[56,8,{"$f":"VLOOKUP('Design #'!C834,Labels!$A:$B,2,FALSE)","v":"Ensuring additional support is available to those who need it e.g.  providing bills in braille, providing bottled water during times of interruptions for thos​e who can't get to a shop (elderly, medical conditions etc.)"},{"$f":"VLOOKUP('Design #'!D834,Labels!$A:$B,2,FALSE)","v":"Preventing interruptions to the supply of water (e.g. planned works, burst pipes, leaks and outages) that cause problems ranging from low pressure to no water"},{"$f":"VLOOKUP('Design #'!E834,Labels!$A:$B,2,FALSE)","v":"Reduce and offset carbon emissions to achieve a 'net zero' position by 2030 "},{"$f":"VLOOKUP('Design #'!F834,Labels!$A:$B,2,FALSE)","v":"Providing a high level of customer service (e.g. resolving queries quickly)"}]
[56,9,{"$f":"VLOOKUP('Design #'!C835,Labels!$A:$B,2,FALSE)","v":"Providing a high level of customer service (e.g. resolving queries quickly)"},{"$f":"VLOOKUP('Design #'!D835,Labels!$A:$B,2,FALSE)","v":"Preventing sewage from entering homes and businesses "},{"$f":"VLOOKUP('Design #'!E835,Labels!$A:$B,2,FALSE)","v":"Providing financial help and support to those who are struggling to pay their water bill"},{"$f":"VLOOKUP('Design #'!F835,Labels!$A:$B,2,FALSE)","v":"Preventing leaks from Yorkshire Water's pipe network"}]
[56,10,{"$f":"VLOOKUP('Design #'!C836,Labels!$A:$B,2,FALSE)","v":"Keeping bills affordable for all"},{"$f":"VLOOKUP('Design #'!D836,Labels!$A:$B,2,FALSE)","v":"Preventing leaks from Yorkshire Water's pipe network"},{"$f":"VLOOKUP('Design #'!E836,Labels!$A:$B,2,FALSE)","v":"Working with other organisations on common challenges (e.g. flooding) to share costs and expertise allowing for more and smarter investment to tackle problems"},{"$f":"VLOOKUP('Design #'!F836,Labels!$A:$B,2,FALSE)","v":"Preventing the likelihood of restrictions on water use, including hosepipe bans, in a drought"}]
[56,11,{"$f":"VLOOKUP('Design #'!C837,Labels!$A:$B,2,FALSE)","v":"Providing a continuous supply of water that is safe to drink"},{"$f":"VLOOKUP('Design #'!D837,Labels!$A:$B,2,FALSE)","v":"Providing water that is aesthetically pleasing (clear and clean with no odour or unusual taste or colour)"},{"$f":"VLOOKUP('Design #'!E837,Labels!$A:$B,2,FALSE)","v":"Preventing the likelihood of restrictions on water use, including hosepipe bans, in a drought"},{"$f":"VLOOKUP('Design #'!F837,Labels!$A:$B,2,FALSE)","v":"Preventing interruptions to the supply of water (e.g. planned works, burst pipes, leaks and outages) that cause problems ranging from low pressure to no water"}]
[56,12,{"$f":"VLOOKUP('Design #'!C838,Labels!$A:$B,2,FALSE)","v":"Preventing pollution of rivers or streams from sewage pipes"},{"$f":"VLOOKUP('Design #'!D838,Labels!$A:$B,2,FALSE)","v":"Keeping bills affordable for all"},{"$f":"VLOOKUP('Design #'!E838,Labels!$A:$B,2,FALSE)","v":"Preventing sewage entering gardens and public spaces from pipe collapses or blockages"},{"$f":"VLOOKUP('Design #'!F838,Labels!$A:$B,2,FALSE)","v":"Preventing the likelihood of restrictions on water use, including hosepipe bans, in a drought"}]
[56,13,{"$f":"VLOOKUP('Design #'!C839,Labels!$A:$B,2,FALSE)","v":"Treating waste water to a high standard to ensure good quality water in Yorkshire's rivers and beaches"},{"$f":"VLOOKUP('Design #'!D839,Labels!$A:$B,2,FALSE)","v":"Preventing interruptions to the supply of water (e.g. planned works, burst pipes, leaks and outages) that cause problems ranging from low pressure to no water"},{"$f":"VLOOKUP('Design #'!E839,Labels!$A:$B,2,FALSE)","v":"Preventing sewage entering gardens and public spaces from pipe collapses or blockages"},{"$f":"VLOOKUP('Design #'!F839,Labels!$A:$B,2,FALSE)","v":"Working with other organisations on common challenges (e.g. flooding) to share costs and expertise allowing for more and smarter investment to tackle problems"}]
[56,14,{"$f":"VLOOKUP('Design #'!C840,Labels!$A:$B,2,FALSE)","v":"Providing good and constant water pressure"},{"$f":"VLOOKUP('Design #'!D840,Labels!$A:$B,2,FALSE)","v":"Providing financial help and support to those who are struggling to pay their water bill"},{"$f":"VLOOKUP('Design #'!E840,Labels!$A:$B,2,FALSE)","v":"Providing appropriate sewer capacity and pumping capabilities to cope with widespread flood events"},{"$f":"VLOOKUP('Design #'!F840,Labels!$A:$B,2,FALSE)","v":"Reducing the release of untreated sewage mixed with rain water into rivers and streams during times of heavy rainfall"}]
[56,15,{"$f":"VLOOKUP('Design #'!C841,Labels!$A:$B,2,FALSE)","v":"Providing water that is aesthetically pleasing (clear and clean with no odour or unusual taste or colour)"},{"$f":"VLOOKUP('Design #'!D841,Labels!$A:$B,2,FALSE)","v":"Providing good and constant water pressure"},{"$f":"VLOOKUP('Design #'!E841,Labels!$A:$B,2,FALSE)","v":"Keeping bills affordable for all"},{"$f":"VLOOKUP('Design #'!F841,Labels!$A:$B,2,FALSE)","v":"Reduce and offset carbon emissions to achieve a 'net zero' position by 2030 "}]
[57,1,{"$f":"VLOOKUP('Design #'!C842,Labels!$A:$B,2,FALSE)","v":"Preventing interruptions to the supply of water (e.g. planned works, burst pipes, leaks and outages) that cause problems ranging from low pressure to no water"},{"$f":"VLOOKUP('Design #'!D842,Labels!$A:$B,2,FALSE)","v":"Keeping bills affordable for all"},{"$f":"VLOOKUP('Design #'!E842,Labels!$A:$B,2,FALSE)","v":"Providing financial help and support to those who are struggling to pay their water bill"},{"$f":"VLOOKUP('Design #'!F842,Labels!$A:$B,2,FALSE)","v":"Providing water that is aesthetically pleasing (clear and clean with no odour or unusual taste or colour)"}]
[57,2,{"$f":"VLOOKUP('Design #'!C843,Labels!$A:$B,2,FALSE)","v":"Keeping bills affordable for all"},{"$f":"VLOOKUP('Design #'!D843,Labels!$A:$B,2,FALSE)","v":"Ensuring additional support is available to those who need it e.g.  providing bills in braille, providing bottled water during times of interruptions for thos​e who can't get to a shop (elderly, medical conditions etc.)"},{"$f":"VLOOKUP('Design #'!E843,Labels!$A:$B,2,FALSE)","v":"Preventing sewage from entering homes and businesses "},{"$f":"VLOOKUP('Design #'!F843,Labels!$A:$B,2,FALSE)","v":"Preventing pollution of rivers or streams from sewage pipes"}]
[57,3,{"$f":"VLOOKUP('Design #'!C844,Labels!$A:$B,2,FALSE)","v":"Preventing pollution of rivers or streams from sewage pipes"},{"$f":"VLOOKUP('Design #'!D844,Labels!$A:$B,2,FALSE)","v":"Ensuring that land owned by Yorkshire Water is conserved or enhanced to improve quality of the water it collects and reduce flooding"},{"$f":"VLOOKUP('Design #'!E844,Labels!$A:$B,2,FALSE)","v":"Supporting customers to reduce their water use and prevent blockages through education and provision of free tools/devices"},{"$f":"VLOOKUP('Design #'!F844,Labels!$A:$B,2,FALSE)","v":"Reduce and offset carbon emissions to achieve a 'net zero' position by 2030 "}]
[57,4,{"$f":"VLOOKUP('Design #'!C845,Labels!$A:$B,2,FALSE)","v":"Providing financial help and support to those who are struggling to pay their water bill"},{"$f":"VLOOKUP('Design #'!D845,Labels!$A:$B,2,FALSE)","v":"Working with other organisations on common challenges (e.g. flooding) to share costs and expertise allowing for more and smarter investment to tackle problems"},{"$f":"VLOOKUP('Design #'!E845,Labels!$A:$B,2,FALSE)","v":"Ensuring that land owned by Yorkshire Water is conserved or enhanced to improve quality of the water it collects and reduce flooding"},{"$f":"VLOOKUP('Design #'!F845,Labels!$A:$B,2,FALSE)","v":"Treating waste water to a high standard to ensure good quality water in Yorkshire's rivers and beaches"}]
[57,5,{"$f":"VLOOKUP('Design #'!C846,Labels!$A:$B,2,FALSE)","v":"Preventing sewage from entering homes and businesses "},{"$f":"VLOOKUP('Design #'!D846,Labels!$A:$B,2,FALSE)","v":"Reduce and offset carbon emissions to achieve a 'net zero' position by 2030 "},{"$f":"VLOOKUP('Design #'!E846,Labels!$A:$B,2,FALSE)","v":"Providing water that is aesthetically pleasing (clear and clean with no odour or unusual taste or colour)"},{"$f":"VLOOKUP('Design #'!F846,Labels!$A:$B,2,FALSE)","v":"Reducing the release of untreated sewage mixed with rain water into rivers and streams during times of heavy rainfall"}]
[57,6,{"$f":"VLOOKUP('Design #'!C847,Labels!$A:$B,2,FALSE)","v":"Preventing the likelihood of restrictions on water use, including hosepipe bans, in a drought"},{"$f":"VLOOKUP('Design #'!D847,Labels!$A:$B,2,FALSE)","v":"Preventing sewage entering gardens and public spaces from pipe collapses or blockages"},{"$f":"VLOOKUP('Design #'!E847,Labels!$A:$B,2,FALSE)","v":"Reducing the release of untreated sewage mixed with rain water into rivers and streams during times of heavy rainfall"},{"$f":"VLOOKUP('Design #'!F847,Labels!$A:$B,2,FALSE)","v":"Providing financial help and support to those who are struggling to pay their water bill"}]
[57,7,{"$f":"VLOOKUP('Design #'!C848,Labels!$A:$B,2,FALSE)","v":"Preventing sewage entering gardens and public spaces from pipe collapses or blockages"},{"$f":"VLOOKUP('Design #'!D848,Labels!$A:$B,2,FALSE)","v":"Providing a continuous supply of water that is safe to drink"},{"$f":"VLOOKUP('Design #'!E848,Labels!$A:$B,2,FALSE)","v":"Supporting customers to reduce their water use and prevent blockages through education and provision of free tools/devices"},{"$f":"VLOOKUP('Design #'!F848,Labels!$A:$B,2,FALSE)","v":"Providing a high level of customer service (e.g. resolving queries quickly)"}]
[57,8,{"$f":"VLOOKUP('Design #'!C849,Labels!$A:$B,2,FALSE)","v":"Preventing leaks from Yorkshire Water's pipe network"},{"$f":"VLOOKUP('Design #'!D849,Labels!$A:$B,2,FALSE)","v":"Preventing pollution of rivers or streams from sewage pipes"},{"$f":"VLOOKUP('Design #'!E849,Labels!$A:$B,2,FALSE)","v":"Preventing interruptions to the supply of water (e.g. planned works, burst pipes, leaks and outages) that cause problems ranging from low pressure to no water"},{"$f":"VLOOKUP('Design #'!F849,Labels!$A:$B,2,FALSE)","v":"Providing good and constant water pressure"}]
[57,9,{"$f":"VLOOKUP('Design #'!C850,Labels!$A:$B,2,FALSE)","v":"Providing good and constant water pressure"},{"$f":"VLOOKUP('Design #'!D850,Labels!$A:$B,2,FALSE)","v":"Reducing the release of untreated sewage mixed with rain water into rivers and streams during times of heavy rainfall"},{"$f":"VLOOKUP('Design #'!E850,Labels!$A:$B,2,FALSE)","v":"Working with other organisations on common challenges (e.g. flooding) to share costs and expertise allowing for more and smarter investment to tackle problems"},{"$f":"VLOOKUP('Design #'!F850,Labels!$A:$B,2,FALSE)","v":"Providing a high level of customer service (e.g. resolving queries quickly)"}]
[57,10,{"$f":"VLOOKUP('Design #'!C851,Labels!$A:$B,2,FALSE)","v":"Working with other organisations on common challenges (e.g. flooding) to share costs and expertise allowing for more and smarter investment to tackle problems"},{"$f":"VLOOKUP('Design #'!D851,Labels!$A:$B,2,FALSE)","v":"Supporting customers to reduce their water use and prevent blockages through education and provision of free tools/devices"},{"$f":"VLOOKUP('Design #'!E851,Labels!$A:$B,2,FALSE)","v":"Ensuring additional support is available to those who need it e.g.  providing bills in braille, providing bottled water during times of interruptions for thos​e who can't get to a shop (elderly, medical conditions etc.)"},{"$f":"VLOOKUP('Design #'!F851,Labels!$A:$B,2,FALSE)","v":"Providing appropriate sewer capacity and pumping capabilities to cope with widespread flood events"}]
[57,11,{"$f":"VLOOKUP('Design #'!C852,Labels!$A:$B,2,FALSE)","v":"Preventing interruptions to the supply of water (e.g. planned works, burst pipes, leaks and outages) that cause problems ranging from low pressure to no water"},{"$f":"VLOOKUP('Design #'!D852,Labels!$A:$B,2,FALSE)","v":"Providing a continuous supply of water that is safe to drink"},{"$f":"VLOOKUP('Design #'!E852,Labels!$A:$B,2,FALSE)","v":"Providing appropriate sewer capacity and pumping capabilities to cope with widespread flood events"},{"$f":"VLOOKUP('Design #'!F852,Labels!$A:$B,2,FALSE)","v":"Preventing leaks from Yorkshire Water's pipe network"}]
[57,12,{"$f":"VLOOKUP('Design #'!C853,Labels!$A:$B,2,FALSE)","v":"Providing water that is aesthetically pleasing (clear and clean with no odour or unusual taste or colour)"},{"$f":"VLOOKUP('Design #'!D853,Labels!$A:$B,2,FALSE)","v":"Ensuring that land owned by Yorkshire Water is conserved or enhanced to improve quality of the water it collects and reduce flooding"},{"$f":"VLOOKUP('Design #'!E853,Labels!$A:$B,2,FALSE)","v":"Providing good and constant water pressure"},{"$f":"VLOOKUP('Design #'!F853,Labels!$A:$B,2,FALSE)","v":"Preventing sewage entering gardens and public spaces from pipe collapses or blockages"}]
[57,13,{"$f":"VLOOKUP('Design #'!C854,Labels!$A:$B,2,FALSE)","v":"Providing appropriate sewer capacity and pumping capabilities to cope with widespread flood events"},{"$f":"VLOOKUP('Design #'!D854,Labels!$A:$B,2,FALSE)","v":"Keeping bills affordable for all"},{"$f":"VLOOKUP('Design #'!E854,Labels!$A:$B,2,FALSE)","v":"Ensuring that land owned by Yorkshire Water is conserved or enhanced to improve quality of the water it collects and reduce flooding"},{"$f":"VLOOKUP('Design #'!F854,Labels!$A:$B,2,FALSE)","v":"Ensuring additional support is available to those who need it e.g.  providing bills in braille, providing bottled water during times of interruptions for thos​e who can't get to a shop (elderly, medical conditions etc.)"}]
[57,14,{"$f":"VLOOKUP('Design #'!C855,Labels!$A:$B,2,FALSE)","v":"Ensuring additional support is available to those who need it e.g.  providing bills in braille, providing bottled water during times of interruptions for thos​e who can't get to a shop (elderly, medical conditions etc.)"},{"$f":"VLOOKUP('Design #'!D855,Labels!$A:$B,2,FALSE)","v":"Preventing leaks from Yorkshire Water's pipe network"},{"$f":"VLOOKUP('Design #'!E855,Labels!$A:$B,2,FALSE)","v":"Treating waste water to a high standard to ensure good quality water in Yorkshire's rivers and beaches"},{"$f":"VLOOKUP('Design #'!F855,Labels!$A:$B,2,FALSE)","v":"Preventing sewage from entering homes and businesses "}]
[57,15,{"$f":"VLOOKUP('Design #'!C856,Labels!$A:$B,2,FALSE)","v":"Reduce and offset carbon emissions to achieve a 'net zero' position by 2030 "},{"$f":"VLOOKUP('Design #'!D856,Labels!$A:$B,2,FALSE)","v":"Providing a continuous supply of water that is safe to drink"},{"$f":"VLOOKUP('Design #'!E856,Labels!$A:$B,2,FALSE)","v":"Preventing the likelihood of restrictions on water use, including hosepipe bans, in a drought"},{"$f":"VLOOKUP('Design #'!F856,Labels!$A:$B,2,FALSE)","v":"Providing good and constant water pressure"}]
[58,1,{"$f":"VLOOKUP('Design #'!C857,Labels!$A:$B,2,FALSE)","v":"Providing appropriate sewer capacity and pumping capabilities to cope with widespread flood events"},{"$f":"VLOOKUP('Design #'!D857,Labels!$A:$B,2,FALSE)","v":"Preventing sewage from entering homes and businesses "},{"$f":"VLOOKUP('Design #'!E857,Labels!$A:$B,2,FALSE)","v":"Treating waste water to a high standard to ensure good quality water in Yorkshire's rivers and beaches"},{"$f":"VLOOKUP('Design #'!F857,Labels!$A:$B,2,FALSE)","v":"Preventing the likelihood of restrictions on water use, including hosepipe bans, in a drought"}]
[58,2,{"$f":"VLOOKUP('Design #'!C858,Labels!$A:$B,2,FALSE)","v":"Providing a high level of customer service (e.g. resolving queries quickly)"},{"$f":"VLOOKUP('Design #'!D858,Labels!$A:$B,2,FALSE)","v":"Preventing sewage entering gardens and public spaces from pipe collapses or blockages"},{"$f":"VLOOKUP('Design #'!E858,Labels!$A:$B,2,FALSE)","v":"Preventing leaks from Yorkshire Water's pipe network"},{"$f":"VLOOKUP('Design #'!F858,Labels!$A:$B,2,FALSE)","v":"Reduce and offset carbon emissions to achieve a 'net zero' position by 2030 "}]
[58,3,{"$f":"VLOOKUP('Design #'!C859,Labels!$A:$B,2,FALSE)","v":"Treating waste water to a high standard to ensure good quality water in Yorkshire's rivers and beaches"},{"$f":"VLOOKUP('Design #'!D859,Labels!$A:$B,2,FALSE)","v":"Providing a high level of customer service (e.g. resolving queries quickly)"},{"$f":"VLOOKUP('Design #'!E859,Labels!$A:$B,2,FALSE)","v":"Providing water that is aesthetically pleasing (clear and clean with no odour or unusual taste or colour)"},{"$f":"VLOOKUP('Design #'!F859,Labels!$A:$B,2,FALSE)","v":"Providing good and constant water pressure"}]
[58,4,{"$f":"VLOOKUP('Design #'!C860,Labels!$A:$B,2,FALSE)","v":"Providing financial help and support to those who are struggling to pay their water bill"},{"$f":"VLOOKUP('Design #'!D860,Labels!$A:$B,2,FALSE)","v":"Treating waste water to a high standard to ensure good quality water in Yorkshire's rivers and beaches"},{"$f":"VLOOKUP('Design #'!E860,Labels!$A:$B,2,FALSE)","v":"Preventing pollution of rivers or streams from sewage pipes"},{"$f":"VLOOKUP('Design #'!F860,Labels!$A:$B,2,FALSE)","v":"Ensuring additional support is available to those who need it e.g.  providing bills in braille, providing bottled water during times of interruptions for thos​e who can't get to a shop (elderly, medical conditions etc.)"}]
[58,5,{"$f":"VLOOKUP('Design #'!C861,Labels!$A:$B,2,FALSE)","v":"Providing financial help and support to those who are struggling to pay their water bill"},{"$f":"VLOOKUP('Design #'!D861,Labels!$A:$B,2,FALSE)","v":"Providing appropriate sewer capacity and pumping capabilities to cope with widespread flood events"},{"$f":"VLOOKUP('Design #'!E861,Labels!$A:$B,2,FALSE)","v":"Reduce and offset carbon emissions to achieve a 'net zero' position by 2030 "},{"$f":"VLOOKUP('Design #'!F861,Labels!$A:$B,2,FALSE)","v":"Preventing pollution of rivers or streams from sewage pipes"}]
[58,6,{"$f":"VLOOKUP('Design #'!C862,Labels!$A:$B,2,FALSE)","v":"Ensuring that land owned by Yorkshire Water is conserved or enhanced to improve quality of the water it collects and reduce flooding"},{"$f":"VLOOKUP('Design #'!D862,Labels!$A:$B,2,FALSE)","v":"Preventing leaks from Yorkshire Water's pipe network"},{"$f":"VLOOKUP('Design #'!E862,Labels!$A:$B,2,FALSE)","v":"Keeping bills affordable for all"},{"$f":"VLOOKUP('Design #'!F862,Labels!$A:$B,2,FALSE)","v":"Working with other organisations on common challenges (e.g. flooding) to share costs and expertise allowing for more and smarter investment to tackle problems"}]
[58,7,{"$f":"VLOOKUP('Design #'!C863,Labels!$A:$B,2,FALSE)","v":"Providing good and constant water pressure"},{"$f":"VLOOKUP('Design #'!D863,Labels!$A:$B,2,FALSE)","v":"Providing appropriate sewer capacity and pumping capabilities to cope with widespread flood events"},{"$f":"VLOOKUP('Design #'!E863,Labels!$A:$B,2,FALSE)","v":"Supporting customers to reduce their water use and prevent blockages through education and provision of free tools/devices"},{"$f":"VLOOKUP('Design #'!F863,Labels!$A:$B,2,FALSE)","v":"Preventing interruptions to the supply of water (e.g. planned works, burst pipes, leaks and outages) that cause problems ranging from low pressure to no water"}]
[58,8,{"$f":"VLOOKUP('Design #'!C864,Labels!$A:$B,2,FALSE)","v":"Reducing the release of untreated sewage mixed with rain water into rivers and streams during times of heavy rainfall"},{"$f":"VLOOKUP('Design #'!D864,Labels!$A:$B,2,FALSE)","v":"Ensuring additional support is available to those who need it e.g.  providing bills in braille, providing bottled water during times of interruptions for thos​e who can't get to a shop (elderly, medical conditions etc.)"},{"$f":"VLOOKUP('Design #'!E864,Labels!$A:$B,2,FALSE)","v":"Providing a continuous supply of water that is safe to drink"},{"$f":"VLOOKUP('Design #'!F864,Labels!$A:$B,2,FALSE)","v":"Preventing interruptions to the supply of water (e.g. planned works, burst pipes, leaks and outages) that cause problems ranging from low pressure to no water"}]
[58,9,{"$f":"VLOOKUP('Design #'!C865,Labels!$A:$B,2,FALSE)","v":"Reduce and offset carbon emissions to achieve a 'net zero' position by 2030 "},{"$f":"VLOOKUP('Design #'!D865,Labels!$A:$B,2,FALSE)","v":"Treating waste water to a high standard to ensure good quality water in Yorkshire's rivers and beaches"},{"$f":"VLOOKUP('Design #'!E865,Labels!$A:$B,2,FALSE)","v":"Preventing leaks from Yorkshire Water's pipe network"},{"$f":"VLOOKUP('Design #'!F865,Labels!$A:$B,2,FALSE)","v":"Preventing sewage entering gardens and public spaces from pipe collapses or blockages"}]
[58,10,{"$f":"VLOOKUP('Design #'!C866,Labels!$A:$B,2,FALSE)","v":"Providing a continuous supply of water that is safe to drink"},{"$f":"VLOOKUP('Design #'!D866,Labels!$A:$B,2,FALSE)","v":"Reducing the release of untreated sewage mixed with rain water into rivers and streams during times of heavy rainfall"},{"$f":"VLOOKUP('Design #'!E866,Labels!$A:$B,2,FALSE)","v":"Providing financial help and support to those who are struggling to pay their water bill"},{"$f":"VLOOKUP('Design #'!F866,Labels!$A:$B,2,FALSE)","v":"Supporting customers to reduce their water use and prevent blockages through education and provision of free tools/devices"}]
[58,11,{"$f":"VLOOKUP('Design #'!C867,Labels!$A:$B,2,FALSE)","v":"Preventing pollution of rivers or streams from sewage pipes"},{"$f":"VLOOKUP('Design #'!D867,Labels!$A:$B,2,FALSE)","v":"Preventing the likelihood of restrictions on water use, including hosepipe bans, in a drought"},{"$f":"VLOOKUP('Design #'!E867,Labels!$A:$B,2,FALSE)","v":"Reducing the release of untreated sewage mixed with rain water into rivers and streams during times of heavy rainfall"},{"$f":"VLOOKUP('Design #'!F867,Labels!$A:$B,2,FALSE)","v":"Ensuring that land owned by Yorkshire Water is conserved or enhanced to improve quality of the water it collects and reduce flooding"}]
[58,12,{"$f":"VLOOKUP('Design #'!C868,Labels!$A:$B,2,FALSE)","v":"Keeping bills affordable for all"},{"$f":"VLOOKUP('Design #'!D868,Labels!$A:$B,2,FALSE)","v":"Preventing sewage from entering homes and businesses "},{"$f":"VLOOKUP('Design #'!E868,Labels!$A:$B,2,FALSE)","v":"Providing a high level of customer service (e.g. resolving queries quickly)"},{"$f":"VLOOKUP('Design #'!F868,Labels!$A:$B,2,FALSE)","v":"Providing a continuous supply of water that is safe to drink"}]
[58,13,{"$f":"VLOOKUP('Design #'!C869,Labels!$A:$B,2,FALSE)","v":"Treating waste water to a high standard to ensure good quality water in Yorkshire's rivers and beaches"},{"$f":"VLOOKUP('Design #'!D869,Labels!$A:$B,2,FALSE)","v":"Supporting customers to reduce their water use and prevent blockages through education and provision of free tools/devices"},{"$f":"VLOOKUP('Design #'!E869,Labels!$A:$B,2,FALSE)","v":"Providing a high level of customer service (e.g. resolving queries quickly)"},{"$f":"VLOOKUP('Design #'!F869,Labels!$A:$B,2,FALSE)","v":"Keeping bills affordable for all"}]
[58,14,{"$f":"VLOOKUP('Design #'!C870,Labels!$A:$B,2,FALSE)","v":"Preventing the likelihood of restrictions on water use, including hosepipe bans, in a drought"},{"$f":"VLOOKUP('Design #'!D870,Labels!$A:$B,2,FALSE)","v":"Providing water that is aesthetically pleasing (clear and clean with no odour or unusual taste or colour)"},{"$f":"VLOOKUP('Design #'!E870,Labels!$A:$B,2,FALSE)","v":"Preventing sewage entering gardens and public spaces from pipe collapses or blockages"},{"$f":"VLOOKUP('Design #'!F870,Labels!$A:$B,2,FALSE)","v":"Ensuring that land owned by Yorkshire Water is conserved or enhanced to improve quality of the water it collects and reduce flooding"}]
[58,15,{"$f":"VLOOKUP('Design #'!C871,Labels!$A:$B,2,FALSE)","v":"Preventing sewage from entering homes and businesses "},{"$f":"VLOOKUP('Design #'!D871,Labels!$A:$B,2,FALSE)","v":"Providing water that is aesthetically pleasing (clear and clean with no odour or unusual taste or colour)"},{"$f":"VLOOKUP('Design #'!E871,Labels!$A:$B,2,FALSE)","v":"Preventing interruptions to the supply of water (e.g. planned works, burst pipes, leaks and outages) that cause problems ranging from low pressure to no water"},{"$f":"VLOOKUP('Design #'!F871,Labels!$A:$B,2,FALSE)","v":"Working with other organisations on common challenges (e.g. flooding) to share costs and expertise allowing for more and smarter investment to tackle problems"}]
[59,1,{"$f":"VLOOKUP('Design #'!C872,Labels!$A:$B,2,FALSE)","v":"Preventing leaks from Yorkshire Water's pipe network"},{"$f":"VLOOKUP('Design #'!D872,Labels!$A:$B,2,FALSE)","v":"Ensuring additional support is available to those who need it e.g.  providing bills in braille, providing bottled water during times of interruptions for thos​e who can't get to a shop (elderly, medical conditions etc.)"},{"$f":"VLOOKUP('Design #'!E872,Labels!$A:$B,2,FALSE)","v":"Providing a continuous supply of water that is safe to drink"},{"$f":"VLOOKUP('Design #'!F872,Labels!$A:$B,2,FALSE)","v":"Providing good and constant water pressure"}]
[59,2,{"$f":"VLOOKUP('Design #'!C873,Labels!$A:$B,2,FALSE)","v":"Supporting customers to reduce their water use and prevent blockages through education and provision of free tools/devices"},{"$f":"VLOOKUP('Design #'!D873,Labels!$A:$B,2,FALSE)","v":"Preventing sewage from entering homes and businesses "},{"$f":"VLOOKUP('Design #'!E873,Labels!$A:$B,2,FALSE)","v":"Providing a continuous supply of water that is safe to drink"},{"$f":"VLOOKUP('Design #'!F873,Labels!$A:$B,2,FALSE)","v":"Preventing leaks from Yorkshire Water's pipe network"}]
[59,3,{"$f":"VLOOKUP('Design #'!C874,Labels!$A:$B,2,FALSE)","v":"Providing water that is aesthetically pleasing (clear and clean with no odour or unusual taste or colour)"},{"$f":"VLOOKUP('Design #'!D874,Labels!$A:$B,2,FALSE)","v":"Preventing pollution of rivers or streams from sewage pipes"},{"$f":"VLOOKUP('Design #'!E874,Labels!$A:$B,2,FALSE)","v":"Providing appropriate sewer capacity and pumping capabilities to cope with widespread flood events"},{"$f":"VLOOKUP('Design #'!F874,Labels!$A:$B,2,FALSE)","v":"Working with other organisations on common challenges (e.g. flooding) to share costs and expertise allowing for more and smarter investment to tackle problems"}]
[59,4,{"$f":"VLOOKUP('Design #'!C875,Labels!$A:$B,2,FALSE)","v":"Providing a high level of customer service (e.g. resolving queries quickly)"},{"$f":"VLOOKUP('Design #'!D875,Labels!$A:$B,2,FALSE)","v":"Providing financial help and support to those who are struggling to pay their water bill"},{"$f":"VLOOKUP('Design #'!E875,Labels!$A:$B,2,FALSE)","v":"Preventing the likelihood of restrictions on water use, including hosepipe bans, in a drought"},{"$f":"VLOOKUP('Design #'!F875,Labels!$A:$B,2,FALSE)","v":"Supporting customers to reduce their water use and prevent blockages through education and provision of free tools/devices"}]
[59,5,{"$f":"VLOOKUP('Design #'!C876,Labels!$A:$B,2,FALSE)","v":"Ensuring that land owned by Yorkshire Water is conserved or enhanced to improve quality of the water it collects and reduce flooding"},{"$f":"VLOOKUP('Design #'!D876,Labels!$A:$B,2,FALSE)","v":"Providing water that is aesthetically pleasing (clear and clean with no odour or unusual taste or colour)"},{"$f":"VLOOKUP('Design #'!E876,Labels!$A:$B,2,FALSE)","v":"Preventing sewage from entering homes and businesses "},{"$f":"VLOOKUP('Design #'!F876,Labels!$A:$B,2,FALSE)","v":"Providing appropriate sewer capacity and pumping capabilities to cope with widespread flood events"}]
[59,6,{"$f":"VLOOKUP('Design #'!C877,Labels!$A:$B,2,FALSE)","v":"Working with other organisations on common challenges (e.g. flooding) to share costs and expertise allowing for more and smarter investment to tackle problems"},{"$f":"VLOOKUP('Design #'!D877,Labels!$A:$B,2,FALSE)","v":"Preventing sewage entering gardens and public spaces from pipe collapses or blockages"},{"$f":"VLOOKUP('Design #'!E877,Labels!$A:$B,2,FALSE)","v":"Providing appropriate sewer capacity and pumping capabilities to cope with widespread flood events"},{"$f":"VLOOKUP('Design #'!F877,Labels!$A:$B,2,FALSE)","v":"Preventing sewage from entering homes and businesses "}]
[59,7,{"$f":"VLOOKUP('Design #'!C878,Labels!$A:$B,2,FALSE)","v":"Reducing the release of untreated sewage mixed with rain water into rivers and streams during times of heavy rainfall"},{"$f":"VLOOKUP('Design #'!D878,Labels!$A:$B,2,FALSE)","v":"Treating waste water to a high standard to ensure good quality water in Yorkshire's rivers and beaches"},{"$f":"VLOOKUP('Design #'!E878,Labels!$A:$B,2,FALSE)","v":"Preventing leaks from Yorkshire Water's pipe network"},{"$f":"VLOOKUP('Design #'!F878,Labels!$A:$B,2,FALSE)","v":"Providing water that is aesthetically pleasing (clear and clean with no odour or unusual taste or colour)"}]
[59,8,{"$f":"VLOOKUP('Design #'!C879,Labels!$A:$B,2,FALSE)","v":"Ensuring that land owned by Yorkshire Water is conserved or enhanced to improve quality of the water it collects and reduce flooding"},{"$f":"VLOOKUP('Design #'!D879,Labels!$A:$B,2,FALSE)","v":"Providing good and constant water pressure"},{"$f":"VLOOKUP('Design #'!E879,Labels!$A:$B,2,FALSE)","v":"Preventing pollution of rivers or streams from sewage pipes"},{"$f":"VLOOKUP('Design #'!F879,Labels!$A:$B,2,FALSE)","v":"Providing a continuous supply of water that is safe to drink"}]
[59,9,{"$f":"VLOOKUP('Design #'!C880,Labels!$A:$B,2,FALSE)","v":"Ensuring additional support is available to those who need it e.g.  providing bills in braille, providing bottled water during times of interruptions for thos​e who can't get to a shop (elderly, medical conditions etc.)"},{"$f":"VLOOKUP('Design #'!D880,Labels!$A:$B,2,FALSE)","v":"Working with other organisations on common challenges (e.g. flooding) to share costs and expertise allowing for more and smarter investment to tackle problems"},{"$f":"VLOOKUP('Design #'!E880,Labels!$A:$B,2,FALSE)","v":"Preventing the likelihood of restrictions on water use, including hosepipe bans, in a drought"},{"$f":"VLOOKUP('Design #'!F880,Labels!$A:$B,2,FALSE)","v":"Reduce and offset carbon emissions to achieve a 'net zero' position by 2030 "}]
[59,10,{"$f":"VLOOKUP('Design #'!C881,Labels!$A:$B,2,FALSE)","v":"Providing a high level of customer service (e.g. resolving queries quickly)"},{"$f":"VLOOKUP('Design #'!D881,Labels!$A:$B,2,FALSE)","v":"Ensuring that land owned by Yorkshire Water is conserved or enhanced to improve quality of the water it collects and reduce flooding"},{"$f":"VLOOKUP('Design #'!E881,Labels!$A:$B,2,FALSE)","v":"Preventing interruptions to the supply of water (e.g. planned works, burst pipes, leaks and outages) that cause problems ranging from low pressure to no water"},{"$f":"VLOOKUP('Design #'!F881,Labels!$A:$B,2,FALSE)","v":"Reducing the release of untreated sewage mixed with rain water into rivers and streams during times of heavy rainfall"}]
[59,11,{"$f":"VLOOKUP('Design #'!C882,Labels!$A:$B,2,FALSE)","v":"Preventing interruptions to the supply of water (e.g. planned works, burst pipes, leaks and outages) that cause problems ranging from low pressure to no water"},{"$f":"VLOOKUP('Design #'!D882,Labels!$A:$B,2,FALSE)","v":"Reduce and offset carbon emissions to achieve a 'net zero' position by 2030 "},{"$f":"VLOOKUP('Design #'!E882,Labels!$A:$B,2,FALSE)","v":"Ensuring additional support is available to those who need it e.g.  providing bills in braille, providing bottled water during times of interruptions for thos​e who can't get to a shop (elderly, medical conditions etc.)"},{"$f":"VLOOKUP('Design #'!F882,Labels!$A:$B,2,FALSE)","v":"Supporting customers to reduce their water use and prevent blockages through education and provision of free tools/devices"}]
[59,12,{"$f":"VLOOKUP('Design #'!C883,Labels!$A:$B,2,FALSE)","v":"Preventing sewage entering gardens and public spaces from pipe collapses or blockages"},{"$f":"VLOOKUP('Design #'!D883,Labels!$A:$B,2,FALSE)","v":"Keeping bills affordable for all"},{"$f":"VLOOKUP('Design #'!E883,Labels!$A:$B,2,FALSE)","v":"Providing good and constant water pressure"},{"$f":"VLOOKUP('Design #'!F883,Labels!$A:$B,2,FALSE)","v":"Providing financial help and support to those who are struggling to pay their water bill"}]
[59,13,{"$f":"VLOOKUP('Design #'!C884,Labels!$A:$B,2,FALSE)","v":"Preventing pollution of rivers or streams from sewage pipes"},{"$f":"VLOOKUP('Design #'!D884,Labels!$A:$B,2,FALSE)","v":"Preventing interruptions to the supply of water (e.g. planned works, burst pipes, leaks and outages) that cause problems ranging from low pressure to no water"},{"$f":"VLOOKUP('Design #'!E884,Labels!$A:$B,2,FALSE)","v":"Preventing sewage entering gardens and public spaces from pipe collapses or blockages"},{"$f":"VLOOKUP('Design #'!F884,Labels!$A:$B,2,FALSE)","v":"Treating waste water to a high standard to ensure good quality water in Yorkshire's rivers and beaches"}]
[59,14,{"$f":"VLOOKUP('Design #'!C885,Labels!$A:$B,2,FALSE)","v":"Reducing the release of untreated sewage mixed with rain water into rivers and streams during times of heavy rainfall"},{"$f":"VLOOKUP('Design #'!D885,Labels!$A:$B,2,FALSE)","v":"Reduce and offset carbon emissions to achieve a 'net zero' position by 2030 "},{"$f":"VLOOKUP('Design #'!E885,Labels!$A:$B,2,FALSE)","v":"Working with other organisations on common challenges (e.g. flooding) to share costs and expertise allowing for more and smarter investment to tackle problems"},{"$f":"VLOOKUP('Design #'!F885,Labels!$A:$B,2,FALSE)","v":"Keeping bills affordable for all"}]
[59,15,{"$f":"VLOOKUP('Design #'!C886,Labels!$A:$B,2,FALSE)","v":"Providing good and constant water pressure"},{"$f":"VLOOKUP('Design #'!D886,Labels!$A:$B,2,FALSE)","v":"Preventing the likelihood of restrictions on water use, including hosepipe bans, in a drought"},{"$f":"VLOOKUP('Design #'!E886,Labels!$A:$B,2,FALSE)","v":"Preventing sewage from entering homes and businesses "},{"$f":"VLOOKUP('Design #'!F886,Labels!$A:$B,2,FALSE)","v":"Providing financial help and support to those who are struggling to pay their water bill"}]
[60,1,{"$f":"VLOOKUP('Design #'!C887,Labels!$A:$B,2,FALSE)","v":"Providing good and constant water pressure"},{"$f":"VLOOKUP('Design #'!D887,Labels!$A:$B,2,FALSE)","v":"Reducing the release of untreated sewage mixed with rain water into rivers and streams during times of heavy rainfall"},{"$f":"VLOOKUP('Design #'!E887,Labels!$A:$B,2,FALSE)","v":"Keeping bills affordable for all"},{"$f":"VLOOKUP('Design #'!F887,Labels!$A:$B,2,FALSE)","v":"Preventing pollution of rivers or streams from sewage pipes"}]
[60,2,{"$f":"VLOOKUP('Design #'!C888,Labels!$A:$B,2,FALSE)","v":"Preventing the likelihood of restrictions on water use, including hosepipe bans, in a drought"},{"$f":"VLOOKUP('Design #'!D888,Labels!$A:$B,2,FALSE)","v":"Providing a high level of customer service (e.g. resolving queries quickly)"},{"$f":"VLOOKUP('Design #'!E888,Labels!$A:$B,2,FALSE)","v":"Ensuring additional support is available to those who need it e.g.  providing bills in braille, providing bottled water during times of interruptions for thos​e who can't get to a shop (elderly, medical conditions etc.)"},{"$f":"VLOOKUP('Design #'!F888,Labels!$A:$B,2,FALSE)","v":"Providing water that is aesthetically pleasing (clear and clean with no odour or unusual taste or colour)"}]
[60,3,{"$f":"VLOOKUP('Design #'!C889,Labels!$A:$B,2,FALSE)","v":"Providing water that is aesthetically pleasing (clear and clean with no odour or unusual taste or colour)"},{"$f":"VLOOKUP('Design #'!D889,Labels!$A:$B,2,FALSE)","v":"Providing a continuous supply of water that is safe to drink"},{"$f":"VLOOKUP('Design #'!E889,Labels!$A:$B,2,FALSE)","v":"Reduce and offset carbon emissions to achieve a 'net zero' position by 2030 "},{"$f":"VLOOKUP('Design #'!F889,Labels!$A:$B,2,FALSE)","v":"Preventing sewage entering gardens and public spaces from pipe collapses or blockages"}]
[60,4,{"$f":"VLOOKUP('Design #'!C890,Labels!$A:$B,2,FALSE)","v":"Providing appropriate sewer capacity and pumping capabilities to cope with widespread flood events"},{"$f":"VLOOKUP('Design #'!D890,Labels!$A:$B,2,FALSE)","v":"Providing a high level of customer service (e.g. resolving queries quickly)"},{"$f":"VLOOKUP('Design #'!E890,Labels!$A:$B,2,FALSE)","v":"Reducing the release of untreated sewage mixed with rain water into rivers and streams during times of heavy rainfall"},{"$f":"VLOOKUP('Design #'!F890,Labels!$A:$B,2,FALSE)","v":"Preventing leaks from Yorkshire Water's pipe network"}]
[60,5,{"$f":"VLOOKUP('Design #'!C891,Labels!$A:$B,2,FALSE)","v":"Reduce and offset carbon emissions to achieve a 'net zero' position by 2030 "},{"$f":"VLOOKUP('Design #'!D891,Labels!$A:$B,2,FALSE)","v":"Preventing interruptions to the supply of water (e.g. planned works, burst pipes, leaks and outages) that cause problems ranging from low pressure to no water"},{"$f":"VLOOKUP('Design #'!E891,Labels!$A:$B,2,FALSE)","v":"Providing financial help and support to those who are struggling to pay their water bill"},{"$f":"VLOOKUP('Design #'!F891,Labels!$A:$B,2,FALSE)","v":"Ensuring that land owned by Yorkshire Water is conserved or enhanced to improve quality of the water it collects and reduce flooding"}]
[60,6,{"$f":"VLOOKUP('Design #'!C892,Labels!$A:$B,2,FALSE)","v":"Preventing sewage from entering homes and businesses "},{"$f":"VLOOKUP('Design #'!D892,Labels!$A:$B,2,FALSE)","v":"Preventing the likelihood of restrictions on water use, including hosepipe bans, in a drought"},{"$f":"VLOOKUP('Design #'!E892,Labels!$A:$B,2,FALSE)","v":"Preventing leaks from Yorkshire Water's pipe network"},{"$f":"VLOOKUP('Design #'!F892,Labels!$A:$B,2,FALSE)","v":"Preventing interruptions to the supply of water (e.g. planned works, burst pipes, leaks and outages) that cause problems ranging from low pressure to no water"}]
[60,7,{"$f":"VLOOKUP('Design #'!C893,Labels!$A:$B,2,FALSE)","v":"Treating waste water to a high standard to ensure good quality water in Yorkshire's rivers and beaches"},{"$f":"VLOOKUP('Design #'!D893,Labels!$A:$B,2,FALSE)","v":"Preventing sewage entering gardens and public spaces from pipe collapses or blockages"},{"$f":"VLOOKUP('Design #'!E893,Labels!$A:$B,2,FALSE)","v":"Keeping bills affordable for all"},{"$f":"VLOOKUP('Design #'!F893,Labels!$A:$B,2,FALSE)","v":"Providing a continuous supply of water that is safe to drink"}]
[60,8,{"$f":"VLOOKUP('Design #'!C894,Labels!$A:$B,2,FALSE)","v":"Providing financial help and support to those who are struggling to pay their water bill"},{"$f":"VLOOKUP('Design #'!D894,Labels!$A:$B,2,FALSE)","v":"Preventing sewage entering gardens and public spaces from pipe collapses or blockages"},{"$f":"VLOOKUP('Design #'!E894,Labels!$A:$B,2,FALSE)","v":"Supporting customers to reduce their water use and prevent blockages through education and provision of free tools/devices"},{"$f":"VLOOKUP('Design #'!F894,Labels!$A:$B,2,FALSE)","v":"Providing water that is aesthetically pleasing (clear and clean with no odour or unusual taste or colour)"}]
[60,9,{"$f":"VLOOKUP('Design #'!C895,Labels!$A:$B,2,FALSE)","v":"Working with other organisations on common challenges (e.g. flooding) to share costs and expertise allowing for more and smarter investment to tackle problems"},{"$f":"VLOOKUP('Design #'!D895,Labels!$A:$B,2,FALSE)","v":"Providing financial help and support to those who are struggling to pay their water bill"},{"$f":"VLOOKUP('Design #'!E895,Labels!$A:$B,2,FALSE)","v":"Providing a continuous supply of water that is safe to drink"},{"$f":"VLOOKUP('Design #'!F895,Labels!$A:$B,2,FALSE)","v":"Ensuring that land owned by Yorkshire Water is conserved or enhanced to improve quality of the water it collects and reduce flooding"}]
[60,10,{"$f":"VLOOKUP('Design #'!C896,Labels!$A:$B,2,FALSE)","v":"Working with other organisations on common challenges (e.g. flooding) to share costs and expertise allowing for more and smarter investment to tackle problems"},{"$f":"VLOOKUP('Design #'!D896,Labels!$A:$B,2,FALSE)","v":"Providing good and constant water pressure"},{"$f":"VLOOKUP('Design #'!E896,Labels!$A:$B,2,FALSE)","v":"Treating waste water to a high standard to ensure good quality water in Yorkshire's rivers and beaches"},{"$f":"VLOOKUP('Design #'!F896,Labels!$A:$B,2,FALSE)","v":"Preventing the likelihood of restrictions on water use, including hosepipe bans, in a drought"}]
[60,11,{"$f":"VLOOKUP('Design #'!C897,Labels!$A:$B,2,FALSE)","v":"Providing a continuous supply of water that is safe to drink"},{"$f":"VLOOKUP('Design #'!D897,Labels!$A:$B,2,FALSE)","v":"Providing appropriate sewer capacity and pumping capabilities to cope with widespread flood events"},{"$f":"VLOOKUP('Design #'!E897,Labels!$A:$B,2,FALSE)","v":"Providing a high level of customer service (e.g. resolving queries quickly)"},{"$f":"VLOOKUP('Design #'!F897,Labels!$A:$B,2,FALSE)","v":"Ensuring additional support is available to those who need it e.g.  providing bills in braille, providing bottled water during times of interruptions for thos​e who can't get to a shop (elderly, medical conditions etc.)"}]
[60,12,{"$f":"VLOOKUP('Design #'!C898,Labels!$A:$B,2,FALSE)","v":"Ensuring additional support is available to those who need it e.g.  providing bills in braille, providing bottled water during times of interruptions for thos​e who can't get to a shop (elderly, medical conditions etc.)"},{"$f":"VLOOKUP('Design #'!D898,Labels!$A:$B,2,FALSE)","v":"Ensuring that land owned by Yorkshire Water is conserved or enhanced to improve quality of the water it collects and reduce flooding"},{"$f":"VLOOKUP('Design #'!E898,Labels!$A:$B,2,FALSE)","v":"Supporting customers to reduce their water use and prevent blockages through education and provision of free tools/devices"},{"$f":"VLOOKUP('Design #'!F898,Labels!$A:$B,2,FALSE)","v":"Treating waste water to a high standard to ensure good quality water in Yorkshire's rivers and beaches"}]
[60,13,{"$f":"VLOOKUP('Design #'!C899,Labels!$A:$B,2,FALSE)","v":"Keeping bills affordable for all"},{"$f":"VLOOKUP('Design #'!D899,Labels!$A:$B,2,FALSE)","v":"Preventing interruptions to the supply of water (e.g. planned works, burst pipes, leaks and outages) that cause problems ranging from low pressure to no water"},{"$f":"VLOOKUP('Design #'!E899,Labels!$A:$B,2,FALSE)","v":"Preventing pollution of rivers or streams from sewage pipes"},{"$f":"VLOOKUP('Design #'!F899,Labels!$A:$B,2,FALSE)","v":"Providing a high level of customer service (e.g. resolving queries quickly)"}]
[60,14,{"$f":"VLOOKUP('Design #'!C900,Labels!$A:$B,2,FALSE)","v":"Preventing sewage from entering homes and businesses "},{"$f":"VLOOKUP('Design #'!D900,Labels!$A:$B,2,FALSE)","v":"Preventing pollution of rivers or streams from sewage pipes"},{"$f":"VLOOKUP('Design #'!E900,Labels!$A:$B,2,FALSE)","v":"Reduce and offset carbon emissions to achieve a 'net zero' position by 2030 "},{"$f":"VLOOKUP('Design #'!F900,Labels!$A:$B,2,FALSE)","v":"Reducing the release of untreated sewage mixed with rain water into rivers and streams during times of heavy rainfall"}]
[60,15,{"$f":"VLOOKUP('Design #'!C901,Labels!$A:$B,2,FALSE)","v":"Preventing leaks from Yorkshire Water's pipe network"},{"$f":"VLOOKUP('Design #'!D901,Labels!$A:$B,2,FALSE)","v":"Supporting customers to reduce their water use and prevent blockages through education and provision of free tools/devices"},{"$f":"VLOOKUP('Design #'!E901,Labels!$A:$B,2,FALSE)","v":"Providing appropriate sewer capacity and pumping capabilities to cope with widespread flood events"},{"$f":"VLOOKUP('Design #'!F901,Labels!$A:$B,2,FALSE)","v":"Keeping bills affordable for all"}]
[61,1,{"$f":"VLOOKUP('Design #'!C902,Labels!$A:$B,2,FALSE)","v":"Reduce and offset carbon emissions to achieve a 'net zero' position by 2030 "},{"$f":"VLOOKUP('Design #'!D902,Labels!$A:$B,2,FALSE)","v":"Treating waste water to a high standard to ensure good quality water in Yorkshire's rivers and beaches"},{"$f":"VLOOKUP('Design #'!E902,Labels!$A:$B,2,FALSE)","v":"Providing good and constant water pressure"},{"$f":"VLOOKUP('Design #'!F902,Labels!$A:$B,2,FALSE)","v":"Preventing sewage from entering homes and businesses "}]
[61,2,{"$f":"VLOOKUP('Design #'!C903,Labels!$A:$B,2,FALSE)","v":"Supporting customers to reduce their water use and prevent blockages through education and provision of free tools/devices"},{"$f":"VLOOKUP('Design #'!D903,Labels!$A:$B,2,FALSE)","v":"Preventing sewage from entering homes and businesses "},{"$f":"VLOOKUP('Design #'!E903,Labels!$A:$B,2,FALSE)","v":"Preventing pollution of rivers or streams from sewage pipes"},{"$f":"VLOOKUP('Design #'!F903,Labels!$A:$B,2,FALSE)","v":"Providing financial help and support to those who are struggling to pay their water bill"}]
[61,3,{"$f":"VLOOKUP('Design #'!C904,Labels!$A:$B,2,FALSE)","v":"Preventing pollution of rivers or streams from sewage pipes"},{"$f":"VLOOKUP('Design #'!D904,Labels!$A:$B,2,FALSE)","v":"Working with other organisations on common challenges (e.g. flooding) to share costs and expertise allowing for more and smarter investment to tackle problems"},{"$f":"VLOOKUP('Design #'!E904,Labels!$A:$B,2,FALSE)","v":"Providing water that is aesthetically pleasing (clear and clean with no odour or unusual taste or colour)"},{"$f":"VLOOKUP('Design #'!F904,Labels!$A:$B,2,FALSE)","v":"Providing a high level of customer service (e.g. resolving queries quickly)"}]
[61,4,{"$f":"VLOOKUP('Design #'!C905,Labels!$A:$B,2,FALSE)","v":"Treating waste water to a high standard to ensure good quality water in Yorkshire's rivers and beaches"},{"$f":"VLOOKUP('Design #'!D905,Labels!$A:$B,2,FALSE)","v":"Providing a high level of customer service (e.g. resolving queries quickly)"},{"$f":"VLOOKUP('Design #'!E905,Labels!$A:$B,2,FALSE)","v":"Providing financial help and support to those who are struggling to pay their water bill"},{"$f":"VLOOKUP('Design #'!F905,Labels!$A:$B,2,FALSE)","v":"Providing appropriate sewer capacity and pumping capabilities to cope with widespread flood events"}]
[61,5,{"$f":"VLOOKUP('Design #'!C906,Labels!$A:$B,2,FALSE)","v":"Preventing sewage entering gardens and public spaces from pipe collapses or blockages"},{"$f":"VLOOKUP('Design #'!D906,Labels!$A:$B,2,FALSE)","v":"Supporting customers to reduce their water use and prevent blockages through education and provision of free tools/devices"},{"$f":"VLOOKUP('Design #'!E906,Labels!$A:$B,2,FALSE)","v":"Working with other organisations on common challenges (e.g. flooding) to share costs and expertise allowing for more and smarter investment to tackle problems"},{"$f":"VLOOKUP('Design #'!F906,Labels!$A:$B,2,FALSE)","v":"Reducing the release of untreated sewage mixed with rain water into rivers and streams during times of heavy rainfall"}]
[61,6,{"$f":"VLOOKUP('Design #'!C907,Labels!$A:$B,2,FALSE)","v":"Reducing the release of untreated sewage mixed with rain water into rivers and streams during times of heavy rainfall"},{"$f":"VLOOKUP('Design #'!D907,Labels!$A:$B,2,FALSE)","v":"Reduce and offset carbon emissions to achieve a 'net zero' position by 2030 "},{"$f":"VLOOKUP('Design #'!E907,Labels!$A:$B,2,FALSE)","v":"Ensuring that land owned by Yorkshire Water is conserved or enhanced to improve quality of the water it collects and reduce flooding"},{"$f":"VLOOKUP('Design #'!F907,Labels!$A:$B,2,FALSE)","v":"Providing appropriate sewer capacity and pumping capabilities to cope with widespread flood events"}]
[61,7,{"$f":"VLOOKUP('Design #'!C908,Labels!$A:$B,2,FALSE)","v":"Preventing interruptions to the supply of water (e.g. planned works, burst pipes, leaks and outages) that cause problems ranging from low pressure to no water"},{"$f":"VLOOKUP('Design #'!D908,Labels!$A:$B,2,FALSE)","v":"Providing a continuous supply of water that is safe to drink"},{"$f":"VLOOKUP('Design #'!E908,Labels!$A:$B,2,FALSE)","v":"Treating waste water to a high standard to ensure good quality water in Yorkshire's rivers and beaches"},{"$f":"VLOOKUP('Design #'!F908,Labels!$A:$B,2,FALSE)","v":"Preventing the likelihood of restrictions on water use, including hosepipe bans, in a drought"}]
[61,8,{"$f":"VLOOKUP('Design #'!C909,Labels!$A:$B,2,FALSE)","v":"Providing water that is aesthetically pleasing (clear and clean with no odour or unusual taste or colour)"},{"$f":"VLOOKUP('Design #'!D909,Labels!$A:$B,2,FALSE)","v":"Providing appropriate sewer capacity and pumping capabilities to cope with widespread flood events"},{"$f":"VLOOKUP('Design #'!E909,Labels!$A:$B,2,FALSE)","v":"Preventing interruptions to the supply of water (e.g. planned works, burst pipes, leaks and outages) that cause problems ranging from low pressure to no water"},{"$f":"VLOOKUP('Design #'!F909,Labels!$A:$B,2,FALSE)","v":"Keeping bills affordable for all"}]
[61,9,{"$f":"VLOOKUP('Design #'!C910,Labels!$A:$B,2,FALSE)","v":"Preventing the likelihood of restrictions on water use, including hosepipe bans, in a drought"},{"$f":"VLOOKUP('Design #'!D910,Labels!$A:$B,2,FALSE)","v":"Keeping bills affordable for all"},{"$f":"VLOOKUP('Design #'!E910,Labels!$A:$B,2,FALSE)","v":"Preventing sewage from entering homes and businesses "},{"$f":"VLOOKUP('Design #'!F910,Labels!$A:$B,2,FALSE)","v":"Supporting customers to reduce their water use and prevent blockages through education and provision of free tools/devices"}]
[61,10,{"$f":"VLOOKUP('Design #'!C911,Labels!$A:$B,2,FALSE)","v":"Ensuring additional support is available to those who need it e.g.  providing bills in braille, providing bottled water during times of interruptions for thos​e who can't get to a shop (elderly, medical conditions etc.)"},{"$f":"VLOOKUP('Design #'!D911,Labels!$A:$B,2,FALSE)","v":"Preventing leaks from Yorkshire Water's pipe network"},{"$f":"VLOOKUP('Design #'!E911,Labels!$A:$B,2,FALSE)","v":"Working with other organisations on common challenges (e.g. flooding) to share costs and expertise allowing for more and smarter investment to tackle problems"},{"$f":"VLOOKUP('Design #'!F911,Labels!$A:$B,2,FALSE)","v":"Preventing pollution of rivers or streams from sewage pipes"}]
[61,11,{"$f":"VLOOKUP('Design #'!C912,Labels!$A:$B,2,FALSE)","v":"Keeping bills affordable for all"},{"$f":"VLOOKUP('Design #'!D912,Labels!$A:$B,2,FALSE)","v":"Preventing leaks from Yorkshire Water's pipe network"},{"$f":"VLOOKUP('Design #'!E912,Labels!$A:$B,2,FALSE)","v":"Reduce and offset carbon emissions to achieve a 'net zero' position by 2030 "},{"$f":"VLOOKUP('Design #'!F912,Labels!$A:$B,2,FALSE)","v":"Preventing the likelihood of restrictions on water use, including hosepipe bans, in a drought"}]
[61,12,{"$f":"VLOOKUP('Design #'!C913,Labels!$A:$B,2,FALSE)","v":"Providing a continuous supply of water that is safe to drink"},{"$f":"VLOOKUP('Design #'!D913,Labels!$A:$B,2,FALSE)","v":"Ensuring additional support is available to those who need it e.g.  providing bills in braille, providing bottled water during times of interruptions for thos​e who can't get to a shop (elderly, medical conditions etc.)"},{"$f":"VLOOKUP('Design #'!E913,Labels!$A:$B,2,FALSE)","v":"Providing water that is aesthetically pleasing (clear and clean with no odour or unusual taste or colour)"},{"$f":"VLOOKUP('Design #'!F913,Labels!$A:$B,2,FALSE)","v":"Reducing the release of untreated sewage mixed with rain water into rivers and streams during times of heavy rainfall"}]
[61,13,{"$f":"VLOOKUP('Design #'!C914,Labels!$A:$B,2,FALSE)","v":"Preventing leaks from Yorkshire Water's pipe network"},{"$f":"VLOOKUP('Design #'!D914,Labels!$A:$B,2,FALSE)","v":"Ensuring that land owned by Yorkshire Water is conserved or enhanced to improve quality of the water it collects and reduce flooding"},{"$f":"VLOOKUP('Design #'!E914,Labels!$A:$B,2,FALSE)","v":"Providing financial help and support to those who are struggling to pay their water bill"},{"$f":"VLOOKUP('Design #'!F914,Labels!$A:$B,2,FALSE)","v":"Ensuring additional support is available to those who need it e.g.  providing bills in braille, providing bottled water during times of interruptions for thos​e who can't get to a shop (elderly, medical conditions etc.)"}]
[61,14,{"$f":"VLOOKUP('Design #'!C915,Labels!$A:$B,2,FALSE)","v":"Providing a high level of customer service (e.g. resolving queries quickly)"},{"$f":"VLOOKUP('Design #'!D915,Labels!$A:$B,2,FALSE)","v":"Preventing the likelihood of restrictions on water use, including hosepipe bans, in a drought"},{"$f":"VLOOKUP('Design #'!E915,Labels!$A:$B,2,FALSE)","v":"Preventing sewage entering gardens and public spaces from pipe collapses or blockages"},{"$f":"VLOOKUP('Design #'!F915,Labels!$A:$B,2,FALSE)","v":"Ensuring that land owned by Yorkshire Water is conserved or enhanced to improve quality of the water it collects and reduce flooding"}]
[61,15,{"$f":"VLOOKUP('Design #'!C916,Labels!$A:$B,2,FALSE)","v":"Preventing interruptions to the supply of water (e.g. planned works, burst pipes, leaks and outages) that cause problems ranging from low pressure to no water"},{"$f":"VLOOKUP('Design #'!D916,Labels!$A:$B,2,FALSE)","v":"Providing good and constant water pressure"},{"$f":"VLOOKUP('Design #'!E916,Labels!$A:$B,2,FALSE)","v":"Working with other organisations on common challenges (e.g. flooding) to share costs and expertise allowing for more and smarter investment to tackle problems"},{"$f":"VLOOKUP('Design #'!F916,Labels!$A:$B,2,FALSE)","v":"Preventing sewage entering gardens and public spaces from pipe collapses or blockages"}]
[62,1,{"$f":"VLOOKUP('Design #'!C917,Labels!$A:$B,2,FALSE)","v":"Supporting customers to reduce their water use and prevent blockages through education and provision of free tools/devices"},{"$f":"VLOOKUP('Design #'!D917,Labels!$A:$B,2,FALSE)","v":"Providing water that is aesthetically pleasing (clear and clean with no odour or unusual taste or colour)"},{"$f":"VLOOKUP('Design #'!E917,Labels!$A:$B,2,FALSE)","v":"Providing good and constant water pressure"},{"$f":"VLOOKUP('Design #'!F917,Labels!$A:$B,2,FALSE)","v":"Providing appropriate sewer capacity and pumping capabilities to cope with widespread flood events"}]
[62,2,{"$f":"VLOOKUP('Design #'!C918,Labels!$A:$B,2,FALSE)","v":"Providing financial help and support to those who are struggling to pay their water bill"},{"$f":"VLOOKUP('Design #'!D918,Labels!$A:$B,2,FALSE)","v":"Working with other organisations on common challenges (e.g. flooding) to share costs and expertise allowing for more and smarter investment to tackle problems"},{"$f":"VLOOKUP('Design #'!E918,Labels!$A:$B,2,FALSE)","v":"Reducing the release of untreated sewage mixed with rain water into rivers and streams during times of heavy rainfall"},{"$f":"VLOOKUP('Design #'!F918,Labels!$A:$B,2,FALSE)","v":"Preventing sewage from entering homes and businesses "}]
[62,3,{"$f":"VLOOKUP('Design #'!C919,Labels!$A:$B,2,FALSE)","v":"Providing a continuous supply of water that is safe to drink"},{"$f":"VLOOKUP('Design #'!D919,Labels!$A:$B,2,FALSE)","v":"Preventing pollution of rivers or streams from sewage pipes"},{"$f":"VLOOKUP('Design #'!E919,Labels!$A:$B,2,FALSE)","v":"Preventing the likelihood of restrictions on water use, including hosepipe bans, in a drought"},{"$f":"VLOOKUP('Design #'!F919,Labels!$A:$B,2,FALSE)","v":"Reduce and offset carbon emissions to achieve a 'net zero' position by 2030 "}]
[62,4,{"$f":"VLOOKUP('Design #'!C920,Labels!$A:$B,2,FALSE)","v":"Ensuring that land owned by Yorkshire Water is conserved or enhanced to improve quality of the water it collects and reduce flooding"},{"$f":"VLOOKUP('Design #'!D920,Labels!$A:$B,2,FALSE)","v":"Preventing sewage from entering homes and businesses "},{"$f":"VLOOKUP('Design #'!E920,Labels!$A:$B,2,FALSE)","v":"Keeping bills affordable for all"},{"$f":"VLOOKUP('Design #'!F920,Labels!$A:$B,2,FALSE)","v":"Treating waste water to a high standard to ensure good quality water in Yorkshire's rivers and beaches"}]
[62,5,{"$f":"VLOOKUP('Design #'!C921,Labels!$A:$B,2,FALSE)","v":"Keeping bills affordable for all"},{"$f":"VLOOKUP('Design #'!D921,Labels!$A:$B,2,FALSE)","v":"Providing financial help and support to those who are struggling to pay their water bill"},{"$f":"VLOOKUP('Design #'!E921,Labels!$A:$B,2,FALSE)","v":"Providing a continuous supply of water that is safe to drink"},{"$f":"VLOOKUP('Design #'!F921,Labels!$A:$B,2,FALSE)","v":"Working with other organisations on common challenges (e.g. flooding) to share costs and expertise allowing for more and smarter investment to tackle problems"}]
[62,6,{"$f":"VLOOKUP('Design #'!C922,Labels!$A:$B,2,FALSE)","v":"Treating waste water to a high standard to ensure good quality water in Yorkshire's rivers and beaches"},{"$f":"VLOOKUP('Design #'!D922,Labels!$A:$B,2,FALSE)","v":"Reducing the release of untreated sewage mixed with rain water into rivers and streams during times of heavy rainfall"},{"$f":"VLOOKUP('Design #'!E922,Labels!$A:$B,2,FALSE)","v":"Ensuring additional support is available to those who need it e.g.  providing bills in braille, providing bottled water during times of interruptions for thos​e who can't get to a shop (elderly, medical conditions etc.)"},{"$f":"VLOOKUP('Design #'!F922,Labels!$A:$B,2,FALSE)","v":"Preventing interruptions to the supply of water (e.g. planned works, burst pipes, leaks and outages) that cause problems ranging from low pressure to no water"}]
[62,7,{"$f":"VLOOKUP('Design #'!C923,Labels!$A:$B,2,FALSE)","v":"Preventing interruptions to the supply of water (e.g. planned works, burst pipes, leaks and outages) that cause problems ranging from low pressure to no water"},{"$f":"VLOOKUP('Design #'!D923,Labels!$A:$B,2,FALSE)","v":"Reduce and offset carbon emissions to achieve a 'net zero' position by 2030 "},{"$f":"VLOOKUP('Design #'!E923,Labels!$A:$B,2,FALSE)","v":"Supporting customers to reduce their water use and prevent blockages through education and provision of free tools/devices"},{"$f":"VLOOKUP('Design #'!F923,Labels!$A:$B,2,FALSE)","v":"Providing water that is aesthetically pleasing (clear and clean with no odour or unusual taste or colour)"}]
[62,8,{"$f":"VLOOKUP('Design #'!C924,Labels!$A:$B,2,FALSE)","v":"Preventing sewage entering gardens and public spaces from pipe collapses or blockages"},{"$f":"VLOOKUP('Design #'!D924,Labels!$A:$B,2,FALSE)","v":"Preventing pollution of rivers or streams from sewage pipes"},{"$f":"VLOOKUP('Design #'!E924,Labels!$A:$B,2,FALSE)","v":"Providing a high level of customer service (e.g. resolving queries quickly)"},{"$f":"VLOOKUP('Design #'!F924,Labels!$A:$B,2,FALSE)","v":"Preventing sewage from entering homes and businesses "}]
[62,9,{"$f":"VLOOKUP('Design #'!C925,Labels!$A:$B,2,FALSE)","v":"Providing appropriate sewer capacity and pumping capabilities to cope with widespread flood events"},{"$f":"VLOOKUP('Design #'!D925,Labels!$A:$B,2,FALSE)","v":"Keeping bills affordable for all"},{"$f":"VLOOKUP('Design #'!E925,Labels!$A:$B,2,FALSE)","v":"Preventing sewage entering gardens and public spaces from pipe collapses or blockages"},{"$f":"VLOOKUP('Design #'!F925,Labels!$A:$B,2,FALSE)","v":"Ensuring additional support is available to those who need it e.g.  providing bills in braille, providing bottled water during times of interruptions for thos​e who can't get to a shop (elderly, medical conditions etc.)"}]
[62,10,{"$f":"VLOOKUP('Design #'!C926,Labels!$A:$B,2,FALSE)","v":"Preventing leaks from Yorkshire Water's pipe network"},{"$f":"VLOOKUP('Design #'!D926,Labels!$A:$B,2,FALSE)","v":"Reducing the release of untreated sewage mixed with rain water into rivers and streams during times of heavy rainfall"},{"$f":"VLOOKUP('Design #'!E926,Labels!$A:$B,2,FALSE)","v":"Preventing pollution of rivers or streams from sewage pipes"},{"$f":"VLOOKUP('Design #'!F926,Labels!$A:$B,2,FALSE)","v":"Providing a continuous supply of water that is safe to drink"}]
[62,11,{"$f":"VLOOKUP('Design #'!C927,Labels!$A:$B,2,FALSE)","v":"Providing financial help and support to those who are struggling to pay their water bill"},{"$f":"VLOOKUP('Design #'!D927,Labels!$A:$B,2,FALSE)","v":"Preventing interruptions to the supply of water (e.g. planned works, burst pipes, leaks and outages) that cause problems ranging from low pressure to no water"},{"$f":"VLOOKUP('Design #'!E927,Labels!$A:$B,2,FALSE)","v":"Ensuring additional support is available to those who need it e.g.  providing bills in braille, providing bottled water during times of interruptions for thos​e who can't get to a shop (elderly, medical conditions etc.)"},{"$f":"VLOOKUP('Design #'!F927,Labels!$A:$B,2,FALSE)","v":"Providing good and constant water pressure"}]
[62,12,{"$f":"VLOOKUP('Design #'!C928,Labels!$A:$B,2,FALSE)","v":"Providing a high level of customer service (e.g. resolving queries quickly)"},{"$f":"VLOOKUP('Design #'!D928,Labels!$A:$B,2,FALSE)","v":"Preventing sewage entering gardens and public spaces from pipe collapses or blockages"},{"$f":"VLOOKUP('Design #'!E928,Labels!$A:$B,2,FALSE)","v":"Providing good and constant water pressure"},{"$f":"VLOOKUP('Design #'!F928,Labels!$A:$B,2,FALSE)","v":"Preventing leaks from Yorkshire Water's pipe network"}]
[62,13,{"$f":"VLOOKUP('Design #'!C929,Labels!$A:$B,2,FALSE)","v":"Working with other organisations on common challenges (e.g. flooding) to share costs and expertise allowing for more and smarter investment to tackle problems"},{"$f":"VLOOKUP('Design #'!D929,Labels!$A:$B,2,FALSE)","v":"Providing good and constant water pressure"},{"$f":"VLOOKUP('Design #'!E929,Labels!$A:$B,2,FALSE)","v":"Ensuring that land owned by Yorkshire Water is conserved or enhanced to improve quality of the water it collects and reduce flooding"},{"$f":"VLOOKUP('Design #'!F929,Labels!$A:$B,2,FALSE)","v":"Treating waste water to a high standard to ensure good quality water in Yorkshire's rivers and beaches"}]
[62,14,{"$f":"VLOOKUP('Design #'!C930,Labels!$A:$B,2,FALSE)","v":"Reduce and offset carbon emissions to achieve a 'net zero' position by 2030 "},{"$f":"VLOOKUP('Design #'!D930,Labels!$A:$B,2,FALSE)","v":"Providing a high level of customer service (e.g. resolving queries quickly)"},{"$f":"VLOOKUP('Design #'!E930,Labels!$A:$B,2,FALSE)","v":"Ensuring that land owned by Yorkshire Water is conserved or enhanced to improve quality of the water it collects and reduce flooding"},{"$f":"VLOOKUP('Design #'!F930,Labels!$A:$B,2,FALSE)","v":"Supporting customers to reduce their water use and prevent blockages through education and provision of free tools/devices"}]
[62,15,{"$f":"VLOOKUP('Design #'!C931,Labels!$A:$B,2,FALSE)","v":"Providing appropriate sewer capacity and pumping capabilities to cope with widespread flood events"},{"$f":"VLOOKUP('Design #'!D931,Labels!$A:$B,2,FALSE)","v":"Preventing leaks from Yorkshire Water's pipe network"},{"$f":"VLOOKUP('Design #'!E931,Labels!$A:$B,2,FALSE)","v":"Preventing the likelihood of restrictions on water use, including hosepipe bans, in a drought"},{"$f":"VLOOKUP('Design #'!F931,Labels!$A:$B,2,FALSE)","v":"Providing water that is aesthetically pleasing (clear and clean with no odour or unusual taste or colour)"}]
[63,1,{"$f":"VLOOKUP('Design #'!C932,Labels!$A:$B,2,FALSE)","v":"Providing financial help and support to those who are struggling to pay their water bill"},{"$f":"VLOOKUP('Design #'!D932,Labels!$A:$B,2,FALSE)","v":"Treating waste water to a high standard to ensure good quality water in Yorkshire's rivers and beaches"},{"$f":"VLOOKUP('Design #'!E932,Labels!$A:$B,2,FALSE)","v":"Preventing leaks from Yorkshire Water's pipe network"},{"$f":"VLOOKUP('Design #'!F932,Labels!$A:$B,2,FALSE)","v":"Reduce and offset carbon emissions to achieve a 'net zero' position by 2030 "}]
[63,2,{"$f":"VLOOKUP('Design #'!C933,Labels!$A:$B,2,FALSE)","v":"Providing good and constant water pressure"},{"$f":"VLOOKUP('Design #'!D933,Labels!$A:$B,2,FALSE)","v":"Supporting customers to reduce their water use and prevent blockages through education and provision of free tools/devices"},{"$f":"VLOOKUP('Design #'!E933,Labels!$A:$B,2,FALSE)","v":"Treating waste water to a high standard to ensure good quality water in Yorkshire's rivers and beaches"},{"$f":"VLOOKUP('Design #'!F933,Labels!$A:$B,2,FALSE)","v":"Preventing leaks from Yorkshire Water's pipe network"}]
[63,3,{"$f":"VLOOKUP('Design #'!C934,Labels!$A:$B,2,FALSE)","v":"Reducing the release of untreated sewage mixed with rain water into rivers and streams during times of heavy rainfall"},{"$f":"VLOOKUP('Design #'!D934,Labels!$A:$B,2,FALSE)","v":"Providing appropriate sewer capacity and pumping capabilities to cope with widespread flood events"},{"$f":"VLOOKUP('Design #'!E934,Labels!$A:$B,2,FALSE)","v":"Providing a high level of customer service (e.g. resolving queries quickly)"},{"$f":"VLOOKUP('Design #'!F934,Labels!$A:$B,2,FALSE)","v":"Providing good and constant water pressure"}]
[63,4,{"$f":"VLOOKUP('Design #'!C935,Labels!$A:$B,2,FALSE)","v":"Providing water that is aesthetically pleasing (clear and clean with no odour or unusual taste or colour)"},{"$f":"VLOOKUP('Design #'!D935,Labels!$A:$B,2,FALSE)","v":"Ensuring additional support is available to those who need it e.g.  providing bills in braille, providing bottled water during times of interruptions for thos​e who can't get to a shop (elderly, medical conditions etc.)"},{"$f":"VLOOKUP('Design #'!E935,Labels!$A:$B,2,FALSE)","v":"Reduce and offset carbon emissions to achieve a 'net zero' position by 2030 "},{"$f":"VLOOKUP('Design #'!F935,Labels!$A:$B,2,FALSE)","v":"Keeping bills affordable for all"}]
[63,5,{"$f":"VLOOKUP('Design #'!C936,Labels!$A:$B,2,FALSE)","v":"Preventing pollution of rivers or streams from sewage pipes"},{"$f":"VLOOKUP('Design #'!D936,Labels!$A:$B,2,FALSE)","v":"Providing financial help and support to those who are struggling to pay their water bill"},{"$f":"VLOOKUP('Design #'!E936,Labels!$A:$B,2,FALSE)","v":"Preventing interruptions to the supply of water (e.g. planned works, burst pipes, leaks and outages) that cause problems ranging from low pressure to no water"},{"$f":"VLOOKUP('Design #'!F936,Labels!$A:$B,2,FALSE)","v":"Providing a high level of customer service (e.g. resolving queries quickly)"}]
[63,6,{"$f":"VLOOKUP('Design #'!C937,Labels!$A:$B,2,FALSE)","v":"Preventing sewage from entering homes and businesses "},{"$f":"VLOOKUP('Design #'!D937,Labels!$A:$B,2,FALSE)","v":"Working with other organisations on common challenges (e.g. flooding) to share costs and expertise allowing for more and smarter investment to tackle problems"},{"$f":"VLOOKUP('Design #'!E937,Labels!$A:$B,2,FALSE)","v":"Keeping bills affordable for all"},{"$f":"VLOOKUP('Design #'!F937,Labels!$A:$B,2,FALSE)","v":"Providing a high level of customer service (e.g. resolving queries quickly)"}]
[63,7,{"$f":"VLOOKUP('Design #'!C938,Labels!$A:$B,2,FALSE)","v":"Preventing the likelihood of restrictions on water use, including hosepipe bans, in a drought"},{"$f":"VLOOKUP('Design #'!D938,Labels!$A:$B,2,FALSE)","v":"Providing water that is aesthetically pleasing (clear and clean with no odour or unusual taste or colour)"},{"$f":"VLOOKUP('Design #'!E938,Labels!$A:$B,2,FALSE)","v":"Providing a continuous supply of water that is safe to drink"},{"$f":"VLOOKUP('Design #'!F938,Labels!$A:$B,2,FALSE)","v":"Working with other organisations on common challenges (e.g. flooding) to share costs and expertise allowing for more and smarter investment to tackle problems"}]
[63,8,{"$f":"VLOOKUP('Design #'!C939,Labels!$A:$B,2,FALSE)","v":"Preventing sewage from entering homes and businesses "},{"$f":"VLOOKUP('Design #'!D939,Labels!$A:$B,2,FALSE)","v":"Ensuring that land owned by Yorkshire Water is conserved or enhanced to improve quality of the water it collects and reduce flooding"},{"$f":"VLOOKUP('Design #'!E939,Labels!$A:$B,2,FALSE)","v":"Providing water that is aesthetically pleasing (clear and clean with no odour or unusual taste or colour)"},{"$f":"VLOOKUP('Design #'!F939,Labels!$A:$B,2,FALSE)","v":"Preventing leaks from Yorkshire Water's pipe network"}]
[63,9,{"$f":"VLOOKUP('Design #'!C940,Labels!$A:$B,2,FALSE)","v":"Ensuring that land owned by Yorkshire Water is conserved or enhanced to improve quality of the water it collects and reduce flooding"},{"$f":"VLOOKUP('Design #'!D940,Labels!$A:$B,2,FALSE)","v":"Ensuring additional support is available to those who need it e.g.  providing bills in braille, providing bottled water during times of interruptions for thos​e who can't get to a shop (elderly, medical conditions etc.)"},{"$f":"VLOOKUP('Design #'!E940,Labels!$A:$B,2,FALSE)","v":"Supporting customers to reduce their water use and prevent blockages through education and provision of free tools/devices"},{"$f":"VLOOKUP('Design #'!F940,Labels!$A:$B,2,FALSE)","v":"Preventing pollution of rivers or streams from sewage pipes"}]
[63,10,{"$f":"VLOOKUP('Design #'!C941,Labels!$A:$B,2,FALSE)","v":"Providing appropriate sewer capacity and pumping capabilities to cope with widespread flood events"},{"$f":"VLOOKUP('Design #'!D941,Labels!$A:$B,2,FALSE)","v":"Providing a continuous supply of water that is safe to drink"},{"$f":"VLOOKUP('Design #'!E941,Labels!$A:$B,2,FALSE)","v":"Preventing sewage from entering homes and businesses "},{"$f":"VLOOKUP('Design #'!F941,Labels!$A:$B,2,FALSE)","v":"Preventing interruptions to the supply of water (e.g. planned works, burst pipes, leaks and outages) that cause problems ranging from low pressure to no water"}]
[63,11,{"$f":"VLOOKUP('Design #'!C942,Labels!$A:$B,2,FALSE)","v":"Treating waste water to a high standard to ensure good quality water in Yorkshire's rivers and beaches"},{"$f":"VLOOKUP('Design #'!D942,Labels!$A:$B,2,FALSE)","v":"Keeping bills affordable for all"},{"$f":"VLOOKUP('Design #'!E942,Labels!$A:$B,2,FALSE)","v":"Reducing the release of untreated sewage mixed with rain water into rivers and streams during times of heavy rainfall"},{"$f":"VLOOKUP('Design #'!F942,Labels!$A:$B,2,FALSE)","v":"Providing financial help and support to those who are struggling to pay their water bill"}]
[63,12,{"$f":"VLOOKUP('Design #'!C943,Labels!$A:$B,2,FALSE)","v":"Preventing sewage entering gardens and public spaces from pipe collapses or blockages"},{"$f":"VLOOKUP('Design #'!D943,Labels!$A:$B,2,FALSE)","v":"Preventing the likelihood of restrictions on water use, including hosepipe bans, in a drought"},{"$f":"VLOOKUP('Design #'!E943,Labels!$A:$B,2,FALSE)","v":"Providing appropriate sewer capacity and pumping capabilities to cope with widespread flood events"},{"$f":"VLOOKUP('Design #'!F943,Labels!$A:$B,2,FALSE)","v":"Preventing pollution of rivers or streams from sewage pipes"}]
[63,13,{"$f":"VLOOKUP('Design #'!C944,Labels!$A:$B,2,FALSE)","v":"Reduce and offset carbon emissions to achieve a 'net zero' position by 2030 "},{"$f":"VLOOKUP('Design #'!D944,Labels!$A:$B,2,FALSE)","v":"Providing a high level of customer service (e.g. resolving queries quickly)"},{"$f":"VLOOKUP('Design #'!E944,Labels!$A:$B,2,FALSE)","v":"Providing good and constant water pressure"},{"$f":"VLOOKUP('Design #'!F944,Labels!$A:$B,2,FALSE)","v":"Providing a continuous supply of water that is safe to drink"}]
[63,14,{"$f":"VLOOKUP('Design #'!C945,Labels!$A:$B,2,FALSE)","v":"Supporting customers to reduce their water use and prevent blockages through education and provision of free tools/devices"},{"$f":"VLOOKUP('Design #'!D945,Labels!$A:$B,2,FALSE)","v":"Working with other organisations on common challenges (e.g. flooding) to share costs and expertise allowing for more and smarter investment to tackle problems"},{"$f":"VLOOKUP('Design #'!E945,Labels!$A:$B,2,FALSE)","v":"Ensuring additional support is available to those who need it e.g.  providing bills in braille, providing bottled water during times of interruptions for thos​e who can't get to a shop (elderly, medical conditions etc.)"},{"$f":"VLOOKUP('Design #'!F945,Labels!$A:$B,2,FALSE)","v":"Preventing interruptions to the supply of water (e.g. planned works, burst pipes, leaks and outages) that cause problems ranging from low pressure to no water"}]
[63,15,{"$f":"VLOOKUP('Design #'!C946,Labels!$A:$B,2,FALSE)","v":"Preventing the likelihood of restrictions on water use, including hosepipe bans, in a drought"},{"$f":"VLOOKUP('Design #'!D946,Labels!$A:$B,2,FALSE)","v":"Ensuring that land owned by Yorkshire Water is conserved or enhanced to improve quality of the water it collects and reduce flooding"},{"$f":"VLOOKUP('Design #'!E946,Labels!$A:$B,2,FALSE)","v":"Reducing the release of untreated sewage mixed with rain water into rivers and streams during times of heavy rainfall"},{"$f":"VLOOKUP('Design #'!F946,Labels!$A:$B,2,FALSE)","v":"Preventing sewage entering gardens and public spaces from pipe collapses or blockages"}]
[64,1,{"$f":"VLOOKUP('Design #'!C947,Labels!$A:$B,2,FALSE)","v":"Reducing the release of untreated sewage mixed with rain water into rivers and streams during times of heavy rainfall"},{"$f":"VLOOKUP('Design #'!D947,Labels!$A:$B,2,FALSE)","v":"Reduce and offset carbon emissions to achieve a 'net zero' position by 2030 "},{"$f":"VLOOKUP('Design #'!E947,Labels!$A:$B,2,FALSE)","v":"Working with other organisations on common challenges (e.g. flooding) to share costs and expertise allowing for more and smarter investment to tackle problems"},{"$f":"VLOOKUP('Design #'!F947,Labels!$A:$B,2,FALSE)","v":"Preventing interruptions to the supply of water (e.g. planned works, burst pipes, leaks and outages) that cause problems ranging from low pressure to no water"}]
[64,2,{"$f":"VLOOKUP('Design #'!C948,Labels!$A:$B,2,FALSE)","v":"Providing water that is aesthetically pleasing (clear and clean with no odour or unusual taste or colour)"},{"$f":"VLOOKUP('Design #'!D948,Labels!$A:$B,2,FALSE)","v":"Treating waste water to a high standard to ensure good quality water in Yorkshire's rivers and beaches"},{"$f":"VLOOKUP('Design #'!E948,Labels!$A:$B,2,FALSE)","v":"Providing financial help and support to those who are struggling to pay their water bill"},{"$f":"VLOOKUP('Design #'!F948,Labels!$A:$B,2,FALSE)","v":"Providing appropriate sewer capacity and pumping capabilities to cope with widespread flood events"}]
[64,3,{"$f":"VLOOKUP('Design #'!C949,Labels!$A:$B,2,FALSE)","v":"Preventing pollution of rivers or streams from sewage pipes"},{"$f":"VLOOKUP('Design #'!D949,Labels!$A:$B,2,FALSE)","v":"Preventing sewage from entering homes and businesses "},{"$f":"VLOOKUP('Design #'!E949,Labels!$A:$B,2,FALSE)","v":"Treating waste water to a high standard to ensure good quality water in Yorkshire's rivers and beaches"},{"$f":"VLOOKUP('Design #'!F949,Labels!$A:$B,2,FALSE)","v":"Preventing sewage entering gardens and public spaces from pipe collapses or blockages"}]
[64,4,{"$f":"VLOOKUP('Design #'!C950,Labels!$A:$B,2,FALSE)","v":"Preventing interruptions to the supply of water (e.g. planned works, burst pipes, leaks and outages) that cause problems ranging from low pressure to no water"},{"$f":"VLOOKUP('Design #'!D950,Labels!$A:$B,2,FALSE)","v":"Preventing leaks from Yorkshire Water's pipe network"},{"$f":"VLOOKUP('Design #'!E950,Labels!$A:$B,2,FALSE)","v":"Keeping bills affordable for all"},{"$f":"VLOOKUP('Design #'!F950,Labels!$A:$B,2,FALSE)","v":"Ensuring that land owned by Yorkshire Water is conserved or enhanced to improve quality of the water it collects and reduce flooding"}]
[64,5,{"$f":"VLOOKUP('Design #'!C951,Labels!$A:$B,2,FALSE)","v":"Preventing leaks from Yorkshire Water's pipe network"},{"$f":"VLOOKUP('Design #'!D951,Labels!$A:$B,2,FALSE)","v":"Preventing interruptions to the supply of water (e.g. planned works, burst pipes, leaks and outages) that cause problems ranging from low pressure to no water"},{"$f":"VLOOKUP('Design #'!E951,Labels!$A:$B,2,FALSE)","v":"Preventing sewage entering gardens and public spaces from pipe collapses or blockages"},{"$f":"VLOOKUP('Design #'!F951,Labels!$A:$B,2,FALSE)","v":"Working with other organisations on common challenges (e.g. flooding) to share costs and expertise allowing for more and smarter investment to tackle problems"}]
[64,6,{"$f":"VLOOKUP('Design #'!C952,Labels!$A:$B,2,FALSE)","v":"Providing a continuous supply of water that is safe to drink"},{"$f":"VLOOKUP('Design #'!D952,Labels!$A:$B,2,FALSE)","v":"Ensuring that land owned by Yorkshire Water is conserved or enhanced to improve quality of the water it collects and reduce flooding"},{"$f":"VLOOKUP('Design #'!E952,Labels!$A:$B,2,FALSE)","v":"Reduce and offset carbon emissions to achieve a 'net zero' position by 2030 "},{"$f":"VLOOKUP('Design #'!F952,Labels!$A:$B,2,FALSE)","v":"Preventing sewage entering gardens and public spaces from pipe collapses or blockages"}]
[64,7,{"$f":"VLOOKUP('Design #'!C953,Labels!$A:$B,2,FALSE)","v":"Supporting customers to reduce their water use and prevent blockages through education and provision of free tools/devices"},{"$f":"VLOOKUP('Design #'!D953,Labels!$A:$B,2,FALSE)","v":"Reducing the release of untreated sewage mixed with rain water into rivers and streams during times of heavy rainfall"},{"$f":"VLOOKUP('Design #'!E953,Labels!$A:$B,2,FALSE)","v":"Preventing pollution of rivers or streams from sewage pipes"},{"$f":"VLOOKUP('Design #'!F953,Labels!$A:$B,2,FALSE)","v":"Keeping bills affordable for all"}]
[64,8,{"$f":"VLOOKUP('Design #'!C954,Labels!$A:$B,2,FALSE)","v":"Ensuring additional support is available to those who need it e.g.  providing bills in braille, providing bottled water during times of interruptions for thos​e who can't get to a shop (elderly, medical conditions etc.)"},{"$f":"VLOOKUP('Design #'!D954,Labels!$A:$B,2,FALSE)","v":"Preventing sewage entering gardens and public spaces from pipe collapses or blockages"},{"$f":"VLOOKUP('Design #'!E954,Labels!$A:$B,2,FALSE)","v":"Providing financial help and support to those who are struggling to pay their water bill"},{"$f":"VLOOKUP('Design #'!F954,Labels!$A:$B,2,FALSE)","v":"Providing good and constant water pressure"}]
[64,9,{"$f":"VLOOKUP('Design #'!C955,Labels!$A:$B,2,FALSE)","v":"Providing a high level of customer service (e.g. resolving queries quickly)"},{"$f":"VLOOKUP('Design #'!D955,Labels!$A:$B,2,FALSE)","v":"Providing a continuous supply of water that is safe to drink"},{"$f":"VLOOKUP('Design #'!E955,Labels!$A:$B,2,FALSE)","v":"Ensuring additional support is available to those who need it e.g.  providing bills in braille, providing bottled water during times of interruptions for thos​e who can't get to a shop (elderly, medical conditions etc.)"},{"$f":"VLOOKUP('Design #'!F955,Labels!$A:$B,2,FALSE)","v":"Treating waste water to a high standard to ensure good quality water in Yorkshire's rivers and beaches"}]
[64,10,{"$f":"VLOOKUP('Design #'!C956,Labels!$A:$B,2,FALSE)","v":"Preventing sewage entering gardens and public spaces from pipe collapses or blockages"},{"$f":"VLOOKUP('Design #'!D956,Labels!$A:$B,2,FALSE)","v":"Providing appropriate sewer capacity and pumping capabilities to cope with widespread flood events"},{"$f":"VLOOKUP('Design #'!E956,Labels!$A:$B,2,FALSE)","v":"Preventing sewage from entering homes and businesses "},{"$f":"VLOOKUP('Design #'!F956,Labels!$A:$B,2,FALSE)","v":"Reduce and offset carbon emissions to achieve a 'net zero' position by 2030 "}]
[64,11,{"$f":"VLOOKUP('Design #'!C957,Labels!$A:$B,2,FALSE)","v":"Preventing the likelihood of restrictions on water use, including hosepipe bans, in a drought"},{"$f":"VLOOKUP('Design #'!D957,Labels!$A:$B,2,FALSE)","v":"Providing financial help and support to those who are struggling to pay their water bill"},{"$f":"VLOOKUP('Design #'!E957,Labels!$A:$B,2,FALSE)","v":"Providing a continuous supply of water that is safe to drink"},{"$f":"VLOOKUP('Design #'!F957,Labels!$A:$B,2,FALSE)","v":"Supporting customers to reduce their water use and prevent blockages through education and provision of free tools/devices"}]
[64,12,{"$f":"VLOOKUP('Design #'!C958,Labels!$A:$B,2,FALSE)","v":"Ensuring that land owned by Yorkshire Water is conserved or enhanced to improve quality of the water it collects and reduce flooding"},{"$f":"VLOOKUP('Design #'!D958,Labels!$A:$B,2,FALSE)","v":"Supporting customers to reduce their water use and prevent blockages through education and provision of free tools/devices"},{"$f":"VLOOKUP('Design #'!E958,Labels!$A:$B,2,FALSE)","v":"Providing appropriate sewer capacity and pumping capabilities to cope with widespread flood events"},{"$f":"VLOOKUP('Design #'!F958,Labels!$A:$B,2,FALSE)","v":"Working with other organisations on common challenges (e.g. flooding) to share costs and expertise allowing for more and smarter investment to tackle problems"}]
[64,13,{"$f":"VLOOKUP('Design #'!C959,Labels!$A:$B,2,FALSE)","v":"Providing a high level of customer service (e.g. resolving queries quickly)"},{"$f":"VLOOKUP('Design #'!D959,Labels!$A:$B,2,FALSE)","v":"Providing water that is aesthetically pleasing (clear and clean with no odour or unusual taste or colour)"},{"$f":"VLOOKUP('Design #'!E959,Labels!$A:$B,2,FALSE)","v":"Preventing leaks from Yorkshire Water's pipe network"},{"$f":"VLOOKUP('Design #'!F959,Labels!$A:$B,2,FALSE)","v":"Reducing the release of untreated sewage mixed with rain water into rivers and streams during times of heavy rainfall"}]
[64,14,{"$f":"VLOOKUP('Design #'!C960,Labels!$A:$B,2,FALSE)","v":"Providing good and constant water pressure"},{"$f":"VLOOKUP('Design #'!D960,Labels!$A:$B,2,FALSE)","v":"Preventing pollution of rivers or streams from sewage pipes"},{"$f":"VLOOKUP('Design #'!E960,Labels!$A:$B,2,FALSE)","v":"Providing water that is aesthetically pleasing (clear and clean with no odour or unusual taste or colour)"},{"$f":"VLOOKUP('Design #'!F960,Labels!$A:$B,2,FALSE)","v":"Keeping bills affordable for all"}]
[64,15,{"$f":"VLOOKUP('Design #'!C961,Labels!$A:$B,2,FALSE)","v":"Ensuring additional support is available to those who need it e.g.  providing bills in braille, providing bottled water during times of interruptions for thos​e who can't get to a shop (elderly, medical conditions etc.)"},{"$f":"VLOOKUP('Design #'!D961,Labels!$A:$B,2,FALSE)","v":"Preventing the likelihood of restrictions on water use, including hosepipe bans, in a drought"},{"$f":"VLOOKUP('Design #'!E961,Labels!$A:$B,2,FALSE)","v":"Providing good and constant water pressure"},{"$f":"VLOOKUP('Design #'!F961,Labels!$A:$B,2,FALSE)","v":"Preventing sewage from entering homes and businesses "}]
[65,1,{"$f":"VLOOKUP('Design #'!C962,Labels!$A:$B,2,FALSE)","v":"Preventing pollution of rivers or streams from sewage pipes"},{"$f":"VLOOKUP('Design #'!D962,Labels!$A:$B,2,FALSE)","v":"Preventing interruptions to the supply of water (e.g. planned works, burst pipes, leaks and outages) that cause problems ranging from low pressure to no water"},{"$f":"VLOOKUP('Design #'!E962,Labels!$A:$B,2,FALSE)","v":"Preventing the likelihood of restrictions on water use, including hosepipe bans, in a drought"},{"$f":"VLOOKUP('Design #'!F962,Labels!$A:$B,2,FALSE)","v":"Treating waste water to a high standard to ensure good quality water in Yorkshire's rivers and beaches"}]
[65,2,{"$f":"VLOOKUP('Design #'!C963,Labels!$A:$B,2,FALSE)","v":"Keeping bills affordable for all"},{"$f":"VLOOKUP('Design #'!D963,Labels!$A:$B,2,FALSE)","v":"Reduce and offset carbon emissions to achieve a 'net zero' position by 2030 "},{"$f":"VLOOKUP('Design #'!E963,Labels!$A:$B,2,FALSE)","v":"Preventing sewage entering gardens and public spaces from pipe collapses or blockages"},{"$f":"VLOOKUP('Design #'!F963,Labels!$A:$B,2,FALSE)","v":"Ensuring additional support is available to those who need it e.g.  providing bills in braille, providing bottled water during times of interruptions for thos​e who can't get to a shop (elderly, medical conditions etc.)"}]
[65,3,{"$f":"VLOOKUP('Design #'!C964,Labels!$A:$B,2,FALSE)","v":"Preventing leaks from Yorkshire Water's pipe network"},{"$f":"VLOOKUP('Design #'!D964,Labels!$A:$B,2,FALSE)","v":"Providing water that is aesthetically pleasing (clear and clean with no odour or unusual taste or colour)"},{"$f":"VLOOKUP('Design #'!E964,Labels!$A:$B,2,FALSE)","v":"Providing a high level of customer service (e.g. resolving queries quickly)"},{"$f":"VLOOKUP('Design #'!F964,Labels!$A:$B,2,FALSE)","v":"Providing a continuous supply of water that is safe to drink"}]
[65,4,{"$f":"VLOOKUP('Design #'!C965,Labels!$A:$B,2,FALSE)","v":"Working with other organisations on common challenges (e.g. flooding) to share costs and expertise allowing for more and smarter investment to tackle problems"},{"$f":"VLOOKUP('Design #'!D965,Labels!$A:$B,2,FALSE)","v":"Providing appropriate sewer capacity and pumping capabilities to cope with widespread flood events"},{"$f":"VLOOKUP('Design #'!E965,Labels!$A:$B,2,FALSE)","v":"Preventing leaks from Yorkshire Water's pipe network"},{"$f":"VLOOKUP('Design #'!F965,Labels!$A:$B,2,FALSE)","v":"Providing financial help and support to those who are struggling to pay their water bill"}]
[65,5,{"$f":"VLOOKUP('Design #'!C966,Labels!$A:$B,2,FALSE)","v":"Reduce and offset carbon emissions to achieve a 'net zero' position by 2030 "},{"$f":"VLOOKUP('Design #'!D966,Labels!$A:$B,2,FALSE)","v":"Providing good and constant water pressure"},{"$f":"VLOOKUP('Design #'!E966,Labels!$A:$B,2,FALSE)","v":"Preventing pollution of rivers or streams from sewage pipes"},{"$f":"VLOOKUP('Design #'!F966,Labels!$A:$B,2,FALSE)","v":"Preventing leaks from Yorkshire Water's pipe network"}]
[65,6,{"$f":"VLOOKUP('Design #'!C967,Labels!$A:$B,2,FALSE)","v":"Preventing sewage from entering homes and businesses "},{"$f":"VLOOKUP('Design #'!D967,Labels!$A:$B,2,FALSE)","v":"Providing financial help and support to those who are struggling to pay their water bill"},{"$f":"VLOOKUP('Design #'!E967,Labels!$A:$B,2,FALSE)","v":"Reduce and offset carbon emissions to achieve a 'net zero' position by 2030 "},{"$f":"VLOOKUP('Design #'!F967,Labels!$A:$B,2,FALSE)","v":"Providing a high level of customer service (e.g. resolving queries quickly)"}]
[65,7,{"$f":"VLOOKUP('Design #'!C968,Labels!$A:$B,2,FALSE)","v":"Providing a continuous supply of water that is safe to drink"},{"$f":"VLOOKUP('Design #'!D968,Labels!$A:$B,2,FALSE)","v":"Preventing sewage entering gardens and public spaces from pipe collapses or blockages"},{"$f":"VLOOKUP('Design #'!E968,Labels!$A:$B,2,FALSE)","v":"Supporting customers to reduce their water use and prevent blockages through education and provision of free tools/devices"},{"$f":"VLOOKUP('Design #'!F968,Labels!$A:$B,2,FALSE)","v":"Reducing the release of untreated sewage mixed with rain water into rivers and streams during times of heavy rainfall"}]
[65,8,{"$f":"VLOOKUP('Design #'!C969,Labels!$A:$B,2,FALSE)","v":"Working with other organisations on common challenges (e.g. flooding) to share costs and expertise allowing for more and smarter investment to tackle problems"},{"$f":"VLOOKUP('Design #'!D969,Labels!$A:$B,2,FALSE)","v":"Ensuring additional support is available to those who need it e.g.  providing bills in braille, providing bottled water during times of interruptions for thos​e who can't get to a shop (elderly, medical conditions etc.)"},{"$f":"VLOOKUP('Design #'!E969,Labels!$A:$B,2,FALSE)","v":"Providing water that is aesthetically pleasing (clear and clean with no odour or unusual taste or colour)"},{"$f":"VLOOKUP('Design #'!F969,Labels!$A:$B,2,FALSE)","v":"Preventing sewage from entering homes and businesses "}]
[65,9,{"$f":"VLOOKUP('Design #'!C970,Labels!$A:$B,2,FALSE)","v":"Preventing interruptions to the supply of water (e.g. planned works, burst pipes, leaks and outages) that cause problems ranging from low pressure to no water"},{"$f":"VLOOKUP('Design #'!D970,Labels!$A:$B,2,FALSE)","v":"Providing financial help and support to those who are struggling to pay their water bill"},{"$f":"VLOOKUP('Design #'!E970,Labels!$A:$B,2,FALSE)","v":"Ensuring that land owned by Yorkshire Water is conserved or enhanced to improve quality of the water it collects and reduce flooding"},{"$f":"VLOOKUP('Design #'!F970,Labels!$A:$B,2,FALSE)","v":"Providing water that is aesthetically pleasing (clear and clean with no odour or unusual taste or colour)"}]
[65,10,{"$f":"VLOOKUP('Design #'!C971,Labels!$A:$B,2,FALSE)","v":"Providing good and constant water pressure"},{"$f":"VLOOKUP('Design #'!D971,Labels!$A:$B,2,FALSE)","v":"Preventing leaks from Yorkshire Water's pipe network"},{"$f":"VLOOKUP('Design #'!E971,Labels!$A:$B,2,FALSE)","v":"Reducing the release of untreated sewage mixed with rain water into rivers and streams during times of heavy rainfall"},{"$f":"VLOOKUP('Design #'!F971,Labels!$A:$B,2,FALSE)","v":"Preventing the likelihood of restrictions on water use, including hosepipe bans, in a drought"}]
[65,11,{"$f":"VLOOKUP('Design #'!C972,Labels!$A:$B,2,FALSE)","v":"Supporting customers to reduce their water use and prevent blockages through education and provision of free tools/devices"},{"$f":"VLOOKUP('Design #'!D972,Labels!$A:$B,2,FALSE)","v":"Keeping bills affordable for all"},{"$f":"VLOOKUP('Design #'!E972,Labels!$A:$B,2,FALSE)","v":"Preventing interruptions to the supply of water (e.g. planned works, burst pipes, leaks and outages) that cause problems ranging from low pressure to no water"},{"$f":"VLOOKUP('Design #'!F972,Labels!$A:$B,2,FALSE)","v":"Treating waste water to a high standard to ensure good quality water in Yorkshire's rivers and beaches"}]
[65,12,{"$f":"VLOOKUP('Design #'!C973,Labels!$A:$B,2,FALSE)","v":"Treating waste water to a high standard to ensure good quality water in Yorkshire's rivers and beaches"},{"$f":"VLOOKUP('Design #'!D973,Labels!$A:$B,2,FALSE)","v":"Working with other organisations on common challenges (e.g. flooding) to share costs and expertise allowing for more and smarter investment to tackle problems"},{"$f":"VLOOKUP('Design #'!E973,Labels!$A:$B,2,FALSE)","v":"Preventing the likelihood of restrictions on water use, including hosepipe bans, in a drought"},{"$f":"VLOOKUP('Design #'!F973,Labels!$A:$B,2,FALSE)","v":"Providing a high level of customer service (e.g. resolving queries quickly)"}]
[65,13,{"$f":"VLOOKUP('Design #'!C974,Labels!$A:$B,2,FALSE)","v":"Ensuring that land owned by Yorkshire Water is conserved or enhanced to improve quality of the water it collects and reduce flooding"},{"$f":"VLOOKUP('Design #'!D974,Labels!$A:$B,2,FALSE)","v":"Providing a continuous supply of water that is safe to drink"},{"$f":"VLOOKUP('Design #'!E974,Labels!$A:$B,2,FALSE)","v":"Providing appropriate sewer capacity and pumping capabilities to cope with widespread flood events"},{"$f":"VLOOKUP('Design #'!F974,Labels!$A:$B,2,FALSE)","v":"Preventing pollution of rivers or streams from sewage pipes"}]
[65,14,{"$f":"VLOOKUP('Design #'!C975,Labels!$A:$B,2,FALSE)","v":"Providing appropriate sewer capacity and pumping capabilities to cope with widespread flood events"},{"$f":"VLOOKUP('Design #'!D975,Labels!$A:$B,2,FALSE)","v":"Preventing the likelihood of restrictions on water use, including hosepipe bans, in a drought"},{"$f":"VLOOKUP('Design #'!E975,Labels!$A:$B,2,FALSE)","v":"Keeping bills affordable for all"},{"$f":"VLOOKUP('Design #'!F975,Labels!$A:$B,2,FALSE)","v":"Ensuring additional support is available to those who need it e.g.  providing bills in braille, providing bottled water during times of interruptions for thos​e who can't get to a shop (elderly, medical conditions etc.)"}]
[65,15,{"$f":"VLOOKUP('Design #'!C976,Labels!$A:$B,2,FALSE)","v":"Preventing sewage from entering homes and businesses "},{"$f":"VLOOKUP('Design #'!D976,Labels!$A:$B,2,FALSE)","v":"Supporting customers to reduce their water use and prevent blockages through education and provision of free tools/devices"},{"$f":"VLOOKUP('Design #'!E976,Labels!$A:$B,2,FALSE)","v":"Ensuring that land owned by Yorkshire Water is conserved or enhanced to improve quality of the water it collects and reduce flooding"},{"$f":"VLOOKUP('Design #'!F976,Labels!$A:$B,2,FALSE)","v":"Providing good and constant water pressure"}]
[66,1,{"$f":"VLOOKUP('Design #'!C977,Labels!$A:$B,2,FALSE)","v":"Ensuring additional support is available to those who need it e.g.  providing bills in braille, providing bottled water during times of interruptions for thos​e who can't get to a shop (elderly, medical conditions etc.)"},{"$f":"VLOOKUP('Design #'!D977,Labels!$A:$B,2,FALSE)","v":"Reducing the release of untreated sewage mixed with rain water into rivers and streams during times of heavy rainfall"},{"$f":"VLOOKUP('Design #'!E977,Labels!$A:$B,2,FALSE)","v":"Providing a continuous supply of water that is safe to drink"},{"$f":"VLOOKUP('Design #'!F977,Labels!$A:$B,2,FALSE)","v":"Ensuring that land owned by Yorkshire Water is conserved or enhanced to improve quality of the water it collects and reduce flooding"}]
[66,2,{"$f":"VLOOKUP('Design #'!C978,Labels!$A:$B,2,FALSE)","v":"Reducing the release of untreated sewage mixed with rain water into rivers and streams during times of heavy rainfall"},{"$f":"VLOOKUP('Design #'!D978,Labels!$A:$B,2,FALSE)","v":"Providing good and constant water pressure"},{"$f":"VLOOKUP('Design #'!E978,Labels!$A:$B,2,FALSE)","v":"Preventing interruptions to the supply of water (e.g. planned works, burst pipes, leaks and outages) that cause problems ranging from low pressure to no water"},{"$f":"VLOOKUP('Design #'!F978,Labels!$A:$B,2,FALSE)","v":"Providing appropriate sewer capacity and pumping capabilities to cope with widespread flood events"}]
[66,3,{"$f":"VLOOKUP('Design #'!C979,Labels!$A:$B,2,FALSE)","v":"Providing financial help and support to those who are struggling to pay their water bill"},{"$f":"VLOOKUP('Design #'!D979,Labels!$A:$B,2,FALSE)","v":"Preventing sewage from entering homes and businesses "},{"$f":"VLOOKUP('Design #'!E979,Labels!$A:$B,2,FALSE)","v":"Keeping bills affordable for all"},{"$f":"VLOOKUP('Design #'!F979,Labels!$A:$B,2,FALSE)","v":"Reducing the release of untreated sewage mixed with rain water into rivers and streams during times of heavy rainfall"}]
[66,4,{"$f":"VLOOKUP('Design #'!C980,Labels!$A:$B,2,FALSE)","v":"Preventing leaks from Yorkshire Water's pipe network"},{"$f":"VLOOKUP('Design #'!D980,Labels!$A:$B,2,FALSE)","v":"Preventing pollution of rivers or streams from sewage pipes"},{"$f":"VLOOKUP('Design #'!E980,Labels!$A:$B,2,FALSE)","v":"Preventing sewage from entering homes and businesses "},{"$f":"VLOOKUP('Design #'!F980,Labels!$A:$B,2,FALSE)","v":"Ensuring additional support is available to those who need it e.g.  providing bills in braille, providing bottled water during times of interruptions for thos​e who can't get to a shop (elderly, medical conditions etc.)"}]
[66,5,{"$f":"VLOOKUP('Design #'!C981,Labels!$A:$B,2,FALSE)","v":"Keeping bills affordable for all"},{"$f":"VLOOKUP('Design #'!D981,Labels!$A:$B,2,FALSE)","v":"Providing good and constant water pressure"},{"$f":"VLOOKUP('Design #'!E981,Labels!$A:$B,2,FALSE)","v":"Working with other organisations on common challenges (e.g. flooding) to share costs and expertise allowing for more and smarter investment to tackle problems"},{"$f":"VLOOKUP('Design #'!F981,Labels!$A:$B,2,FALSE)","v":"Providing a continuous supply of water that is safe to drink"}]
[66,6,{"$f":"VLOOKUP('Design #'!C982,Labels!$A:$B,2,FALSE)","v":"Preventing sewage entering gardens and public spaces from pipe collapses or blockages"},{"$f":"VLOOKUP('Design #'!D982,Labels!$A:$B,2,FALSE)","v":"Preventing pollution of rivers or streams from sewage pipes"},{"$f":"VLOOKUP('Design #'!E982,Labels!$A:$B,2,FALSE)","v":"Providing water that is aesthetically pleasing (clear and clean with no odour or unusual taste or colour)"},{"$f":"VLOOKUP('Design #'!F982,Labels!$A:$B,2,FALSE)","v":"Providing financial help and support to those who are struggling to pay their water bill"}]
[66,7,{"$f":"VLOOKUP('Design #'!C983,Labels!$A:$B,2,FALSE)","v":"Ensuring additional support is available to those who need it e.g.  providing bills in braille, providing bottled water during times of interruptions for thos​e who can't get to a shop (elderly, medical conditions etc.)"},{"$f":"VLOOKUP('Design #'!D983,Labels!$A:$B,2,FALSE)","v":"Providing a high level of customer service (e.g. resolving queries quickly)"},{"$f":"VLOOKUP('Design #'!E983,Labels!$A:$B,2,FALSE)","v":"Preventing sewage entering gardens and public spaces from pipe collapses or blockages"},{"$f":"VLOOKUP('Design #'!F983,Labels!$A:$B,2,FALSE)","v":"Preventing interruptions to the supply of water (e.g. planned works, burst pipes, leaks and outages) that cause problems ranging from low pressure to no water"}]
[66,8,{"$f":"VLOOKUP('Design #'!C984,Labels!$A:$B,2,FALSE)","v":"Providing good and constant water pressure"},{"$f":"VLOOKUP('Design #'!D984,Labels!$A:$B,2,FALSE)","v":"Treating waste water to a high standard to ensure good quality water in Yorkshire's rivers and beaches"},{"$f":"VLOOKUP('Design #'!E984,Labels!$A:$B,2,FALSE)","v":"Providing a high level of customer service (e.g. resolving queries quickly)"},{"$f":"VLOOKUP('Design #'!F984,Labels!$A:$B,2,FALSE)","v":"Keeping bills affordable for all"}]
[66,9,{"$f":"VLOOKUP('Design #'!C985,Labels!$A:$B,2,FALSE)","v":"Preventing sewage entering gardens and public spaces from pipe collapses or blockages"},{"$f":"VLOOKUP('Design #'!D985,Labels!$A:$B,2,FALSE)","v":"Keeping bills affordable for all"},{"$f":"VLOOKUP('Design #'!E985,Labels!$A:$B,2,FALSE)","v":"Preventing leaks from Yorkshire Water's pipe network"},{"$f":"VLOOKUP('Design #'!F985,Labels!$A:$B,2,FALSE)","v":"Supporting customers to reduce their water use and prevent blockages through education and provision of free tools/devices"}]
[66,10,{"$f":"VLOOKUP('Design #'!C986,Labels!$A:$B,2,FALSE)","v":"Providing financial help and support to those who are struggling to pay their water bill"},{"$f":"VLOOKUP('Design #'!D986,Labels!$A:$B,2,FALSE)","v":"Supporting customers to reduce their water use and prevent blockages through education and provision of free tools/devices"},{"$f":"VLOOKUP('Design #'!E986,Labels!$A:$B,2,FALSE)","v":"Reduce and offset carbon emissions to achieve a 'net zero' position by 2030 "},{"$f":"VLOOKUP('Design #'!F986,Labels!$A:$B,2,FALSE)","v":"Preventing the likelihood of restrictions on water use, including hosepipe bans, in a drought"}]
[66,11,{"$f":"VLOOKUP('Design #'!C987,Labels!$A:$B,2,FALSE)","v":"Preventing interruptions to the supply of water (e.g. planned works, burst pipes, leaks and outages) that cause problems ranging from low pressure to no water"},{"$f":"VLOOKUP('Design #'!D987,Labels!$A:$B,2,FALSE)","v":"Providing a continuous supply of water that is safe to drink"},{"$f":"VLOOKUP('Design #'!E987,Labels!$A:$B,2,FALSE)","v":"Preventing sewage from entering homes and businesses "},{"$f":"VLOOKUP('Design #'!F987,Labels!$A:$B,2,FALSE)","v":"Working with other organisations on common challenges (e.g. flooding) to share costs and expertise allowing for more and smarter investment to tackle problems"}]
[66,12,{"$f":"VLOOKUP('Design #'!C988,Labels!$A:$B,2,FALSE)","v":"Providing water that is aesthetically pleasing (clear and clean with no odour or unusual taste or colour)"},{"$f":"VLOOKUP('Design #'!D988,Labels!$A:$B,2,FALSE)","v":"Reducing the release of untreated sewage mixed with rain water into rivers and streams during times of heavy rainfall"},{"$f":"VLOOKUP('Design #'!E988,Labels!$A:$B,2,FALSE)","v":"Treating waste water to a high standard to ensure good quality water in Yorkshire's rivers and beaches"},{"$f":"VLOOKUP('Design #'!F988,Labels!$A:$B,2,FALSE)","v":"Ensuring that land owned by Yorkshire Water is conserved or enhanced to improve quality of the water it collects and reduce flooding"}]
[66,13,{"$f":"VLOOKUP('Design #'!C989,Labels!$A:$B,2,FALSE)","v":"Preventing pollution of rivers or streams from sewage pipes"},{"$f":"VLOOKUP('Design #'!D989,Labels!$A:$B,2,FALSE)","v":"Providing water that is aesthetically pleasing (clear and clean with no odour or unusual taste or colour)"},{"$f":"VLOOKUP('Design #'!E989,Labels!$A:$B,2,FALSE)","v":"Working with other organisations on common challenges (e.g. flooding) to share costs and expertise allowing for more and smarter investment to tackle problems"},{"$f":"VLOOKUP('Design #'!F989,Labels!$A:$B,2,FALSE)","v":"Reduce and offset carbon emissions to achieve a 'net zero' position by 2030 "}]
[66,14,{"$f":"VLOOKUP('Design #'!C990,Labels!$A:$B,2,FALSE)","v":"Providing a continuous supply of water that is safe to drink"},{"$f":"VLOOKUP('Design #'!D990,Labels!$A:$B,2,FALSE)","v":"Reduce and offset carbon emissions to achieve a 'net zero' position by 2030 "},{"$f":"VLOOKUP('Design #'!E990,Labels!$A:$B,2,FALSE)","v":"Treating waste water to a high standard to ensure good quality water in Yorkshire's rivers and beaches"},{"$f":"VLOOKUP('Design #'!F990,Labels!$A:$B,2,FALSE)","v":"Providing appropriate sewer capacity and pumping capabilities to cope with widespread flood events"}]
[66,15,{"$f":"VLOOKUP('Design #'!C991,Labels!$A:$B,2,FALSE)","v":"Providing a high level of customer service (e.g. resolving queries quickly)"},{"$f":"VLOOKUP('Design #'!D991,Labels!$A:$B,2,FALSE)","v":"Ensuring that land owned by Yorkshire Water is conserved or enhanced to improve quality of the water it collects and reduce flooding"},{"$f":"VLOOKUP('Design #'!E991,Labels!$A:$B,2,FALSE)","v":"Supporting customers to reduce their water use and prevent blockages through education and provision of free tools/devices"},{"$f":"VLOOKUP('Design #'!F991,Labels!$A:$B,2,FALSE)","v":"Preventing the likelihood of restrictions on water use, including hosepipe bans, in a drought"}]
[67,1,{"$f":"VLOOKUP('Design #'!C992,Labels!$A:$B,2,FALSE)","v":"Providing a continuous supply of water that is safe to drink"},{"$f":"VLOOKUP('Design #'!D992,Labels!$A:$B,2,FALSE)","v":"Preventing interruptions to the supply of water (e.g. planned works, burst pipes, leaks and outages) that cause problems ranging from low pressure to no water"},{"$f":"VLOOKUP('Design #'!E992,Labels!$A:$B,2,FALSE)","v":"Providing financial help and support to those who are struggling to pay their water bill"},{"$f":"VLOOKUP('Design #'!F992,Labels!$A:$B,2,FALSE)","v":"Preventing sewage entering gardens and public spaces from pipe collapses or blockages"}]
[67,2,{"$f":"VLOOKUP('Design #'!C993,Labels!$A:$B,2,FALSE)","v":"Working with other organisations on common challenges (e.g. flooding) to share costs and expertise allowing for more and smarter investment to tackle problems"},{"$f":"VLOOKUP('Design #'!D993,Labels!$A:$B,2,FALSE)","v":"Preventing sewage entering gardens and public spaces from pipe collapses or blockages"},{"$f":"VLOOKUP('Design #'!E993,Labels!$A:$B,2,FALSE)","v":"Ensuring that land owned by Yorkshire Water is conserved or enhanced to improve quality of the water it collects and reduce flooding"},{"$f":"VLOOKUP('Design #'!F993,Labels!$A:$B,2,FALSE)","v":"Providing good and constant water pressure"}]
[67,3,{"$f":"VLOOKUP('Design #'!C994,Labels!$A:$B,2,FALSE)","v":"Preventing the likelihood of restrictions on water use, including hosepipe bans, in a drought"},{"$f":"VLOOKUP('Design #'!D994,Labels!$A:$B,2,FALSE)","v":"Preventing sewage from entering homes and businesses "},{"$f":"VLOOKUP('Design #'!E994,Labels!$A:$B,2,FALSE)","v":"Preventing interruptions to the supply of water (e.g. planned works, burst pipes, leaks and outages) that cause problems ranging from low pressure to no water"},{"$f":"VLOOKUP('Design #'!F994,Labels!$A:$B,2,FALSE)","v":"Reducing the release of untreated sewage mixed with rain water into rivers and streams during times of heavy rainfall"}]
[67,4,{"$f":"VLOOKUP('Design #'!C995,Labels!$A:$B,2,FALSE)","v":"Ensuring that land owned by Yorkshire Water is conserved or enhanced to improve quality of the water it collects and reduce flooding"},{"$f":"VLOOKUP('Design #'!D995,Labels!$A:$B,2,FALSE)","v":"Providing a high level of customer service (e.g. resolving queries quickly)"},{"$f":"VLOOKUP('Design #'!E995,Labels!$A:$B,2,FALSE)","v":"Ensuring additional support is available to those who need it e.g.  providing bills in braille, providing bottled water during times of interruptions for thos​e who can't get to a shop (elderly, medical conditions etc.)"},{"$f":"VLOOKUP('Design #'!F995,Labels!$A:$B,2,FALSE)","v":"Providing financial help and support to those who are struggling to pay their water bill"}]
[67,5,{"$f":"VLOOKUP('Design #'!C996,Labels!$A:$B,2,FALSE)","v":"Providing appropriate sewer capacity and pumping capabilities to cope with widespread flood events"},{"$f":"VLOOKUP('Design #'!D996,Labels!$A:$B,2,FALSE)","v":"Preventing leaks from Yorkshire Water's pipe network"},{"$f":"VLOOKUP('Design #'!E996,Labels!$A:$B,2,FALSE)","v":"Working with other organisations on common challenges (e.g. flooding) to share costs and expertise allowing for more and smarter investment to tackle problems"},{"$f":"VLOOKUP('Design #'!F996,Labels!$A:$B,2,FALSE)","v":"Treating waste water to a high standard to ensure good quality water in Yorkshire's rivers and beaches"}]
[67,6,{"$f":"VLOOKUP('Design #'!C997,Labels!$A:$B,2,FALSE)","v":"Providing water that is aesthetically pleasing (clear and clean with no odour or unusual taste or colour)"},{"$f":"VLOOKUP('Design #'!D997,Labels!$A:$B,2,FALSE)","v":"Providing appropriate sewer capacity and pumping capabilities to cope with widespread flood events"},{"$f":"VLOOKUP('Design #'!E997,Labels!$A:$B,2,FALSE)","v":"Providing good and constant water pressure"},{"$f":"VLOOKUP('Design #'!F997,Labels!$A:$B,2,FALSE)","v":"Preventing sewage from entering homes and businesses "}]
[67,7,{"$f":"VLOOKUP('Design #'!C998,Labels!$A:$B,2,FALSE)","v":"Keeping bills affordable for all"},{"$f":"VLOOKUP('Design #'!D998,Labels!$A:$B,2,FALSE)","v":"Ensuring that land owned by Yorkshire Water is conserved or enhanced to improve quality of the water it collects and reduce flooding"},{"$f":"VLOOKUP('Design #'!E998,Labels!$A:$B,2,FALSE)","v":"Preventing interruptions to the supply of water (e.g. planned works, burst pipes, leaks and outages) that cause problems ranging from low pressure to no water"},{"$f":"VLOOKUP('Design #'!F998,Labels!$A:$B,2,FALSE)","v":"Reduce and offset carbon emissions to achieve a 'net zero' position by 2030 "}]
[67,8,{"$f":"VLOOKUP('Design #'!C999,Labels!$A:$B,2,FALSE)","v":"Treating waste water to a high standard to ensure good quality water in Yorkshire's rivers and beaches"},{"$f":"VLOOKUP('Design #'!D999,Labels!$A:$B,2,FALSE)","v":"Preventing pollution of rivers or streams from sewage pipes"},{"$f":"VLOOKUP('Design #'!E999,Labels!$A:$B,2,FALSE)","v":"Supporting customers to reduce their water use and prevent blockages through education and provision of free tools/devices"},{"$f":"VLOOKUP('Design #'!F999,Labels!$A:$B,2,FALSE)","v":"Providing a continuous supply of water that is safe to drink"}]
[67,9,{"$f":"VLOOKUP('Design #'!C1000,Labels!$A:$B,2,FALSE)","v":"Providing appropriate sewer capacity and pumping capabilities to cope with widespread flood events"},{"$f":"VLOOKUP('Design #'!D1000,Labels!$A:$B,2,FALSE)","v":"Providing a high level of customer service (e.g. resolving queries quickly)"},{"$f":"VLOOKUP('Design #'!E1000,Labels!$A:$B,2,FALSE)","v":"Preventing pollution of rivers or streams from sewage pipes"},{"$f":"VLOOKUP('Design #'!F1000,Labels!$A:$B,2,FALSE)","v":"Keeping bills affordable for all"}]
[67,10,{"$f":"VLOOKUP('Design #'!C1001,Labels!$A:$B,2,FALSE)","v":"Providing financial help and support to those who are struggling to pay their water bill"},{"$f":"VLOOKUP('Design #'!D1001,Labels!$A:$B,2,FALSE)","v":"Preventing the likelihood of restrictions on water use, including hosepipe bans, in a drought"},{"$f":"VLOOKUP('Design #'!E1001,Labels!$A:$B,2,FALSE)","v":"Preventing sewage entering gardens and public spaces from pipe collapses or blockages"},{"$f":"VLOOKUP('Design #'!F1001,Labels!$A:$B,2,FALSE)","v":"Preventing leaks from Yorkshire Water's pipe network"}]
[67,11,{"$f":"VLOOKUP('Design #'!C1002,Labels!$A:$B,2,FALSE)","v":"Supporting customers to reduce their water use and prevent blockages through education and provision of free tools/devices"},{"$f":"VLOOKUP('Design #'!D1002,Labels!$A:$B,2,FALSE)","v":"Reduce and offset carbon emissions to achieve a 'net zero' position by 2030 "},{"$f":"VLOOKUP('Design #'!E1002,Labels!$A:$B,2,FALSE)","v":"Preventing leaks from Yorkshire Water's pipe network"},{"$f":"VLOOKUP('Design #'!F1002,Labels!$A:$B,2,FALSE)","v":"Preventing sewage from entering homes and businesses "}]
[67,12,{"$f":"VLOOKUP('Design #'!C1003,Labels!$A:$B,2,FALSE)","v":"Reducing the release of untreated sewage mixed with rain water into rivers and streams during times of heavy rainfall"},{"$f":"VLOOKUP('Design #'!D1003,Labels!$A:$B,2,FALSE)","v":"Treating waste water to a high standard to ensure good quality water in Yorkshire's rivers and beaches"},{"$f":"VLOOKUP('Design #'!E1003,Labels!$A:$B,2,FALSE)","v":"Ensuring additional support is available to those who need it e.g.  providing bills in braille, providing bottled water during times of interruptions for thos​e who can't get to a shop (elderly, medical conditions etc.)"},{"$f":"VLOOKUP('Design #'!F1003,Labels!$A:$B,2,FALSE)","v":"Providing water that is aesthetically pleasing (clear and clean with no odour or unusual taste or colour)"}]
[67,13,{"$f":"VLOOKUP('Design #'!C1004,Labels!$A:$B,2,FALSE)","v":"Reducing the release of untreated sewage mixed with rain water into rivers and streams during times of heavy rainfall"},{"$f":"VLOOKUP('Design #'!D1004,Labels!$A:$B,2,FALSE)","v":"Working with other organisations on common challenges (e.g. flooding) to share costs and expertise allowing for more and smarter investment to tackle problems"},{"$f":"VLOOKUP('Design #'!E1004,Labels!$A:$B,2,FALSE)","v":"Providing a high level of customer service (e.g. resolving queries quickly)"},{"$f":"VLOOKUP('Design #'!F1004,Labels!$A:$B,2,FALSE)","v":"Ensuring additional support is available to those who need it e.g.  providing bills in braille, providing bottled water during times of interruptions for thos​e who can't get to a shop (elderly, medical conditions etc.)"}]
[67,14,{"$f":"VLOOKUP('Design #'!C1005,Labels!$A:$B,2,FALSE)","v":"Reduce and offset carbon emissions to achieve a 'net zero' position by 2030 "},{"$f":"VLOOKUP('Design #'!D1005,Labels!$A:$B,2,FALSE)","v":"Providing good and constant water pressure"},{"$f":"VLOOKUP('Design #'!E1005,Labels!$A:$B,2,FALSE)","v":"Preventing the likelihood of restrictions on water use, including hosepipe bans, in a drought"},{"$f":"VLOOKUP('Design #'!F1005,Labels!$A:$B,2,FALSE)","v":"Preventing pollution of rivers or streams from sewage pipes"}]
[67,15,{"$f":"VLOOKUP('Design #'!C1006,Labels!$A:$B,2,FALSE)","v":"Preventing the likelihood of restrictions on water use, including hosepipe bans, in a drought"},{"$f":"VLOOKUP('Design #'!D1006,Labels!$A:$B,2,FALSE)","v":"Providing water that is aesthetically pleasing (clear and clean with no odour or unusual taste or colour)"},{"$f":"VLOOKUP('Design #'!E1006,Labels!$A:$B,2,FALSE)","v":"Providing appropriate sewer capacity and pumping capabilities to cope with widespread flood events"},{"$f":"VLOOKUP('Design #'!F1006,Labels!$A:$B,2,FALSE)","v":"Supporting customers to reduce their water use and prevent blockages through education and provision of free tools/devices"}]
[68,1,{"$f":"VLOOKUP('Design #'!C1007,Labels!$A:$B,2,FALSE)","v":"Reduce and offset carbon emissions to achieve a 'net zero' position by 2030 "},{"$f":"VLOOKUP('Design #'!D1007,Labels!$A:$B,2,FALSE)","v":"Working with other organisations on common challenges (e.g. flooding) to share costs and expertise allowing for more and smarter investment to tackle problems"},{"$f":"VLOOKUP('Design #'!E1007,Labels!$A:$B,2,FALSE)","v":"Providing a high level of customer service (e.g. resolving queries quickly)"},{"$f":"VLOOKUP('Design #'!F1007,Labels!$A:$B,2,FALSE)","v":"Supporting customers to reduce their water use and prevent blockages through education and provision of free tools/devices"}]
[68,2,{"$f":"VLOOKUP('Design #'!C1008,Labels!$A:$B,2,FALSE)","v":"Working with other organisations on common challenges (e.g. flooding) to share costs and expertise allowing for more and smarter investment to tackle problems"},{"$f":"VLOOKUP('Design #'!D1008,Labels!$A:$B,2,FALSE)","v":"Preventing the likelihood of restrictions on water use, including hosepipe bans, in a drought"},{"$f":"VLOOKUP('Design #'!E1008,Labels!$A:$B,2,FALSE)","v":"Ensuring that land owned by Yorkshire Water is conserved or enhanced to improve quality of the water it collects and reduce flooding"},{"$f":"VLOOKUP('Design #'!F1008,Labels!$A:$B,2,FALSE)","v":"Treating waste water to a high standard to ensure good quality water in Yorkshire's rivers and beaches"}]
[68,3,{"$f":"VLOOKUP('Design #'!C1009,Labels!$A:$B,2,FALSE)","v":"Ensuring that land owned by Yorkshire Water is conserved or enhanced to improve quality of the water it collects and reduce flooding"},{"$f":"VLOOKUP('Design #'!D1009,Labels!$A:$B,2,FALSE)","v":"Providing appropriate sewer capacity and pumping capabilities to cope with widespread flood events"},{"$f":"VLOOKUP('Design #'!E1009,Labels!$A:$B,2,FALSE)","v":"Reducing the release of untreated sewage mixed with rain water into rivers and streams during times of heavy rainfall"},{"$f":"VLOOKUP('Design #'!F1009,Labels!$A:$B,2,FALSE)","v":"Preventing pollution of rivers or streams from sewage pipes"}]
[68,4,{"$f":"VLOOKUP('Design #'!C1010,Labels!$A:$B,2,FALSE)","v":"Preventing pollution of rivers or streams from sewage pipes"},{"$f":"VLOOKUP('Design #'!D1010,Labels!$A:$B,2,FALSE)","v":"Providing financial help and support to those who are struggling to pay their water bill"},{"$f":"VLOOKUP('Design #'!E1010,Labels!$A:$B,2,FALSE)","v":"Providing appropriate sewer capacity and pumping capabilities to cope with widespread flood events"},{"$f":"VLOOKUP('Design #'!F1010,Labels!$A:$B,2,FALSE)","v":"Working with other organisations on common challenges (e.g. flooding) to share costs and expertise allowing for more and smarter investment to tackle problems"}]
[68,5,{"$f":"VLOOKUP('Design #'!C1011,Labels!$A:$B,2,FALSE)","v":"Treating waste water to a high standard to ensure good quality water in Yorkshire's rivers and beaches"},{"$f":"VLOOKUP('Design #'!D1011,Labels!$A:$B,2,FALSE)","v":"Ensuring additional support is available to those who need it e.g.  providing bills in braille, providing bottled water during times of interruptions for thos​e who can't get to a shop (elderly, medical conditions etc.)"},{"$f":"VLOOKUP('Design #'!E1011,Labels!$A:$B,2,FALSE)","v":"Preventing the likelihood of restrictions on water use, including hosepipe bans, in a drought"},{"$f":"VLOOKUP('Design #'!F1011,Labels!$A:$B,2,FALSE)","v":"Reduce and offset carbon emissions to achieve a 'net zero' position by 2030 "}]
[68,6,{"$f":"VLOOKUP('Design #'!C1012,Labels!$A:$B,2,FALSE)","v":"Preventing sewage from entering homes and businesses "},{"$f":"VLOOKUP('Design #'!D1012,Labels!$A:$B,2,FALSE)","v":"Treating waste water to a high standard to ensure good quality water in Yorkshire's rivers and beaches"},{"$f":"VLOOKUP('Design #'!E1012,Labels!$A:$B,2,FALSE)","v":"Providing a high level of customer service (e.g. resolving queries quickly)"},{"$f":"VLOOKUP('Design #'!F1012,Labels!$A:$B,2,FALSE)","v":"Preventing sewage entering gardens and public spaces from pipe collapses or blockages"}]
[68,7,{"$f":"VLOOKUP('Design #'!C1013,Labels!$A:$B,2,FALSE)","v":"Providing a high level of customer service (e.g. resolving queries quickly)"},{"$f":"VLOOKUP('Design #'!D1013,Labels!$A:$B,2,FALSE)","v":"Preventing pollution of rivers or streams from sewage pipes"},{"$f":"VLOOKUP('Design #'!E1013,Labels!$A:$B,2,FALSE)","v":"Providing water that is aesthetically pleasing (clear and clean with no odour or unusual taste or colour)"},{"$f":"VLOOKUP('Design #'!F1013,Labels!$A:$B,2,FALSE)","v":"Preventing interruptions to the supply of water (e.g. planned works, burst pipes, leaks and outages) that cause problems ranging from low pressure to no water"}]
[68,8,{"$f":"VLOOKUP('Design #'!C1014,Labels!$A:$B,2,FALSE)","v":"Preventing leaks from Yorkshire Water's pipe network"},{"$f":"VLOOKUP('Design #'!D1014,Labels!$A:$B,2,FALSE)","v":"Ensuring additional support is available to those who need it e.g.  providing bills in braille, providing bottled water during times of interruptions for thos​e who can't get to a shop (elderly, medical conditions etc.)"},{"$f":"VLOOKUP('Design #'!E1014,Labels!$A:$B,2,FALSE)","v":"Reduce and offset carbon emissions to achieve a 'net zero' position by 2030 "},{"$f":"VLOOKUP('Design #'!F1014,Labels!$A:$B,2,FALSE)","v":"Providing appropriate sewer capacity and pumping capabilities to cope with widespread flood events"}]
[68,9,{"$f":"VLOOKUP('Design #'!C1015,Labels!$A:$B,2,FALSE)","v":"Providing water that is aesthetically pleasing (clear and clean with no odour or unusual taste or colour)"},{"$f":"VLOOKUP('Design #'!D1015,Labels!$A:$B,2,FALSE)","v":"Providing a continuous supply of water that is safe to drink"},{"$f":"VLOOKUP('Design #'!E1015,Labels!$A:$B,2,FALSE)","v":"Keeping bills affordable for all"},{"$f":"VLOOKUP('Design #'!F1015,Labels!$A:$B,2,FALSE)","v":"Preventing the likelihood of restrictions on water use, including hosepipe bans, in a drought"}]
[68,10,{"$f":"VLOOKUP('Design #'!C1016,Labels!$A:$B,2,FALSE)","v":"Preventing interruptions to the supply of water (e.g. planned works, burst pipes, leaks and outages) that cause problems ranging from low pressure to no water"},{"$f":"VLOOKUP('Design #'!D1016,Labels!$A:$B,2,FALSE)","v":"Reducing the release of untreated sewage mixed with rain water into rivers and streams during times of heavy rainfall"},{"$f":"VLOOKUP('Design #'!E1016,Labels!$A:$B,2,FALSE)","v":"Providing financial help and support to those who are struggling to pay their water bill"},{"$f":"VLOOKUP('Design #'!F1016,Labels!$A:$B,2,FALSE)","v":"Providing appropriate sewer capacity and pumping capabilities to cope with widespread flood events"}]
[68,11,{"$f":"VLOOKUP('Design #'!C1017,Labels!$A:$B,2,FALSE)","v":"Ensuring additional support is available to those who need it e.g.  providing bills in braille, providing bottled water during times of interruptions for thos​e who can't get to a shop (elderly, medical conditions etc.)"},{"$f":"VLOOKUP('Design #'!D1017,Labels!$A:$B,2,FALSE)","v":"Keeping bills affordable for all"},{"$f":"VLOOKUP('Design #'!E1017,Labels!$A:$B,2,FALSE)","v":"Supporting customers to reduce their water use and prevent blockages through education and provision of free tools/devices"},{"$f":"VLOOKUP('Design #'!F1017,Labels!$A:$B,2,FALSE)","v":"Working with other organisations on common challenges (e.g. flooding) to share costs and expertise allowing for more and smarter investment to tackle problems"}]
[68,12,{"$f":"VLOOKUP('Design #'!C1018,Labels!$A:$B,2,FALSE)","v":"Supporting customers to reduce their water use and prevent blockages through education and provision of free tools/devices"},{"$f":"VLOOKUP('Design #'!D1018,Labels!$A:$B,2,FALSE)","v":"Preventing sewage entering gardens and public spaces from pipe collapses or blockages"},{"$f":"VLOOKUP('Design #'!E1018,Labels!$A:$B,2,FALSE)","v":"Reducing the release of untreated sewage mixed with rain water into rivers and streams during times of heavy rainfall"},{"$f":"VLOOKUP('Design #'!F1018,Labels!$A:$B,2,FALSE)","v":"Providing water that is aesthetically pleasing (clear and clean with no odour or unusual taste or colour)"}]
[68,13,{"$f":"VLOOKUP('Design #'!C1019,Labels!$A:$B,2,FALSE)","v":"Providing a continuous supply of water that is safe to drink"},{"$f":"VLOOKUP('Design #'!D1019,Labels!$A:$B,2,FALSE)","v":"Preventing sewage from entering homes and businesses "},{"$f":"VLOOKUP('Design #'!E1019,Labels!$A:$B,2,FALSE)","v":"Preventing leaks from Yorkshire Water's pipe network"},{"$f":"VLOOKUP('Design #'!F1019,Labels!$A:$B,2,FALSE)","v":"Ensuring that land owned by Yorkshire Water is conserved or enhanced to improve quality of the water it collects and reduce flooding"}]
[68,14,{"$f":"VLOOKUP('Design #'!C1020,Labels!$A:$B,2,FALSE)","v":"Keeping bills affordable for all"},{"$f":"VLOOKUP('Design #'!D1020,Labels!$A:$B,2,FALSE)","v":"Ensuring additional support is available to those who need it e.g.  providing bills in braille, providing bottled water during times of interruptions for thos​e who can't get to a shop (elderly, medical conditions etc.)"},{"$f":"VLOOKUP('Design #'!E1020,Labels!$A:$B,2,FALSE)","v":"Providing good and constant water pressure"},{"$f":"VLOOKUP('Design #'!F1020,Labels!$A:$B,2,FALSE)","v":"Providing financial help and support to those who are struggling to pay their water bill"}]
[68,15,{"$f":"VLOOKUP('Design #'!C1021,Labels!$A:$B,2,FALSE)","v":"Providing good and constant water pressure"},{"$f":"VLOOKUP('Design #'!D1021,Labels!$A:$B,2,FALSE)","v":"Preventing leaks from Yorkshire Water's pipe network"},{"$f":"VLOOKUP('Design #'!E1021,Labels!$A:$B,2,FALSE)","v":"Preventing interruptions to the supply of water (e.g. planned works, burst pipes, leaks and outages) that cause problems ranging from low pressure to no water"},{"$f":"VLOOKUP('Design #'!F1021,Labels!$A:$B,2,FALSE)","v":"Providing a high level of customer service (e.g. resolving queries quickly)"}]
[69,1,{"$f":"VLOOKUP('Design #'!C1022,Labels!$A:$B,2,FALSE)","v":"Providing a high level of customer service (e.g. resolving queries quickly)"},{"$f":"VLOOKUP('Design #'!D1022,Labels!$A:$B,2,FALSE)","v":"Keeping bills affordable for all"},{"$f":"VLOOKUP('Design #'!E1022,Labels!$A:$B,2,FALSE)","v":"Reducing the release of untreated sewage mixed with rain water into rivers and streams during times of heavy rainfall"},{"$f":"VLOOKUP('Design #'!F1022,Labels!$A:$B,2,FALSE)","v":"Preventing the likelihood of restrictions on water use, including hosepipe bans, in a drought"}]
[69,2,{"$f":"VLOOKUP('Design #'!C1023,Labels!$A:$B,2,FALSE)","v":"Preventing pollution of rivers or streams from sewage pipes"},{"$f":"VLOOKUP('Design #'!D1023,Labels!$A:$B,2,FALSE)","v":"Preventing sewage entering gardens and public spaces from pipe collapses or blockages"},{"$f":"VLOOKUP('Design #'!E1023,Labels!$A:$B,2,FALSE)","v":"Providing a continuous supply of water that is safe to drink"},{"$f":"VLOOKUP('Design #'!F1023,Labels!$A:$B,2,FALSE)","v":"Ensuring additional support is available to those who need it e.g.  providing bills in braille, providing bottled water during times of interruptions for thos​e who can't get to a shop (elderly, medical conditions etc.)"}]
[69,3,{"$f":"VLOOKUP('Design #'!C1024,Labels!$A:$B,2,FALSE)","v":"Keeping bills affordable for all"},{"$f":"VLOOKUP('Design #'!D1024,Labels!$A:$B,2,FALSE)","v":"Providing a continuous supply of water that is safe to drink"},{"$f":"VLOOKUP('Design #'!E1024,Labels!$A:$B,2,FALSE)","v":"Working with other organisations on common challenges (e.g. flooding) to share costs and expertise allowing for more and smarter investment to tackle problems"},{"$f":"VLOOKUP('Design #'!F1024,Labels!$A:$B,2,FALSE)","v":"Preventing leaks from Yorkshire Water's pipe network"}]
[69,4,{"$f":"VLOOKUP('Design #'!C1025,Labels!$A:$B,2,FALSE)","v":"Preventing sewage entering gardens and public spaces from pipe collapses or blockages"},{"$f":"VLOOKUP('Design #'!D1025,Labels!$A:$B,2,FALSE)","v":"Providing appropriate sewer capacity and pumping capabilities to cope with widespread flood events"},{"$f":"VLOOKUP('Design #'!E1025,Labels!$A:$B,2,FALSE)","v":"Preventing sewage from entering homes and businesses "},{"$f":"VLOOKUP('Design #'!F1025,Labels!$A:$B,2,FALSE)","v":"Providing good and constant water pressure"}]
[69,5,{"$f":"VLOOKUP('Design #'!C1026,Labels!$A:$B,2,FALSE)","v":"Reducing the release of untreated sewage mixed with rain water into rivers and streams during times of heavy rainfall"},{"$f":"VLOOKUP('Design #'!D1026,Labels!$A:$B,2,FALSE)","v":"Working with other organisations on common challenges (e.g. flooding) to share costs and expertise allowing for more and smarter investment to tackle problems"},{"$f":"VLOOKUP('Design #'!E1026,Labels!$A:$B,2,FALSE)","v":"Preventing pollution of rivers or streams from sewage pipes"},{"$f":"VLOOKUP('Design #'!F1026,Labels!$A:$B,2,FALSE)","v":"Providing financial help and support to those who are struggling to pay their water bill"}]
[69,6,{"$f":"VLOOKUP('Design #'!C1027,Labels!$A:$B,2,FALSE)","v":"Providing water that is aesthetically pleasing (clear and clean with no odour or unusual taste or colour)"},{"$f":"VLOOKUP('Design #'!D1027,Labels!$A:$B,2,FALSE)","v":"Supporting customers to reduce their water use and prevent blockages through education and provision of free tools/devices"},{"$f":"VLOOKUP('Design #'!E1027,Labels!$A:$B,2,FALSE)","v":"Providing good and constant water pressure"},{"$f":"VLOOKUP('Design #'!F1027,Labels!$A:$B,2,FALSE)","v":"Reduce and offset carbon emissions to achieve a 'net zero' position by 2030 "}]
[69,7,{"$f":"VLOOKUP('Design #'!C1028,Labels!$A:$B,2,FALSE)","v":"Providing appropriate sewer capacity and pumping capabilities to cope with widespread flood events"},{"$f":"VLOOKUP('Design #'!D1028,Labels!$A:$B,2,FALSE)","v":"Reduce and offset carbon emissions to achieve a 'net zero' position by 2030 "},{"$f":"VLOOKUP('Design #'!E1028,Labels!$A:$B,2,FALSE)","v":"Ensuring that land owned by Yorkshire Water is conserved or enhanced to improve quality of the water it collects and reduce flooding"},{"$f":"VLOOKUP('Design #'!F1028,Labels!$A:$B,2,FALSE)","v":"Providing a high level of customer service (e.g. resolving queries quickly)"}]
[69,8,{"$f":"VLOOKUP('Design #'!C1029,Labels!$A:$B,2,FALSE)","v":"Supporting customers to reduce their water use and prevent blockages through education and provision of free tools/devices"},{"$f":"VLOOKUP('Design #'!D1029,Labels!$A:$B,2,FALSE)","v":"Preventing leaks from Yorkshire Water's pipe network"},{"$f":"VLOOKUP('Design #'!E1029,Labels!$A:$B,2,FALSE)","v":"Preventing sewage from entering homes and businesses "},{"$f":"VLOOKUP('Design #'!F1029,Labels!$A:$B,2,FALSE)","v":"Providing a continuous supply of water that is safe to drink"}]
[69,9,{"$f":"VLOOKUP('Design #'!C1030,Labels!$A:$B,2,FALSE)","v":"Preventing sewage from entering homes and businesses "},{"$f":"VLOOKUP('Design #'!D1030,Labels!$A:$B,2,FALSE)","v":"Providing financial help and support to those who are struggling to pay their water bill"},{"$f":"VLOOKUP('Design #'!E1030,Labels!$A:$B,2,FALSE)","v":"Treating waste water to a high standard to ensure good quality water in Yorkshire's rivers and beaches"},{"$f":"VLOOKUP('Design #'!F1030,Labels!$A:$B,2,FALSE)","v":"Preventing pollution of rivers or streams from sewage pipes"}]
[69,10,{"$f":"VLOOKUP('Design #'!C1031,Labels!$A:$B,2,FALSE)","v":"Preventing sewage entering gardens and public spaces from pipe collapses or blockages"},{"$f":"VLOOKUP('Design #'!D1031,Labels!$A:$B,2,FALSE)","v":"Providing water that is aesthetically pleasing (clear and clean with no odour or unusual taste or colour)"},{"$f":"VLOOKUP('Design #'!E1031,Labels!$A:$B,2,FALSE)","v":"Treating waste water to a high standard to ensure good quality water in Yorkshire's rivers and beaches"},{"$f":"VLOOKUP('Design #'!F1031,Labels!$A:$B,2,FALSE)","v":"Keeping bills affordable for all"}]
[69,11,{"$f":"VLOOKUP('Design #'!C1032,Labels!$A:$B,2,FALSE)","v":"Treating waste water to a high standard to ensure good quality water in Yorkshire's rivers and beaches"},{"$f":"VLOOKUP('Design #'!D1032,Labels!$A:$B,2,FALSE)","v":"Preventing interruptions to the supply of water (e.g. planned works, burst pipes, leaks and outages) that cause problems ranging from low pressure to no water"},{"$f":"VLOOKUP('Design #'!E1032,Labels!$A:$B,2,FALSE)","v":"Reduce and offset carbon emissions to achieve a 'net zero' position by 2030 "},{"$f":"VLOOKUP('Design #'!F1032,Labels!$A:$B,2,FALSE)","v":"Reducing the release of untreated sewage mixed with rain water into rivers and streams during times of heavy rainfall"}]
[69,12,{"$f":"VLOOKUP('Design #'!C1033,Labels!$A:$B,2,FALSE)","v":"Providing financial help and support to those who are struggling to pay their water bill"},{"$f":"VLOOKUP('Design #'!D1033,Labels!$A:$B,2,FALSE)","v":"Supporting customers to reduce their water use and prevent blockages through education and provision of free tools/devices"},{"$f":"VLOOKUP('Design #'!E1033,Labels!$A:$B,2,FALSE)","v":"Providing a continuous supply of water that is safe to drink"},{"$f":"VLOOKUP('Design #'!F1033,Labels!$A:$B,2,FALSE)","v":"Providing good and constant water pressure"}]
[69,13,{"$f":"VLOOKUP('Design #'!C1034,Labels!$A:$B,2,FALSE)","v":"Preventing the likelihood of restrictions on water use, including hosepipe bans, in a drought"},{"$f":"VLOOKUP('Design #'!D1034,Labels!$A:$B,2,FALSE)","v":"Providing good and constant water pressure"},{"$f":"VLOOKUP('Design #'!E1034,Labels!$A:$B,2,FALSE)","v":"Ensuring additional support is available to those who need it e.g.  providing bills in braille, providing bottled water during times of interruptions for thos​e who can't get to a shop (elderly, medical conditions etc.)"},{"$f":"VLOOKUP('Design #'!F1034,Labels!$A:$B,2,FALSE)","v":"Preventing interruptions to the supply of water (e.g. planned works, burst pipes, leaks and outages) that cause problems ranging from low pressure to no water"}]
[69,14,{"$f":"VLOOKUP('Design #'!C1035,Labels!$A:$B,2,FALSE)","v":"Preventing interruptions to the supply of water (e.g. planned works, burst pipes, leaks and outages) that cause problems ranging from low pressure to no water"},{"$f":"VLOOKUP('Design #'!D1035,Labels!$A:$B,2,FALSE)","v":"Ensuring that land owned by Yorkshire Water is conserved or enhanced to improve quality of the water it collects and reduce flooding"},{"$f":"VLOOKUP('Design #'!E1035,Labels!$A:$B,2,FALSE)","v":"Preventing sewage entering gardens and public spaces from pipe collapses or blockages"},{"$f":"VLOOKUP('Design #'!F1035,Labels!$A:$B,2,FALSE)","v":"Preventing leaks from Yorkshire Water's pipe network"}]
[69,15,{"$f":"VLOOKUP('Design #'!C1036,Labels!$A:$B,2,FALSE)","v":"Ensuring that land owned by Yorkshire Water is conserved or enhanced to improve quality of the water it collects and reduce flooding"},{"$f":"VLOOKUP('Design #'!D1036,Labels!$A:$B,2,FALSE)","v":"Preventing the likelihood of restrictions on water use, including hosepipe bans, in a drought"},{"$f":"VLOOKUP('Design #'!E1036,Labels!$A:$B,2,FALSE)","v":"Providing water that is aesthetically pleasing (clear and clean with no odour or unusual taste or colour)"},{"$f":"VLOOKUP('Design #'!F1036,Labels!$A:$B,2,FALSE)","v":"Preventing sewage from entering homes and businesses "}]
[70,1,{"$f":"VLOOKUP('Design #'!C1037,Labels!$A:$B,2,FALSE)","v":"Reducing the release of untreated sewage mixed with rain water into rivers and streams during times of heavy rainfall"},{"$f":"VLOOKUP('Design #'!D1037,Labels!$A:$B,2,FALSE)","v":"Treating waste water to a high standard to ensure good quality water in Yorkshire's rivers and beaches"},{"$f":"VLOOKUP('Design #'!E1037,Labels!$A:$B,2,FALSE)","v":"Supporting customers to reduce their water use and prevent blockages through education and provision of free tools/devices"},{"$f":"VLOOKUP('Design #'!F1037,Labels!$A:$B,2,FALSE)","v":"Preventing sewage entering gardens and public spaces from pipe collapses or blockages"}]
[70,2,{"$f":"VLOOKUP('Design #'!C1038,Labels!$A:$B,2,FALSE)","v":"Preventing leaks from Yorkshire Water's pipe network"},{"$f":"VLOOKUP('Design #'!D1038,Labels!$A:$B,2,FALSE)","v":"Providing financial help and support to those who are struggling to pay their water bill"},{"$f":"VLOOKUP('Design #'!E1038,Labels!$A:$B,2,FALSE)","v":"Providing appropriate sewer capacity and pumping capabilities to cope with widespread flood events"},{"$f":"VLOOKUP('Design #'!F1038,Labels!$A:$B,2,FALSE)","v":"Ensuring additional support is available to those who need it e.g.  providing bills in braille, providing bottled water during times of interruptions for thos​e who can't get to a shop (elderly, medical conditions etc.)"}]
[70,3,{"$f":"VLOOKUP('Design #'!C1039,Labels!$A:$B,2,FALSE)","v":"Reduce and offset carbon emissions to achieve a 'net zero' position by 2030 "},{"$f":"VLOOKUP('Design #'!D1039,Labels!$A:$B,2,FALSE)","v":"Preventing sewage entering gardens and public spaces from pipe collapses or blockages"},{"$f":"VLOOKUP('Design #'!E1039,Labels!$A:$B,2,FALSE)","v":"Working with other organisations on common challenges (e.g. flooding) to share costs and expertise allowing for more and smarter investment to tackle problems"},{"$f":"VLOOKUP('Design #'!F1039,Labels!$A:$B,2,FALSE)","v":"Providing water that is aesthetically pleasing (clear and clean with no odour or unusual taste or colour)"}]
[70,4,{"$f":"VLOOKUP('Design #'!C1040,Labels!$A:$B,2,FALSE)","v":"Preventing pollution of rivers or streams from sewage pipes"},{"$f":"VLOOKUP('Design #'!D1040,Labels!$A:$B,2,FALSE)","v":"Preventing sewage from entering homes and businesses "},{"$f":"VLOOKUP('Design #'!E1040,Labels!$A:$B,2,FALSE)","v":"Keeping bills affordable for all"},{"$f":"VLOOKUP('Design #'!F1040,Labels!$A:$B,2,FALSE)","v":"Preventing interruptions to the supply of water (e.g. planned works, burst pipes, leaks and outages) that cause problems ranging from low pressure to no water"}]
[70,5,{"$f":"VLOOKUP('Design #'!C1041,Labels!$A:$B,2,FALSE)","v":"Preventing leaks from Yorkshire Water's pipe network"},{"$f":"VLOOKUP('Design #'!D1041,Labels!$A:$B,2,FALSE)","v":"Providing a high level of customer service (e.g. resolving queries quickly)"},{"$f":"VLOOKUP('Design #'!E1041,Labels!$A:$B,2,FALSE)","v":"Providing financial help and support to those who are struggling to pay their water bill"},{"$f":"VLOOKUP('Design #'!F1041,Labels!$A:$B,2,FALSE)","v":"Providing water that is aesthetically pleasing (clear and clean with no odour or unusual taste or colour)"}]
[70,6,{"$f":"VLOOKUP('Design #'!C1042,Labels!$A:$B,2,FALSE)","v":"Providing good and constant water pressure"},{"$f":"VLOOKUP('Design #'!D1042,Labels!$A:$B,2,FALSE)","v":"Reducing the release of untreated sewage mixed with rain water into rivers and streams during times of heavy rainfall"},{"$f":"VLOOKUP('Design #'!E1042,Labels!$A:$B,2,FALSE)","v":"Treating waste water to a high standard to ensure good quality water in Yorkshire's rivers and beaches"},{"$f":"VLOOKUP('Design #'!F1042,Labels!$A:$B,2,FALSE)","v":"Providing a continuous supply of water that is safe to drink"}]
[70,7,{"$f":"VLOOKUP('Design #'!C1043,Labels!$A:$B,2,FALSE)","v":"Providing financial help and support to those who are struggling to pay their water bill"},{"$f":"VLOOKUP('Design #'!D1043,Labels!$A:$B,2,FALSE)","v":"Reduce and offset carbon emissions to achieve a 'net zero' position by 2030 "},{"$f":"VLOOKUP('Design #'!E1043,Labels!$A:$B,2,FALSE)","v":"Keeping bills affordable for all"},{"$f":"VLOOKUP('Design #'!F1043,Labels!$A:$B,2,FALSE)","v":"Ensuring that land owned by Yorkshire Water is conserved or enhanced to improve quality of the water it collects and reduce flooding"}]
[70,8,{"$f":"VLOOKUP('Design #'!C1044,Labels!$A:$B,2,FALSE)","v":"Reduce and offset carbon emissions to achieve a 'net zero' position by 2030 "},{"$f":"VLOOKUP('Design #'!D1044,Labels!$A:$B,2,FALSE)","v":"Preventing interruptions to the supply of water (e.g. planned works, burst pipes, leaks and outages) that cause problems ranging from low pressure to no water"},{"$f":"VLOOKUP('Design #'!E1044,Labels!$A:$B,2,FALSE)","v":"Providing water that is aesthetically pleasing (clear and clean with no odour or unusual taste or colour)"},{"$f":"VLOOKUP('Design #'!F1044,Labels!$A:$B,2,FALSE)","v":"Providing a continuous supply of water that is safe to drink"}]
[70,9,{"$f":"VLOOKUP('Design #'!C1045,Labels!$A:$B,2,FALSE)","v":"Ensuring additional support is available to those who need it e.g.  providing bills in braille, providing bottled water during times of interruptions for thos​e who can't get to a shop (elderly, medical conditions etc.)"},{"$f":"VLOOKUP('Design #'!D1045,Labels!$A:$B,2,FALSE)","v":"Ensuring that land owned by Yorkshire Water is conserved or enhanced to improve quality of the water it collects and reduce flooding"},{"$f":"VLOOKUP('Design #'!E1045,Labels!$A:$B,2,FALSE)","v":"Preventing pollution of rivers or streams from sewage pipes"},{"$f":"VLOOKUP('Design #'!F1045,Labels!$A:$B,2,FALSE)","v":"Providing good and constant water pressure"}]
[70,10,{"$f":"VLOOKUP('Design #'!C1046,Labels!$A:$B,2,FALSE)","v":"Providing appropriate sewer capacity and pumping capabilities to cope with widespread flood events"},{"$f":"VLOOKUP('Design #'!D1046,Labels!$A:$B,2,FALSE)","v":"Keeping bills affordable for all"},{"$f":"VLOOKUP('Design #'!E1046,Labels!$A:$B,2,FALSE)","v":"Preventing interruptions to the supply of water (e.g. planned works, burst pipes, leaks and outages) that cause problems ranging from low pressure to no water"},{"$f":"VLOOKUP('Design #'!F1046,Labels!$A:$B,2,FALSE)","v":"Supporting customers to reduce their water use and prevent blockages through education and provision of free tools/devices"}]
[70,11,{"$f":"VLOOKUP('Design #'!C1047,Labels!$A:$B,2,FALSE)","v":"Ensuring additional support is available to those who need it e.g.  providing bills in braille, providing bottled water during times of interruptions for thos​e who can't get to a shop (elderly, medical conditions etc.)"},{"$f":"VLOOKUP('Design #'!D1047,Labels!$A:$B,2,FALSE)","v":"Supporting customers to reduce their water use and prevent blockages through education and provision of free tools/devices"},{"$f":"VLOOKUP('Design #'!E1047,Labels!$A:$B,2,FALSE)","v":"Preventing sewage from entering homes and businesses "},{"$f":"VLOOKUP('Design #'!F1047,Labels!$A:$B,2,FALSE)","v":"Providing a high level of customer service (e.g. resolving queries quickly)"}]
[70,12,{"$f":"VLOOKUP('Design #'!C1048,Labels!$A:$B,2,FALSE)","v":"Providing a continuous supply of water that is safe to drink"},{"$f":"VLOOKUP('Design #'!D1048,Labels!$A:$B,2,FALSE)","v":"Providing appropriate sewer capacity and pumping capabilities to cope with widespread flood events"},{"$f":"VLOOKUP('Design #'!E1048,Labels!$A:$B,2,FALSE)","v":"Preventing sewage entering gardens and public spaces from pipe collapses or blockages"},{"$f":"VLOOKUP('Design #'!F1048,Labels!$A:$B,2,FALSE)","v":"Preventing the likelihood of restrictions on water use, including hosepipe bans, in a drought"}]
[70,13,{"$f":"VLOOKUP('Design #'!C1049,Labels!$A:$B,2,FALSE)","v":"Working with other organisations on common challenges (e.g. flooding) to share costs and expertise allowing for more and smarter investment to tackle problems"},{"$f":"VLOOKUP('Design #'!D1049,Labels!$A:$B,2,FALSE)","v":"Reducing the release of untreated sewage mixed with rain water into rivers and streams during times of heavy rainfall"},{"$f":"VLOOKUP('Design #'!E1049,Labels!$A:$B,2,FALSE)","v":"Reduce and offset carbon emissions to achieve a 'net zero' position by 2030 "},{"$f":"VLOOKUP('Design #'!F1049,Labels!$A:$B,2,FALSE)","v":"Preventing sewage from entering homes and businesses "}]
[70,14,{"$f":"VLOOKUP('Design #'!C1050,Labels!$A:$B,2,FALSE)","v":"Providing a high level of customer service (e.g. resolving queries quickly)"},{"$f":"VLOOKUP('Design #'!D1050,Labels!$A:$B,2,FALSE)","v":"Treating waste water to a high standard to ensure good quality water in Yorkshire's rivers and beaches"},{"$f":"VLOOKUP('Design #'!E1050,Labels!$A:$B,2,FALSE)","v":"Providing appropriate sewer capacity and pumping capabilities to cope with widespread flood events"},{"$f":"VLOOKUP('Design #'!F1050,Labels!$A:$B,2,FALSE)","v":"Providing a continuous supply of water that is safe to drink"}]
[70,15,{"$f":"VLOOKUP('Design #'!C1051,Labels!$A:$B,2,FALSE)","v":"Preventing pollution of rivers or streams from sewage pipes"},{"$f":"VLOOKUP('Design #'!D1051,Labels!$A:$B,2,FALSE)","v":"Working with other organisations on common challenges (e.g. flooding) to share costs and expertise allowing for more and smarter investment to tackle problems"},{"$f":"VLOOKUP('Design #'!E1051,Labels!$A:$B,2,FALSE)","v":"Preventing the likelihood of restrictions on water use, including hosepipe bans, in a drought"},{"$f":"VLOOKUP('Design #'!F1051,Labels!$A:$B,2,FALSE)","v":"Preventing leaks from Yorkshire Water's pipe network"}]
[71,1,{"$f":"VLOOKUP('Design #'!C1052,Labels!$A:$B,2,FALSE)","v":"Ensuring additional support is available to those who need it e.g.  providing bills in braille, providing bottled water during times of interruptions for thos​e who can't get to a shop (elderly, medical conditions etc.)"},{"$f":"VLOOKUP('Design #'!D1052,Labels!$A:$B,2,FALSE)","v":"Reduce and offset carbon emissions to achieve a 'net zero' position by 2030 "},{"$f":"VLOOKUP('Design #'!E1052,Labels!$A:$B,2,FALSE)","v":"Preventing the likelihood of restrictions on water use, including hosepipe bans, in a drought"},{"$f":"VLOOKUP('Design #'!F1052,Labels!$A:$B,2,FALSE)","v":"Providing appropriate sewer capacity and pumping capabilities to cope with widespread flood events"}]
[71,2,{"$f":"VLOOKUP('Design #'!C1053,Labels!$A:$B,2,FALSE)","v":"Providing water that is aesthetically pleasing (clear and clean with no odour or unusual taste or colour)"},{"$f":"VLOOKUP('Design #'!D1053,Labels!$A:$B,2,FALSE)","v":"Providing a continuous supply of water that is safe to drink"},{"$f":"VLOOKUP('Design #'!E1053,Labels!$A:$B,2,FALSE)","v":"Providing a high level of customer service (e.g. resolving queries quickly)"},{"$f":"VLOOKUP('Design #'!F1053,Labels!$A:$B,2,FALSE)","v":"Preventing interruptions to the supply of water (e.g. planned works, burst pipes, leaks and outages) that cause problems ranging from low pressure to no water"}]
[71,3,{"$f":"VLOOKUP('Design #'!C1054,Labels!$A:$B,2,FALSE)","v":"Providing good and constant water pressure"},{"$f":"VLOOKUP('Design #'!D1054,Labels!$A:$B,2,FALSE)","v":"Preventing leaks from Yorkshire Water's pipe network"},{"$f":"VLOOKUP('Design #'!E1054,Labels!$A:$B,2,FALSE)","v":"Reducing the release of untreated sewage mixed with rain water into rivers and streams during times of heavy rainfall"},{"$f":"VLOOKUP('Design #'!F1054,Labels!$A:$B,2,FALSE)","v":"Reduce and offset carbon emissions to achieve a 'net zero' position by 2030 "}]
[71,4,{"$f":"VLOOKUP('Design #'!C1055,Labels!$A:$B,2,FALSE)","v":"Preventing interruptions to the supply of water (e.g. planned works, burst pipes, leaks and outages) that cause problems ranging from low pressure to no water"},{"$f":"VLOOKUP('Design #'!D1055,Labels!$A:$B,2,FALSE)","v":"Preventing pollution of rivers or streams from sewage pipes"},{"$f":"VLOOKUP('Design #'!E1055,Labels!$A:$B,2,FALSE)","v":"Preventing leaks from Yorkshire Water's pipe network"},{"$f":"VLOOKUP('Design #'!F1055,Labels!$A:$B,2,FALSE)","v":"Preventing sewage entering gardens and public spaces from pipe collapses or blockages"}]
[71,5,{"$f":"VLOOKUP('Design #'!C1056,Labels!$A:$B,2,FALSE)","v":"Preventing sewage entering gardens and public spaces from pipe collapses or blockages"},{"$f":"VLOOKUP('Design #'!D1056,Labels!$A:$B,2,FALSE)","v":"Supporting customers to reduce their water use and prevent blockages through education and provision of free tools/devices"},{"$f":"VLOOKUP('Design #'!E1056,Labels!$A:$B,2,FALSE)","v":"Providing financial help and support to those who are struggling to pay their water bill"},{"$f":"VLOOKUP('Design #'!F1056,Labels!$A:$B,2,FALSE)","v":"Ensuring that land owned by Yorkshire Water is conserved or enhanced to improve quality of the water it collects and reduce flooding"}]
[71,6,{"$f":"VLOOKUP('Design #'!C1057,Labels!$A:$B,2,FALSE)","v":"Treating waste water to a high standard to ensure good quality water in Yorkshire's rivers and beaches"},{"$f":"VLOOKUP('Design #'!D1057,Labels!$A:$B,2,FALSE)","v":"Preventing leaks from Yorkshire Water's pipe network"},{"$f":"VLOOKUP('Design #'!E1057,Labels!$A:$B,2,FALSE)","v":"Ensuring that land owned by Yorkshire Water is conserved or enhanced to improve quality of the water it collects and reduce flooding"},{"$f":"VLOOKUP('Design #'!F1057,Labels!$A:$B,2,FALSE)","v":"Reducing the release of untreated sewage mixed with rain water into rivers and streams during times of heavy rainfall"}]
[71,7,{"$f":"VLOOKUP('Design #'!C1058,Labels!$A:$B,2,FALSE)","v":"Supporting customers to reduce their water use and prevent blockages through education and provision of free tools/devices"},{"$f":"VLOOKUP('Design #'!D1058,Labels!$A:$B,2,FALSE)","v":"Ensuring additional support is available to those who need it e.g.  providing bills in braille, providing bottled water during times of interruptions for thos​e who can't get to a shop (elderly, medical conditions etc.)"},{"$f":"VLOOKUP('Design #'!E1058,Labels!$A:$B,2,FALSE)","v":"Preventing pollution of rivers or streams from sewage pipes"},{"$f":"VLOOKUP('Design #'!F1058,Labels!$A:$B,2,FALSE)","v":"Providing water that is aesthetically pleasing (clear and clean with no odour or unusual taste or colour)"}]
[71,8,{"$f":"VLOOKUP('Design #'!C1059,Labels!$A:$B,2,FALSE)","v":"Preventing the likelihood of restrictions on water use, including hosepipe bans, in a drought"},{"$f":"VLOOKUP('Design #'!D1059,Labels!$A:$B,2,FALSE)","v":"Providing appropriate sewer capacity and pumping capabilities to cope with widespread flood events"},{"$f":"VLOOKUP('Design #'!E1059,Labels!$A:$B,2,FALSE)","v":"Treating waste water to a high standard to ensure good quality water in Yorkshire's rivers and beaches"},{"$f":"VLOOKUP('Design #'!F1059,Labels!$A:$B,2,FALSE)","v":"Keeping bills affordable for all"}]
[71,9,{"$f":"VLOOKUP('Design #'!C1060,Labels!$A:$B,2,FALSE)","v":"Keeping bills affordable for all"},{"$f":"VLOOKUP('Design #'!D1060,Labels!$A:$B,2,FALSE)","v":"Providing water that is aesthetically pleasing (clear and clean with no odour or unusual taste or colour)"},{"$f":"VLOOKUP('Design #'!E1060,Labels!$A:$B,2,FALSE)","v":"Preventing sewage from entering homes and businesses "},{"$f":"VLOOKUP('Design #'!F1060,Labels!$A:$B,2,FALSE)","v":"Reducing the release of untreated sewage mixed with rain water into rivers and streams during times of heavy rainfall"}]
[71,10,{"$f":"VLOOKUP('Design #'!C1061,Labels!$A:$B,2,FALSE)","v":"Preventing sewage from entering homes and businesses "},{"$f":"VLOOKUP('Design #'!D1061,Labels!$A:$B,2,FALSE)","v":"Preventing interruptions to the supply of water (e.g. planned works, burst pipes, leaks and outages) that cause problems ranging from low pressure to no water"},{"$f":"VLOOKUP('Design #'!E1061,Labels!$A:$B,2,FALSE)","v":"Preventing the likelihood of restrictions on water use, including hosepipe bans, in a drought"},{"$f":"VLOOKUP('Design #'!F1061,Labels!$A:$B,2,FALSE)","v":"Ensuring that land owned by Yorkshire Water is conserved or enhanced to improve quality of the water it collects and reduce flooding"}]
[71,11,{"$f":"VLOOKUP('Design #'!C1062,Labels!$A:$B,2,FALSE)","v":"Providing good and constant water pressure"},{"$f":"VLOOKUP('Design #'!D1062,Labels!$A:$B,2,FALSE)","v":"Treating waste water to a high standard to ensure good quality water in Yorkshire's rivers and beaches"},{"$f":"VLOOKUP('Design #'!E1062,Labels!$A:$B,2,FALSE)","v":"Preventing pollution of rivers or streams from sewage pipes"},{"$f":"VLOOKUP('Design #'!F1062,Labels!$A:$B,2,FALSE)","v":"Supporting customers to reduce their water use and prevent blockages through education and provision of free tools/devices"}]
[71,12,{"$f":"VLOOKUP('Design #'!C1063,Labels!$A:$B,2,FALSE)","v":"Preventing the likelihood of restrictions on water use, including hosepipe bans, in a drought"},{"$f":"VLOOKUP('Design #'!D1063,Labels!$A:$B,2,FALSE)","v":"Providing good and constant water pressure"},{"$f":"VLOOKUP('Design #'!E1063,Labels!$A:$B,2,FALSE)","v":"Providing financial help and support to those who are struggling to pay their water bill"},{"$f":"VLOOKUP('Design #'!F1063,Labels!$A:$B,2,FALSE)","v":"Working with other organisations on common challenges (e.g. flooding) to share costs and expertise allowing for more and smarter investment to tackle problems"}]
[71,13,{"$f":"VLOOKUP('Design #'!C1064,Labels!$A:$B,2,FALSE)","v":"Keeping bills affordable for all"},{"$f":"VLOOKUP('Design #'!D1064,Labels!$A:$B,2,FALSE)","v":"Providing a high level of customer service (e.g. resolving queries quickly)"},{"$f":"VLOOKUP('Design #'!E1064,Labels!$A:$B,2,FALSE)","v":"Providing good and constant water pressure"},{"$f":"VLOOKUP('Design #'!F1064,Labels!$A:$B,2,FALSE)","v":"Preventing sewage entering gardens and public spaces from pipe collapses or blockages"}]
[71,14,{"$f":"VLOOKUP('Design #'!C1065,Labels!$A:$B,2,FALSE)","v":"Ensuring that land owned by Yorkshire Water is conserved or enhanced to improve quality of the water it collects and reduce flooding"},{"$f":"VLOOKUP('Design #'!D1065,Labels!$A:$B,2,FALSE)","v":"Providing a high level of customer service (e.g. resolving queries quickly)"},{"$f":"VLOOKUP('Design #'!E1065,Labels!$A:$B,2,FALSE)","v":"Working with other organisations on common challenges (e.g. flooding) to share costs and expertise allowing for more and smarter investment to tackle problems"},{"$f":"VLOOKUP('Design #'!F1065,Labels!$A:$B,2,FALSE)","v":"Providing financial help and support to those who are struggling to pay their water bill"}]
[71,15,{"$f":"VLOOKUP('Design #'!C1066,Labels!$A:$B,2,FALSE)","v":"Working with other organisations on common challenges (e.g. flooding) to share costs and expertise allowing for more and smarter investment to tackle problems"},{"$f":"VLOOKUP('Design #'!D1066,Labels!$A:$B,2,FALSE)","v":"Preventing sewage from entering homes and businesses "},{"$f":"VLOOKUP('Design #'!E1066,Labels!$A:$B,2,FALSE)","v":"Ensuring additional support is available to those who need it e.g.  providing bills in braille, providing bottled water during times of interruptions for thos​e who can't get to a shop (elderly, medical conditions etc.)"},{"$f":"VLOOKUP('Design #'!F1066,Labels!$A:$B,2,FALSE)","v":"Providing a continuous supply of water that is safe to drink"}]
[72,1,{"$f":"VLOOKUP('Design #'!C1067,Labels!$A:$B,2,FALSE)","v":"Providing appropriate sewer capacity and pumping capabilities to cope with widespread flood events"},{"$f":"VLOOKUP('Design #'!D1067,Labels!$A:$B,2,FALSE)","v":"Providing good and constant water pressure"},{"$f":"VLOOKUP('Design #'!E1067,Labels!$A:$B,2,FALSE)","v":"Preventing sewage entering gardens and public spaces from pipe collapses or blockages"},{"$f":"VLOOKUP('Design #'!F1067,Labels!$A:$B,2,FALSE)","v":"Preventing sewage from entering homes and businesses "}]
[72,2,{"$f":"VLOOKUP('Design #'!C1068,Labels!$A:$B,2,FALSE)","v":"Reduce and offset carbon emissions to achieve a 'net zero' position by 2030 "},{"$f":"VLOOKUP('Design #'!D1068,Labels!$A:$B,2,FALSE)","v":"Preventing sewage from entering homes and businesses "},{"$f":"VLOOKUP('Design #'!E1068,Labels!$A:$B,2,FALSE)","v":"Providing a high level of customer service (e.g. resolving queries quickly)"},{"$f":"VLOOKUP('Design #'!F1068,Labels!$A:$B,2,FALSE)","v":"Preventing pollution of rivers or streams from sewage pipes"}]
[72,3,{"$f":"VLOOKUP('Design #'!C1069,Labels!$A:$B,2,FALSE)","v":"Preventing interruptions to the supply of water (e.g. planned works, burst pipes, leaks and outages) that cause problems ranging from low pressure to no water"},{"$f":"VLOOKUP('Design #'!D1069,Labels!$A:$B,2,FALSE)","v":"Preventing the likelihood of restrictions on water use, including hosepipe bans, in a drought"},{"$f":"VLOOKUP('Design #'!E1069,Labels!$A:$B,2,FALSE)","v":"Supporting customers to reduce their water use and prevent blockages through education and provision of free tools/devices"},{"$f":"VLOOKUP('Design #'!F1069,Labels!$A:$B,2,FALSE)","v":"Reducing the release of untreated sewage mixed with rain water into rivers and streams during times of heavy rainfall"}]
[72,4,{"$f":"VLOOKUP('Design #'!C1070,Labels!$A:$B,2,FALSE)","v":"Ensuring additional support is available to those who need it e.g.  providing bills in braille, providing bottled water during times of interruptions for thos​e who can't get to a shop (elderly, medical conditions etc.)"},{"$f":"VLOOKUP('Design #'!D1070,Labels!$A:$B,2,FALSE)","v":"Ensuring that land owned by Yorkshire Water is conserved or enhanced to improve quality of the water it collects and reduce flooding"},{"$f":"VLOOKUP('Design #'!E1070,Labels!$A:$B,2,FALSE)","v":"Providing water that is aesthetically pleasing (clear and clean with no odour or unusual taste or colour)"},{"$f":"VLOOKUP('Design #'!F1070,Labels!$A:$B,2,FALSE)","v":"Treating waste water to a high standard to ensure good quality water in Yorkshire's rivers and beaches"}]
[72,5,{"$f":"VLOOKUP('Design #'!C1071,Labels!$A:$B,2,FALSE)","v":"Reduce and offset carbon emissions to achieve a 'net zero' position by 2030 "},{"$f":"VLOOKUP('Design #'!D1071,Labels!$A:$B,2,FALSE)","v":"Providing financial help and support to those who are struggling to pay their water bill"},{"$f":"VLOOKUP('Design #'!E1071,Labels!$A:$B,2,FALSE)","v":"Providing a continuous supply of water that is safe to drink"},{"$f":"VLOOKUP('Design #'!F1071,Labels!$A:$B,2,FALSE)","v":"Keeping bills affordable for all"}]
[72,6,{"$f":"VLOOKUP('Design #'!C1072,Labels!$A:$B,2,FALSE)","v":"Ensuring that land owned by Yorkshire Water is conserved or enhanced to improve quality of the water it collects and reduce flooding"},{"$f":"VLOOKUP('Design #'!D1072,Labels!$A:$B,2,FALSE)","v":"Supporting customers to reduce their water use and prevent blockages through education and provision of free tools/devices"},{"$f":"VLOOKUP('Design #'!E1072,Labels!$A:$B,2,FALSE)","v":"Providing appropriate sewer capacity and pumping capabilities to cope with widespread flood events"},{"$f":"VLOOKUP('Design #'!F1072,Labels!$A:$B,2,FALSE)","v":"Providing a high level of customer service (e.g. resolving queries quickly)"}]
[72,7,{"$f":"VLOOKUP('Design #'!C1073,Labels!$A:$B,2,FALSE)","v":"Providing a continuous supply of water that is safe to drink"},{"$f":"VLOOKUP('Design #'!D1073,Labels!$A:$B,2,FALSE)","v":"Keeping bills affordable for all"},{"$f":"VLOOKUP('Design #'!E1073,Labels!$A:$B,2,FALSE)","v":"Providing good and constant water pressure"},{"$f":"VLOOKUP('Design #'!F1073,Labels!$A:$B,2,FALSE)","v":"Ensuring that land owned by Yorkshire Water is conserved or enhanced to improve quality of the water it collects and reduce flooding"}]
[72,8,{"$f":"VLOOKUP('Design #'!C1074,Labels!$A:$B,2,FALSE)","v":"Providing a high level of customer service (e.g. resolving queries quickly)"},{"$f":"VLOOKUP('Design #'!D1074,Labels!$A:$B,2,FALSE)","v":"Preventing the likelihood of restrictions on water use, including hosepipe bans, in a drought"},{"$f":"VLOOKUP('Design #'!E1074,Labels!$A:$B,2,FALSE)","v":"Providing water that is aesthetically pleasing (clear and clean with no odour or unusual taste or colour)"},{"$f":"VLOOKUP('Design #'!F1074,Labels!$A:$B,2,FALSE)","v":"Preventing leaks from Yorkshire Water's pipe network"}]
[72,9,{"$f":"VLOOKUP('Design #'!C1075,Labels!$A:$B,2,FALSE)","v":"Preventing sewage entering gardens and public spaces from pipe collapses or blockages"},{"$f":"VLOOKUP('Design #'!D1075,Labels!$A:$B,2,FALSE)","v":"Ensuring additional support is available to those who need it e.g.  providing bills in braille, providing bottled water during times of interruptions for thos​e who can't get to a shop (elderly, medical conditions etc.)"},{"$f":"VLOOKUP('Design #'!E1075,Labels!$A:$B,2,FALSE)","v":"Reduce and offset carbon emissions to achieve a 'net zero' position by 2030 "},{"$f":"VLOOKUP('Design #'!F1075,Labels!$A:$B,2,FALSE)","v":"Treating waste water to a high standard to ensure good quality water in Yorkshire's rivers and beaches"}]
[72,10,{"$f":"VLOOKUP('Design #'!C1076,Labels!$A:$B,2,FALSE)","v":"Preventing leaks from Yorkshire Water's pipe network"},{"$f":"VLOOKUP('Design #'!D1076,Labels!$A:$B,2,FALSE)","v":"Preventing interruptions to the supply of water (e.g. planned works, burst pipes, leaks and outages) that cause problems ranging from low pressure to no water"},{"$f":"VLOOKUP('Design #'!E1076,Labels!$A:$B,2,FALSE)","v":"Ensuring additional support is available to those who need it e.g.  providing bills in braille, providing bottled water during times of interruptions for thos​e who can't get to a shop (elderly, medical conditions etc.)"},{"$f":"VLOOKUP('Design #'!F1076,Labels!$A:$B,2,FALSE)","v":"Treating waste water to a high standard to ensure good quality water in Yorkshire's rivers and beaches"}]
[72,11,{"$f":"VLOOKUP('Design #'!C1077,Labels!$A:$B,2,FALSE)","v":"Reducing the release of untreated sewage mixed with rain water into rivers and streams during times of heavy rainfall"},{"$f":"VLOOKUP('Design #'!D1077,Labels!$A:$B,2,FALSE)","v":"Providing a continuous supply of water that is safe to drink"},{"$f":"VLOOKUP('Design #'!E1077,Labels!$A:$B,2,FALSE)","v":"Preventing pollution of rivers or streams from sewage pipes"},{"$f":"VLOOKUP('Design #'!F1077,Labels!$A:$B,2,FALSE)","v":"Providing financial help and support to those who are struggling to pay their water bill"}]
[72,12,{"$f":"VLOOKUP('Design #'!C1078,Labels!$A:$B,2,FALSE)","v":"Providing financial help and support to those who are struggling to pay their water bill"},{"$f":"VLOOKUP('Design #'!D1078,Labels!$A:$B,2,FALSE)","v":"Reducing the release of untreated sewage mixed with rain water into rivers and streams during times of heavy rainfall"},{"$f":"VLOOKUP('Design #'!E1078,Labels!$A:$B,2,FALSE)","v":"Preventing sewage entering gardens and public spaces from pipe collapses or blockages"},{"$f":"VLOOKUP('Design #'!F1078,Labels!$A:$B,2,FALSE)","v":"Preventing the likelihood of restrictions on water use, including hosepipe bans, in a drought"}]
[72,13,{"$f":"VLOOKUP('Design #'!C1079,Labels!$A:$B,2,FALSE)","v":"Providing water that is aesthetically pleasing (clear and clean with no odour or unusual taste or colour)"},{"$f":"VLOOKUP('Design #'!D1079,Labels!$A:$B,2,FALSE)","v":"Treating waste water to a high standard to ensure good quality water in Yorkshire's rivers and beaches"},{"$f":"VLOOKUP('Design #'!E1079,Labels!$A:$B,2,FALSE)","v":"Preventing sewage from entering homes and businesses "},{"$f":"VLOOKUP('Design #'!F1079,Labels!$A:$B,2,FALSE)","v":"Working with other organisations on common challenges (e.g. flooding) to share costs and expertise allowing for more and smarter investment to tackle problems"}]
[72,14,{"$f":"VLOOKUP('Design #'!C1080,Labels!$A:$B,2,FALSE)","v":"Working with other organisations on common challenges (e.g. flooding) to share costs and expertise allowing for more and smarter investment to tackle problems"},{"$f":"VLOOKUP('Design #'!D1080,Labels!$A:$B,2,FALSE)","v":"Providing good and constant water pressure"},{"$f":"VLOOKUP('Design #'!E1080,Labels!$A:$B,2,FALSE)","v":"Preventing interruptions to the supply of water (e.g. planned works, burst pipes, leaks and outages) that cause problems ranging from low pressure to no water"},{"$f":"VLOOKUP('Design #'!F1080,Labels!$A:$B,2,FALSE)","v":"Providing appropriate sewer capacity and pumping capabilities to cope with widespread flood events"}]
[72,15,{"$f":"VLOOKUP('Design #'!C1081,Labels!$A:$B,2,FALSE)","v":"Supporting customers to reduce their water use and prevent blockages through education and provision of free tools/devices"},{"$f":"VLOOKUP('Design #'!D1081,Labels!$A:$B,2,FALSE)","v":"Preventing leaks from Yorkshire Water's pipe network"},{"$f":"VLOOKUP('Design #'!E1081,Labels!$A:$B,2,FALSE)","v":"Keeping bills affordable for all"},{"$f":"VLOOKUP('Design #'!F1081,Labels!$A:$B,2,FALSE)","v":"Working with other organisations on common challenges (e.g. flooding) to share costs and expertise allowing for more and smarter investment to tackle problems"}]
[73,1,{"$f":"VLOOKUP('Design #'!C1082,Labels!$A:$B,2,FALSE)","v":"Preventing leaks from Yorkshire Water's pipe network"},{"$f":"VLOOKUP('Design #'!D1082,Labels!$A:$B,2,FALSE)","v":"Preventing sewage entering gardens and public spaces from pipe collapses or blockages"},{"$f":"VLOOKUP('Design #'!E1082,Labels!$A:$B,2,FALSE)","v":"Ensuring that land owned by Yorkshire Water is conserved or enhanced to improve quality of the water it collects and reduce flooding"},{"$f":"VLOOKUP('Design #'!F1082,Labels!$A:$B,2,FALSE)","v":"Preventing sewage from entering homes and businesses "}]
[73,2,{"$f":"VLOOKUP('Design #'!C1083,Labels!$A:$B,2,FALSE)","v":"Supporting customers to reduce their water use and prevent blockages through education and provision of free tools/devices"},{"$f":"VLOOKUP('Design #'!D1083,Labels!$A:$B,2,FALSE)","v":"Preventing pollution of rivers or streams from sewage pipes"},{"$f":"VLOOKUP('Design #'!E1083,Labels!$A:$B,2,FALSE)","v":"Preventing leaks from Yorkshire Water's pipe network"},{"$f":"VLOOKUP('Design #'!F1083,Labels!$A:$B,2,FALSE)","v":"Reduce and offset carbon emissions to achieve a 'net zero' position by 2030 "}]
[73,3,{"$f":"VLOOKUP('Design #'!C1084,Labels!$A:$B,2,FALSE)","v":"Providing a high level of customer service (e.g. resolving queries quickly)"},{"$f":"VLOOKUP('Design #'!D1084,Labels!$A:$B,2,FALSE)","v":"Working with other organisations on common challenges (e.g. flooding) to share costs and expertise allowing for more and smarter investment to tackle problems"},{"$f":"VLOOKUP('Design #'!E1084,Labels!$A:$B,2,FALSE)","v":"Reducing the release of untreated sewage mixed with rain water into rivers and streams during times of heavy rainfall"},{"$f":"VLOOKUP('Design #'!F1084,Labels!$A:$B,2,FALSE)","v":"Ensuring additional support is available to those who need it e.g.  providing bills in braille, providing bottled water during times of interruptions for thos​e who can't get to a shop (elderly, medical conditions etc.)"}]
[73,4,{"$f":"VLOOKUP('Design #'!C1085,Labels!$A:$B,2,FALSE)","v":"Preventing sewage entering gardens and public spaces from pipe collapses or blockages"},{"$f":"VLOOKUP('Design #'!D1085,Labels!$A:$B,2,FALSE)","v":"Providing a high level of customer service (e.g. resolving queries quickly)"},{"$f":"VLOOKUP('Design #'!E1085,Labels!$A:$B,2,FALSE)","v":"Preventing interruptions to the supply of water (e.g. planned works, burst pipes, leaks and outages) that cause problems ranging from low pressure to no water"},{"$f":"VLOOKUP('Design #'!F1085,Labels!$A:$B,2,FALSE)","v":"Supporting customers to reduce their water use and prevent blockages through education and provision of free tools/devices"}]
[73,5,{"$f":"VLOOKUP('Design #'!C1086,Labels!$A:$B,2,FALSE)","v":"Preventing interruptions to the supply of water (e.g. planned works, burst pipes, leaks and outages) that cause problems ranging from low pressure to no water"},{"$f":"VLOOKUP('Design #'!D1086,Labels!$A:$B,2,FALSE)","v":"Providing water that is aesthetically pleasing (clear and clean with no odour or unusual taste or colour)"},{"$f":"VLOOKUP('Design #'!E1086,Labels!$A:$B,2,FALSE)","v":"Keeping bills affordable for all"},{"$f":"VLOOKUP('Design #'!F1086,Labels!$A:$B,2,FALSE)","v":"Preventing pollution of rivers or streams from sewage pipes"}]
[73,6,{"$f":"VLOOKUP('Design #'!C1087,Labels!$A:$B,2,FALSE)","v":"Preventing sewage from entering homes and businesses "},{"$f":"VLOOKUP('Design #'!D1087,Labels!$A:$B,2,FALSE)","v":"Reduce and offset carbon emissions to achieve a 'net zero' position by 2030 "},{"$f":"VLOOKUP('Design #'!E1087,Labels!$A:$B,2,FALSE)","v":"Working with other organisations on common challenges (e.g. flooding) to share costs and expertise allowing for more and smarter investment to tackle problems"},{"$f":"VLOOKUP('Design #'!F1087,Labels!$A:$B,2,FALSE)","v":"Providing good and constant water pressure"}]
[73,7,{"$f":"VLOOKUP('Design #'!C1088,Labels!$A:$B,2,FALSE)","v":"Providing water that is aesthetically pleasing (clear and clean with no odour or unusual taste or colour)"},{"$f":"VLOOKUP('Design #'!D1088,Labels!$A:$B,2,FALSE)","v":"Ensuring additional support is available to those who need it e.g.  providing bills in braille, providing bottled water during times of interruptions for thos​e who can't get to a shop (elderly, medical conditions etc.)"},{"$f":"VLOOKUP('Design #'!E1088,Labels!$A:$B,2,FALSE)","v":"Preventing the likelihood of restrictions on water use, including hosepipe bans, in a drought"},{"$f":"VLOOKUP('Design #'!F1088,Labels!$A:$B,2,FALSE)","v":"Providing financial help and support to those who are struggling to pay their water bill"}]
[73,8,{"$f":"VLOOKUP('Design #'!C1089,Labels!$A:$B,2,FALSE)","v":"Preventing pollution of rivers or streams from sewage pipes"},{"$f":"VLOOKUP('Design #'!D1089,Labels!$A:$B,2,FALSE)","v":"Preventing the likelihood of restrictions on water use, including hosepipe bans, in a drought"},{"$f":"VLOOKUP('Design #'!E1089,Labels!$A:$B,2,FALSE)","v":"Ensuring that land owned by Yorkshire Water is conserved or enhanced to improve quality of the water it collects and reduce flooding"},{"$f":"VLOOKUP('Design #'!F1089,Labels!$A:$B,2,FALSE)","v":"Keeping bills affordable for all"}]
[73,9,{"$f":"VLOOKUP('Design #'!C1090,Labels!$A:$B,2,FALSE)","v":"Treating waste water to a high standard to ensure good quality water in Yorkshire's rivers and beaches"},{"$f":"VLOOKUP('Design #'!D1090,Labels!$A:$B,2,FALSE)","v":"Providing financial help and support to those who are struggling to pay their water bill"},{"$f":"VLOOKUP('Design #'!E1090,Labels!$A:$B,2,FALSE)","v":"Preventing sewage from entering homes and businesses "},{"$f":"VLOOKUP('Design #'!F1090,Labels!$A:$B,2,FALSE)","v":"Providing a high level of customer service (e.g. resolving queries quickly)"}]
[73,10,{"$f":"VLOOKUP('Design #'!C1091,Labels!$A:$B,2,FALSE)","v":"Reducing the release of untreated sewage mixed with rain water into rivers and streams during times of heavy rainfall"},{"$f":"VLOOKUP('Design #'!D1091,Labels!$A:$B,2,FALSE)","v":"Ensuring that land owned by Yorkshire Water is conserved or enhanced to improve quality of the water it collects and reduce flooding"},{"$f":"VLOOKUP('Design #'!E1091,Labels!$A:$B,2,FALSE)","v":"Providing a continuous supply of water that is safe to drink"},{"$f":"VLOOKUP('Design #'!F1091,Labels!$A:$B,2,FALSE)","v":"Preventing pollution of rivers or streams from sewage pipes"}]
[73,11,{"$f":"VLOOKUP('Design #'!C1092,Labels!$A:$B,2,FALSE)","v":"Keeping bills affordable for all"},{"$f":"VLOOKUP('Design #'!D1092,Labels!$A:$B,2,FALSE)","v":"Providing appropriate sewer capacity and pumping capabilities to cope with widespread flood events"},{"$f":"VLOOKUP('Design #'!E1092,Labels!$A:$B,2,FALSE)","v":"Treating waste water to a high standard to ensure good quality water in Yorkshire's rivers and beaches"},{"$f":"VLOOKUP('Design #'!F1092,Labels!$A:$B,2,FALSE)","v":"Preventing leaks from Yorkshire Water's pipe network"}]
[73,12,{"$f":"VLOOKUP('Design #'!C1093,Labels!$A:$B,2,FALSE)","v":"Working with other organisations on common challenges (e.g. flooding) to share costs and expertise allowing for more and smarter investment to tackle problems"},{"$f":"VLOOKUP('Design #'!D1093,Labels!$A:$B,2,FALSE)","v":"Preventing sewage entering gardens and public spaces from pipe collapses or blockages"},{"$f":"VLOOKUP('Design #'!E1093,Labels!$A:$B,2,FALSE)","v":"Providing appropriate sewer capacity and pumping capabilities to cope with widespread flood events"},{"$f":"VLOOKUP('Design #'!F1093,Labels!$A:$B,2,FALSE)","v":"Providing a continuous supply of water that is safe to drink"}]
[73,13,{"$f":"VLOOKUP('Design #'!C1094,Labels!$A:$B,2,FALSE)","v":"Providing good and constant water pressure"},{"$f":"VLOOKUP('Design #'!D1094,Labels!$A:$B,2,FALSE)","v":"Providing water that is aesthetically pleasing (clear and clean with no odour or unusual taste or colour)"},{"$f":"VLOOKUP('Design #'!E1094,Labels!$A:$B,2,FALSE)","v":"Providing financial help and support to those who are struggling to pay their water bill"},{"$f":"VLOOKUP('Design #'!F1094,Labels!$A:$B,2,FALSE)","v":"Preventing interruptions to the supply of water (e.g. planned works, burst pipes, leaks and outages) that cause problems ranging from low pressure to no water"}]
[73,14,{"$f":"VLOOKUP('Design #'!C1095,Labels!$A:$B,2,FALSE)","v":"Providing a continuous supply of water that is safe to drink"},{"$f":"VLOOKUP('Design #'!D1095,Labels!$A:$B,2,FALSE)","v":"Preventing the likelihood of restrictions on water use, including hosepipe bans, in a drought"},{"$f":"VLOOKUP('Design #'!E1095,Labels!$A:$B,2,FALSE)","v":"Providing good and constant water pressure"},{"$f":"VLOOKUP('Design #'!F1095,Labels!$A:$B,2,FALSE)","v":"Reduce and offset carbon emissions to achieve a 'net zero' position by 2030 "}]
[73,15,{"$f":"VLOOKUP('Design #'!C1096,Labels!$A:$B,2,FALSE)","v":"Providing appropriate sewer capacity and pumping capabilities to cope with widespread flood events"},{"$f":"VLOOKUP('Design #'!D1096,Labels!$A:$B,2,FALSE)","v":"Reducing the release of untreated sewage mixed with rain water into rivers and streams during times of heavy rainfall"},{"$f":"VLOOKUP('Design #'!E1096,Labels!$A:$B,2,FALSE)","v":"Ensuring additional support is available to those who need it e.g.  providing bills in braille, providing bottled water during times of interruptions for thos​e who can't get to a shop (elderly, medical conditions etc.)"},{"$f":"VLOOKUP('Design #'!F1096,Labels!$A:$B,2,FALSE)","v":"Supporting customers to reduce their water use and prevent blockages through education and provision of free tools/devices"}]
[74,1,{"$f":"VLOOKUP('Design #'!C1097,Labels!$A:$B,2,FALSE)","v":"Preventing the likelihood of restrictions on water use, including hosepipe bans, in a drought"},{"$f":"VLOOKUP('Design #'!D1097,Labels!$A:$B,2,FALSE)","v":"Preventing pollution of rivers or streams from sewage pipes"},{"$f":"VLOOKUP('Design #'!E1097,Labels!$A:$B,2,FALSE)","v":"Ensuring additional support is available to those who need it e.g.  providing bills in braille, providing bottled water during times of interruptions for thos​e who can't get to a shop (elderly, medical conditions etc.)"},{"$f":"VLOOKUP('Design #'!F1097,Labels!$A:$B,2,FALSE)","v":"Preventing sewage entering gardens and public spaces from pipe collapses or blockages"}]
[74,2,{"$f":"VLOOKUP('Design #'!C1098,Labels!$A:$B,2,FALSE)","v":"Preventing leaks from Yorkshire Water's pipe network"},{"$f":"VLOOKUP('Design #'!D1098,Labels!$A:$B,2,FALSE)","v":"Providing a continuous supply of water that is safe to drink"},{"$f":"VLOOKUP('Design #'!E1098,Labels!$A:$B,2,FALSE)","v":"Providing a high level of customer service (e.g. resolving queries quickly)"},{"$f":"VLOOKUP('Design #'!F1098,Labels!$A:$B,2,FALSE)","v":"Providing good and constant water pressure"}]
[74,3,{"$f":"VLOOKUP('Design #'!C1099,Labels!$A:$B,2,FALSE)","v":"Reducing the release of untreated sewage mixed with rain water into rivers and streams during times of heavy rainfall"},{"$f":"VLOOKUP('Design #'!D1099,Labels!$A:$B,2,FALSE)","v":"Keeping bills affordable for all"},{"$f":"VLOOKUP('Design #'!E1099,Labels!$A:$B,2,FALSE)","v":"Reduce and offset carbon emissions to achieve a 'net zero' position by 2030 "},{"$f":"VLOOKUP('Design #'!F1099,Labels!$A:$B,2,FALSE)","v":"Preventing sewage entering gardens and public spaces from pipe collapses or blockages"}]
[74,4,{"$f":"VLOOKUP('Design #'!C1100,Labels!$A:$B,2,FALSE)","v":"Preventing sewage from entering homes and businesses "},{"$f":"VLOOKUP('Design #'!D1100,Labels!$A:$B,2,FALSE)","v":"Preventing interruptions to the supply of water (e.g. planned works, burst pipes, leaks and outages) that cause problems ranging from low pressure to no water"},{"$f":"VLOOKUP('Design #'!E1100,Labels!$A:$B,2,FALSE)","v":"Providing a continuous supply of water that is safe to drink"},{"$f":"VLOOKUP('Design #'!F1100,Labels!$A:$B,2,FALSE)","v":"Ensuring additional support is available to those who need it e.g.  providing bills in braille, providing bottled water during times of interruptions for thos​e who can't get to a shop (elderly, medical conditions etc.)"}]
[74,5,{"$f":"VLOOKUP('Design #'!C1101,Labels!$A:$B,2,FALSE)","v":"Ensuring additional support is available to those who need it e.g.  providing bills in braille, providing bottled water during times of interruptions for thos​e who can't get to a shop (elderly, medical conditions etc.)"},{"$f":"VLOOKUP('Design #'!D1101,Labels!$A:$B,2,FALSE)","v":"Supporting customers to reduce their water use and prevent blockages through education and provision of free tools/devices"},{"$f":"VLOOKUP('Design #'!E1101,Labels!$A:$B,2,FALSE)","v":"Preventing leaks from Yorkshire Water's pipe network"},{"$f":"VLOOKUP('Design #'!F1101,Labels!$A:$B,2,FALSE)","v":"Providing financial help and support to those who are struggling to pay their water bill"}]
[74,6,{"$f":"VLOOKUP('Design #'!C1102,Labels!$A:$B,2,FALSE)","v":"Treating waste water to a high standard to ensure good quality water in Yorkshire's rivers and beaches"},{"$f":"VLOOKUP('Design #'!D1102,Labels!$A:$B,2,FALSE)","v":"Working with other organisations on common challenges (e.g. flooding) to share costs and expertise allowing for more and smarter investment to tackle problems"},{"$f":"VLOOKUP('Design #'!E1102,Labels!$A:$B,2,FALSE)","v":"Supporting customers to reduce their water use and prevent blockages through education and provision of free tools/devices"},{"$f":"VLOOKUP('Design #'!F1102,Labels!$A:$B,2,FALSE)","v":"Preventing the likelihood of restrictions on water use, including hosepipe bans, in a drought"}]
[74,7,{"$f":"VLOOKUP('Design #'!C1103,Labels!$A:$B,2,FALSE)","v":"Ensuring that land owned by Yorkshire Water is conserved or enhanced to improve quality of the water it collects and reduce flooding"},{"$f":"VLOOKUP('Design #'!D1103,Labels!$A:$B,2,FALSE)","v":"Preventing interruptions to the supply of water (e.g. planned works, burst pipes, leaks and outages) that cause problems ranging from low pressure to no water"},{"$f":"VLOOKUP('Design #'!E1103,Labels!$A:$B,2,FALSE)","v":"Reduce and offset carbon emissions to achieve a 'net zero' position by 2030 "},{"$f":"VLOOKUP('Design #'!F1103,Labels!$A:$B,2,FALSE)","v":"Providing appropriate sewer capacity and pumping capabilities to cope with widespread flood events"}]
[74,8,{"$f":"VLOOKUP('Design #'!C1104,Labels!$A:$B,2,FALSE)","v":"Preventing interruptions to the supply of water (e.g. planned works, burst pipes, leaks and outages) that cause problems ranging from low pressure to no water"},{"$f":"VLOOKUP('Design #'!D1104,Labels!$A:$B,2,FALSE)","v":"Working with other organisations on common challenges (e.g. flooding) to share costs and expertise allowing for more and smarter investment to tackle problems"},{"$f":"VLOOKUP('Design #'!E1104,Labels!$A:$B,2,FALSE)","v":"Treating waste water to a high standard to ensure good quality water in Yorkshire's rivers and beaches"},{"$f":"VLOOKUP('Design #'!F1104,Labels!$A:$B,2,FALSE)","v":"Ensuring that land owned by Yorkshire Water is conserved or enhanced to improve quality of the water it collects and reduce flooding"}]
[74,9,{"$f":"VLOOKUP('Design #'!C1105,Labels!$A:$B,2,FALSE)","v":"Providing financial help and support to those who are struggling to pay their water bill"},{"$f":"VLOOKUP('Design #'!D1105,Labels!$A:$B,2,FALSE)","v":"Preventing sewage from entering homes and businesses "},{"$f":"VLOOKUP('Design #'!E1105,Labels!$A:$B,2,FALSE)","v":"Providing appropriate sewer capacity and pumping capabilities to cope with widespread flood events"},{"$f":"VLOOKUP('Design #'!F1105,Labels!$A:$B,2,FALSE)","v":"Providing water that is aesthetically pleasing (clear and clean with no odour or unusual taste or colour)"}]
[74,10,{"$f":"VLOOKUP('Design #'!C1106,Labels!$A:$B,2,FALSE)","v":"Treating waste water to a high standard to ensure good quality water in Yorkshire's rivers and beaches"},{"$f":"VLOOKUP('Design #'!D1106,Labels!$A:$B,2,FALSE)","v":"Providing a continuous supply of water that is safe to drink"},{"$f":"VLOOKUP('Design #'!E1106,Labels!$A:$B,2,FALSE)","v":"Preventing pollution of rivers or streams from sewage pipes"},{"$f":"VLOOKUP('Design #'!F1106,Labels!$A:$B,2,FALSE)","v":"Providing good and constant water pressure"}]
[74,11,{"$f":"VLOOKUP('Design #'!C1107,Labels!$A:$B,2,FALSE)","v":"Preventing sewage from entering homes and businesses "},{"$f":"VLOOKUP('Design #'!D1107,Labels!$A:$B,2,FALSE)","v":"Ensuring additional support is available to those who need it e.g.  providing bills in braille, providing bottled water during times of interruptions for thos​e who can't get to a shop (elderly, medical conditions etc.)"},{"$f":"VLOOKUP('Design #'!E1107,Labels!$A:$B,2,FALSE)","v":"Reducing the release of untreated sewage mixed with rain water into rivers and streams during times of heavy rainfall"},{"$f":"VLOOKUP('Design #'!F1107,Labels!$A:$B,2,FALSE)","v":"Keeping bills affordable for all"}]
[74,12,{"$f":"VLOOKUP('Design #'!C1108,Labels!$A:$B,2,FALSE)","v":"Keeping bills affordable for all"},{"$f":"VLOOKUP('Design #'!D1108,Labels!$A:$B,2,FALSE)","v":"Reduce and offset carbon emissions to achieve a 'net zero' position by 2030 "},{"$f":"VLOOKUP('Design #'!E1108,Labels!$A:$B,2,FALSE)","v":"Providing financial help and support to those who are struggling to pay their water bill"},{"$f":"VLOOKUP('Design #'!F1108,Labels!$A:$B,2,FALSE)","v":"Providing a high level of customer service (e.g. resolving queries quickly)"}]
[74,13,{"$f":"VLOOKUP('Design #'!C1109,Labels!$A:$B,2,FALSE)","v":"Providing good and constant water pressure"},{"$f":"VLOOKUP('Design #'!D1109,Labels!$A:$B,2,FALSE)","v":"Ensuring that land owned by Yorkshire Water is conserved or enhanced to improve quality of the water it collects and reduce flooding"},{"$f":"VLOOKUP('Design #'!E1109,Labels!$A:$B,2,FALSE)","v":"Supporting customers to reduce their water use and prevent blockages through education and provision of free tools/devices"},{"$f":"VLOOKUP('Design #'!F1109,Labels!$A:$B,2,FALSE)","v":"Providing water that is aesthetically pleasing (clear and clean with no odour or unusual taste or colour)"}]
[74,14,{"$f":"VLOOKUP('Design #'!C1110,Labels!$A:$B,2,FALSE)","v":"Providing a high level of customer service (e.g. resolving queries quickly)"},{"$f":"VLOOKUP('Design #'!D1110,Labels!$A:$B,2,FALSE)","v":"Preventing pollution of rivers or streams from sewage pipes"},{"$f":"VLOOKUP('Design #'!E1110,Labels!$A:$B,2,FALSE)","v":"Working with other organisations on common challenges (e.g. flooding) to share costs and expertise allowing for more and smarter investment to tackle problems"},{"$f":"VLOOKUP('Design #'!F1110,Labels!$A:$B,2,FALSE)","v":"Preventing the likelihood of restrictions on water use, including hosepipe bans, in a drought"}]
[74,15,{"$f":"VLOOKUP('Design #'!C1111,Labels!$A:$B,2,FALSE)","v":"Preventing pollution of rivers or streams from sewage pipes"},{"$f":"VLOOKUP('Design #'!D1111,Labels!$A:$B,2,FALSE)","v":"Reducing the release of untreated sewage mixed with rain water into rivers and streams during times of heavy rainfall"},{"$f":"VLOOKUP('Design #'!E1111,Labels!$A:$B,2,FALSE)","v":"Preventing leaks from Yorkshire Water's pipe network"},{"$f":"VLOOKUP('Design #'!F1111,Labels!$A:$B,2,FALSE)","v":"Providing appropriate sewer capacity and pumping capabilities to cope with widespread flood events"}]
[75,1,{"$f":"VLOOKUP('Design #'!C1112,Labels!$A:$B,2,FALSE)","v":"Supporting customers to reduce their water use and prevent blockages through education and provision of free tools/devices"},{"$f":"VLOOKUP('Design #'!D1112,Labels!$A:$B,2,FALSE)","v":"Providing water that is aesthetically pleasing (clear and clean with no odour or unusual taste or colour)"},{"$f":"VLOOKUP('Design #'!E1112,Labels!$A:$B,2,FALSE)","v":"Preventing interruptions to the supply of water (e.g. planned works, burst pipes, leaks and outages) that cause problems ranging from low pressure to no water"},{"$f":"VLOOKUP('Design #'!F1112,Labels!$A:$B,2,FALSE)","v":"Providing a continuous supply of water that is safe to drink"}]
[75,2,{"$f":"VLOOKUP('Design #'!C1113,Labels!$A:$B,2,FALSE)","v":"Providing water that is aesthetically pleasing (clear and clean with no odour or unusual taste or colour)"},{"$f":"VLOOKUP('Design #'!D1113,Labels!$A:$B,2,FALSE)","v":"Keeping bills affordable for all"},{"$f":"VLOOKUP('Design #'!E1113,Labels!$A:$B,2,FALSE)","v":"Preventing sewage entering gardens and public spaces from pipe collapses or blockages"},{"$f":"VLOOKUP('Design #'!F1113,Labels!$A:$B,2,FALSE)","v":"Working with other organisations on common challenges (e.g. flooding) to share costs and expertise allowing for more and smarter investment to tackle problems"}]
[75,3,{"$f":"VLOOKUP('Design #'!C1114,Labels!$A:$B,2,FALSE)","v":"Ensuring that land owned by Yorkshire Water is conserved or enhanced to improve quality of the water it collects and reduce flooding"},{"$f":"VLOOKUP('Design #'!D1114,Labels!$A:$B,2,FALSE)","v":"Preventing sewage from entering homes and businesses "},{"$f":"VLOOKUP('Design #'!E1114,Labels!$A:$B,2,FALSE)","v":"Preventing the likelihood of restrictions on water use, including hosepipe bans, in a drought"},{"$f":"VLOOKUP('Design #'!F1114,Labels!$A:$B,2,FALSE)","v":"Reduce and offset carbon emissions to achieve a 'net zero' position by 2030 "}]
[75,4,{"$f":"VLOOKUP('Design #'!C1115,Labels!$A:$B,2,FALSE)","v":"Preventing sewage entering gardens and public spaces from pipe collapses or blockages"},{"$f":"VLOOKUP('Design #'!D1115,Labels!$A:$B,2,FALSE)","v":"Reduce and offset carbon emissions to achieve a 'net zero' position by 2030 "},{"$f":"VLOOKUP('Design #'!E1115,Labels!$A:$B,2,FALSE)","v":"Providing financial help and support to those who are struggling to pay their water bill"},{"$f":"VLOOKUP('Design #'!F1115,Labels!$A:$B,2,FALSE)","v":"Providing appropriate sewer capacity and pumping capabilities to cope with widespread flood events"}]
[75,5,{"$f":"VLOOKUP('Design #'!C1116,Labels!$A:$B,2,FALSE)","v":"Working with other organisations on common challenges (e.g. flooding) to share costs and expertise allowing for more and smarter investment to tackle problems"},{"$f":"VLOOKUP('Design #'!D1116,Labels!$A:$B,2,FALSE)","v":"Ensuring that land owned by Yorkshire Water is conserved or enhanced to improve quality of the water it collects and reduce flooding"},{"$f":"VLOOKUP('Design #'!E1116,Labels!$A:$B,2,FALSE)","v":"Keeping bills affordable for all"},{"$f":"VLOOKUP('Design #'!F1116,Labels!$A:$B,2,FALSE)","v":"Preventing pollution of rivers or streams from sewage pipes"}]
[75,6,{"$f":"VLOOKUP('Design #'!C1117,Labels!$A:$B,2,FALSE)","v":"Preventing pollution of rivers or streams from sewage pipes"},{"$f":"VLOOKUP('Design #'!D1117,Labels!$A:$B,2,FALSE)","v":"Providing a high level of customer service (e.g. resolving queries quickly)"},{"$f":"VLOOKUP('Design #'!E1117,Labels!$A:$B,2,FALSE)","v":"Preventing interruptions to the supply of water (e.g. planned works, burst pipes, leaks and outages) that cause problems ranging from low pressure to no water"},{"$f":"VLOOKUP('Design #'!F1117,Labels!$A:$B,2,FALSE)","v":"Ensuring additional support is available to those who need it e.g.  providing bills in braille, providing bottled water during times of interruptions for thos​e who can't get to a shop (elderly, medical conditions etc.)"}]
[75,7,{"$f":"VLOOKUP('Design #'!C1118,Labels!$A:$B,2,FALSE)","v":"Preventing the likelihood of restrictions on water use, including hosepipe bans, in a drought"},{"$f":"VLOOKUP('Design #'!D1118,Labels!$A:$B,2,FALSE)","v":"Providing water that is aesthetically pleasing (clear and clean with no odour or unusual taste or colour)"},{"$f":"VLOOKUP('Design #'!E1118,Labels!$A:$B,2,FALSE)","v":"Reducing the release of untreated sewage mixed with rain water into rivers and streams during times of heavy rainfall"},{"$f":"VLOOKUP('Design #'!F1118,Labels!$A:$B,2,FALSE)","v":"Preventing leaks from Yorkshire Water's pipe network"}]
[75,8,{"$f":"VLOOKUP('Design #'!C1119,Labels!$A:$B,2,FALSE)","v":"Providing a continuous supply of water that is safe to drink"},{"$f":"VLOOKUP('Design #'!D1119,Labels!$A:$B,2,FALSE)","v":"Preventing the likelihood of restrictions on water use, including hosepipe bans, in a drought"},{"$f":"VLOOKUP('Design #'!E1119,Labels!$A:$B,2,FALSE)","v":"Supporting customers to reduce their water use and prevent blockages through education and provision of free tools/devices"},{"$f":"VLOOKUP('Design #'!F1119,Labels!$A:$B,2,FALSE)","v":"Preventing sewage from entering homes and businesses "}]
[75,9,{"$f":"VLOOKUP('Design #'!C1120,Labels!$A:$B,2,FALSE)","v":"Providing financial help and support to those who are struggling to pay their water bill"},{"$f":"VLOOKUP('Design #'!D1120,Labels!$A:$B,2,FALSE)","v":"Treating waste water to a high standard to ensure good quality water in Yorkshire's rivers and beaches"},{"$f":"VLOOKUP('Design #'!E1120,Labels!$A:$B,2,FALSE)","v":"Reduce and offset carbon emissions to achieve a 'net zero' position by 2030 "},{"$f":"VLOOKUP('Design #'!F1120,Labels!$A:$B,2,FALSE)","v":"Preventing interruptions to the supply of water (e.g. planned works, burst pipes, leaks and outages) that cause problems ranging from low pressure to no water"}]
[75,10,{"$f":"VLOOKUP('Design #'!C1121,Labels!$A:$B,2,FALSE)","v":"Keeping bills affordable for all"},{"$f":"VLOOKUP('Design #'!D1121,Labels!$A:$B,2,FALSE)","v":"Preventing leaks from Yorkshire Water's pipe network"},{"$f":"VLOOKUP('Design #'!E1121,Labels!$A:$B,2,FALSE)","v":"Providing a continuous supply of water that is safe to drink"},{"$f":"VLOOKUP('Design #'!F1121,Labels!$A:$B,2,FALSE)","v":"Working with other organisations on common challenges (e.g. flooding) to share costs and expertise allowing for more and smarter investment to tackle problems"}]
[75,11,{"$f":"VLOOKUP('Design #'!C1122,Labels!$A:$B,2,FALSE)","v":"Preventing leaks from Yorkshire Water's pipe network"},{"$f":"VLOOKUP('Design #'!D1122,Labels!$A:$B,2,FALSE)","v":"Preventing sewage from entering homes and businesses "},{"$f":"VLOOKUP('Design #'!E1122,Labels!$A:$B,2,FALSE)","v":"Providing a high level of customer service (e.g. resolving queries quickly)"},{"$f":"VLOOKUP('Design #'!F1122,Labels!$A:$B,2,FALSE)","v":"Treating waste water to a high standard to ensure good quality water in Yorkshire's rivers and beaches"}]
[75,12,{"$f":"VLOOKUP('Design #'!C1123,Labels!$A:$B,2,FALSE)","v":"Providing good and constant water pressure"},{"$f":"VLOOKUP('Design #'!D1123,Labels!$A:$B,2,FALSE)","v":"Providing appropriate sewer capacity and pumping capabilities to cope with widespread flood events"},{"$f":"VLOOKUP('Design #'!E1123,Labels!$A:$B,2,FALSE)","v":"Ensuring that land owned by Yorkshire Water is conserved or enhanced to improve quality of the water it collects and reduce flooding"},{"$f":"VLOOKUP('Design #'!F1123,Labels!$A:$B,2,FALSE)","v":"Ensuring additional support is available to those who need it e.g.  providing bills in braille, providing bottled water during times of interruptions for thos​e who can't get to a shop (elderly, medical conditions etc.)"}]
[75,13,{"$f":"VLOOKUP('Design #'!C1124,Labels!$A:$B,2,FALSE)","v":"Providing a high level of customer service (e.g. resolving queries quickly)"},{"$f":"VLOOKUP('Design #'!D1124,Labels!$A:$B,2,FALSE)","v":"Providing good and constant water pressure"},{"$f":"VLOOKUP('Design #'!E1124,Labels!$A:$B,2,FALSE)","v":"Preventing sewage entering gardens and public spaces from pipe collapses or blockages"},{"$f":"VLOOKUP('Design #'!F1124,Labels!$A:$B,2,FALSE)","v":"Reducing the release of untreated sewage mixed with rain water into rivers and streams during times of heavy rainfall"}]
[75,14,{"$f":"VLOOKUP('Design #'!C1125,Labels!$A:$B,2,FALSE)","v":"Providing appropriate sewer capacity and pumping capabilities to cope with widespread flood events"},{"$f":"VLOOKUP('Design #'!D1125,Labels!$A:$B,2,FALSE)","v":"Treating waste water to a high standard to ensure good quality water in Yorkshire's rivers and beaches"},{"$f":"VLOOKUP('Design #'!E1125,Labels!$A:$B,2,FALSE)","v":"Providing water that is aesthetically pleasing (clear and clean with no odour or unusual taste or colour)"},{"$f":"VLOOKUP('Design #'!F1125,Labels!$A:$B,2,FALSE)","v":"Ensuring that land owned by Yorkshire Water is conserved or enhanced to improve quality of the water it collects and reduce flooding"}]
[75,15,{"$f":"VLOOKUP('Design #'!C1126,Labels!$A:$B,2,FALSE)","v":"Reducing the release of untreated sewage mixed with rain water into rivers and streams during times of heavy rainfall"},{"$f":"VLOOKUP('Design #'!D1126,Labels!$A:$B,2,FALSE)","v":"Providing financial help and support to those who are struggling to pay their water bill"},{"$f":"VLOOKUP('Design #'!E1126,Labels!$A:$B,2,FALSE)","v":"Providing good and constant water pressure"},{"$f":"VLOOKUP('Design #'!F1126,Labels!$A:$B,2,FALSE)","v":"Supporting customers to reduce their water use and prevent blockages through education and provision of free tools/devices"}]
[76,1,{"$f":"VLOOKUP('Design #'!C1127,Labels!$A:$B,2,FALSE)","v":"Providing water that is aesthetically pleasing (clear and clean with no odour or unusual taste or colour)"},{"$f":"VLOOKUP('Design #'!D1127,Labels!$A:$B,2,FALSE)","v":"Preventing sewage entering gardens and public spaces from pipe collapses or blockages"},{"$f":"VLOOKUP('Design #'!E1127,Labels!$A:$B,2,FALSE)","v":"Preventing pollution of rivers or streams from sewage pipes"},{"$f":"VLOOKUP('Design #'!F1127,Labels!$A:$B,2,FALSE)","v":"Preventing sewage from entering homes and businesses "}]
[76,2,{"$f":"VLOOKUP('Design #'!C1128,Labels!$A:$B,2,FALSE)","v":"Preventing sewage entering gardens and public spaces from pipe collapses or blockages"},{"$f":"VLOOKUP('Design #'!D1128,Labels!$A:$B,2,FALSE)","v":"Supporting customers to reduce their water use and prevent blockages through education and provision of free tools/devices"},{"$f":"VLOOKUP('Design #'!E1128,Labels!$A:$B,2,FALSE)","v":"Ensuring additional support is available to those who need it e.g.  providing bills in braille, providing bottled water during times of interruptions for thos​e who can't get to a shop (elderly, medical conditions etc.)"},{"$f":"VLOOKUP('Design #'!F1128,Labels!$A:$B,2,FALSE)","v":"Working with other organisations on common challenges (e.g. flooding) to share costs and expertise allowing for more and smarter investment to tackle problems"}]
[76,3,{"$f":"VLOOKUP('Design #'!C1129,Labels!$A:$B,2,FALSE)","v":"Preventing interruptions to the supply of water (e.g. planned works, burst pipes, leaks and outages) that cause problems ranging from low pressure to no water"},{"$f":"VLOOKUP('Design #'!D1129,Labels!$A:$B,2,FALSE)","v":"Providing good and constant water pressure"},{"$f":"VLOOKUP('Design #'!E1129,Labels!$A:$B,2,FALSE)","v":"Keeping bills affordable for all"},{"$f":"VLOOKUP('Design #'!F1129,Labels!$A:$B,2,FALSE)","v":"Preventing the likelihood of restrictions on water use, including hosepipe bans, in a drought"}]
[76,4,{"$f":"VLOOKUP('Design #'!C1130,Labels!$A:$B,2,FALSE)","v":"Providing appropriate sewer capacity and pumping capabilities to cope with widespread flood events"},{"$f":"VLOOKUP('Design #'!D1130,Labels!$A:$B,2,FALSE)","v":"Keeping bills affordable for all"},{"$f":"VLOOKUP('Design #'!E1130,Labels!$A:$B,2,FALSE)","v":"Providing a high level of customer service (e.g. resolving queries quickly)"},{"$f":"VLOOKUP('Design #'!F1130,Labels!$A:$B,2,FALSE)","v":"Preventing the likelihood of restrictions on water use, including hosepipe bans, in a drought"}]
[76,5,{"$f":"VLOOKUP('Design #'!C1131,Labels!$A:$B,2,FALSE)","v":"Ensuring additional support is available to those who need it e.g.  providing bills in braille, providing bottled water during times of interruptions for thos​e who can't get to a shop (elderly, medical conditions etc.)"},{"$f":"VLOOKUP('Design #'!D1131,Labels!$A:$B,2,FALSE)","v":"Preventing leaks from Yorkshire Water's pipe network"},{"$f":"VLOOKUP('Design #'!E1131,Labels!$A:$B,2,FALSE)","v":"Ensuring that land owned by Yorkshire Water is conserved or enhanced to improve quality of the water it collects and reduce flooding"},{"$f":"VLOOKUP('Design #'!F1131,Labels!$A:$B,2,FALSE)","v":"Preventing sewage entering gardens and public spaces from pipe collapses or blockages"}]
[76,6,{"$f":"VLOOKUP('Design #'!C1132,Labels!$A:$B,2,FALSE)","v":"Providing good and constant water pressure"},{"$f":"VLOOKUP('Design #'!D1132,Labels!$A:$B,2,FALSE)","v":"Providing a high level of customer service (e.g. resolving queries quickly)"},{"$f":"VLOOKUP('Design #'!E1132,Labels!$A:$B,2,FALSE)","v":"Preventing leaks from Yorkshire Water's pipe network"},{"$f":"VLOOKUP('Design #'!F1132,Labels!$A:$B,2,FALSE)","v":"Providing water that is aesthetically pleasing (clear and clean with no odour or unusual taste or colour)"}]
[76,7,{"$f":"VLOOKUP('Design #'!C1133,Labels!$A:$B,2,FALSE)","v":"Reduce and offset carbon emissions to achieve a 'net zero' position by 2030 "},{"$f":"VLOOKUP('Design #'!D1133,Labels!$A:$B,2,FALSE)","v":"Providing a continuous supply of water that is safe to drink"},{"$f":"VLOOKUP('Design #'!E1133,Labels!$A:$B,2,FALSE)","v":"Providing water that is aesthetically pleasing (clear and clean with no odour or unusual taste or colour)"},{"$f":"VLOOKUP('Design #'!F1133,Labels!$A:$B,2,FALSE)","v":"Ensuring additional support is available to those who need it e.g.  providing bills in braille, providing bottled water during times of interruptions for thos​e who can't get to a shop (elderly, medical conditions etc.)"}]
[76,8,{"$f":"VLOOKUP('Design #'!C1134,Labels!$A:$B,2,FALSE)","v":"Working with other organisations on common challenges (e.g. flooding) to share costs and expertise allowing for more and smarter investment to tackle problems"},{"$f":"VLOOKUP('Design #'!D1134,Labels!$A:$B,2,FALSE)","v":"Providing appropriate sewer capacity and pumping capabilities to cope with widespread flood events"},{"$f":"VLOOKUP('Design #'!E1134,Labels!$A:$B,2,FALSE)","v":"Providing a continuous supply of water that is safe to drink"},{"$f":"VLOOKUP('Design #'!F1134,Labels!$A:$B,2,FALSE)","v":"Providing financial help and support to those who are struggling to pay their water bill"}]
[76,9,{"$f":"VLOOKUP('Design #'!C1135,Labels!$A:$B,2,FALSE)","v":"Preventing sewage entering gardens and public spaces from pipe collapses or blockages"},{"$f":"VLOOKUP('Design #'!D1135,Labels!$A:$B,2,FALSE)","v":"Working with other organisations on common challenges (e.g. flooding) to share costs and expertise allowing for more and smarter investment to tackle problems"},{"$f":"VLOOKUP('Design #'!E1135,Labels!$A:$B,2,FALSE)","v":"Reducing the release of untreated sewage mixed with rain water into rivers and streams during times of heavy rainfall"},{"$f":"VLOOKUP('Design #'!F1135,Labels!$A:$B,2,FALSE)","v":"Preventing interruptions to the supply of water (e.g. planned works, burst pipes, leaks and outages) that cause problems ranging from low pressure to no water"}]
[76,10,{"$f":"VLOOKUP('Design #'!C1136,Labels!$A:$B,2,FALSE)","v":"Ensuring that land owned by Yorkshire Water is conserved or enhanced to improve quality of the water it collects and reduce flooding"},{"$f":"VLOOKUP('Design #'!D1136,Labels!$A:$B,2,FALSE)","v":"Providing a continuous supply of water that is safe to drink"},{"$f":"VLOOKUP('Design #'!E1136,Labels!$A:$B,2,FALSE)","v":"Preventing sewage from entering homes and businesses "},{"$f":"VLOOKUP('Design #'!F1136,Labels!$A:$B,2,FALSE)","v":"Reducing the release of untreated sewage mixed with rain water into rivers and streams during times of heavy rainfall"}]
[76,11,{"$f":"VLOOKUP('Design #'!C1137,Labels!$A:$B,2,FALSE)","v":"Reduce and offset carbon emissions to achieve a 'net zero' position by 2030 "},{"$f":"VLOOKUP('Design #'!D1137,Labels!$A:$B,2,FALSE)","v":"Reducing the release of untreated sewage mixed with rain water into rivers and streams during times of heavy rainfall"},{"$f":"VLOOKUP('Design #'!E1137,Labels!$A:$B,2,FALSE)","v":"Ensuring that land owned by Yorkshire Water is conserved or enhanced to improve quality of the water it collects and reduce flooding"},{"$f":"VLOOKUP('Design #'!F1137,Labels!$A:$B,2,FALSE)","v":"Providing a high level of customer service (e.g. resolving queries quickly)"}]
[76,12,{"$f":"VLOOKUP('Design #'!C1138,Labels!$A:$B,2,FALSE)","v":"Preventing sewage from entering homes and businesses "},{"$f":"VLOOKUP('Design #'!D1138,Labels!$A:$B,2,FALSE)","v":"Preventing pollution of rivers or streams from sewage pipes"},{"$f":"VLOOKUP('Design #'!E1138,Labels!$A:$B,2,FALSE)","v":"Providing appropriate sewer capacity and pumping capabilities to cope with widespread flood events"},{"$f":"VLOOKUP('Design #'!F1138,Labels!$A:$B,2,FALSE)","v":"Supporting customers to reduce their water use and prevent blockages through education and provision of free tools/devices"}]
[76,13,{"$f":"VLOOKUP('Design #'!C1139,Labels!$A:$B,2,FALSE)","v":"Preventing pollution of rivers or streams from sewage pipes"},{"$f":"VLOOKUP('Design #'!D1139,Labels!$A:$B,2,FALSE)","v":"Treating waste water to a high standard to ensure good quality water in Yorkshire's rivers and beaches"},{"$f":"VLOOKUP('Design #'!E1139,Labels!$A:$B,2,FALSE)","v":"Providing good and constant water pressure"},{"$f":"VLOOKUP('Design #'!F1139,Labels!$A:$B,2,FALSE)","v":"Reduce and offset carbon emissions to achieve a 'net zero' position by 2030 "}]
[76,14,{"$f":"VLOOKUP('Design #'!C1140,Labels!$A:$B,2,FALSE)","v":"Providing financial help and support to those who are struggling to pay their water bill"},{"$f":"VLOOKUP('Design #'!D1140,Labels!$A:$B,2,FALSE)","v":"Keeping bills affordable for all"},{"$f":"VLOOKUP('Design #'!E1140,Labels!$A:$B,2,FALSE)","v":"Preventing interruptions to the supply of water (e.g. planned works, burst pipes, leaks and outages) that cause problems ranging from low pressure to no water"},{"$f":"VLOOKUP('Design #'!F1140,Labels!$A:$B,2,FALSE)","v":"Preventing leaks from Yorkshire Water's pipe network"}]
[76,15,{"$f":"VLOOKUP('Design #'!C1141,Labels!$A:$B,2,FALSE)","v":"Treating waste water to a high standard to ensure good quality water in Yorkshire's rivers and beaches"},{"$f":"VLOOKUP('Design #'!D1141,Labels!$A:$B,2,FALSE)","v":"Preventing sewage entering gardens and public spaces from pipe collapses or blockages"},{"$f":"VLOOKUP('Design #'!E1141,Labels!$A:$B,2,FALSE)","v":"Preventing the likelihood of restrictions on water use, including hosepipe bans, in a drought"},{"$f":"VLOOKUP('Design #'!F1141,Labels!$A:$B,2,FALSE)","v":"Providing financial help and support to those who are struggling to pay their water bill"}]
[77,1,{"$f":"VLOOKUP('Design #'!C1142,Labels!$A:$B,2,FALSE)","v":"Preventing the likelihood of restrictions on water use, including hosepipe bans, in a drought"},{"$f":"VLOOKUP('Design #'!D1142,Labels!$A:$B,2,FALSE)","v":"Providing financial help and support to those who are struggling to pay their water bill"},{"$f":"VLOOKUP('Design #'!E1142,Labels!$A:$B,2,FALSE)","v":"Treating waste water to a high standard to ensure good quality water in Yorkshire's rivers and beaches"},{"$f":"VLOOKUP('Design #'!F1142,Labels!$A:$B,2,FALSE)","v":"Providing a high level of customer service (e.g. resolving queries quickly)"}]
[77,2,{"$f":"VLOOKUP('Design #'!C1143,Labels!$A:$B,2,FALSE)","v":"Providing a continuous supply of water that is safe to drink"},{"$f":"VLOOKUP('Design #'!D1143,Labels!$A:$B,2,FALSE)","v":"Providing a high level of customer service (e.g. resolving queries quickly)"},{"$f":"VLOOKUP('Design #'!E1143,Labels!$A:$B,2,FALSE)","v":"Supporting customers to reduce their water use and prevent blockages through education and provision of free tools/devices"},{"$f":"VLOOKUP('Design #'!F1143,Labels!$A:$B,2,FALSE)","v":"Treating waste water to a high standard to ensure good quality water in Yorkshire's rivers and beaches"}]
[77,3,{"$f":"VLOOKUP('Design #'!C1144,Labels!$A:$B,2,FALSE)","v":"Providing a continuous supply of water that is safe to drink"},{"$f":"VLOOKUP('Design #'!D1144,Labels!$A:$B,2,FALSE)","v":"Ensuring additional support is available to those who need it e.g.  providing bills in braille, providing bottled water during times of interruptions for thos​e who can't get to a shop (elderly, medical conditions etc.)"},{"$f":"VLOOKUP('Design #'!E1144,Labels!$A:$B,2,FALSE)","v":"Providing a high level of customer service (e.g. resolving queries quickly)"},{"$f":"VLOOKUP('Design #'!F1144,Labels!$A:$B,2,FALSE)","v":"Keeping bills affordable for all"}]
[77,4,{"$f":"VLOOKUP('Design #'!C1145,Labels!$A:$B,2,FALSE)","v":"Preventing sewage from entering homes and businesses "},{"$f":"VLOOKUP('Design #'!D1145,Labels!$A:$B,2,FALSE)","v":"Preventing the likelihood of restrictions on water use, including hosepipe bans, in a drought"},{"$f":"VLOOKUP('Design #'!E1145,Labels!$A:$B,2,FALSE)","v":"Reducing the release of untreated sewage mixed with rain water into rivers and streams during times of heavy rainfall"},{"$f":"VLOOKUP('Design #'!F1145,Labels!$A:$B,2,FALSE)","v":"Providing good and constant water pressure"}]
[77,5,{"$f":"VLOOKUP('Design #'!C1146,Labels!$A:$B,2,FALSE)","v":"Providing appropriate sewer capacity and pumping capabilities to cope with widespread flood events"},{"$f":"VLOOKUP('Design #'!D1146,Labels!$A:$B,2,FALSE)","v":"Preventing interruptions to the supply of water (e.g. planned works, burst pipes, leaks and outages) that cause problems ranging from low pressure to no water"},{"$f":"VLOOKUP('Design #'!E1146,Labels!$A:$B,2,FALSE)","v":"Preventing sewage entering gardens and public spaces from pipe collapses or blockages"},{"$f":"VLOOKUP('Design #'!F1146,Labels!$A:$B,2,FALSE)","v":"Providing a continuous supply of water that is safe to drink"}]
[77,6,{"$f":"VLOOKUP('Design #'!C1147,Labels!$A:$B,2,FALSE)","v":"Supporting customers to reduce their water use and prevent blockages through education and provision of free tools/devices"},{"$f":"VLOOKUP('Design #'!D1147,Labels!$A:$B,2,FALSE)","v":"Preventing sewage from entering homes and businesses "},{"$f":"VLOOKUP('Design #'!E1147,Labels!$A:$B,2,FALSE)","v":"Treating waste water to a high standard to ensure good quality water in Yorkshire's rivers and beaches"},{"$f":"VLOOKUP('Design #'!F1147,Labels!$A:$B,2,FALSE)","v":"Keeping bills affordable for all"}]
[77,7,{"$f":"VLOOKUP('Design #'!C1148,Labels!$A:$B,2,FALSE)","v":"Providing water that is aesthetically pleasing (clear and clean with no odour or unusual taste or colour)"},{"$f":"VLOOKUP('Design #'!D1148,Labels!$A:$B,2,FALSE)","v":"Reducing the release of untreated sewage mixed with rain water into rivers and streams during times of heavy rainfall"},{"$f":"VLOOKUP('Design #'!E1148,Labels!$A:$B,2,FALSE)","v":"Working with other organisations on common challenges (e.g. flooding) to share costs and expertise allowing for more and smarter investment to tackle problems"},{"$f":"VLOOKUP('Design #'!F1148,Labels!$A:$B,2,FALSE)","v":"Providing appropriate sewer capacity and pumping capabilities to cope with widespread flood events"}]
[77,8,{"$f":"VLOOKUP('Design #'!C1149,Labels!$A:$B,2,FALSE)","v":"Reduce and offset carbon emissions to achieve a 'net zero' position by 2030 "},{"$f":"VLOOKUP('Design #'!D1149,Labels!$A:$B,2,FALSE)","v":"Preventing sewage entering gardens and public spaces from pipe collapses or blockages"},{"$f":"VLOOKUP('Design #'!E1149,Labels!$A:$B,2,FALSE)","v":"Providing water that is aesthetically pleasing (clear and clean with no odour or unusual taste or colour)"},{"$f":"VLOOKUP('Design #'!F1149,Labels!$A:$B,2,FALSE)","v":"Preventing leaks from Yorkshire Water's pipe network"}]
[77,9,{"$f":"VLOOKUP('Design #'!C1150,Labels!$A:$B,2,FALSE)","v":"Treating waste water to a high standard to ensure good quality water in Yorkshire's rivers and beaches"},{"$f":"VLOOKUP('Design #'!D1150,Labels!$A:$B,2,FALSE)","v":"Working with other organisations on common challenges (e.g. flooding) to share costs and expertise allowing for more and smarter investment to tackle problems"},{"$f":"VLOOKUP('Design #'!E1150,Labels!$A:$B,2,FALSE)","v":"Ensuring that land owned by Yorkshire Water is conserved or enhanced to improve quality of the water it collects and reduce flooding"},{"$f":"VLOOKUP('Design #'!F1150,Labels!$A:$B,2,FALSE)","v":"Preventing pollution of rivers or streams from sewage pipes"}]
[77,10,{"$f":"VLOOKUP('Design #'!C1151,Labels!$A:$B,2,FALSE)","v":"Supporting customers to reduce their water use and prevent blockages through education and provision of free tools/devices"},{"$f":"VLOOKUP('Design #'!D1151,Labels!$A:$B,2,FALSE)","v":"Providing appropriate sewer capacity and pumping capabilities to cope with widespread flood events"},{"$f":"VLOOKUP('Design #'!E1151,Labels!$A:$B,2,FALSE)","v":"Reduce and offset carbon emissions to achieve a 'net zero' position by 2030 "},{"$f":"VLOOKUP('Design #'!F1151,Labels!$A:$B,2,FALSE)","v":"Preventing interruptions to the supply of water (e.g. planned works, burst pipes, leaks and outages) that cause problems ranging from low pressure to no water"}]
[77,11,{"$f":"VLOOKUP('Design #'!C1152,Labels!$A:$B,2,FALSE)","v":"Keeping bills affordable for all"},{"$f":"VLOOKUP('Design #'!D1152,Labels!$A:$B,2,FALSE)","v":"Providing good and constant water pressure"},{"$f":"VLOOKUP('Design #'!E1152,Labels!$A:$B,2,FALSE)","v":"Preventing pollution of rivers or streams from sewage pipes"},{"$f":"VLOOKUP('Design #'!F1152,Labels!$A:$B,2,FALSE)","v":"Providing water that is aesthetically pleasing (clear and clean with no odour or unusual taste or colour)"}]
[77,12,{"$f":"VLOOKUP('Design #'!C1153,Labels!$A:$B,2,FALSE)","v":"Preventing leaks from Yorkshire Water's pipe network"},{"$f":"VLOOKUP('Design #'!D1153,Labels!$A:$B,2,FALSE)","v":"Supporting customers to reduce their water use and prevent blockages through education and provision of free tools/devices"},{"$f":"VLOOKUP('Design #'!E1153,Labels!$A:$B,2,FALSE)","v":"Ensuring additional support is available to those who need it e.g.  providing bills in braille, providing bottled water during times of interruptions for thos​e who can't get to a shop (elderly, medical conditions etc.)"},{"$f":"VLOOKUP('Design #'!F1153,Labels!$A:$B,2,FALSE)","v":"Reducing the release of untreated sewage mixed with rain water into rivers and streams during times of heavy rainfall"}]
[77,13,{"$f":"VLOOKUP('Design #'!C1154,Labels!$A:$B,2,FALSE)","v":"Working with other organisations on common challenges (e.g. flooding) to share costs and expertise allowing for more and smarter investment to tackle problems"},{"$f":"VLOOKUP('Design #'!D1154,Labels!$A:$B,2,FALSE)","v":"Ensuring additional support is available to those who need it e.g.  providing bills in braille, providing bottled water during times of interruptions for thos​e who can't get to a shop (elderly, medical conditions etc.)"},{"$f":"VLOOKUP('Design #'!E1154,Labels!$A:$B,2,FALSE)","v":"Providing good and constant water pressure"},{"$f":"VLOOKUP('Design #'!F1154,Labels!$A:$B,2,FALSE)","v":"Reduce and offset carbon emissions to achieve a 'net zero' position by 2030 "}]
[77,14,{"$f":"VLOOKUP('Design #'!C1155,Labels!$A:$B,2,FALSE)","v":"Providing financial help and support to those who are struggling to pay their water bill"},{"$f":"VLOOKUP('Design #'!D1155,Labels!$A:$B,2,FALSE)","v":"Preventing leaks from Yorkshire Water's pipe network"},{"$f":"VLOOKUP('Design #'!E1155,Labels!$A:$B,2,FALSE)","v":"Preventing the likelihood of restrictions on water use, including hosepipe bans, in a drought"},{"$f":"VLOOKUP('Design #'!F1155,Labels!$A:$B,2,FALSE)","v":"Preventing pollution of rivers or streams from sewage pipes"}]
[77,15,{"$f":"VLOOKUP('Design #'!C1156,Labels!$A:$B,2,FALSE)","v":"Ensuring that land owned by Yorkshire Water is conserved or enhanced to improve quality of the water it collects and reduce flooding"},{"$f":"VLOOKUP('Design #'!D1156,Labels!$A:$B,2,FALSE)","v":"Providing financial help and support to those who are struggling to pay their water bill"},{"$f":"VLOOKUP('Design #'!E1156,Labels!$A:$B,2,FALSE)","v":"Preventing interruptions to the supply of water (e.g. planned works, burst pipes, leaks and outages) that cause problems ranging from low pressure to no water"},{"$f":"VLOOKUP('Design #'!F1156,Labels!$A:$B,2,FALSE)","v":"Preventing sewage from entering homes and businesses "}]
[78,1,{"$f":"VLOOKUP('Design #'!C1157,Labels!$A:$B,2,FALSE)","v":"Preventing interruptions to the supply of water (e.g. planned works, burst pipes, leaks and outages) that cause problems ranging from low pressure to no water"},{"$f":"VLOOKUP('Design #'!D1157,Labels!$A:$B,2,FALSE)","v":"Providing a high level of customer service (e.g. resolving queries quickly)"},{"$f":"VLOOKUP('Design #'!E1157,Labels!$A:$B,2,FALSE)","v":"Reducing the release of untreated sewage mixed with rain water into rivers and streams during times of heavy rainfall"},{"$f":"VLOOKUP('Design #'!F1157,Labels!$A:$B,2,FALSE)","v":"Preventing pollution of rivers or streams from sewage pipes"}]
[78,2,{"$f":"VLOOKUP('Design #'!C1158,Labels!$A:$B,2,FALSE)","v":"Ensuring additional support is available to those who need it e.g.  providing bills in braille, providing bottled water during times of interruptions for thos​e who can't get to a shop (elderly, medical conditions etc.)"},{"$f":"VLOOKUP('Design #'!D1158,Labels!$A:$B,2,FALSE)","v":"Preventing pollution of rivers or streams from sewage pipes"},{"$f":"VLOOKUP('Design #'!E1158,Labels!$A:$B,2,FALSE)","v":"Providing financial help and support to those who are struggling to pay their water bill"},{"$f":"VLOOKUP('Design #'!F1158,Labels!$A:$B,2,FALSE)","v":"Providing water that is aesthetically pleasing (clear and clean with no odour or unusual taste or colour)"}]
[78,3,{"$f":"VLOOKUP('Design #'!C1159,Labels!$A:$B,2,FALSE)","v":"Providing water that is aesthetically pleasing (clear and clean with no odour or unusual taste or colour)"},{"$f":"VLOOKUP('Design #'!D1159,Labels!$A:$B,2,FALSE)","v":"Ensuring that land owned by Yorkshire Water is conserved or enhanced to improve quality of the water it collects and reduce flooding"},{"$f":"VLOOKUP('Design #'!E1159,Labels!$A:$B,2,FALSE)","v":"Preventing the likelihood of restrictions on water use, including hosepipe bans, in a drought"},{"$f":"VLOOKUP('Design #'!F1159,Labels!$A:$B,2,FALSE)","v":"Supporting customers to reduce their water use and prevent blockages through education and provision of free tools/devices"}]
[78,4,{"$f":"VLOOKUP('Design #'!C1160,Labels!$A:$B,2,FALSE)","v":"Providing a high level of customer service (e.g. resolving queries quickly)"},{"$f":"VLOOKUP('Design #'!D1160,Labels!$A:$B,2,FALSE)","v":"Reduce and offset carbon emissions to achieve a 'net zero' position by 2030 "},{"$f":"VLOOKUP('Design #'!E1160,Labels!$A:$B,2,FALSE)","v":"Working with other organisations on common challenges (e.g. flooding) to share costs and expertise allowing for more and smarter investment to tackle problems"},{"$f":"VLOOKUP('Design #'!F1160,Labels!$A:$B,2,FALSE)","v":"Supporting customers to reduce their water use and prevent blockages through education and provision of free tools/devices"}]
[78,5,{"$f":"VLOOKUP('Design #'!C1161,Labels!$A:$B,2,FALSE)","v":"Preventing the likelihood of restrictions on water use, including hosepipe bans, in a drought"},{"$f":"VLOOKUP('Design #'!D1161,Labels!$A:$B,2,FALSE)","v":"Preventing pollution of rivers or streams from sewage pipes"},{"$f":"VLOOKUP('Design #'!E1161,Labels!$A:$B,2,FALSE)","v":"Providing a continuous supply of water that is safe to drink"},{"$f":"VLOOKUP('Design #'!F1161,Labels!$A:$B,2,FALSE)","v":"Reduce and offset carbon emissions to achieve a 'net zero' position by 2030 "}]
[78,6,{"$f":"VLOOKUP('Design #'!C1162,Labels!$A:$B,2,FALSE)","v":"Preventing the likelihood of restrictions on water use, including hosepipe bans, in a drought"},{"$f":"VLOOKUP('Design #'!D1162,Labels!$A:$B,2,FALSE)","v":"Preventing interruptions to the supply of water (e.g. planned works, burst pipes, leaks and outages) that cause problems ranging from low pressure to no water"},{"$f":"VLOOKUP('Design #'!E1162,Labels!$A:$B,2,FALSE)","v":"Preventing sewage from entering homes and businesses "},{"$f":"VLOOKUP('Design #'!F1162,Labels!$A:$B,2,FALSE)","v":"Working with other organisations on common challenges (e.g. flooding) to share costs and expertise allowing for more and smarter investment to tackle problems"}]
[78,7,{"$f":"VLOOKUP('Design #'!C1163,Labels!$A:$B,2,FALSE)","v":"Providing a high level of customer service (e.g. resolving queries quickly)"},{"$f":"VLOOKUP('Design #'!D1163,Labels!$A:$B,2,FALSE)","v":"Providing appropriate sewer capacity and pumping capabilities to cope with widespread flood events"},{"$f":"VLOOKUP('Design #'!E1163,Labels!$A:$B,2,FALSE)","v":"Preventing sewage entering gardens and public spaces from pipe collapses or blockages"},{"$f":"VLOOKUP('Design #'!F1163,Labels!$A:$B,2,FALSE)","v":"Ensuring that land owned by Yorkshire Water is conserved or enhanced to improve quality of the water it collects and reduce flooding"}]
[78,8,{"$f":"VLOOKUP('Design #'!C1164,Labels!$A:$B,2,FALSE)","v":"Supporting customers to reduce their water use and prevent blockages through education and provision of free tools/devices"},{"$f":"VLOOKUP('Design #'!D1164,Labels!$A:$B,2,FALSE)","v":"Ensuring that land owned by Yorkshire Water is conserved or enhanced to improve quality of the water it collects and reduce flooding"},{"$f":"VLOOKUP('Design #'!E1164,Labels!$A:$B,2,FALSE)","v":"Keeping bills affordable for all"},{"$f":"VLOOKUP('Design #'!F1164,Labels!$A:$B,2,FALSE)","v":"Providing financial help and support to those who are struggling to pay their water bill"}]
[78,9,{"$f":"VLOOKUP('Design #'!C1165,Labels!$A:$B,2,FALSE)","v":"Preventing interruptions to the supply of water (e.g. planned works, burst pipes, leaks and outages) that cause problems ranging from low pressure to no water"},{"$f":"VLOOKUP('Design #'!D1165,Labels!$A:$B,2,FALSE)","v":"Ensuring additional support is available to those who need it e.g.  providing bills in braille, providing bottled water during times of interruptions for thos​e who can't get to a shop (elderly, medical conditions etc.)"},{"$f":"VLOOKUP('Design #'!E1165,Labels!$A:$B,2,FALSE)","v":"Treating waste water to a high standard to ensure good quality water in Yorkshire's rivers and beaches"},{"$f":"VLOOKUP('Design #'!F1165,Labels!$A:$B,2,FALSE)","v":"Providing good and constant water pressure"}]
[78,10,{"$f":"VLOOKUP('Design #'!C1166,Labels!$A:$B,2,FALSE)","v":"Preventing sewage from entering homes and businesses "},{"$f":"VLOOKUP('Design #'!D1166,Labels!$A:$B,2,FALSE)","v":"Providing financial help and support to those who are struggling to pay their water bill"},{"$f":"VLOOKUP('Design #'!E1166,Labels!$A:$B,2,FALSE)","v":"Providing good and constant water pressure"},{"$f":"VLOOKUP('Design #'!F1166,Labels!$A:$B,2,FALSE)","v":"Preventing sewage entering gardens and public spaces from pipe collapses or blockages"}]
[78,11,{"$f":"VLOOKUP('Design #'!C1167,Labels!$A:$B,2,FALSE)","v":"Reducing the release of untreated sewage mixed with rain water into rivers and streams during times of heavy rainfall"},{"$f":"VLOOKUP('Design #'!D1167,Labels!$A:$B,2,FALSE)","v":"Preventing sewage entering gardens and public spaces from pipe collapses or blockages"},{"$f":"VLOOKUP('Design #'!E1167,Labels!$A:$B,2,FALSE)","v":"Keeping bills affordable for all"},{"$f":"VLOOKUP('Design #'!F1167,Labels!$A:$B,2,FALSE)","v":"Providing a continuous supply of water that is safe to drink"}]
[78,12,{"$f":"VLOOKUP('Design #'!C1168,Labels!$A:$B,2,FALSE)","v":"Preventing leaks from Yorkshire Water's pipe network"},{"$f":"VLOOKUP('Design #'!D1168,Labels!$A:$B,2,FALSE)","v":"Providing water that is aesthetically pleasing (clear and clean with no odour or unusual taste or colour)"},{"$f":"VLOOKUP('Design #'!E1168,Labels!$A:$B,2,FALSE)","v":"Preventing sewage from entering homes and businesses "},{"$f":"VLOOKUP('Design #'!F1168,Labels!$A:$B,2,FALSE)","v":"Preventing interruptions to the supply of water (e.g. planned works, burst pipes, leaks and outages) that cause problems ranging from low pressure to no water"}]
[78,13,{"$f":"VLOOKUP('Design #'!C1169,Labels!$A:$B,2,FALSE)","v":"Keeping bills affordable for all"},{"$f":"VLOOKUP('Design #'!D1169,Labels!$A:$B,2,FALSE)","v":"Ensuring additional support is available to those who need it e.g.  providing bills in braille, providing bottled water during times of interruptions for thos​e who can't get to a shop (elderly, medical conditions etc.)"},{"$f":"VLOOKUP('Design #'!E1169,Labels!$A:$B,2,FALSE)","v":"Providing appropriate sewer capacity and pumping capabilities to cope with widespread flood events"},{"$f":"VLOOKUP('Design #'!F1169,Labels!$A:$B,2,FALSE)","v":"Treating waste water to a high standard to ensure good quality water in Yorkshire's rivers and beaches"}]
[78,14,{"$f":"VLOOKUP('Design #'!C1170,Labels!$A:$B,2,FALSE)","v":"Reduce and offset carbon emissions to achieve a 'net zero' position by 2030 "},{"$f":"VLOOKUP('Design #'!D1170,Labels!$A:$B,2,FALSE)","v":"Providing a continuous supply of water that is safe to drink"},{"$f":"VLOOKUP('Design #'!E1170,Labels!$A:$B,2,FALSE)","v":"Preventing leaks from Yorkshire Water's pipe network"},{"$f":"VLOOKUP('Design #'!F1170,Labels!$A:$B,2,FALSE)","v":"Working with other organisations on common challenges (e.g. flooding) to share costs and expertise allowing for more and smarter investment to tackle problems"}]
[78,15,{"$f":"VLOOKUP('Design #'!C1171,Labels!$A:$B,2,FALSE)","v":"Providing good and constant water pressure"},{"$f":"VLOOKUP('Design #'!D1171,Labels!$A:$B,2,FALSE)","v":"Preventing leaks from Yorkshire Water's pipe network"},{"$f":"VLOOKUP('Design #'!E1171,Labels!$A:$B,2,FALSE)","v":"Providing appropriate sewer capacity and pumping capabilities to cope with widespread flood events"},{"$f":"VLOOKUP('Design #'!F1171,Labels!$A:$B,2,FALSE)","v":"Treating waste water to a high standard to ensure good quality water in Yorkshire's rivers and beaches"}]
[79,1,{"$f":"VLOOKUP('Design #'!C1172,Labels!$A:$B,2,FALSE)","v":"Ensuring additional support is available to those who need it e.g.  providing bills in braille, providing bottled water during times of interruptions for thos​e who can't get to a shop (elderly, medical conditions etc.)"},{"$f":"VLOOKUP('Design #'!D1172,Labels!$A:$B,2,FALSE)","v":"Preventing sewage from entering homes and businesses "},{"$f":"VLOOKUP('Design #'!E1172,Labels!$A:$B,2,FALSE)","v":"Preventing leaks from Yorkshire Water's pipe network"},{"$f":"VLOOKUP('Design #'!F1172,Labels!$A:$B,2,FALSE)","v":"Keeping bills affordable for all"}]
[79,2,{"$f":"VLOOKUP('Design #'!C1173,Labels!$A:$B,2,FALSE)","v":"Working with other organisations on common challenges (e.g. flooding) to share costs and expertise allowing for more and smarter investment to tackle problems"},{"$f":"VLOOKUP('Design #'!D1173,Labels!$A:$B,2,FALSE)","v":"Providing a continuous supply of water that is safe to drink"},{"$f":"VLOOKUP('Design #'!E1173,Labels!$A:$B,2,FALSE)","v":"Providing financial help and support to those who are struggling to pay their water bill"},{"$f":"VLOOKUP('Design #'!F1173,Labels!$A:$B,2,FALSE)","v":"Ensuring that land owned by Yorkshire Water is conserved or enhanced to improve quality of the water it collects and reduce flooding"}]
[79,3,{"$f":"VLOOKUP('Design #'!C1174,Labels!$A:$B,2,FALSE)","v":"Preventing sewage entering gardens and public spaces from pipe collapses or blockages"},{"$f":"VLOOKUP('Design #'!D1174,Labels!$A:$B,2,FALSE)","v":"Preventing the likelihood of restrictions on water use, including hosepipe bans, in a drought"},{"$f":"VLOOKUP('Design #'!E1174,Labels!$A:$B,2,FALSE)","v":"Providing appropriate sewer capacity and pumping capabilities to cope with widespread flood events"},{"$f":"VLOOKUP('Design #'!F1174,Labels!$A:$B,2,FALSE)","v":"Reducing the release of untreated sewage mixed with rain water into rivers and streams during times of heavy rainfall"}]
[79,4,{"$f":"VLOOKUP('Design #'!C1175,Labels!$A:$B,2,FALSE)","v":"Providing a high level of customer service (e.g. resolving queries quickly)"},{"$f":"VLOOKUP('Design #'!D1175,Labels!$A:$B,2,FALSE)","v":"Working with other organisations on common challenges (e.g. flooding) to share costs and expertise allowing for more and smarter investment to tackle problems"},{"$f":"VLOOKUP('Design #'!E1175,Labels!$A:$B,2,FALSE)","v":"Providing water that is aesthetically pleasing (clear and clean with no odour or unusual taste or colour)"},{"$f":"VLOOKUP('Design #'!F1175,Labels!$A:$B,2,FALSE)","v":"Providing good and constant water pressure"}]
[79,5,{"$f":"VLOOKUP('Design #'!C1176,Labels!$A:$B,2,FALSE)","v":"Keeping bills affordable for all"},{"$f":"VLOOKUP('Design #'!D1176,Labels!$A:$B,2,FALSE)","v":"Providing water that is aesthetically pleasing (clear and clean with no odour or unusual taste or colour)"},{"$f":"VLOOKUP('Design #'!E1176,Labels!$A:$B,2,FALSE)","v":"Working with other organisations on common challenges (e.g. flooding) to share costs and expertise allowing for more and smarter investment to tackle problems"},{"$f":"VLOOKUP('Design #'!F1176,Labels!$A:$B,2,FALSE)","v":"Preventing the likelihood of restrictions on water use, including hosepipe bans, in a drought"}]
[79,6,{"$f":"VLOOKUP('Design #'!C1177,Labels!$A:$B,2,FALSE)","v":"Providing a continuous supply of water that is safe to drink"},{"$f":"VLOOKUP('Design #'!D1177,Labels!$A:$B,2,FALSE)","v":"Supporting customers to reduce their water use and prevent blockages through education and provision of free tools/devices"},{"$f":"VLOOKUP('Design #'!E1177,Labels!$A:$B,2,FALSE)","v":"Providing a high level of customer service (e.g. resolving queries quickly)"},{"$f":"VLOOKUP('Design #'!F1177,Labels!$A:$B,2,FALSE)","v":"Preventing pollution of rivers or streams from sewage pipes"}]
[79,7,{"$f":"VLOOKUP('Design #'!C1178,Labels!$A:$B,2,FALSE)","v":"Preventing pollution of rivers or streams from sewage pipes"},{"$f":"VLOOKUP('Design #'!D1178,Labels!$A:$B,2,FALSE)","v":"Treating waste water to a high standard to ensure good quality water in Yorkshire's rivers and beaches"},{"$f":"VLOOKUP('Design #'!E1178,Labels!$A:$B,2,FALSE)","v":"Preventing interruptions to the supply of water (e.g. planned works, burst pipes, leaks and outages) that cause problems ranging from low pressure to no water"},{"$f":"VLOOKUP('Design #'!F1178,Labels!$A:$B,2,FALSE)","v":"Preventing sewage entering gardens and public spaces from pipe collapses or blockages"}]
[79,8,{"$f":"VLOOKUP('Design #'!C1179,Labels!$A:$B,2,FALSE)","v":"Treating waste water to a high standard to ensure good quality water in Yorkshire's rivers and beaches"},{"$f":"VLOOKUP('Design #'!D1179,Labels!$A:$B,2,FALSE)","v":"Reduce and offset carbon emissions to achieve a 'net zero' position by 2030 "},{"$f":"VLOOKUP('Design #'!E1179,Labels!$A:$B,2,FALSE)","v":"Preventing sewage from entering homes and businesses "},{"$f":"VLOOKUP('Design #'!F1179,Labels!$A:$B,2,FALSE)","v":"Providing a high level of customer service (e.g. resolving queries quickly)"}]
[79,9,{"$f":"VLOOKUP('Design #'!C1180,Labels!$A:$B,2,FALSE)","v":"Providing appropriate sewer capacity and pumping capabilities to cope with widespread flood events"},{"$f":"VLOOKUP('Design #'!D1180,Labels!$A:$B,2,FALSE)","v":"Supporting customers to reduce their water use and prevent blockages through education and provision of free tools/devices"},{"$f":"VLOOKUP('Design #'!E1180,Labels!$A:$B,2,FALSE)","v":"Preventing pollution of rivers or streams from sewage pipes"},{"$f":"VLOOKUP('Design #'!F1180,Labels!$A:$B,2,FALSE)","v":"Preventing sewage from entering homes and businesses "}]
[79,10,{"$f":"VLOOKUP('Design #'!C1181,Labels!$A:$B,2,FALSE)","v":"Reducing the release of untreated sewage mixed with rain water into rivers and streams during times of heavy rainfall"},{"$f":"VLOOKUP('Design #'!D1181,Labels!$A:$B,2,FALSE)","v":"Keeping bills affordable for all"},{"$f":"VLOOKUP('Design #'!E1181,Labels!$A:$B,2,FALSE)","v":"Reduce and offset carbon emissions to achieve a 'net zero' position by 2030 "},{"$f":"VLOOKUP('Design #'!F1181,Labels!$A:$B,2,FALSE)","v":"Providing financial help and support to those who are struggling to pay their water bill"}]
[79,11,{"$f":"VLOOKUP('Design #'!C1182,Labels!$A:$B,2,FALSE)","v":"Providing financial help and support to those who are struggling to pay their water bill"},{"$f":"VLOOKUP('Design #'!D1182,Labels!$A:$B,2,FALSE)","v":"Reducing the release of untreated sewage mixed with rain water into rivers and streams during times of heavy rainfall"},{"$f":"VLOOKUP('Design #'!E1182,Labels!$A:$B,2,FALSE)","v":"Providing good and constant water pressure"},{"$f":"VLOOKUP('Design #'!F1182,Labels!$A:$B,2,FALSE)","v":"Preventing leaks from Yorkshire Water's pipe network"}]
[79,12,{"$f":"VLOOKUP('Design #'!C1183,Labels!$A:$B,2,FALSE)","v":"Ensuring that land owned by Yorkshire Water is conserved or enhanced to improve quality of the water it collects and reduce flooding"},{"$f":"VLOOKUP('Design #'!D1183,Labels!$A:$B,2,FALSE)","v":"Preventing leaks from Yorkshire Water's pipe network"},{"$f":"VLOOKUP('Design #'!E1183,Labels!$A:$B,2,FALSE)","v":"Ensuring additional support is available to those who need it e.g.  providing bills in braille, providing bottled water during times of interruptions for thos​e who can't get to a shop (elderly, medical conditions etc.)"},{"$f":"VLOOKUP('Design #'!F1183,Labels!$A:$B,2,FALSE)","v":"Preventing the likelihood of restrictions on water use, including hosepipe bans, in a drought"}]
[79,13,{"$f":"VLOOKUP('Design #'!C1184,Labels!$A:$B,2,FALSE)","v":"Providing appropriate sewer capacity and pumping capabilities to cope with widespread flood events"},{"$f":"VLOOKUP('Design #'!D1184,Labels!$A:$B,2,FALSE)","v":"Preventing interruptions to the supply of water (e.g. planned works, burst pipes, leaks and outages) that cause problems ranging from low pressure to no water"},{"$f":"VLOOKUP('Design #'!E1184,Labels!$A:$B,2,FALSE)","v":"Reduce and offset carbon emissions to achieve a 'net zero' position by 2030 "},{"$f":"VLOOKUP('Design #'!F1184,Labels!$A:$B,2,FALSE)","v":"Ensuring additional support is available to those who need it e.g.  providing bills in braille, providing bottled water during times of interruptions for thos​e who can't get to a shop (elderly, medical conditions etc.)"}]
[79,14,{"$f":"VLOOKUP('Design #'!C1185,Labels!$A:$B,2,FALSE)","v":"Ensuring that land owned by Yorkshire Water is conserved or enhanced to improve quality of the water it collects and reduce flooding"},{"$f":"VLOOKUP('Design #'!D1185,Labels!$A:$B,2,FALSE)","v":"Providing good and constant water pressure"},{"$f":"VLOOKUP('Design #'!E1185,Labels!$A:$B,2,FALSE)","v":"Supporting customers to reduce their water use and prevent blockages through education and provision of free tools/devices"},{"$f":"VLOOKUP('Design #'!F1185,Labels!$A:$B,2,FALSE)","v":"Preventing sewage entering gardens and public spaces from pipe collapses or blockages"}]
[79,15,{"$f":"VLOOKUP('Design #'!C1186,Labels!$A:$B,2,FALSE)","v":"Treating waste water to a high standard to ensure good quality water in Yorkshire's rivers and beaches"},{"$f":"VLOOKUP('Design #'!D1186,Labels!$A:$B,2,FALSE)","v":"Reducing the release of untreated sewage mixed with rain water into rivers and streams during times of heavy rainfall"},{"$f":"VLOOKUP('Design #'!E1186,Labels!$A:$B,2,FALSE)","v":"Providing a continuous supply of water that is safe to drink"},{"$f":"VLOOKUP('Design #'!F1186,Labels!$A:$B,2,FALSE)","v":"Providing water that is aesthetically pleasing (clear and clean with no odour or unusual taste or colour)"}]
[80,1,{"$f":"VLOOKUP('Design #'!C1187,Labels!$A:$B,2,FALSE)","v":"Preventing leaks from Yorkshire Water's pipe network"},{"$f":"VLOOKUP('Design #'!D1187,Labels!$A:$B,2,FALSE)","v":"Preventing the likelihood of restrictions on water use, including hosepipe bans, in a drought"},{"$f":"VLOOKUP('Design #'!E1187,Labels!$A:$B,2,FALSE)","v":"Reducing the release of untreated sewage mixed with rain water into rivers and streams during times of heavy rainfall"},{"$f":"VLOOKUP('Design #'!F1187,Labels!$A:$B,2,FALSE)","v":"Reduce and offset carbon emissions to achieve a 'net zero' position by 2030 "}]
[80,2,{"$f":"VLOOKUP('Design #'!C1188,Labels!$A:$B,2,FALSE)","v":"Ensuring additional support is available to those who need it e.g.  providing bills in braille, providing bottled water during times of interruptions for thos​e who can't get to a shop (elderly, medical conditions etc.)"},{"$f":"VLOOKUP('Design #'!D1188,Labels!$A:$B,2,FALSE)","v":"Providing financial help and support to those who are struggling to pay their water bill"},{"$f":"VLOOKUP('Design #'!E1188,Labels!$A:$B,2,FALSE)","v":"Providing a continuous supply of water that is safe to drink"},{"$f":"VLOOKUP('Design #'!F1188,Labels!$A:$B,2,FALSE)","v":"Preventing sewage from entering homes and businesses "}]
[80,3,{"$f":"VLOOKUP('Design #'!C1189,Labels!$A:$B,2,FALSE)","v":"Preventing pollution of rivers or streams from sewage pipes"},{"$f":"VLOOKUP('Design #'!D1189,Labels!$A:$B,2,FALSE)","v":"Working with other organisations on common challenges (e.g. flooding) to share costs and expertise allowing for more and smarter investment to tackle problems"},{"$f":"VLOOKUP('Design #'!E1189,Labels!$A:$B,2,FALSE)","v":"Ensuring additional support is available to those who need it e.g.  providing bills in braille, providing bottled water during times of interruptions for thos​e who can't get to a shop (elderly, medical conditions etc.)"},{"$f":"VLOOKUP('Design #'!F1189,Labels!$A:$B,2,FALSE)","v":"Preventing sewage entering gardens and public spaces from pipe collapses or blockages"}]
[80,4,{"$f":"VLOOKUP('Design #'!C1190,Labels!$A:$B,2,FALSE)","v":"Preventing interruptions to the supply of water (e.g. planned works, burst pipes, leaks and outages) that cause problems ranging from low pressure to no water"},{"$f":"VLOOKUP('Design #'!D1190,Labels!$A:$B,2,FALSE)","v":"Providing good and constant water pressure"},{"$f":"VLOOKUP('Design #'!E1190,Labels!$A:$B,2,FALSE)","v":"Ensuring that land owned by Yorkshire Water is conserved or enhanced to improve quality of the water it collects and reduce flooding"},{"$f":"VLOOKUP('Design #'!F1190,Labels!$A:$B,2,FALSE)","v":"Providing a continuous supply of water that is safe to drink"}]
[80,5,{"$f":"VLOOKUP('Design #'!C1191,Labels!$A:$B,2,FALSE)","v":"Reduce and offset carbon emissions to achieve a 'net zero' position by 2030 "},{"$f":"VLOOKUP('Design #'!D1191,Labels!$A:$B,2,FALSE)","v":"Keeping bills affordable for all"},{"$f":"VLOOKUP('Design #'!E1191,Labels!$A:$B,2,FALSE)","v":"Treating waste water to a high standard to ensure good quality water in Yorkshire's rivers and beaches"},{"$f":"VLOOKUP('Design #'!F1191,Labels!$A:$B,2,FALSE)","v":"Supporting customers to reduce their water use and prevent blockages through education and provision of free tools/devices"}]
[80,6,{"$f":"VLOOKUP('Design #'!C1192,Labels!$A:$B,2,FALSE)","v":"Preventing the likelihood of restrictions on water use, including hosepipe bans, in a drought"},{"$f":"VLOOKUP('Design #'!D1192,Labels!$A:$B,2,FALSE)","v":"Treating waste water to a high standard to ensure good quality water in Yorkshire's rivers and beaches"},{"$f":"VLOOKUP('Design #'!E1192,Labels!$A:$B,2,FALSE)","v":"Preventing leaks from Yorkshire Water's pipe network"},{"$f":"VLOOKUP('Design #'!F1192,Labels!$A:$B,2,FALSE)","v":"Providing a continuous supply of water that is safe to drink"}]
[80,7,{"$f":"VLOOKUP('Design #'!C1193,Labels!$A:$B,2,FALSE)","v":"Reducing the release of untreated sewage mixed with rain water into rivers and streams during times of heavy rainfall"},{"$f":"VLOOKUP('Design #'!D1193,Labels!$A:$B,2,FALSE)","v":"Preventing pollution of rivers or streams from sewage pipes"},{"$f":"VLOOKUP('Design #'!E1193,Labels!$A:$B,2,FALSE)","v":"Keeping bills affordable for all"},{"$f":"VLOOKUP('Design #'!F1193,Labels!$A:$B,2,FALSE)","v":"Providing appropriate sewer capacity and pumping capabilities to cope with widespread flood events"}]
[80,8,{"$f":"VLOOKUP('Design #'!C1194,Labels!$A:$B,2,FALSE)","v":"Providing a high level of customer service (e.g. resolving queries quickly)"},{"$f":"VLOOKUP('Design #'!D1194,Labels!$A:$B,2,FALSE)","v":"Reduce and offset carbon emissions to achieve a 'net zero' position by 2030 "},{"$f":"VLOOKUP('Design #'!E1194,Labels!$A:$B,2,FALSE)","v":"Ensuring that land owned by Yorkshire Water is conserved or enhanced to improve quality of the water it collects and reduce flooding"},{"$f":"VLOOKUP('Design #'!F1194,Labels!$A:$B,2,FALSE)","v":"Ensuring additional support is available to those who need it e.g.  providing bills in braille, providing bottled water during times of interruptions for thos​e who can't get to a shop (elderly, medical conditions etc.)"}]
[80,9,{"$f":"VLOOKUP('Design #'!C1195,Labels!$A:$B,2,FALSE)","v":"Preventing sewage entering gardens and public spaces from pipe collapses or blockages"},{"$f":"VLOOKUP('Design #'!D1195,Labels!$A:$B,2,FALSE)","v":"Providing a high level of customer service (e.g. resolving queries quickly)"},{"$f":"VLOOKUP('Design #'!E1195,Labels!$A:$B,2,FALSE)","v":"Preventing sewage from entering homes and businesses "},{"$f":"VLOOKUP('Design #'!F1195,Labels!$A:$B,2,FALSE)","v":"Keeping bills affordable for all"}]
[80,10,{"$f":"VLOOKUP('Design #'!C1196,Labels!$A:$B,2,FALSE)","v":"Preventing pollution of rivers or streams from sewage pipes"},{"$f":"VLOOKUP('Design #'!D1196,Labels!$A:$B,2,FALSE)","v":"Preventing interruptions to the supply of water (e.g. planned works, burst pipes, leaks and outages) that cause problems ranging from low pressure to no water"},{"$f":"VLOOKUP('Design #'!E1196,Labels!$A:$B,2,FALSE)","v":"Working with other organisations on common challenges (e.g. flooding) to share costs and expertise allowing for more and smarter investment to tackle problems"},{"$f":"VLOOKUP('Design #'!F1196,Labels!$A:$B,2,FALSE)","v":"Preventing leaks from Yorkshire Water's pipe network"}]
[80,11,{"$f":"VLOOKUP('Design #'!C1197,Labels!$A:$B,2,FALSE)","v":"Supporting customers to reduce their water use and prevent blockages through education and provision of free tools/devices"},{"$f":"VLOOKUP('Design #'!D1197,Labels!$A:$B,2,FALSE)","v":"Preventing interruptions to the supply of water (e.g. planned works, burst pipes, leaks and outages) that cause problems ranging from low pressure to no water"},{"$f":"VLOOKUP('Design #'!E1197,Labels!$A:$B,2,FALSE)","v":"Providing financial help and support to those who are struggling to pay their water bill"},{"$f":"VLOOKUP('Design #'!F1197,Labels!$A:$B,2,FALSE)","v":"Reducing the release of untreated sewage mixed with rain water into rivers and streams during times of heavy rainfall"}]
[80,12,{"$f":"VLOOKUP('Design #'!C1198,Labels!$A:$B,2,FALSE)","v":"Preventing sewage from entering homes and businesses "},{"$f":"VLOOKUP('Design #'!D1198,Labels!$A:$B,2,FALSE)","v":"Working with other organisations on common challenges (e.g. flooding) to share costs and expertise allowing for more and smarter investment to tackle problems"},{"$f":"VLOOKUP('Design #'!E1198,Labels!$A:$B,2,FALSE)","v":"Providing appropriate sewer capacity and pumping capabilities to cope with widespread flood events"},{"$f":"VLOOKUP('Design #'!F1198,Labels!$A:$B,2,FALSE)","v":"Providing good and constant water pressure"}]
[80,13,{"$f":"VLOOKUP('Design #'!C1199,Labels!$A:$B,2,FALSE)","v":"Providing water that is aesthetically pleasing (clear and clean with no odour or unusual taste or colour)"},{"$f":"VLOOKUP('Design #'!D1199,Labels!$A:$B,2,FALSE)","v":"Providing appropriate sewer capacity and pumping capabilities to cope with widespread flood events"},{"$f":"VLOOKUP('Design #'!E1199,Labels!$A:$B,2,FALSE)","v":"Providing a high level of customer service (e.g. resolving queries quickly)"},{"$f":"VLOOKUP('Design #'!F1199,Labels!$A:$B,2,FALSE)","v":"Providing financial help and support to those who are struggling to pay their water bill"}]
[80,14,{"$f":"VLOOKUP('Design #'!C1200,Labels!$A:$B,2,FALSE)","v":"Ensuring additional support is available to those who need it e.g.  providing bills in braille, providing bottled water during times of interruptions for thos​e who can't get to a shop (elderly, medical conditions etc.)"},{"$f":"VLOOKUP('Design #'!D1200,Labels!$A:$B,2,FALSE)","v":"Ensuring that land owned by Yorkshire Water is conserved or enhanced to improve quality of the water it collects and reduce flooding"},{"$f":"VLOOKUP('Design #'!E1200,Labels!$A:$B,2,FALSE)","v":"Providing water that is aesthetically pleasing (clear and clean with no odour or unusual taste or colour)"},{"$f":"VLOOKUP('Design #'!F1200,Labels!$A:$B,2,FALSE)","v":"Treating waste water to a high standard to ensure good quality water in Yorkshire's rivers and beaches"}]
[80,15,{"$f":"VLOOKUP('Design #'!C1201,Labels!$A:$B,2,FALSE)","v":"Preventing the likelihood of restrictions on water use, including hosepipe bans, in a drought"},{"$f":"VLOOKUP('Design #'!D1201,Labels!$A:$B,2,FALSE)","v":"Preventing sewage entering gardens and public spaces from pipe collapses or blockages"},{"$f":"VLOOKUP('Design #'!E1201,Labels!$A:$B,2,FALSE)","v":"Supporting customers to reduce their water use and prevent blockages through education and provision of free tools/devices"},{"$f":"VLOOKUP('Design #'!F1201,Labels!$A:$B,2,FALSE)","v":"Providing good and constant water pressure"}]
[81,1,{"$f":"VLOOKUP('Design #'!C1202,Labels!$A:$B,2,FALSE)","v":"Working with other organisations on common challenges (e.g. flooding) to share costs and expertise allowing for more and smarter investment to tackle problems"},{"$f":"VLOOKUP('Design #'!D1202,Labels!$A:$B,2,FALSE)","v":"Providing water that is aesthetically pleasing (clear and clean with no odour or unusual taste or colour)"},{"$f":"VLOOKUP('Design #'!E1202,Labels!$A:$B,2,FALSE)","v":"Reducing the release of untreated sewage mixed with rain water into rivers and streams during times of heavy rainfall"},{"$f":"VLOOKUP('Design #'!F1202,Labels!$A:$B,2,FALSE)","v":"Treating waste water to a high standard to ensure good quality water in Yorkshire's rivers and beaches"}]
[81,2,{"$f":"VLOOKUP('Design #'!C1203,Labels!$A:$B,2,FALSE)","v":"Providing a continuous supply of water that is safe to drink"},{"$f":"VLOOKUP('Design #'!D1203,Labels!$A:$B,2,FALSE)","v":"Preventing leaks from Yorkshire Water's pipe network"},{"$f":"VLOOKUP('Design #'!E1203,Labels!$A:$B,2,FALSE)","v":"Preventing sewage entering gardens and public spaces from pipe collapses or blockages"},{"$f":"VLOOKUP('Design #'!F1203,Labels!$A:$B,2,FALSE)","v":"Providing appropriate sewer capacity and pumping capabilities to cope with widespread flood events"}]
[81,3,{"$f":"VLOOKUP('Design #'!C1204,Labels!$A:$B,2,FALSE)","v":"Reducing the release of untreated sewage mixed with rain water into rivers and streams during times of heavy rainfall"},{"$f":"VLOOKUP('Design #'!D1204,Labels!$A:$B,2,FALSE)","v":"Ensuring that land owned by Yorkshire Water is conserved or enhanced to improve quality of the water it collects and reduce flooding"},{"$f":"VLOOKUP('Design #'!E1204,Labels!$A:$B,2,FALSE)","v":"Preventing interruptions to the supply of water (e.g. planned works, burst pipes, leaks and outages) that cause problems ranging from low pressure to no water"},{"$f":"VLOOKUP('Design #'!F1204,Labels!$A:$B,2,FALSE)","v":"Providing a high level of customer service (e.g. resolving queries quickly)"}]
[81,4,{"$f":"VLOOKUP('Design #'!C1205,Labels!$A:$B,2,FALSE)","v":"Providing a continuous supply of water that is safe to drink"},{"$f":"VLOOKUP('Design #'!D1205,Labels!$A:$B,2,FALSE)","v":"Providing a high level of customer service (e.g. resolving queries quickly)"},{"$f":"VLOOKUP('Design #'!E1205,Labels!$A:$B,2,FALSE)","v":"Preventing pollution of rivers or streams from sewage pipes"},{"$f":"VLOOKUP('Design #'!F1205,Labels!$A:$B,2,FALSE)","v":"Providing water that is aesthetically pleasing (clear and clean with no odour or unusual taste or colour)"}]
[81,5,{"$f":"VLOOKUP('Design #'!C1206,Labels!$A:$B,2,FALSE)","v":"Keeping bills affordable for all"},{"$f":"VLOOKUP('Design #'!D1206,Labels!$A:$B,2,FALSE)","v":"Preventing sewage from entering homes and businesses "},{"$f":"VLOOKUP('Design #'!E1206,Labels!$A:$B,2,FALSE)","v":"Reduce and offset carbon emissions to achieve a 'net zero' position by 2030 "},{"$f":"VLOOKUP('Design #'!F1206,Labels!$A:$B,2,FALSE)","v":"Supporting customers to reduce their water use and prevent blockages through education and provision of free tools/devices"}]
[81,6,{"$f":"VLOOKUP('Design #'!C1207,Labels!$A:$B,2,FALSE)","v":"Providing financial help and support to those who are struggling to pay their water bill"},{"$f":"VLOOKUP('Design #'!D1207,Labels!$A:$B,2,FALSE)","v":"Providing appropriate sewer capacity and pumping capabilities to cope with widespread flood events"},{"$f":"VLOOKUP('Design #'!E1207,Labels!$A:$B,2,FALSE)","v":"Preventing pollution of rivers or streams from sewage pipes"},{"$f":"VLOOKUP('Design #'!F1207,Labels!$A:$B,2,FALSE)","v":"Reduce and offset carbon emissions to achieve a 'net zero' position by 2030 "}]
[81,7,{"$f":"VLOOKUP('Design #'!C1208,Labels!$A:$B,2,FALSE)","v":"Working with other organisations on common challenges (e.g. flooding) to share costs and expertise allowing for more and smarter investment to tackle problems"},{"$f":"VLOOKUP('Design #'!D1208,Labels!$A:$B,2,FALSE)","v":"Treating waste water to a high standard to ensure good quality water in Yorkshire's rivers and beaches"},{"$f":"VLOOKUP('Design #'!E1208,Labels!$A:$B,2,FALSE)","v":"Supporting customers to reduce their water use and prevent blockages through education and provision of free tools/devices"},{"$f":"VLOOKUP('Design #'!F1208,Labels!$A:$B,2,FALSE)","v":"Providing financial help and support to those who are struggling to pay their water bill"}]
[81,8,{"$f":"VLOOKUP('Design #'!C1209,Labels!$A:$B,2,FALSE)","v":"Preventing leaks from Yorkshire Water's pipe network"},{"$f":"VLOOKUP('Design #'!D1209,Labels!$A:$B,2,FALSE)","v":"Preventing sewage entering gardens and public spaces from pipe collapses or blockages"},{"$f":"VLOOKUP('Design #'!E1209,Labels!$A:$B,2,FALSE)","v":"Working with other organisations on common challenges (e.g. flooding) to share costs and expertise allowing for more and smarter investment to tackle problems"},{"$f":"VLOOKUP('Design #'!F1209,Labels!$A:$B,2,FALSE)","v":"Ensuring that land owned by Yorkshire Water is conserved or enhanced to improve quality of the water it collects and reduce flooding"}]
[81,9,{"$f":"VLOOKUP('Design #'!C1210,Labels!$A:$B,2,FALSE)","v":"Providing water that is aesthetically pleasing (clear and clean with no odour or unusual taste or colour)"},{"$f":"VLOOKUP('Design #'!D1210,Labels!$A:$B,2,FALSE)","v":"Supporting customers to reduce their water use and prevent blockages through education and provision of free tools/devices"},{"$f":"VLOOKUP('Design #'!E1210,Labels!$A:$B,2,FALSE)","v":"Providing a continuous supply of water that is safe to drink"},{"$f":"VLOOKUP('Design #'!F1210,Labels!$A:$B,2,FALSE)","v":"Preventing leaks from Yorkshire Water's pipe network"}]
[81,10,{"$f":"VLOOKUP('Design #'!C1211,Labels!$A:$B,2,FALSE)","v":"Providing good and constant water pressure"},{"$f":"VLOOKUP('Design #'!D1211,Labels!$A:$B,2,FALSE)","v":"Preventing pollution of rivers or streams from sewage pipes"},{"$f":"VLOOKUP('Design #'!E1211,Labels!$A:$B,2,FALSE)","v":"Keeping bills affordable for all"},{"$f":"VLOOKUP('Design #'!F1211,Labels!$A:$B,2,FALSE)","v":"Ensuring that land owned by Yorkshire Water is conserved or enhanced to improve quality of the water it collects and reduce flooding"}]
[81,11,{"$f":"VLOOKUP('Design #'!C1212,Labels!$A:$B,2,FALSE)","v":"Providing appropriate sewer capacity and pumping capabilities to cope with widespread flood events"},{"$f":"VLOOKUP('Design #'!D1212,Labels!$A:$B,2,FALSE)","v":"Keeping bills affordable for all"},{"$f":"VLOOKUP('Design #'!E1212,Labels!$A:$B,2,FALSE)","v":"Preventing the likelihood of restrictions on water use, including hosepipe bans, in a drought"},{"$f":"VLOOKUP('Design #'!F1212,Labels!$A:$B,2,FALSE)","v":"Preventing interruptions to the supply of water (e.g. planned works, burst pipes, leaks and outages) that cause problems ranging from low pressure to no water"}]
[81,12,{"$f":"VLOOKUP('Design #'!C1213,Labels!$A:$B,2,FALSE)","v":"Preventing sewage from entering homes and businesses "},{"$f":"VLOOKUP('Design #'!D1213,Labels!$A:$B,2,FALSE)","v":"Providing water that is aesthetically pleasing (clear and clean with no odour or unusual taste or colour)"},{"$f":"VLOOKUP('Design #'!E1213,Labels!$A:$B,2,FALSE)","v":"Reduce and offset carbon emissions to achieve a 'net zero' position by 2030 "},{"$f":"VLOOKUP('Design #'!F1213,Labels!$A:$B,2,FALSE)","v":"Preventing sewage entering gardens and public spaces from pipe collapses or blockages"}]
[81,13,{"$f":"VLOOKUP('Design #'!C1214,Labels!$A:$B,2,FALSE)","v":"Providing financial help and support to those who are struggling to pay their water bill"},{"$f":"VLOOKUP('Design #'!D1214,Labels!$A:$B,2,FALSE)","v":"Ensuring additional support is available to those who need it e.g.  providing bills in braille, providing bottled water during times of interruptions for thos​e who can't get to a shop (elderly, medical conditions etc.)"},{"$f":"VLOOKUP('Design #'!E1214,Labels!$A:$B,2,FALSE)","v":"Preventing the likelihood of restrictions on water use, including hosepipe bans, in a drought"},{"$f":"VLOOKUP('Design #'!F1214,Labels!$A:$B,2,FALSE)","v":"Providing good and constant water pressure"}]
[81,14,{"$f":"VLOOKUP('Design #'!C1215,Labels!$A:$B,2,FALSE)","v":"Providing good and constant water pressure"},{"$f":"VLOOKUP('Design #'!D1215,Labels!$A:$B,2,FALSE)","v":"Reducing the release of untreated sewage mixed with rain water into rivers and streams during times of heavy rainfall"},{"$f":"VLOOKUP('Design #'!E1215,Labels!$A:$B,2,FALSE)","v":"Ensuring additional support is available to those who need it e.g.  providing bills in braille, providing bottled water during times of interruptions for thos​e who can't get to a shop (elderly, medical conditions etc.)"},{"$f":"VLOOKUP('Design #'!F1215,Labels!$A:$B,2,FALSE)","v":"Preventing sewage from entering homes and businesses "}]
[81,15,{"$f":"VLOOKUP('Design #'!C1216,Labels!$A:$B,2,FALSE)","v":"Preventing interruptions to the supply of water (e.g. planned works, burst pipes, leaks and outages) that cause problems ranging from low pressure to no water"},{"$f":"VLOOKUP('Design #'!D1216,Labels!$A:$B,2,FALSE)","v":"Preventing the likelihood of restrictions on water use, including hosepipe bans, in a drought"},{"$f":"VLOOKUP('Design #'!E1216,Labels!$A:$B,2,FALSE)","v":"Preventing leaks from Yorkshire Water's pipe network"},{"$f":"VLOOKUP('Design #'!F1216,Labels!$A:$B,2,FALSE)","v":"Providing a high level of customer service (e.g. resolving queries quickly)"}]
[82,1,{"$f":"VLOOKUP('Design #'!C1217,Labels!$A:$B,2,FALSE)","v":"Preventing sewage entering gardens and public spaces from pipe collapses or blockages"},{"$f":"VLOOKUP('Design #'!D1217,Labels!$A:$B,2,FALSE)","v":"Providing a continuous supply of water that is safe to drink"},{"$f":"VLOOKUP('Design #'!E1217,Labels!$A:$B,2,FALSE)","v":"Treating waste water to a high standard to ensure good quality water in Yorkshire's rivers and beaches"},{"$f":"VLOOKUP('Design #'!F1217,Labels!$A:$B,2,FALSE)","v":"Preventing interruptions to the supply of water (e.g. planned works, burst pipes, leaks and outages) that cause problems ranging from low pressure to no water"}]
[82,2,{"$f":"VLOOKUP('Design #'!C1218,Labels!$A:$B,2,FALSE)","v":"Treating waste water to a high standard to ensure good quality water in Yorkshire's rivers and beaches"},{"$f":"VLOOKUP('Design #'!D1218,Labels!$A:$B,2,FALSE)","v":"Providing financial help and support to those who are struggling to pay their water bill"},{"$f":"VLOOKUP('Design #'!E1218,Labels!$A:$B,2,FALSE)","v":"Preventing sewage entering gardens and public spaces from pipe collapses or blockages"},{"$f":"VLOOKUP('Design #'!F1218,Labels!$A:$B,2,FALSE)","v":"Preventing pollution of rivers or streams from sewage pipes"}]
[82,3,{"$f":"VLOOKUP('Design #'!C1219,Labels!$A:$B,2,FALSE)","v":"Reduce and offset carbon emissions to achieve a 'net zero' position by 2030 "},{"$f":"VLOOKUP('Design #'!D1219,Labels!$A:$B,2,FALSE)","v":"Treating waste water to a high standard to ensure good quality water in Yorkshire's rivers and beaches"},{"$f":"VLOOKUP('Design #'!E1219,Labels!$A:$B,2,FALSE)","v":"Working with other organisations on common challenges (e.g. flooding) to share costs and expertise allowing for more and smarter investment to tackle problems"},{"$f":"VLOOKUP('Design #'!F1219,Labels!$A:$B,2,FALSE)","v":"Preventing the likelihood of restrictions on water use, including hosepipe bans, in a drought"}]
[82,4,{"$f":"VLOOKUP('Design #'!C1220,Labels!$A:$B,2,FALSE)","v":"Providing water that is aesthetically pleasing (clear and clean with no odour or unusual taste or colour)"},{"$f":"VLOOKUP('Design #'!D1220,Labels!$A:$B,2,FALSE)","v":"Reduce and offset carbon emissions to achieve a 'net zero' position by 2030 "},{"$f":"VLOOKUP('Design #'!E1220,Labels!$A:$B,2,FALSE)","v":"Providing good and constant water pressure"},{"$f":"VLOOKUP('Design #'!F1220,Labels!$A:$B,2,FALSE)","v":"Preventing interruptions to the supply of water (e.g. planned works, burst pipes, leaks and outages) that cause problems ranging from low pressure to no water"}]
[82,5,{"$f":"VLOOKUP('Design #'!C1221,Labels!$A:$B,2,FALSE)","v":"Ensuring that land owned by Yorkshire Water is conserved or enhanced to improve quality of the water it collects and reduce flooding"},{"$f":"VLOOKUP('Design #'!D1221,Labels!$A:$B,2,FALSE)","v":"Providing a continuous supply of water that is safe to drink"},{"$f":"VLOOKUP('Design #'!E1221,Labels!$A:$B,2,FALSE)","v":"Treating waste water to a high standard to ensure good quality water in Yorkshire's rivers and beaches"},{"$f":"VLOOKUP('Design #'!F1221,Labels!$A:$B,2,FALSE)","v":"Keeping bills affordable for all"}]
[82,6,{"$f":"VLOOKUP('Design #'!C1222,Labels!$A:$B,2,FALSE)","v":"Supporting customers to reduce their water use and prevent blockages through education and provision of free tools/devices"},{"$f":"VLOOKUP('Design #'!D1222,Labels!$A:$B,2,FALSE)","v":"Preventing the likelihood of restrictions on water use, including hosepipe bans, in a drought"},{"$f":"VLOOKUP('Design #'!E1222,Labels!$A:$B,2,FALSE)","v":"Providing a high level of customer service (e.g. resolving queries quickly)"},{"$f":"VLOOKUP('Design #'!F1222,Labels!$A:$B,2,FALSE)","v":"Ensuring additional support is available to those who need it e.g.  providing bills in braille, providing bottled water during times of interruptions for thos​e who can't get to a shop (elderly, medical conditions etc.)"}]
[82,7,{"$f":"VLOOKUP('Design #'!C1223,Labels!$A:$B,2,FALSE)","v":"Reduce and offset carbon emissions to achieve a 'net zero' position by 2030 "},{"$f":"VLOOKUP('Design #'!D1223,Labels!$A:$B,2,FALSE)","v":"Preventing pollution of rivers or streams from sewage pipes"},{"$f":"VLOOKUP('Design #'!E1223,Labels!$A:$B,2,FALSE)","v":"Preventing leaks from Yorkshire Water's pipe network"},{"$f":"VLOOKUP('Design #'!F1223,Labels!$A:$B,2,FALSE)","v":"Supporting customers to reduce their water use and prevent blockages through education and provision of free tools/devices"}]
[82,8,{"$f":"VLOOKUP('Design #'!C1224,Labels!$A:$B,2,FALSE)","v":"Preventing the likelihood of restrictions on water use, including hosepipe bans, in a drought"},{"$f":"VLOOKUP('Design #'!D1224,Labels!$A:$B,2,FALSE)","v":"Ensuring that land owned by Yorkshire Water is conserved or enhanced to improve quality of the water it collects and reduce flooding"},{"$f":"VLOOKUP('Design #'!E1224,Labels!$A:$B,2,FALSE)","v":"Providing water that is aesthetically pleasing (clear and clean with no odour or unusual taste or colour)"},{"$f":"VLOOKUP('Design #'!F1224,Labels!$A:$B,2,FALSE)","v":"Providing appropriate sewer capacity and pumping capabilities to cope with widespread flood events"}]
[82,9,{"$f":"VLOOKUP('Design #'!C1225,Labels!$A:$B,2,FALSE)","v":"Treating waste water to a high standard to ensure good quality water in Yorkshire's rivers and beaches"},{"$f":"VLOOKUP('Design #'!D1225,Labels!$A:$B,2,FALSE)","v":"Preventing sewage from entering homes and businesses "},{"$f":"VLOOKUP('Design #'!E1225,Labels!$A:$B,2,FALSE)","v":"Providing financial help and support to those who are struggling to pay their water bill"},{"$f":"VLOOKUP('Design #'!F1225,Labels!$A:$B,2,FALSE)","v":"Reducing the release of untreated sewage mixed with rain water into rivers and streams during times of heavy rainfall"}]
[82,10,{"$f":"VLOOKUP('Design #'!C1226,Labels!$A:$B,2,FALSE)","v":"Supporting customers to reduce their water use and prevent blockages through education and provision of free tools/devices"},{"$f":"VLOOKUP('Design #'!D1226,Labels!$A:$B,2,FALSE)","v":"Providing good and constant water pressure"},{"$f":"VLOOKUP('Design #'!E1226,Labels!$A:$B,2,FALSE)","v":"Providing a continuous supply of water that is safe to drink"},{"$f":"VLOOKUP('Design #'!F1226,Labels!$A:$B,2,FALSE)","v":"Providing appropriate sewer capacity and pumping capabilities to cope with widespread flood events"}]
[82,11,{"$f":"VLOOKUP('Design #'!C1227,Labels!$A:$B,2,FALSE)","v":"Preventing sewage from entering homes and businesses "},{"$f":"VLOOKUP('Design #'!D1227,Labels!$A:$B,2,FALSE)","v":"Providing appropriate sewer capacity and pumping capabilities to cope with widespread flood events"},{"$f":"VLOOKUP('Design #'!E1227,Labels!$A:$B,2,FALSE)","v":"Reducing the release of untreated sewage mixed with rain water into rivers and streams during times of heavy rainfall"},{"$f":"VLOOKUP('Design #'!F1227,Labels!$A:$B,2,FALSE)","v":"Working with other organisations on common challenges (e.g. flooding) to share costs and expertise allowing for more and smarter investment to tackle problems"}]
[82,12,{"$f":"VLOOKUP('Design #'!C1228,Labels!$A:$B,2,FALSE)","v":"Preventing pollution of rivers or streams from sewage pipes"},{"$f":"VLOOKUP('Design #'!D1228,Labels!$A:$B,2,FALSE)","v":"Reducing the release of untreated sewage mixed with rain water into rivers and streams during times of heavy rainfall"},{"$f":"VLOOKUP('Design #'!E1228,Labels!$A:$B,2,FALSE)","v":"Ensuring that land owned by Yorkshire Water is conserved or enhanced to improve quality of the water it collects and reduce flooding"},{"$f":"VLOOKUP('Design #'!F1228,Labels!$A:$B,2,FALSE)","v":"Ensuring additional support is available to those who need it e.g.  providing bills in braille, providing bottled water during times of interruptions for thos​e who can't get to a shop (elderly, medical conditions etc.)"}]
[82,13,{"$f":"VLOOKUP('Design #'!C1229,Labels!$A:$B,2,FALSE)","v":"Working with other organisations on common challenges (e.g. flooding) to share costs and expertise allowing for more and smarter investment to tackle problems"},{"$f":"VLOOKUP('Design #'!D1229,Labels!$A:$B,2,FALSE)","v":"Providing good and constant water pressure"},{"$f":"VLOOKUP('Design #'!E1229,Labels!$A:$B,2,FALSE)","v":"Keeping bills affordable for all"},{"$f":"VLOOKUP('Design #'!F1229,Labels!$A:$B,2,FALSE)","v":"Providing a high level of customer service (e.g. resolving queries quickly)"}]
[82,14,{"$f":"VLOOKUP('Design #'!C1230,Labels!$A:$B,2,FALSE)","v":"Preventing sewage entering gardens and public spaces from pipe collapses or blockages"},{"$f":"VLOOKUP('Design #'!D1230,Labels!$A:$B,2,FALSE)","v":"Providing financial help and support to those who are struggling to pay their water bill"},{"$f":"VLOOKUP('Design #'!E1230,Labels!$A:$B,2,FALSE)","v":"Providing water that is aesthetically pleasing (clear and clean with no odour or unusual taste or colour)"},{"$f":"VLOOKUP('Design #'!F1230,Labels!$A:$B,2,FALSE)","v":"Keeping bills affordable for all"}]
[82,15,{"$f":"VLOOKUP('Design #'!C1231,Labels!$A:$B,2,FALSE)","v":"Preventing interruptions to the supply of water (e.g. planned works, burst pipes, leaks and outages) that cause problems ranging from low pressure to no water"},{"$f":"VLOOKUP('Design #'!D1231,Labels!$A:$B,2,FALSE)","v":"Preventing sewage from entering homes and businesses "},{"$f":"VLOOKUP('Design #'!E1231,Labels!$A:$B,2,FALSE)","v":"Providing a high level of customer service (e.g. resolving queries quickly)"},{"$f":"VLOOKUP('Design #'!F1231,Labels!$A:$B,2,FALSE)","v":"Preventing leaks from Yorkshire Water's pipe network"}]
[83,1,{"$f":"VLOOKUP('Design #'!C1232,Labels!$A:$B,2,FALSE)","v":"Preventing sewage entering gardens and public spaces from pipe collapses or blockages"},{"$f":"VLOOKUP('Design #'!D1232,Labels!$A:$B,2,FALSE)","v":"Supporting customers to reduce their water use and prevent blockages through education and provision of free tools/devices"},{"$f":"VLOOKUP('Design #'!E1232,Labels!$A:$B,2,FALSE)","v":"Ensuring additional support is available to those who need it e.g.  providing bills in braille, providing bottled water during times of interruptions for thos​e who can't get to a shop (elderly, medical conditions etc.)"},{"$f":"VLOOKUP('Design #'!F1232,Labels!$A:$B,2,FALSE)","v":"Providing water that is aesthetically pleasing (clear and clean with no odour or unusual taste or colour)"}]
[83,2,{"$f":"VLOOKUP('Design #'!C1233,Labels!$A:$B,2,FALSE)","v":"Keeping bills affordable for all"},{"$f":"VLOOKUP('Design #'!D1233,Labels!$A:$B,2,FALSE)","v":"Working with other organisations on common challenges (e.g. flooding) to share costs and expertise allowing for more and smarter investment to tackle problems"},{"$f":"VLOOKUP('Design #'!E1233,Labels!$A:$B,2,FALSE)","v":"Preventing interruptions to the supply of water (e.g. planned works, burst pipes, leaks and outages) that cause problems ranging from low pressure to no water"},{"$f":"VLOOKUP('Design #'!F1233,Labels!$A:$B,2,FALSE)","v":"Ensuring additional support is available to those who need it e.g.  providing bills in braille, providing bottled water during times of interruptions for thos​e who can't get to a shop (elderly, medical conditions etc.)"}]
[83,3,{"$f":"VLOOKUP('Design #'!C1234,Labels!$A:$B,2,FALSE)","v":"Providing a high level of customer service (e.g. resolving queries quickly)"},{"$f":"VLOOKUP('Design #'!D1234,Labels!$A:$B,2,FALSE)","v":"Preventing sewage entering gardens and public spaces from pipe collapses or blockages"},{"$f":"VLOOKUP('Design #'!E1234,Labels!$A:$B,2,FALSE)","v":"Providing appropriate sewer capacity and pumping capabilities to cope with widespread flood events"},{"$f":"VLOOKUP('Design #'!F1234,Labels!$A:$B,2,FALSE)","v":"Treating waste water to a high standard to ensure good quality water in Yorkshire's rivers and beaches"}]
[83,4,{"$f":"VLOOKUP('Design #'!C1235,Labels!$A:$B,2,FALSE)","v":"Reducing the release of untreated sewage mixed with rain water into rivers and streams during times of heavy rainfall"},{"$f":"VLOOKUP('Design #'!D1235,Labels!$A:$B,2,FALSE)","v":"Providing a high level of customer service (e.g. resolving queries quickly)"},{"$f":"VLOOKUP('Design #'!E1235,Labels!$A:$B,2,FALSE)","v":"Supporting customers to reduce their water use and prevent blockages through education and provision of free tools/devices"},{"$f":"VLOOKUP('Design #'!F1235,Labels!$A:$B,2,FALSE)","v":"Providing water that is aesthetically pleasing (clear and clean with no odour or unusual taste or colour)"}]
[83,5,{"$f":"VLOOKUP('Design #'!C1236,Labels!$A:$B,2,FALSE)","v":"Providing a continuous supply of water that is safe to drink"},{"$f":"VLOOKUP('Design #'!D1236,Labels!$A:$B,2,FALSE)","v":"Reduce and offset carbon emissions to achieve a 'net zero' position by 2030 "},{"$f":"VLOOKUP('Design #'!E1236,Labels!$A:$B,2,FALSE)","v":"Preventing sewage entering gardens and public spaces from pipe collapses or blockages"},{"$f":"VLOOKUP('Design #'!F1236,Labels!$A:$B,2,FALSE)","v":"Preventing the likelihood of restrictions on water use, including hosepipe bans, in a drought"}]
[83,6,{"$f":"VLOOKUP('Design #'!C1237,Labels!$A:$B,2,FALSE)","v":"Preventing leaks from Yorkshire Water's pipe network"},{"$f":"VLOOKUP('Design #'!D1237,Labels!$A:$B,2,FALSE)","v":"Keeping bills affordable for all"},{"$f":"VLOOKUP('Design #'!E1237,Labels!$A:$B,2,FALSE)","v":"Reduce and offset carbon emissions to achieve a 'net zero' position by 2030 "},{"$f":"VLOOKUP('Design #'!F1237,Labels!$A:$B,2,FALSE)","v":"Ensuring that land owned by Yorkshire Water is conserved or enhanced to improve quality of the water it collects and reduce flooding"}]
[83,7,{"$f":"VLOOKUP('Design #'!C1238,Labels!$A:$B,2,FALSE)","v":"Providing financial help and support to those who are struggling to pay their water bill"},{"$f":"VLOOKUP('Design #'!D1238,Labels!$A:$B,2,FALSE)","v":"Preventing interruptions to the supply of water (e.g. planned works, burst pipes, leaks and outages) that cause problems ranging from low pressure to no water"},{"$f":"VLOOKUP('Design #'!E1238,Labels!$A:$B,2,FALSE)","v":"Preventing sewage from entering homes and businesses "},{"$f":"VLOOKUP('Design #'!F1238,Labels!$A:$B,2,FALSE)","v":"Ensuring that land owned by Yorkshire Water is conserved or enhanced to improve quality of the water it collects and reduce flooding"}]
[83,8,{"$f":"VLOOKUP('Design #'!C1239,Labels!$A:$B,2,FALSE)","v":"Ensuring that land owned by Yorkshire Water is conserved or enhanced to improve quality of the water it collects and reduce flooding"},{"$f":"VLOOKUP('Design #'!D1239,Labels!$A:$B,2,FALSE)","v":"Preventing the likelihood of restrictions on water use, including hosepipe bans, in a drought"},{"$f":"VLOOKUP('Design #'!E1239,Labels!$A:$B,2,FALSE)","v":"Preventing pollution of rivers or streams from sewage pipes"},{"$f":"VLOOKUP('Design #'!F1239,Labels!$A:$B,2,FALSE)","v":"Preventing sewage from entering homes and businesses "}]
[83,9,{"$f":"VLOOKUP('Design #'!C1240,Labels!$A:$B,2,FALSE)","v":"Providing appropriate sewer capacity and pumping capabilities to cope with widespread flood events"},{"$f":"VLOOKUP('Design #'!D1240,Labels!$A:$B,2,FALSE)","v":"Preventing leaks from Yorkshire Water's pipe network"},{"$f":"VLOOKUP('Design #'!E1240,Labels!$A:$B,2,FALSE)","v":"Providing good and constant water pressure"},{"$f":"VLOOKUP('Design #'!F1240,Labels!$A:$B,2,FALSE)","v":"Preventing pollution of rivers or streams from sewage pipes"}]
[83,10,{"$f":"VLOOKUP('Design #'!C1241,Labels!$A:$B,2,FALSE)","v":"Keeping bills affordable for all"},{"$f":"VLOOKUP('Design #'!D1241,Labels!$A:$B,2,FALSE)","v":"Preventing leaks from Yorkshire Water's pipe network"},{"$f":"VLOOKUP('Design #'!E1241,Labels!$A:$B,2,FALSE)","v":"Providing financial help and support to those who are struggling to pay their water bill"},{"$f":"VLOOKUP('Design #'!F1241,Labels!$A:$B,2,FALSE)","v":"Providing a high level of customer service (e.g. resolving queries quickly)"}]
[83,11,{"$f":"VLOOKUP('Design #'!C1242,Labels!$A:$B,2,FALSE)","v":"Providing good and constant water pressure"},{"$f":"VLOOKUP('Design #'!D1242,Labels!$A:$B,2,FALSE)","v":"Providing a continuous supply of water that is safe to drink"},{"$f":"VLOOKUP('Design #'!E1242,Labels!$A:$B,2,FALSE)","v":"Preventing sewage from entering homes and businesses "},{"$f":"VLOOKUP('Design #'!F1242,Labels!$A:$B,2,FALSE)","v":"Reducing the release of untreated sewage mixed with rain water into rivers and streams during times of heavy rainfall"}]
[83,12,{"$f":"VLOOKUP('Design #'!C1243,Labels!$A:$B,2,FALSE)","v":"Preventing pollution of rivers or streams from sewage pipes"},{"$f":"VLOOKUP('Design #'!D1243,Labels!$A:$B,2,FALSE)","v":"Working with other organisations on common challenges (e.g. flooding) to share costs and expertise allowing for more and smarter investment to tackle problems"},{"$f":"VLOOKUP('Design #'!E1243,Labels!$A:$B,2,FALSE)","v":"Reducing the release of untreated sewage mixed with rain water into rivers and streams during times of heavy rainfall"},{"$f":"VLOOKUP('Design #'!F1243,Labels!$A:$B,2,FALSE)","v":"Reduce and offset carbon emissions to achieve a 'net zero' position by 2030 "}]
[83,13,{"$f":"VLOOKUP('Design #'!C1244,Labels!$A:$B,2,FALSE)","v":"Providing good and constant water pressure"},{"$f":"VLOOKUP('Design #'!D1244,Labels!$A:$B,2,FALSE)","v":"Providing water that is aesthetically pleasing (clear and clean with no odour or unusual taste or colour)"},{"$f":"VLOOKUP('Design #'!E1244,Labels!$A:$B,2,FALSE)","v":"Preventing the likelihood of restrictions on water use, including hosepipe bans, in a drought"},{"$f":"VLOOKUP('Design #'!F1244,Labels!$A:$B,2,FALSE)","v":"Treating waste water to a high standard to ensure good quality water in Yorkshire's rivers and beaches"}]
[83,14,{"$f":"VLOOKUP('Design #'!C1245,Labels!$A:$B,2,FALSE)","v":"Ensuring additional support is available to those who need it e.g.  providing bills in braille, providing bottled water during times of interruptions for thos​e who can't get to a shop (elderly, medical conditions etc.)"},{"$f":"VLOOKUP('Design #'!D1245,Labels!$A:$B,2,FALSE)","v":"Providing appropriate sewer capacity and pumping capabilities to cope with widespread flood events"},{"$f":"VLOOKUP('Design #'!E1245,Labels!$A:$B,2,FALSE)","v":"Providing financial help and support to those who are struggling to pay their water bill"},{"$f":"VLOOKUP('Design #'!F1245,Labels!$A:$B,2,FALSE)","v":"Providing a continuous supply of water that is safe to drink"}]
[83,15,{"$f":"VLOOKUP('Design #'!C1246,Labels!$A:$B,2,FALSE)","v":"Preventing interruptions to the supply of water (e.g. planned works, burst pipes, leaks and outages) that cause problems ranging from low pressure to no water"},{"$f":"VLOOKUP('Design #'!D1246,Labels!$A:$B,2,FALSE)","v":"Providing financial help and support to those who are struggling to pay their water bill"},{"$f":"VLOOKUP('Design #'!E1246,Labels!$A:$B,2,FALSE)","v":"Supporting customers to reduce their water use and prevent blockages through education and provision of free tools/devices"},{"$f":"VLOOKUP('Design #'!F1246,Labels!$A:$B,2,FALSE)","v":"Working with other organisations on common challenges (e.g. flooding) to share costs and expertise allowing for more and smarter investment to tackle problems"}]
[84,1,{"$f":"VLOOKUP('Design #'!C1247,Labels!$A:$B,2,FALSE)","v":"Supporting customers to reduce their water use and prevent blockages through education and provision of free tools/devices"},{"$f":"VLOOKUP('Design #'!D1247,Labels!$A:$B,2,FALSE)","v":"Ensuring that land owned by Yorkshire Water is conserved or enhanced to improve quality of the water it collects and reduce flooding"},{"$f":"VLOOKUP('Design #'!E1247,Labels!$A:$B,2,FALSE)","v":"Working with other organisations on common challenges (e.g. flooding) to share costs and expertise allowing for more and smarter investment to tackle problems"},{"$f":"VLOOKUP('Design #'!F1247,Labels!$A:$B,2,FALSE)","v":"Providing a continuous supply of water that is safe to drink"}]
[84,2,{"$f":"VLOOKUP('Design #'!C1248,Labels!$A:$B,2,FALSE)","v":"Preventing the likelihood of restrictions on water use, including hosepipe bans, in a drought"},{"$f":"VLOOKUP('Design #'!D1248,Labels!$A:$B,2,FALSE)","v":"Ensuring additional support is available to those who need it e.g.  providing bills in braille, providing bottled water during times of interruptions for thos​e who can't get to a shop (elderly, medical conditions etc.)"},{"$f":"VLOOKUP('Design #'!E1248,Labels!$A:$B,2,FALSE)","v":"Working with other organisations on common challenges (e.g. flooding) to share costs and expertise allowing for more and smarter investment to tackle problems"},{"$f":"VLOOKUP('Design #'!F1248,Labels!$A:$B,2,FALSE)","v":"Preventing sewage from entering homes and businesses "}]
[84,3,{"$f":"VLOOKUP('Design #'!C1249,Labels!$A:$B,2,FALSE)","v":"Preventing leaks from Yorkshire Water's pipe network"},{"$f":"VLOOKUP('Design #'!D1249,Labels!$A:$B,2,FALSE)","v":"Treating waste water to a high standard to ensure good quality water in Yorkshire's rivers and beaches"},{"$f":"VLOOKUP('Design #'!E1249,Labels!$A:$B,2,FALSE)","v":"Providing good and constant water pressure"},{"$f":"VLOOKUP('Design #'!F1249,Labels!$A:$B,2,FALSE)","v":"Ensuring that land owned by Yorkshire Water is conserved or enhanced to improve quality of the water it collects and reduce flooding"}]
[84,4,{"$f":"VLOOKUP('Design #'!C1250,Labels!$A:$B,2,FALSE)","v":"Working with other organisations on common challenges (e.g. flooding) to share costs and expertise allowing for more and smarter investment to tackle problems"},{"$f":"VLOOKUP('Design #'!D1250,Labels!$A:$B,2,FALSE)","v":"Providing good and constant water pressure"},{"$f":"VLOOKUP('Design #'!E1250,Labels!$A:$B,2,FALSE)","v":"Providing a high level of customer service (e.g. resolving queries quickly)"},{"$f":"VLOOKUP('Design #'!F1250,Labels!$A:$B,2,FALSE)","v":"Providing financial help and support to those who are struggling to pay their water bill"}]
[84,5,{"$f":"VLOOKUP('Design #'!C1251,Labels!$A:$B,2,FALSE)","v":"Providing a high level of customer service (e.g. resolving queries quickly)"},{"$f":"VLOOKUP('Design #'!D1251,Labels!$A:$B,2,FALSE)","v":"Preventing sewage from entering homes and businesses "},{"$f":"VLOOKUP('Design #'!E1251,Labels!$A:$B,2,FALSE)","v":"Providing appropriate sewer capacity and pumping capabilities to cope with widespread flood events"},{"$f":"VLOOKUP('Design #'!F1251,Labels!$A:$B,2,FALSE)","v":"Preventing leaks from Yorkshire Water's pipe network"}]
[84,6,{"$f":"VLOOKUP('Design #'!C1252,Labels!$A:$B,2,FALSE)","v":"Reduce and offset carbon emissions to achieve a 'net zero' position by 2030 "},{"$f":"VLOOKUP('Design #'!D1252,Labels!$A:$B,2,FALSE)","v":"Keeping bills affordable for all"},{"$f":"VLOOKUP('Design #'!E1252,Labels!$A:$B,2,FALSE)","v":"Treating waste water to a high standard to ensure good quality water in Yorkshire's rivers and beaches"},{"$f":"VLOOKUP('Design #'!F1252,Labels!$A:$B,2,FALSE)","v":"Preventing interruptions to the supply of water (e.g. planned works, burst pipes, leaks and outages) that cause problems ranging from low pressure to no water"}]
[84,7,{"$f":"VLOOKUP('Design #'!C1253,Labels!$A:$B,2,FALSE)","v":"Ensuring that land owned by Yorkshire Water is conserved or enhanced to improve quality of the water it collects and reduce flooding"},{"$f":"VLOOKUP('Design #'!D1253,Labels!$A:$B,2,FALSE)","v":"Reduce and offset carbon emissions to achieve a 'net zero' position by 2030 "},{"$f":"VLOOKUP('Design #'!E1253,Labels!$A:$B,2,FALSE)","v":"Providing a continuous supply of water that is safe to drink"},{"$f":"VLOOKUP('Design #'!F1253,Labels!$A:$B,2,FALSE)","v":"Providing water that is aesthetically pleasing (clear and clean with no odour or unusual taste or colour)"}]
[84,8,{"$f":"VLOOKUP('Design #'!C1254,Labels!$A:$B,2,FALSE)","v":"Reducing the release of untreated sewage mixed with rain water into rivers and streams during times of heavy rainfall"},{"$f":"VLOOKUP('Design #'!D1254,Labels!$A:$B,2,FALSE)","v":"Providing a high level of customer service (e.g. resolving queries quickly)"},{"$f":"VLOOKUP('Design #'!E1254,Labels!$A:$B,2,FALSE)","v":"Ensuring additional support is available to those who need it e.g.  providing bills in braille, providing bottled water during times of interruptions for thos​e who can't get to a shop (elderly, medical conditions etc.)"},{"$f":"VLOOKUP('Design #'!F1254,Labels!$A:$B,2,FALSE)","v":"Reduce and offset carbon emissions to achieve a 'net zero' position by 2030 "}]
[84,9,{"$f":"VLOOKUP('Design #'!C1255,Labels!$A:$B,2,FALSE)","v":"Preventing sewage from entering homes and businesses "},{"$f":"VLOOKUP('Design #'!D1255,Labels!$A:$B,2,FALSE)","v":"Supporting customers to reduce their water use and prevent blockages through education and provision of free tools/devices"},{"$f":"VLOOKUP('Design #'!E1255,Labels!$A:$B,2,FALSE)","v":"Preventing sewage entering gardens and public spaces from pipe collapses or blockages"},{"$f":"VLOOKUP('Design #'!F1255,Labels!$A:$B,2,FALSE)","v":"Keeping bills affordable for all"}]
[84,10,{"$f":"VLOOKUP('Design #'!C1256,Labels!$A:$B,2,FALSE)","v":"Treating waste water to a high standard to ensure good quality water in Yorkshire's rivers and beaches"},{"$f":"VLOOKUP('Design #'!D1256,Labels!$A:$B,2,FALSE)","v":"Reducing the release of untreated sewage mixed with rain water into rivers and streams during times of heavy rainfall"},{"$f":"VLOOKUP('Design #'!E1256,Labels!$A:$B,2,FALSE)","v":"Providing appropriate sewer capacity and pumping capabilities to cope with widespread flood events"},{"$f":"VLOOKUP('Design #'!F1256,Labels!$A:$B,2,FALSE)","v":"Supporting customers to reduce their water use and prevent blockages through education and provision of free tools/devices"}]
[84,11,{"$f":"VLOOKUP('Design #'!C1257,Labels!$A:$B,2,FALSE)","v":"Providing appropriate sewer capacity and pumping capabilities to cope with widespread flood events"},{"$f":"VLOOKUP('Design #'!D1257,Labels!$A:$B,2,FALSE)","v":"Providing water that is aesthetically pleasing (clear and clean with no odour or unusual taste or colour)"},{"$f":"VLOOKUP('Design #'!E1257,Labels!$A:$B,2,FALSE)","v":"Preventing interruptions to the supply of water (e.g. planned works, burst pipes, leaks and outages) that cause problems ranging from low pressure to no water"},{"$f":"VLOOKUP('Design #'!F1257,Labels!$A:$B,2,FALSE)","v":"Ensuring additional support is available to those who need it e.g.  providing bills in braille, providing bottled water during times of interruptions for thos​e who can't get to a shop (elderly, medical conditions etc.)"}]
[84,12,{"$f":"VLOOKUP('Design #'!C1258,Labels!$A:$B,2,FALSE)","v":"Ensuring additional support is available to those who need it e.g.  providing bills in braille, providing bottled water during times of interruptions for thos​e who can't get to a shop (elderly, medical conditions etc.)"},{"$f":"VLOOKUP('Design #'!D1258,Labels!$A:$B,2,FALSE)","v":"Preventing pollution of rivers or streams from sewage pipes"},{"$f":"VLOOKUP('Design #'!E1258,Labels!$A:$B,2,FALSE)","v":"Providing good and constant water pressure"},{"$f":"VLOOKUP('Design #'!F1258,Labels!$A:$B,2,FALSE)","v":"Preventing sewage entering gardens and public spaces from pipe collapses or blockages"}]
[84,13,{"$f":"VLOOKUP('Design #'!C1259,Labels!$A:$B,2,FALSE)","v":"Providing water that is aesthetically pleasing (clear and clean with no odour or unusual taste or colour)"},{"$f":"VLOOKUP('Design #'!D1259,Labels!$A:$B,2,FALSE)","v":"Providing financial help and support to those who are struggling to pay their water bill"},{"$f":"VLOOKUP('Design #'!E1259,Labels!$A:$B,2,FALSE)","v":"Keeping bills affordable for all"},{"$f":"VLOOKUP('Design #'!F1259,Labels!$A:$B,2,FALSE)","v":"Preventing pollution of rivers or streams from sewage pipes"}]
[84,14,{"$f":"VLOOKUP('Design #'!C1260,Labels!$A:$B,2,FALSE)","v":"Keeping bills affordable for all"},{"$f":"VLOOKUP('Design #'!D1260,Labels!$A:$B,2,FALSE)","v":"Preventing sewage entering gardens and public spaces from pipe collapses or blockages"},{"$f":"VLOOKUP('Design #'!E1260,Labels!$A:$B,2,FALSE)","v":"Preventing leaks from Yorkshire Water's pipe network"},{"$f":"VLOOKUP('Design #'!F1260,Labels!$A:$B,2,FALSE)","v":"Reducing the release of untreated sewage mixed with rain water into rivers and streams during times of heavy rainfall"}]
[84,15,{"$f":"VLOOKUP('Design #'!C1261,Labels!$A:$B,2,FALSE)","v":"Providing a continuous supply of water that is safe to drink"},{"$f":"VLOOKUP('Design #'!D1261,Labels!$A:$B,2,FALSE)","v":"Preventing interruptions to the supply of water (e.g. planned works, burst pipes, leaks and outages) that cause problems ranging from low pressure to no water"},{"$f":"VLOOKUP('Design #'!E1261,Labels!$A:$B,2,FALSE)","v":"Preventing pollution of rivers or streams from sewage pipes"},{"$f":"VLOOKUP('Design #'!F1261,Labels!$A:$B,2,FALSE)","v":"Preventing the likelihood of restrictions on water use, including hosepipe bans, in a drought"}]
[85,1,{"$f":"VLOOKUP('Design #'!C1262,Labels!$A:$B,2,FALSE)","v":"Providing financial help and support to those who are struggling to pay their water bill"},{"$f":"VLOOKUP('Design #'!D1262,Labels!$A:$B,2,FALSE)","v":"Reducing the release of untreated sewage mixed with rain water into rivers and streams during times of heavy rainfall"},{"$f":"VLOOKUP('Design #'!E1262,Labels!$A:$B,2,FALSE)","v":"Ensuring that land owned by Yorkshire Water is conserved or enhanced to improve quality of the water it collects and reduce flooding"},{"$f":"VLOOKUP('Design #'!F1262,Labels!$A:$B,2,FALSE)","v":"Preventing leaks from Yorkshire Water's pipe network"}]
[85,2,{"$f":"VLOOKUP('Design #'!C1263,Labels!$A:$B,2,FALSE)","v":"Preventing leaks from Yorkshire Water's pipe network"},{"$f":"VLOOKUP('Design #'!D1263,Labels!$A:$B,2,FALSE)","v":"Supporting customers to reduce their water use and prevent blockages through education and provision of free tools/devices"},{"$f":"VLOOKUP('Design #'!E1263,Labels!$A:$B,2,FALSE)","v":"Providing water that is aesthetically pleasing (clear and clean with no odour or unusual taste or colour)"},{"$f":"VLOOKUP('Design #'!F1263,Labels!$A:$B,2,FALSE)","v":"Providing good and constant water pressure"}]
[85,3,{"$f":"VLOOKUP('Design #'!C1264,Labels!$A:$B,2,FALSE)","v":"Providing good and constant water pressure"},{"$f":"VLOOKUP('Design #'!D1264,Labels!$A:$B,2,FALSE)","v":"Ensuring additional support is available to those who need it e.g.  providing bills in braille, providing bottled water during times of interruptions for thos​e who can't get to a shop (elderly, medical conditions etc.)"},{"$f":"VLOOKUP('Design #'!E1264,Labels!$A:$B,2,FALSE)","v":"Keeping bills affordable for all"},{"$f":"VLOOKUP('Design #'!F1264,Labels!$A:$B,2,FALSE)","v":"Preventing sewage from entering homes and businesses "}]
[85,4,{"$f":"VLOOKUP('Design #'!C1265,Labels!$A:$B,2,FALSE)","v":"Providing a high level of customer service (e.g. resolving queries quickly)"},{"$f":"VLOOKUP('Design #'!D1265,Labels!$A:$B,2,FALSE)","v":"Ensuring that land owned by Yorkshire Water is conserved or enhanced to improve quality of the water it collects and reduce flooding"},{"$f":"VLOOKUP('Design #'!E1265,Labels!$A:$B,2,FALSE)","v":"Preventing the likelihood of restrictions on water use, including hosepipe bans, in a drought"},{"$f":"VLOOKUP('Design #'!F1265,Labels!$A:$B,2,FALSE)","v":"Preventing sewage entering gardens and public spaces from pipe collapses or blockages"}]
[85,5,{"$f":"VLOOKUP('Design #'!C1266,Labels!$A:$B,2,FALSE)","v":"Preventing pollution of rivers or streams from sewage pipes"},{"$f":"VLOOKUP('Design #'!D1266,Labels!$A:$B,2,FALSE)","v":"Providing a high level of customer service (e.g. resolving queries quickly)"},{"$f":"VLOOKUP('Design #'!E1266,Labels!$A:$B,2,FALSE)","v":"Ensuring that land owned by Yorkshire Water is conserved or enhanced to improve quality of the water it collects and reduce flooding"},{"$f":"VLOOKUP('Design #'!F1266,Labels!$A:$B,2,FALSE)","v":"Providing appropriate sewer capacity and pumping capabilities to cope with widespread flood events"}]
[85,6,{"$f":"VLOOKUP('Design #'!C1267,Labels!$A:$B,2,FALSE)","v":"Preventing sewage entering gardens and public spaces from pipe collapses or blockages"},{"$f":"VLOOKUP('Design #'!D1267,Labels!$A:$B,2,FALSE)","v":"Providing good and constant water pressure"},{"$f":"VLOOKUP('Design #'!E1267,Labels!$A:$B,2,FALSE)","v":"Preventing interruptions to the supply of water (e.g. planned works, burst pipes, leaks and outages) that cause problems ranging from low pressure to no water"},{"$f":"VLOOKUP('Design #'!F1267,Labels!$A:$B,2,FALSE)","v":"Reduce and offset carbon emissions to achieve a 'net zero' position by 2030 "}]
[85,7,{"$f":"VLOOKUP('Design #'!C1268,Labels!$A:$B,2,FALSE)","v":"Reduce and offset carbon emissions to achieve a 'net zero' position by 2030 "},{"$f":"VLOOKUP('Design #'!D1268,Labels!$A:$B,2,FALSE)","v":"Preventing sewage from entering homes and businesses "},{"$f":"VLOOKUP('Design #'!E1268,Labels!$A:$B,2,FALSE)","v":"Providing financial help and support to those who are struggling to pay their water bill"},{"$f":"VLOOKUP('Design #'!F1268,Labels!$A:$B,2,FALSE)","v":"Providing a continuous supply of water that is safe to drink"}]
[85,8,{"$f":"VLOOKUP('Design #'!C1269,Labels!$A:$B,2,FALSE)","v":"Providing appropriate sewer capacity and pumping capabilities to cope with widespread flood events"},{"$f":"VLOOKUP('Design #'!D1269,Labels!$A:$B,2,FALSE)","v":"Preventing sewage entering gardens and public spaces from pipe collapses or blockages"},{"$f":"VLOOKUP('Design #'!E1269,Labels!$A:$B,2,FALSE)","v":"Reduce and offset carbon emissions to achieve a 'net zero' position by 2030 "},{"$f":"VLOOKUP('Design #'!F1269,Labels!$A:$B,2,FALSE)","v":"Working with other organisations on common challenges (e.g. flooding) to share costs and expertise allowing for more and smarter investment to tackle problems"}]
[85,9,{"$f":"VLOOKUP('Design #'!C1270,Labels!$A:$B,2,FALSE)","v":"Providing water that is aesthetically pleasing (clear and clean with no odour or unusual taste or colour)"},{"$f":"VLOOKUP('Design #'!D1270,Labels!$A:$B,2,FALSE)","v":"Providing a continuous supply of water that is safe to drink"},{"$f":"VLOOKUP('Design #'!E1270,Labels!$A:$B,2,FALSE)","v":"Providing a high level of customer service (e.g. resolving queries quickly)"},{"$f":"VLOOKUP('Design #'!F1270,Labels!$A:$B,2,FALSE)","v":"Reducing the release of untreated sewage mixed with rain water into rivers and streams during times of heavy rainfall"}]
[85,10,{"$f":"VLOOKUP('Design #'!C1271,Labels!$A:$B,2,FALSE)","v":"Reducing the release of untreated sewage mixed with rain water into rivers and streams during times of heavy rainfall"},{"$f":"VLOOKUP('Design #'!D1271,Labels!$A:$B,2,FALSE)","v":"Preventing interruptions to the supply of water (e.g. planned works, burst pipes, leaks and outages) that cause problems ranging from low pressure to no water"},{"$f":"VLOOKUP('Design #'!E1271,Labels!$A:$B,2,FALSE)","v":"Preventing the likelihood of restrictions on water use, including hosepipe bans, in a drought"},{"$f":"VLOOKUP('Design #'!F1271,Labels!$A:$B,2,FALSE)","v":"Providing appropriate sewer capacity and pumping capabilities to cope with widespread flood events"}]
[85,11,{"$f":"VLOOKUP('Design #'!C1272,Labels!$A:$B,2,FALSE)","v":"Supporting customers to reduce their water use and prevent blockages through education and provision of free tools/devices"},{"$f":"VLOOKUP('Design #'!D1272,Labels!$A:$B,2,FALSE)","v":"Preventing the likelihood of restrictions on water use, including hosepipe bans, in a drought"},{"$f":"VLOOKUP('Design #'!E1272,Labels!$A:$B,2,FALSE)","v":"Treating waste water to a high standard to ensure good quality water in Yorkshire's rivers and beaches"},{"$f":"VLOOKUP('Design #'!F1272,Labels!$A:$B,2,FALSE)","v":"Providing financial help and support to those who are struggling to pay their water bill"}]
[85,12,{"$f":"VLOOKUP('Design #'!C1273,Labels!$A:$B,2,FALSE)","v":"Ensuring additional support is available to those who need it e.g.  providing bills in braille, providing bottled water during times of interruptions for thos​e who can't get to a shop (elderly, medical conditions etc.)"},{"$f":"VLOOKUP('Design #'!D1273,Labels!$A:$B,2,FALSE)","v":"Working with other organisations on common challenges (e.g. flooding) to share costs and expertise allowing for more and smarter investment to tackle problems"},{"$f":"VLOOKUP('Design #'!E1273,Labels!$A:$B,2,FALSE)","v":"Preventing leaks from Yorkshire Water's pipe network"},{"$f":"VLOOKUP('Design #'!F1273,Labels!$A:$B,2,FALSE)","v":"Treating waste water to a high standard to ensure good quality water in Yorkshire's rivers and beaches"}]
[85,13,{"$f":"VLOOKUP('Design #'!C1274,Labels!$A:$B,2,FALSE)","v":"Preventing sewage from entering homes and businesses "},{"$f":"VLOOKUP('Design #'!D1274,Labels!$A:$B,2,FALSE)","v":"Providing water that is aesthetically pleasing (clear and clean with no odour or unusual taste or colour)"},{"$f":"VLOOKUP('Design #'!E1274,Labels!$A:$B,2,FALSE)","v":"Preventing pollution of rivers or streams from sewage pipes"},{"$f":"VLOOKUP('Design #'!F1274,Labels!$A:$B,2,FALSE)","v":"Treating waste water to a high standard to ensure good quality water in Yorkshire's rivers and beaches"}]
[85,14,{"$f":"VLOOKUP('Design #'!C1275,Labels!$A:$B,2,FALSE)","v":"Preventing the likelihood of restrictions on water use, including hosepipe bans, in a drought"},{"$f":"VLOOKUP('Design #'!D1275,Labels!$A:$B,2,FALSE)","v":"Ensuring additional support is available to those who need it e.g.  providing bills in braille, providing bottled water during times of interruptions for thos​e who can't get to a shop (elderly, medical conditions etc.)"},{"$f":"VLOOKUP('Design #'!E1275,Labels!$A:$B,2,FALSE)","v":"Providing a continuous supply of water that is safe to drink"},{"$f":"VLOOKUP('Design #'!F1275,Labels!$A:$B,2,FALSE)","v":"Keeping bills affordable for all"}]
[85,15,{"$f":"VLOOKUP('Design #'!C1276,Labels!$A:$B,2,FALSE)","v":"Preventing interruptions to the supply of water (e.g. planned works, burst pipes, leaks and outages) that cause problems ranging from low pressure to no water"},{"$f":"VLOOKUP('Design #'!D1276,Labels!$A:$B,2,FALSE)","v":"Preventing pollution of rivers or streams from sewage pipes"},{"$f":"VLOOKUP('Design #'!E1276,Labels!$A:$B,2,FALSE)","v":"Supporting customers to reduce their water use and prevent blockages through education and provision of free tools/devices"},{"$f":"VLOOKUP('Design #'!F1276,Labels!$A:$B,2,FALSE)","v":"Providing good and constant water pressure"}]
[86,1,{"$f":"VLOOKUP('Design #'!C1277,Labels!$A:$B,2,FALSE)","v":"Treating waste water to a high standard to ensure good quality water in Yorkshire's rivers and beaches"},{"$f":"VLOOKUP('Design #'!D1277,Labels!$A:$B,2,FALSE)","v":"Keeping bills affordable for all"},{"$f":"VLOOKUP('Design #'!E1277,Labels!$A:$B,2,FALSE)","v":"Providing appropriate sewer capacity and pumping capabilities to cope with widespread flood events"},{"$f":"VLOOKUP('Design #'!F1277,Labels!$A:$B,2,FALSE)","v":"Providing a continuous supply of water that is safe to drink"}]
[86,2,{"$f":"VLOOKUP('Design #'!C1278,Labels!$A:$B,2,FALSE)","v":"Providing water that is aesthetically pleasing (clear and clean with no odour or unusual taste or colour)"},{"$f":"VLOOKUP('Design #'!D1278,Labels!$A:$B,2,FALSE)","v":"Providing appropriate sewer capacity and pumping capabilities to cope with widespread flood events"},{"$f":"VLOOKUP('Design #'!E1278,Labels!$A:$B,2,FALSE)","v":"Preventing sewage from entering homes and businesses "},{"$f":"VLOOKUP('Design #'!F1278,Labels!$A:$B,2,FALSE)","v":"Preventing leaks from Yorkshire Water's pipe network"}]
[86,3,{"$f":"VLOOKUP('Design #'!C1279,Labels!$A:$B,2,FALSE)","v":"Providing good and constant water pressure"},{"$f":"VLOOKUP('Design #'!D1279,Labels!$A:$B,2,FALSE)","v":"Reduce and offset carbon emissions to achieve a 'net zero' position by 2030 "},{"$f":"VLOOKUP('Design #'!E1279,Labels!$A:$B,2,FALSE)","v":"Reducing the release of untreated sewage mixed with rain water into rivers and streams during times of heavy rainfall"},{"$f":"VLOOKUP('Design #'!F1279,Labels!$A:$B,2,FALSE)","v":"Preventing the likelihood of restrictions on water use, including hosepipe bans, in a drought"}]
[86,4,{"$f":"VLOOKUP('Design #'!C1280,Labels!$A:$B,2,FALSE)","v":"Ensuring additional support is available to those who need it e.g.  providing bills in braille, providing bottled water during times of interruptions for thos​e who can't get to a shop (elderly, medical conditions etc.)"},{"$f":"VLOOKUP('Design #'!D1280,Labels!$A:$B,2,FALSE)","v":"Treating waste water to a high standard to ensure good quality water in Yorkshire's rivers and beaches"},{"$f":"VLOOKUP('Design #'!E1280,Labels!$A:$B,2,FALSE)","v":"Preventing sewage entering gardens and public spaces from pipe collapses or blockages"},{"$f":"VLOOKUP('Design #'!F1280,Labels!$A:$B,2,FALSE)","v":"Preventing pollution of rivers or streams from sewage pipes"}]
[86,5,{"$f":"VLOOKUP('Design #'!C1281,Labels!$A:$B,2,FALSE)","v":"Ensuring that land owned by Yorkshire Water is conserved or enhanced to improve quality of the water it collects and reduce flooding"},{"$f":"VLOOKUP('Design #'!D1281,Labels!$A:$B,2,FALSE)","v":"Keeping bills affordable for all"},{"$f":"VLOOKUP('Design #'!E1281,Labels!$A:$B,2,FALSE)","v":"Supporting customers to reduce their water use and prevent blockages through education and provision of free tools/devices"},{"$f":"VLOOKUP('Design #'!F1281,Labels!$A:$B,2,FALSE)","v":"Working with other organisations on common challenges (e.g. flooding) to share costs and expertise allowing for more and smarter investment to tackle problems"}]
[86,6,{"$f":"VLOOKUP('Design #'!C1282,Labels!$A:$B,2,FALSE)","v":"Working with other organisations on common challenges (e.g. flooding) to share costs and expertise allowing for more and smarter investment to tackle problems"},{"$f":"VLOOKUP('Design #'!D1282,Labels!$A:$B,2,FALSE)","v":"Providing financial help and support to those who are struggling to pay their water bill"},{"$f":"VLOOKUP('Design #'!E1282,Labels!$A:$B,2,FALSE)","v":"Providing water that is aesthetically pleasing (clear and clean with no odour or unusual taste or colour)"},{"$f":"VLOOKUP('Design #'!F1282,Labels!$A:$B,2,FALSE)","v":"Preventing the likelihood of restrictions on water use, including hosepipe bans, in a drought"}]
[86,7,{"$f":"VLOOKUP('Design #'!C1283,Labels!$A:$B,2,FALSE)","v":"Preventing interruptions to the supply of water (e.g. planned works, burst pipes, leaks and outages) that cause problems ranging from low pressure to no water"},{"$f":"VLOOKUP('Design #'!D1283,Labels!$A:$B,2,FALSE)","v":"Preventing leaks from Yorkshire Water's pipe network"},{"$f":"VLOOKUP('Design #'!E1283,Labels!$A:$B,2,FALSE)","v":"Ensuring additional support is available to those who need it e.g.  providing bills in braille, providing bottled water during times of interruptions for thos​e who can't get to a shop (elderly, medical conditions etc.)"},{"$f":"VLOOKUP('Design #'!F1283,Labels!$A:$B,2,FALSE)","v":"Supporting customers to reduce their water use and prevent blockages through education and provision of free tools/devices"}]
[86,8,{"$f":"VLOOKUP('Design #'!C1284,Labels!$A:$B,2,FALSE)","v":"Providing financial help and support to those who are struggling to pay their water bill"},{"$f":"VLOOKUP('Design #'!D1284,Labels!$A:$B,2,FALSE)","v":"Preventing the likelihood of restrictions on water use, including hosepipe bans, in a drought"},{"$f":"VLOOKUP('Design #'!E1284,Labels!$A:$B,2,FALSE)","v":"Ensuring additional support is available to those who need it e.g.  providing bills in braille, providing bottled water during times of interruptions for thos​e who can't get to a shop (elderly, medical conditions etc.)"},{"$f":"VLOOKUP('Design #'!F1284,Labels!$A:$B,2,FALSE)","v":"Preventing pollution of rivers or streams from sewage pipes"}]
[86,9,{"$f":"VLOOKUP('Design #'!C1285,Labels!$A:$B,2,FALSE)","v":"Supporting customers to reduce their water use and prevent blockages through education and provision of free tools/devices"},{"$f":"VLOOKUP('Design #'!D1285,Labels!$A:$B,2,FALSE)","v":"Providing appropriate sewer capacity and pumping capabilities to cope with widespread flood events"},{"$f":"VLOOKUP('Design #'!E1285,Labels!$A:$B,2,FALSE)","v":"Preventing sewage from entering homes and businesses "},{"$f":"VLOOKUP('Design #'!F1285,Labels!$A:$B,2,FALSE)","v":"Reduce and offset carbon emissions to achieve a 'net zero' position by 2030 "}]
[86,10,{"$f":"VLOOKUP('Design #'!C1286,Labels!$A:$B,2,FALSE)","v":"Providing a continuous supply of water that is safe to drink"},{"$f":"VLOOKUP('Design #'!D1286,Labels!$A:$B,2,FALSE)","v":"Preventing leaks from Yorkshire Water's pipe network"},{"$f":"VLOOKUP('Design #'!E1286,Labels!$A:$B,2,FALSE)","v":"Reducing the release of untreated sewage mixed with rain water into rivers and streams during times of heavy rainfall"},{"$f":"VLOOKUP('Design #'!F1286,Labels!$A:$B,2,FALSE)","v":"Preventing sewage entering gardens and public spaces from pipe collapses or blockages"}]
[86,11,{"$f":"VLOOKUP('Design #'!C1287,Labels!$A:$B,2,FALSE)","v":"Providing financial help and support to those who are struggling to pay their water bill"},{"$f":"VLOOKUP('Design #'!D1287,Labels!$A:$B,2,FALSE)","v":"Providing a continuous supply of water that is safe to drink"},{"$f":"VLOOKUP('Design #'!E1287,Labels!$A:$B,2,FALSE)","v":"Providing a high level of customer service (e.g. resolving queries quickly)"},{"$f":"VLOOKUP('Design #'!F1287,Labels!$A:$B,2,FALSE)","v":"Preventing interruptions to the supply of water (e.g. planned works, burst pipes, leaks and outages) that cause problems ranging from low pressure to no water"}]
[86,12,{"$f":"VLOOKUP('Design #'!C1288,Labels!$A:$B,2,FALSE)","v":"Preventing sewage entering gardens and public spaces from pipe collapses or blockages"},{"$f":"VLOOKUP('Design #'!D1288,Labels!$A:$B,2,FALSE)","v":"Preventing sewage from entering homes and businesses "},{"$f":"VLOOKUP('Design #'!E1288,Labels!$A:$B,2,FALSE)","v":"Ensuring that land owned by Yorkshire Water is conserved or enhanced to improve quality of the water it collects and reduce flooding"},{"$f":"VLOOKUP('Design #'!F1288,Labels!$A:$B,2,FALSE)","v":"Working with other organisations on common challenges (e.g. flooding) to share costs and expertise allowing for more and smarter investment to tackle problems"}]
[86,13,{"$f":"VLOOKUP('Design #'!C1289,Labels!$A:$B,2,FALSE)","v":"Treating waste water to a high standard to ensure good quality water in Yorkshire's rivers and beaches"},{"$f":"VLOOKUP('Design #'!D1289,Labels!$A:$B,2,FALSE)","v":"Providing good and constant water pressure"},{"$f":"VLOOKUP('Design #'!E1289,Labels!$A:$B,2,FALSE)","v":"Keeping bills affordable for all"},{"$f":"VLOOKUP('Design #'!F1289,Labels!$A:$B,2,FALSE)","v":"Providing a high level of customer service (e.g. resolving queries quickly)"}]
[86,14,{"$f":"VLOOKUP('Design #'!C1290,Labels!$A:$B,2,FALSE)","v":"Ensuring that land owned by Yorkshire Water is conserved or enhanced to improve quality of the water it collects and reduce flooding"},{"$f":"VLOOKUP('Design #'!D1290,Labels!$A:$B,2,FALSE)","v":"Preventing interruptions to the supply of water (e.g. planned works, burst pipes, leaks and outages) that cause problems ranging from low pressure to no water"},{"$f":"VLOOKUP('Design #'!E1290,Labels!$A:$B,2,FALSE)","v":"Providing water that is aesthetically pleasing (clear and clean with no odour or unusual taste or colour)"},{"$f":"VLOOKUP('Design #'!F1290,Labels!$A:$B,2,FALSE)","v":"Working with other organisations on common challenges (e.g. flooding) to share costs and expertise allowing for more and smarter investment to tackle problems"}]
[86,15,{"$f":"VLOOKUP('Design #'!C1291,Labels!$A:$B,2,FALSE)","v":"Reduce and offset carbon emissions to achieve a 'net zero' position by 2030 "},{"$f":"VLOOKUP('Design #'!D1291,Labels!$A:$B,2,FALSE)","v":"Reducing the release of untreated sewage mixed with rain water into rivers and streams during times of heavy rainfall"},{"$f":"VLOOKUP('Design #'!E1291,Labels!$A:$B,2,FALSE)","v":"Preventing pollution of rivers or streams from sewage pipes"},{"$f":"VLOOKUP('Design #'!F1291,Labels!$A:$B,2,FALSE)","v":"Providing a high level of customer service (e.g. resolving queries quickly)"}]
[87,1,{"$f":"VLOOKUP('Design #'!C1292,Labels!$A:$B,2,FALSE)","v":"Providing appropriate sewer capacity and pumping capabilities to cope with widespread flood events"},{"$f":"VLOOKUP('Design #'!D1292,Labels!$A:$B,2,FALSE)","v":"Ensuring that land owned by Yorkshire Water is conserved or enhanced to improve quality of the water it collects and reduce flooding"},{"$f":"VLOOKUP('Design #'!E1292,Labels!$A:$B,2,FALSE)","v":"Providing financial help and support to those who are struggling to pay their water bill"},{"$f":"VLOOKUP('Design #'!F1292,Labels!$A:$B,2,FALSE)","v":"Providing good and constant water pressure"}]
[87,2,{"$f":"VLOOKUP('Design #'!C1293,Labels!$A:$B,2,FALSE)","v":"Keeping bills affordable for all"},{"$f":"VLOOKUP('Design #'!D1293,Labels!$A:$B,2,FALSE)","v":"Providing water that is aesthetically pleasing (clear and clean with no odour or unusual taste or colour)"},{"$f":"VLOOKUP('Design #'!E1293,Labels!$A:$B,2,FALSE)","v":"Preventing interruptions to the supply of water (e.g. planned works, burst pipes, leaks and outages) that cause problems ranging from low pressure to no water"},{"$f":"VLOOKUP('Design #'!F1293,Labels!$A:$B,2,FALSE)","v":"Reducing the release of untreated sewage mixed with rain water into rivers and streams during times of heavy rainfall"}]
[87,3,{"$f":"VLOOKUP('Design #'!C1294,Labels!$A:$B,2,FALSE)","v":"Providing a continuous supply of water that is safe to drink"},{"$f":"VLOOKUP('Design #'!D1294,Labels!$A:$B,2,FALSE)","v":"Providing a high level of customer service (e.g. resolving queries quickly)"},{"$f":"VLOOKUP('Design #'!E1294,Labels!$A:$B,2,FALSE)","v":"Preventing sewage from entering homes and businesses "},{"$f":"VLOOKUP('Design #'!F1294,Labels!$A:$B,2,FALSE)","v":"Ensuring additional support is available to those who need it e.g.  providing bills in braille, providing bottled water during times of interruptions for thos​e who can't get to a shop (elderly, medical conditions etc.)"}]
[87,4,{"$f":"VLOOKUP('Design #'!C1295,Labels!$A:$B,2,FALSE)","v":"Reduce and offset carbon emissions to achieve a 'net zero' position by 2030 "},{"$f":"VLOOKUP('Design #'!D1295,Labels!$A:$B,2,FALSE)","v":"Ensuring additional support is available to those who need it e.g.  providing bills in braille, providing bottled water during times of interruptions for thos​e who can't get to a shop (elderly, medical conditions etc.)"},{"$f":"VLOOKUP('Design #'!E1295,Labels!$A:$B,2,FALSE)","v":"Providing good and constant water pressure"},{"$f":"VLOOKUP('Design #'!F1295,Labels!$A:$B,2,FALSE)","v":"Ensuring that land owned by Yorkshire Water is conserved or enhanced to improve quality of the water it collects and reduce flooding"}]
[87,5,{"$f":"VLOOKUP('Design #'!C1296,Labels!$A:$B,2,FALSE)","v":"Working with other organisations on common challenges (e.g. flooding) to share costs and expertise allowing for more and smarter investment to tackle problems"},{"$f":"VLOOKUP('Design #'!D1296,Labels!$A:$B,2,FALSE)","v":"Supporting customers to reduce their water use and prevent blockages through education and provision of free tools/devices"},{"$f":"VLOOKUP('Design #'!E1296,Labels!$A:$B,2,FALSE)","v":"Providing a continuous supply of water that is safe to drink"},{"$f":"VLOOKUP('Design #'!F1296,Labels!$A:$B,2,FALSE)","v":"Preventing pollution of rivers or streams from sewage pipes"}]
[87,6,{"$f":"VLOOKUP('Design #'!C1297,Labels!$A:$B,2,FALSE)","v":"Reducing the release of untreated sewage mixed with rain water into rivers and streams during times of heavy rainfall"},{"$f":"VLOOKUP('Design #'!D1297,Labels!$A:$B,2,FALSE)","v":"Ensuring that land owned by Yorkshire Water is conserved or enhanced to improve quality of the water it collects and reduce flooding"},{"$f":"VLOOKUP('Design #'!E1297,Labels!$A:$B,2,FALSE)","v":"Treating waste water to a high standard to ensure good quality water in Yorkshire's rivers and beaches"},{"$f":"VLOOKUP('Design #'!F1297,Labels!$A:$B,2,FALSE)","v":"Supporting customers to reduce their water use and prevent blockages through education and provision of free tools/devices"}]
[87,7,{"$f":"VLOOKUP('Design #'!C1298,Labels!$A:$B,2,FALSE)","v":"Treating waste water to a high standard to ensure good quality water in Yorkshire's rivers and beaches"},{"$f":"VLOOKUP('Design #'!D1298,Labels!$A:$B,2,FALSE)","v":"Reduce and offset carbon emissions to achieve a 'net zero' position by 2030 "},{"$f":"VLOOKUP('Design #'!E1298,Labels!$A:$B,2,FALSE)","v":"Preventing the likelihood of restrictions on water use, including hosepipe bans, in a drought"},{"$f":"VLOOKUP('Design #'!F1298,Labels!$A:$B,2,FALSE)","v":"Preventing leaks from Yorkshire Water's pipe network"}]
[87,8,{"$f":"VLOOKUP('Design #'!C1299,Labels!$A:$B,2,FALSE)","v":"Providing a high level of customer service (e.g. resolving queries quickly)"},{"$f":"VLOOKUP('Design #'!D1299,Labels!$A:$B,2,FALSE)","v":"Supporting customers to reduce their water use and prevent blockages through education and provision of free tools/devices"},{"$f":"VLOOKUP('Design #'!E1299,Labels!$A:$B,2,FALSE)","v":"Preventing the likelihood of restrictions on water use, including hosepipe bans, in a drought"},{"$f":"VLOOKUP('Design #'!F1299,Labels!$A:$B,2,FALSE)","v":"Providing appropriate sewer capacity and pumping capabilities to cope with widespread flood events"}]
[87,9,{"$f":"VLOOKUP('Design #'!C1300,Labels!$A:$B,2,FALSE)","v":"Ensuring additional support is available to those who need it e.g.  providing bills in braille, providing bottled water during times of interruptions for thos​e who can't get to a shop (elderly, medical conditions etc.)"},{"$f":"VLOOKUP('Design #'!D1300,Labels!$A:$B,2,FALSE)","v":"Providing water that is aesthetically pleasing (clear and clean with no odour or unusual taste or colour)"},{"$f":"VLOOKUP('Design #'!E1300,Labels!$A:$B,2,FALSE)","v":"Providing appropriate sewer capacity and pumping capabilities to cope with widespread flood events"},{"$f":"VLOOKUP('Design #'!F1300,Labels!$A:$B,2,FALSE)","v":"Keeping bills affordable for all"}]
[87,10,{"$f":"VLOOKUP('Design #'!C1301,Labels!$A:$B,2,FALSE)","v":"Preventing sewage entering gardens and public spaces from pipe collapses or blockages"},{"$f":"VLOOKUP('Design #'!D1301,Labels!$A:$B,2,FALSE)","v":"Ensuring additional support is available to those who need it e.g.  providing bills in braille, providing bottled water during times of interruptions for thos​e who can't get to a shop (elderly, medical conditions etc.)"},{"$f":"VLOOKUP('Design #'!E1301,Labels!$A:$B,2,FALSE)","v":"Reduce and offset carbon emissions to achieve a 'net zero' position by 2030 "},{"$f":"VLOOKUP('Design #'!F1301,Labels!$A:$B,2,FALSE)","v":"Providing water that is aesthetically pleasing (clear and clean with no odour or unusual taste or colour)"}]
[87,11,{"$f":"VLOOKUP('Design #'!C1302,Labels!$A:$B,2,FALSE)","v":"Preventing leaks from Yorkshire Water's pipe network"},{"$f":"VLOOKUP('Design #'!D1302,Labels!$A:$B,2,FALSE)","v":"Working with other organisations on common challenges (e.g. flooding) to share costs and expertise allowing for more and smarter investment to tackle problems"},{"$f":"VLOOKUP('Design #'!E1302,Labels!$A:$B,2,FALSE)","v":"Providing appropriate sewer capacity and pumping capabilities to cope with widespread flood events"},{"$f":"VLOOKUP('Design #'!F1302,Labels!$A:$B,2,FALSE)","v":"Providing financial help and support to those who are struggling to pay their water bill"}]
[87,12,{"$f":"VLOOKUP('Design #'!C1303,Labels!$A:$B,2,FALSE)","v":"Preventing sewage from entering homes and businesses "},{"$f":"VLOOKUP('Design #'!D1303,Labels!$A:$B,2,FALSE)","v":"Preventing pollution of rivers or streams from sewage pipes"},{"$f":"VLOOKUP('Design #'!E1303,Labels!$A:$B,2,FALSE)","v":"Keeping bills affordable for all"},{"$f":"VLOOKUP('Design #'!F1303,Labels!$A:$B,2,FALSE)","v":"Preventing the likelihood of restrictions on water use, including hosepipe bans, in a drought"}]
[87,13,{"$f":"VLOOKUP('Design #'!C1304,Labels!$A:$B,2,FALSE)","v":"Preventing interruptions to the supply of water (e.g. planned works, burst pipes, leaks and outages) that cause problems ranging from low pressure to no water"},{"$f":"VLOOKUP('Design #'!D1304,Labels!$A:$B,2,FALSE)","v":"Treating waste water to a high standard to ensure good quality water in Yorkshire's rivers and beaches"},{"$f":"VLOOKUP('Design #'!E1304,Labels!$A:$B,2,FALSE)","v":"Preventing leaks from Yorkshire Water's pipe network"},{"$f":"VLOOKUP('Design #'!F1304,Labels!$A:$B,2,FALSE)","v":"Preventing sewage from entering homes and businesses "}]
[87,14,{"$f":"VLOOKUP('Design #'!C1305,Labels!$A:$B,2,FALSE)","v":"Providing financial help and support to those who are struggling to pay their water bill"},{"$f":"VLOOKUP('Design #'!D1305,Labels!$A:$B,2,FALSE)","v":"Preventing sewage entering gardens and public spaces from pipe collapses or blockages"},{"$f":"VLOOKUP('Design #'!E1305,Labels!$A:$B,2,FALSE)","v":"Reduce and offset carbon emissions to achieve a 'net zero' position by 2030 "},{"$f":"VLOOKUP('Design #'!F1305,Labels!$A:$B,2,FALSE)","v":"Preventing interruptions to the supply of water (e.g. planned works, burst pipes, leaks and outages) that cause problems ranging from low pressure to no water"}]
[87,15,{"$f":"VLOOKUP('Design #'!C1306,Labels!$A:$B,2,FALSE)","v":"Providing good and constant water pressure"},{"$f":"VLOOKUP('Design #'!D1306,Labels!$A:$B,2,FALSE)","v":"Working with other organisations on common challenges (e.g. flooding) to share costs and expertise allowing for more and smarter investment to tackle problems"},{"$f":"VLOOKUP('Design #'!E1306,Labels!$A:$B,2,FALSE)","v":"Preventing sewage entering gardens and public spaces from pipe collapses or blockages"},{"$f":"VLOOKUP('Design #'!F1306,Labels!$A:$B,2,FALSE)","v":"Providing a high level of customer service (e.g. resolving queries quickly)"}]
[88,1,{"$f":"VLOOKUP('Design #'!C1307,Labels!$A:$B,2,FALSE)","v":"Ensuring that land owned by Yorkshire Water is conserved or enhanced to improve quality of the water it collects and reduce flooding"},{"$f":"VLOOKUP('Design #'!D1307,Labels!$A:$B,2,FALSE)","v":"Reduce and offset carbon emissions to achieve a 'net zero' position by 2030 "},{"$f":"VLOOKUP('Design #'!E1307,Labels!$A:$B,2,FALSE)","v":"Providing financial help and support to those who are struggling to pay their water bill"},{"$f":"VLOOKUP('Design #'!F1307,Labels!$A:$B,2,FALSE)","v":"Reducing the release of untreated sewage mixed with rain water into rivers and streams during times of heavy rainfall"}]
[88,2,{"$f":"VLOOKUP('Design #'!C1308,Labels!$A:$B,2,FALSE)","v":"Supporting customers to reduce their water use and prevent blockages through education and provision of free tools/devices"},{"$f":"VLOOKUP('Design #'!D1308,Labels!$A:$B,2,FALSE)","v":"Preventing interruptions to the supply of water (e.g. planned works, burst pipes, leaks and outages) that cause problems ranging from low pressure to no water"},{"$f":"VLOOKUP('Design #'!E1308,Labels!$A:$B,2,FALSE)","v":"Working with other organisations on common challenges (e.g. flooding) to share costs and expertise allowing for more and smarter investment to tackle problems"},{"$f":"VLOOKUP('Design #'!F1308,Labels!$A:$B,2,FALSE)","v":"Reducing the release of untreated sewage mixed with rain water into rivers and streams during times of heavy rainfall"}]
[88,3,{"$f":"VLOOKUP('Design #'!C1309,Labels!$A:$B,2,FALSE)","v":"Preventing pollution of rivers or streams from sewage pipes"},{"$f":"VLOOKUP('Design #'!D1309,Labels!$A:$B,2,FALSE)","v":"Keeping bills affordable for all"},{"$f":"VLOOKUP('Design #'!E1309,Labels!$A:$B,2,FALSE)","v":"Providing a continuous supply of water that is safe to drink"},{"$f":"VLOOKUP('Design #'!F1309,Labels!$A:$B,2,FALSE)","v":"Reduce and offset carbon emissions to achieve a 'net zero' position by 2030 "}]
[88,4,{"$f":"VLOOKUP('Design #'!C1310,Labels!$A:$B,2,FALSE)","v":"Providing a high level of customer service (e.g. resolving queries quickly)"},{"$f":"VLOOKUP('Design #'!D1310,Labels!$A:$B,2,FALSE)","v":"Providing financial help and support to those who are struggling to pay their water bill"},{"$f":"VLOOKUP('Design #'!E1310,Labels!$A:$B,2,FALSE)","v":"Treating waste water to a high standard to ensure good quality water in Yorkshire's rivers and beaches"},{"$f":"VLOOKUP('Design #'!F1310,Labels!$A:$B,2,FALSE)","v":"Ensuring additional support is available to those who need it e.g.  providing bills in braille, providing bottled water during times of interruptions for thos​e who can't get to a shop (elderly, medical conditions etc.)"}]
[88,5,{"$f":"VLOOKUP('Design #'!C1311,Labels!$A:$B,2,FALSE)","v":"Preventing pollution of rivers or streams from sewage pipes"},{"$f":"VLOOKUP('Design #'!D1311,Labels!$A:$B,2,FALSE)","v":"Preventing leaks from Yorkshire Water's pipe network"},{"$f":"VLOOKUP('Design #'!E1311,Labels!$A:$B,2,FALSE)","v":"Supporting customers to reduce their water use and prevent blockages through education and provision of free tools/devices"},{"$f":"VLOOKUP('Design #'!F1311,Labels!$A:$B,2,FALSE)","v":"Providing water that is aesthetically pleasing (clear and clean with no odour or unusual taste or colour)"}]
[88,6,{"$f":"VLOOKUP('Design #'!C1312,Labels!$A:$B,2,FALSE)","v":"Providing appropriate sewer capacity and pumping capabilities to cope with widespread flood events"},{"$f":"VLOOKUP('Design #'!D1312,Labels!$A:$B,2,FALSE)","v":"Preventing the likelihood of restrictions on water use, including hosepipe bans, in a drought"},{"$f":"VLOOKUP('Design #'!E1312,Labels!$A:$B,2,FALSE)","v":"Preventing sewage entering gardens and public spaces from pipe collapses or blockages"},{"$f":"VLOOKUP('Design #'!F1312,Labels!$A:$B,2,FALSE)","v":"Ensuring that land owned by Yorkshire Water is conserved or enhanced to improve quality of the water it collects and reduce flooding"}]
[88,7,{"$f":"VLOOKUP('Design #'!C1313,Labels!$A:$B,2,FALSE)","v":"Keeping bills affordable for all"},{"$f":"VLOOKUP('Design #'!D1313,Labels!$A:$B,2,FALSE)","v":"Providing a high level of customer service (e.g. resolving queries quickly)"},{"$f":"VLOOKUP('Design #'!E1313,Labels!$A:$B,2,FALSE)","v":"Ensuring that land owned by Yorkshire Water is conserved or enhanced to improve quality of the water it collects and reduce flooding"},{"$f":"VLOOKUP('Design #'!F1313,Labels!$A:$B,2,FALSE)","v":"Preventing interruptions to the supply of water (e.g. planned works, burst pipes, leaks and outages) that cause problems ranging from low pressure to no water"}]
[88,8,{"$f":"VLOOKUP('Design #'!C1314,Labels!$A:$B,2,FALSE)","v":"Providing a continuous supply of water that is safe to drink"},{"$f":"VLOOKUP('Design #'!D1314,Labels!$A:$B,2,FALSE)","v":"Providing appropriate sewer capacity and pumping capabilities to cope with widespread flood events"},{"$f":"VLOOKUP('Design #'!E1314,Labels!$A:$B,2,FALSE)","v":"Preventing interruptions to the supply of water (e.g. planned works, burst pipes, leaks and outages) that cause problems ranging from low pressure to no water"},{"$f":"VLOOKUP('Design #'!F1314,Labels!$A:$B,2,FALSE)","v":"Treating waste water to a high standard to ensure good quality water in Yorkshire's rivers and beaches"}]
[88,9,{"$f":"VLOOKUP('Design #'!C1315,Labels!$A:$B,2,FALSE)","v":"Preventing the likelihood of restrictions on water use, including hosepipe bans, in a drought"},{"$f":"VLOOKUP('Design #'!D1315,Labels!$A:$B,2,FALSE)","v":"Providing good and constant water pressure"},{"$f":"VLOOKUP('Design #'!E1315,Labels!$A:$B,2,FALSE)","v":"Working with other organisations on common challenges (e.g. flooding) to share costs and expertise allowing for more and smarter investment to tackle problems"},{"$f":"VLOOKUP('Design #'!F1315,Labels!$A:$B,2,FALSE)","v":"Keeping bills affordable for all"}]
[88,10,{"$f":"VLOOKUP('Design #'!C1316,Labels!$A:$B,2,FALSE)","v":"Preventing leaks from Yorkshire Water's pipe network"},{"$f":"VLOOKUP('Design #'!D1316,Labels!$A:$B,2,FALSE)","v":"Providing a continuous supply of water that is safe to drink"},{"$f":"VLOOKUP('Design #'!E1316,Labels!$A:$B,2,FALSE)","v":"Providing good and constant water pressure"},{"$f":"VLOOKUP('Design #'!F1316,Labels!$A:$B,2,FALSE)","v":"Preventing pollution of rivers or streams from sewage pipes"}]
[88,11,{"$f":"VLOOKUP('Design #'!C1317,Labels!$A:$B,2,FALSE)","v":"Providing financial help and support to those who are struggling to pay their water bill"},{"$f":"VLOOKUP('Design #'!D1317,Labels!$A:$B,2,FALSE)","v":"Preventing sewage from entering homes and businesses "},{"$f":"VLOOKUP('Design #'!E1317,Labels!$A:$B,2,FALSE)","v":"Providing water that is aesthetically pleasing (clear and clean with no odour or unusual taste or colour)"},{"$f":"VLOOKUP('Design #'!F1317,Labels!$A:$B,2,FALSE)","v":"Providing good and constant water pressure"}]
[88,12,{"$f":"VLOOKUP('Design #'!C1318,Labels!$A:$B,2,FALSE)","v":"Preventing the likelihood of restrictions on water use, including hosepipe bans, in a drought"},{"$f":"VLOOKUP('Design #'!D1318,Labels!$A:$B,2,FALSE)","v":"Supporting customers to reduce their water use and prevent blockages through education and provision of free tools/devices"},{"$f":"VLOOKUP('Design #'!E1318,Labels!$A:$B,2,FALSE)","v":"Preventing sewage entering gardens and public spaces from pipe collapses or blockages"},{"$f":"VLOOKUP('Design #'!F1318,Labels!$A:$B,2,FALSE)","v":"Providing financial help and support to those who are struggling to pay their water bill"}]
[88,13,{"$f":"VLOOKUP('Design #'!C1319,Labels!$A:$B,2,FALSE)","v":"Preventing sewage from entering homes and businesses "},{"$f":"VLOOKUP('Design #'!D1319,Labels!$A:$B,2,FALSE)","v":"Preventing pollution of rivers or streams from sewage pipes"},{"$f":"VLOOKUP('Design #'!E1319,Labels!$A:$B,2,FALSE)","v":"Providing a high level of customer service (e.g. resolving queries quickly)"},{"$f":"VLOOKUP('Design #'!F1319,Labels!$A:$B,2,FALSE)","v":"Preventing sewage entering gardens and public spaces from pipe collapses or blockages"}]
[88,14,{"$f":"VLOOKUP('Design #'!C1320,Labels!$A:$B,2,FALSE)","v":"Reducing the release of untreated sewage mixed with rain water into rivers and streams during times of heavy rainfall"},{"$f":"VLOOKUP('Design #'!D1320,Labels!$A:$B,2,FALSE)","v":"Treating waste water to a high standard to ensure good quality water in Yorkshire's rivers and beaches"},{"$f":"VLOOKUP('Design #'!E1320,Labels!$A:$B,2,FALSE)","v":"Working with other organisations on common challenges (e.g. flooding) to share costs and expertise allowing for more and smarter investment to tackle problems"},{"$f":"VLOOKUP('Design #'!F1320,Labels!$A:$B,2,FALSE)","v":"Preventing sewage from entering homes and businesses "}]
[88,15,{"$f":"VLOOKUP('Design #'!C1321,Labels!$A:$B,2,FALSE)","v":"Providing water that is aesthetically pleasing (clear and clean with no odour or unusual taste or colour)"},{"$f":"VLOOKUP('Design #'!D1321,Labels!$A:$B,2,FALSE)","v":"Reducing the release of untreated sewage mixed with rain water into rivers and streams during times of heavy rainfall"},{"$f":"VLOOKUP('Design #'!E1321,Labels!$A:$B,2,FALSE)","v":"Ensuring additional support is available to those who need it e.g.  providing bills in braille, providing bottled water during times of interruptions for thos​e who can't get to a shop (elderly, medical conditions etc.)"},{"$f":"VLOOKUP('Design #'!F1321,Labels!$A:$B,2,FALSE)","v":"Providing a continuous supply of water that is safe to drink"}]
[89,1,{"$f":"VLOOKUP('Design #'!C1322,Labels!$A:$B,2,FALSE)","v":"Ensuring additional support is available to those who need it e.g.  providing bills in braille, providing bottled water during times of interruptions for thos​e who can't get to a shop (elderly, medical conditions etc.)"},{"$f":"VLOOKUP('Design #'!D1322,Labels!$A:$B,2,FALSE)","v":"Preventing interruptions to the supply of water (e.g. planned works, burst pipes, leaks and outages) that cause problems ranging from low pressure to no water"},{"$f":"VLOOKUP('Design #'!E1322,Labels!$A:$B,2,FALSE)","v":"Providing good and constant water pressure"},{"$f":"VLOOKUP('Design #'!F1322,Labels!$A:$B,2,FALSE)","v":"Supporting customers to reduce their water use and prevent blockages through education and provision of free tools/devices"}]
[89,2,{"$f":"VLOOKUP('Design #'!C1323,Labels!$A:$B,2,FALSE)","v":"Preventing leaks from Yorkshire Water's pipe network"},{"$f":"VLOOKUP('Design #'!D1323,Labels!$A:$B,2,FALSE)","v":"Preventing sewage entering gardens and public spaces from pipe collapses or blockages"},{"$f":"VLOOKUP('Design #'!E1323,Labels!$A:$B,2,FALSE)","v":"Reducing the release of untreated sewage mixed with rain water into rivers and streams during times of heavy rainfall"},{"$f":"VLOOKUP('Design #'!F1323,Labels!$A:$B,2,FALSE)","v":"Keeping bills affordable for all"}]
[89,3,{"$f":"VLOOKUP('Design #'!C1324,Labels!$A:$B,2,FALSE)","v":"Preventing interruptions to the supply of water (e.g. planned works, burst pipes, leaks and outages) that cause problems ranging from low pressure to no water"},{"$f":"VLOOKUP('Design #'!D1324,Labels!$A:$B,2,FALSE)","v":"Preventing sewage entering gardens and public spaces from pipe collapses or blockages"},{"$f":"VLOOKUP('Design #'!E1324,Labels!$A:$B,2,FALSE)","v":"Preventing pollution of rivers or streams from sewage pipes"},{"$f":"VLOOKUP('Design #'!F1324,Labels!$A:$B,2,FALSE)","v":"Providing financial help and support to those who are struggling to pay their water bill"}]
[89,4,{"$f":"VLOOKUP('Design #'!C1325,Labels!$A:$B,2,FALSE)","v":"Preventing pollution of rivers or streams from sewage pipes"},{"$f":"VLOOKUP('Design #'!D1325,Labels!$A:$B,2,FALSE)","v":"Reducing the release of untreated sewage mixed with rain water into rivers and streams during times of heavy rainfall"},{"$f":"VLOOKUP('Design #'!E1325,Labels!$A:$B,2,FALSE)","v":"Treating waste water to a high standard to ensure good quality water in Yorkshire's rivers and beaches"},{"$f":"VLOOKUP('Design #'!F1325,Labels!$A:$B,2,FALSE)","v":"Providing good and constant water pressure"}]
[89,5,{"$f":"VLOOKUP('Design #'!C1326,Labels!$A:$B,2,FALSE)","v":"Keeping bills affordable for all"},{"$f":"VLOOKUP('Design #'!D1326,Labels!$A:$B,2,FALSE)","v":"Providing financial help and support to those who are struggling to pay their water bill"},{"$f":"VLOOKUP('Design #'!E1326,Labels!$A:$B,2,FALSE)","v":"Preventing leaks from Yorkshire Water's pipe network"},{"$f":"VLOOKUP('Design #'!F1326,Labels!$A:$B,2,FALSE)","v":"Providing appropriate sewer capacity and pumping capabilities to cope with widespread flood events"}]
[89,6,{"$f":"VLOOKUP('Design #'!C1327,Labels!$A:$B,2,FALSE)","v":"Treating waste water to a high standard to ensure good quality water in Yorkshire's rivers and beaches"},{"$f":"VLOOKUP('Design #'!D1327,Labels!$A:$B,2,FALSE)","v":"Preventing pollution of rivers or streams from sewage pipes"},{"$f":"VLOOKUP('Design #'!E1327,Labels!$A:$B,2,FALSE)","v":"Providing water that is aesthetically pleasing (clear and clean with no odour or unusual taste or colour)"},{"$f":"VLOOKUP('Design #'!F1327,Labels!$A:$B,2,FALSE)","v":"Providing appropriate sewer capacity and pumping capabilities to cope with widespread flood events"}]
[89,7,{"$f":"VLOOKUP('Design #'!C1328,Labels!$A:$B,2,FALSE)","v":"Preventing sewage entering gardens and public spaces from pipe collapses or blockages"},{"$f":"VLOOKUP('Design #'!D1328,Labels!$A:$B,2,FALSE)","v":"Preventing sewage from entering homes and businesses "},{"$f":"VLOOKUP('Design #'!E1328,Labels!$A:$B,2,FALSE)","v":"Preventing interruptions to the supply of water (e.g. planned works, burst pipes, leaks and outages) that cause problems ranging from low pressure to no water"},{"$f":"VLOOKUP('Design #'!F1328,Labels!$A:$B,2,FALSE)","v":"Preventing the likelihood of restrictions on water use, including hosepipe bans, in a drought"}]
[89,8,{"$f":"VLOOKUP('Design #'!C1329,Labels!$A:$B,2,FALSE)","v":"Providing water that is aesthetically pleasing (clear and clean with no odour or unusual taste or colour)"},{"$f":"VLOOKUP('Design #'!D1329,Labels!$A:$B,2,FALSE)","v":"Preventing leaks from Yorkshire Water's pipe network"},{"$f":"VLOOKUP('Design #'!E1329,Labels!$A:$B,2,FALSE)","v":"Ensuring additional support is available to those who need it e.g.  providing bills in braille, providing bottled water during times of interruptions for thos​e who can't get to a shop (elderly, medical conditions etc.)"},{"$f":"VLOOKUP('Design #'!F1329,Labels!$A:$B,2,FALSE)","v":"Ensuring that land owned by Yorkshire Water is conserved or enhanced to improve quality of the water it collects and reduce flooding"}]
[89,9,{"$f":"VLOOKUP('Design #'!C1330,Labels!$A:$B,2,FALSE)","v":"Working with other organisations on common challenges (e.g. flooding) to share costs and expertise allowing for more and smarter investment to tackle problems"},{"$f":"VLOOKUP('Design #'!D1330,Labels!$A:$B,2,FALSE)","v":"Reduce and offset carbon emissions to achieve a 'net zero' position by 2030 "},{"$f":"VLOOKUP('Design #'!E1330,Labels!$A:$B,2,FALSE)","v":"Preventing leaks from Yorkshire Water's pipe network"},{"$f":"VLOOKUP('Design #'!F1330,Labels!$A:$B,2,FALSE)","v":"Providing a high level of customer service (e.g. resolving queries quickly)"}]
[89,10,{"$f":"VLOOKUP('Design #'!C1331,Labels!$A:$B,2,FALSE)","v":"Supporting customers to reduce their water use and prevent blockages through education and provision of free tools/devices"},{"$f":"VLOOKUP('Design #'!D1331,Labels!$A:$B,2,FALSE)","v":"Providing a continuous supply of water that is safe to drink"},{"$f":"VLOOKUP('Design #'!E1331,Labels!$A:$B,2,FALSE)","v":"Providing a high level of customer service (e.g. resolving queries quickly)"},{"$f":"VLOOKUP('Design #'!F1331,Labels!$A:$B,2,FALSE)","v":"Preventing sewage entering gardens and public spaces from pipe collapses or blockages"}]
[89,11,{"$f":"VLOOKUP('Design #'!C1332,Labels!$A:$B,2,FALSE)","v":"Preventing sewage from entering homes and businesses "},{"$f":"VLOOKUP('Design #'!D1332,Labels!$A:$B,2,FALSE)","v":"Keeping bills affordable for all"},{"$f":"VLOOKUP('Design #'!E1332,Labels!$A:$B,2,FALSE)","v":"Supporting customers to reduce their water use and prevent blockages through education and provision of free tools/devices"},{"$f":"VLOOKUP('Design #'!F1332,Labels!$A:$B,2,FALSE)","v":"Reduce and offset carbon emissions to achieve a 'net zero' position by 2030 "}]
[89,12,{"$f":"VLOOKUP('Design #'!C1333,Labels!$A:$B,2,FALSE)","v":"Providing a continuous supply of water that is safe to drink"},{"$f":"VLOOKUP('Design #'!D1333,Labels!$A:$B,2,FALSE)","v":"Preventing the likelihood of restrictions on water use, including hosepipe bans, in a drought"},{"$f":"VLOOKUP('Design #'!E1333,Labels!$A:$B,2,FALSE)","v":"Preventing sewage from entering homes and businesses "},{"$f":"VLOOKUP('Design #'!F1333,Labels!$A:$B,2,FALSE)","v":"Ensuring that land owned by Yorkshire Water is conserved or enhanced to improve quality of the water it collects and reduce flooding"}]
[89,13,{"$f":"VLOOKUP('Design #'!C1334,Labels!$A:$B,2,FALSE)","v":"Working with other organisations on common challenges (e.g. flooding) to share costs and expertise allowing for more and smarter investment to tackle problems"},{"$f":"VLOOKUP('Design #'!D1334,Labels!$A:$B,2,FALSE)","v":"Providing good and constant water pressure"},{"$f":"VLOOKUP('Design #'!E1334,Labels!$A:$B,2,FALSE)","v":"Providing a continuous supply of water that is safe to drink"},{"$f":"VLOOKUP('Design #'!F1334,Labels!$A:$B,2,FALSE)","v":"Providing appropriate sewer capacity and pumping capabilities to cope with widespread flood events"}]
[89,14,{"$f":"VLOOKUP('Design #'!C1335,Labels!$A:$B,2,FALSE)","v":"Ensuring additional support is available to those who need it e.g.  providing bills in braille, providing bottled water during times of interruptions for thos​e who can't get to a shop (elderly, medical conditions etc.)"},{"$f":"VLOOKUP('Design #'!D1335,Labels!$A:$B,2,FALSE)","v":"Working with other organisations on common challenges (e.g. flooding) to share costs and expertise allowing for more and smarter investment to tackle problems"},{"$f":"VLOOKUP('Design #'!E1335,Labels!$A:$B,2,FALSE)","v":"Reducing the release of untreated sewage mixed with rain water into rivers and streams during times of heavy rainfall"},{"$f":"VLOOKUP('Design #'!F1335,Labels!$A:$B,2,FALSE)","v":"Providing water that is aesthetically pleasing (clear and clean with no odour or unusual taste or colour)"}]
[89,15,{"$f":"VLOOKUP('Design #'!C1336,Labels!$A:$B,2,FALSE)","v":"Providing appropriate sewer capacity and pumping capabilities to cope with widespread flood events"},{"$f":"VLOOKUP('Design #'!D1336,Labels!$A:$B,2,FALSE)","v":"Reducing the release of untreated sewage mixed with rain water into rivers and streams during times of heavy rainfall"},{"$f":"VLOOKUP('Design #'!E1336,Labels!$A:$B,2,FALSE)","v":"Preventing the likelihood of restrictions on water use, including hosepipe bans, in a drought"},{"$f":"VLOOKUP('Design #'!F1336,Labels!$A:$B,2,FALSE)","v":"Providing a high level of customer service (e.g. resolving queries quickly)"}]
[90,1,{"$f":"VLOOKUP('Design #'!C1337,Labels!$A:$B,2,FALSE)","v":"Providing a high level of customer service (e.g. resolving queries quickly)"},{"$f":"VLOOKUP('Design #'!D1337,Labels!$A:$B,2,FALSE)","v":"Providing water that is aesthetically pleasing (clear and clean with no odour or unusual taste or colour)"},{"$f":"VLOOKUP('Design #'!E1337,Labels!$A:$B,2,FALSE)","v":"Preventing the likelihood of restrictions on water use, including hosepipe bans, in a drought"},{"$f":"VLOOKUP('Design #'!F1337,Labels!$A:$B,2,FALSE)","v":"Preventing leaks from Yorkshire Water's pipe network"}]
[90,2,{"$f":"VLOOKUP('Design #'!C1338,Labels!$A:$B,2,FALSE)","v":"Ensuring that land owned by Yorkshire Water is conserved or enhanced to improve quality of the water it collects and reduce flooding"},{"$f":"VLOOKUP('Design #'!D1338,Labels!$A:$B,2,FALSE)","v":"Preventing the likelihood of restrictions on water use, including hosepipe bans, in a drought"},{"$f":"VLOOKUP('Design #'!E1338,Labels!$A:$B,2,FALSE)","v":"Keeping bills affordable for all"},{"$f":"VLOOKUP('Design #'!F1338,Labels!$A:$B,2,FALSE)","v":"Supporting customers to reduce their water use and prevent blockages through education and provision of free tools/devices"}]
[90,3,{"$f":"VLOOKUP('Design #'!C1339,Labels!$A:$B,2,FALSE)","v":"Providing a high level of customer service (e.g. resolving queries quickly)"},{"$f":"VLOOKUP('Design #'!D1339,Labels!$A:$B,2,FALSE)","v":"Ensuring that land owned by Yorkshire Water is conserved or enhanced to improve quality of the water it collects and reduce flooding"},{"$f":"VLOOKUP('Design #'!E1339,Labels!$A:$B,2,FALSE)","v":"Preventing sewage entering gardens and public spaces from pipe collapses or blockages"},{"$f":"VLOOKUP('Design #'!F1339,Labels!$A:$B,2,FALSE)","v":"Treating waste water to a high standard to ensure good quality water in Yorkshire's rivers and beaches"}]
[90,4,{"$f":"VLOOKUP('Design #'!C1340,Labels!$A:$B,2,FALSE)","v":"Preventing pollution of rivers or streams from sewage pipes"},{"$f":"VLOOKUP('Design #'!D1340,Labels!$A:$B,2,FALSE)","v":"Keeping bills affordable for all"},{"$f":"VLOOKUP('Design #'!E1340,Labels!$A:$B,2,FALSE)","v":"Providing financial help and support to those who are struggling to pay their water bill"},{"$f":"VLOOKUP('Design #'!F1340,Labels!$A:$B,2,FALSE)","v":"Working with other organisations on common challenges (e.g. flooding) to share costs and expertise allowing for more and smarter investment to tackle problems"}]
[90,5,{"$f":"VLOOKUP('Design #'!C1341,Labels!$A:$B,2,FALSE)","v":"Working with other organisations on common challenges (e.g. flooding) to share costs and expertise allowing for more and smarter investment to tackle problems"},{"$f":"VLOOKUP('Design #'!D1341,Labels!$A:$B,2,FALSE)","v":"Providing appropriate sewer capacity and pumping capabilities to cope with widespread flood events"},{"$f":"VLOOKUP('Design #'!E1341,Labels!$A:$B,2,FALSE)","v":"Preventing pollution of rivers or streams from sewage pipes"},{"$f":"VLOOKUP('Design #'!F1341,Labels!$A:$B,2,FALSE)","v":"Preventing sewage from entering homes and businesses "}]
[90,6,{"$f":"VLOOKUP('Design #'!C1342,Labels!$A:$B,2,FALSE)","v":"Preventing the likelihood of restrictions on water use, including hosepipe bans, in a drought"},{"$f":"VLOOKUP('Design #'!D1342,Labels!$A:$B,2,FALSE)","v":"Preventing leaks from Yorkshire Water's pipe network"},{"$f":"VLOOKUP('Design #'!E1342,Labels!$A:$B,2,FALSE)","v":"Preventing pollution of rivers or streams from sewage pipes"},{"$f":"VLOOKUP('Design #'!F1342,Labels!$A:$B,2,FALSE)","v":"Preventing interruptions to the supply of water (e.g. planned works, burst pipes, leaks and outages) that cause problems ranging from low pressure to no water"}]
[90,7,{"$f":"VLOOKUP('Design #'!C1343,Labels!$A:$B,2,FALSE)","v":"Treating waste water to a high standard to ensure good quality water in Yorkshire's rivers and beaches"},{"$f":"VLOOKUP('Design #'!D1343,Labels!$A:$B,2,FALSE)","v":"Ensuring additional support is available to those who need it e.g.  providing bills in braille, providing bottled water during times of interruptions for thos​e who can't get to a shop (elderly, medical conditions etc.)"},{"$f":"VLOOKUP('Design #'!E1343,Labels!$A:$B,2,FALSE)","v":"Preventing interruptions to the supply of water (e.g. planned works, burst pipes, leaks and outages) that cause problems ranging from low pressure to no water"},{"$f":"VLOOKUP('Design #'!F1343,Labels!$A:$B,2,FALSE)","v":"Preventing sewage from entering homes and businesses "}]
[90,8,{"$f":"VLOOKUP('Design #'!C1344,Labels!$A:$B,2,FALSE)","v":"Preventing sewage entering gardens and public spaces from pipe collapses or blockages"},{"$f":"VLOOKUP('Design #'!D1344,Labels!$A:$B,2,FALSE)","v":"Treating waste water to a high standard to ensure good quality water in Yorkshire's rivers and beaches"},{"$f":"VLOOKUP('Design #'!E1344,Labels!$A:$B,2,FALSE)","v":"Supporting customers to reduce their water use and prevent blockages through education and provision of free tools/devices"},{"$f":"VLOOKUP('Design #'!F1344,Labels!$A:$B,2,FALSE)","v":"Providing water that is aesthetically pleasing (clear and clean with no odour or unusual taste or colour)"}]
[90,9,{"$f":"VLOOKUP('Design #'!C1345,Labels!$A:$B,2,FALSE)","v":"Reducing the release of untreated sewage mixed with rain water into rivers and streams during times of heavy rainfall"},{"$f":"VLOOKUP('Design #'!D1345,Labels!$A:$B,2,FALSE)","v":"Providing a continuous supply of water that is safe to drink"},{"$f":"VLOOKUP('Design #'!E1345,Labels!$A:$B,2,FALSE)","v":"Keeping bills affordable for all"},{"$f":"VLOOKUP('Design #'!F1345,Labels!$A:$B,2,FALSE)","v":"Ensuring additional support is available to those who need it e.g.  providing bills in braille, providing bottled water during times of interruptions for thos​e who can't get to a shop (elderly, medical conditions etc.)"}]
[90,10,{"$f":"VLOOKUP('Design #'!C1346,Labels!$A:$B,2,FALSE)","v":"Reduce and offset carbon emissions to achieve a 'net zero' position by 2030 "},{"$f":"VLOOKUP('Design #'!D1346,Labels!$A:$B,2,FALSE)","v":"Preventing pollution of rivers or streams from sewage pipes"},{"$f":"VLOOKUP('Design #'!E1346,Labels!$A:$B,2,FALSE)","v":"Ensuring that land owned by Yorkshire Water is conserved or enhanced to improve quality of the water it collects and reduce flooding"},{"$f":"VLOOKUP('Design #'!F1346,Labels!$A:$B,2,FALSE)","v":"Treating waste water to a high standard to ensure good quality water in Yorkshire's rivers and beaches"}]
[90,11,{"$f":"VLOOKUP('Design #'!C1347,Labels!$A:$B,2,FALSE)","v":"Preventing leaks from Yorkshire Water's pipe network"},{"$f":"VLOOKUP('Design #'!D1347,Labels!$A:$B,2,FALSE)","v":"Working with other organisations on common challenges (e.g. flooding) to share costs and expertise allowing for more and smarter investment to tackle problems"},{"$f":"VLOOKUP('Design #'!E1347,Labels!$A:$B,2,FALSE)","v":"Reduce and offset carbon emissions to achieve a 'net zero' position by 2030 "},{"$f":"VLOOKUP('Design #'!F1347,Labels!$A:$B,2,FALSE)","v":"Providing a continuous supply of water that is safe to drink"}]
[90,12,{"$f":"VLOOKUP('Design #'!C1348,Labels!$A:$B,2,FALSE)","v":"Reducing the release of untreated sewage mixed with rain water into rivers and streams during times of heavy rainfall"},{"$f":"VLOOKUP('Design #'!D1348,Labels!$A:$B,2,FALSE)","v":"Providing good and constant water pressure"},{"$f":"VLOOKUP('Design #'!E1348,Labels!$A:$B,2,FALSE)","v":"Ensuring that land owned by Yorkshire Water is conserved or enhanced to improve quality of the water it collects and reduce flooding"},{"$f":"VLOOKUP('Design #'!F1348,Labels!$A:$B,2,FALSE)","v":"Preventing interruptions to the supply of water (e.g. planned works, burst pipes, leaks and outages) that cause problems ranging from low pressure to no water"}]
[90,13,{"$f":"VLOOKUP('Design #'!C1349,Labels!$A:$B,2,FALSE)","v":"Providing good and constant water pressure"},{"$f":"VLOOKUP('Design #'!D1349,Labels!$A:$B,2,FALSE)","v":"Providing a high level of customer service (e.g. resolving queries quickly)"},{"$f":"VLOOKUP('Design #'!E1349,Labels!$A:$B,2,FALSE)","v":"Reduce and offset carbon emissions to achieve a 'net zero' position by 2030 "},{"$f":"VLOOKUP('Design #'!F1349,Labels!$A:$B,2,FALSE)","v":"Supporting customers to reduce their water use and prevent blockages through education and provision of free tools/devices"}]
[90,14,{"$f":"VLOOKUP('Design #'!C1350,Labels!$A:$B,2,FALSE)","v":"Preventing sewage from entering homes and businesses "},{"$f":"VLOOKUP('Design #'!D1350,Labels!$A:$B,2,FALSE)","v":"Providing financial help and support to those who are struggling to pay their water bill"},{"$f":"VLOOKUP('Design #'!E1350,Labels!$A:$B,2,FALSE)","v":"Providing good and constant water pressure"},{"$f":"VLOOKUP('Design #'!F1350,Labels!$A:$B,2,FALSE)","v":"Providing a continuous supply of water that is safe to drink"}]
[90,15,{"$f":"VLOOKUP('Design #'!C1351,Labels!$A:$B,2,FALSE)","v":"Providing appropriate sewer capacity and pumping capabilities to cope with widespread flood events"},{"$f":"VLOOKUP('Design #'!D1351,Labels!$A:$B,2,FALSE)","v":"Ensuring additional support is available to those who need it e.g.  providing bills in braille, providing bottled water during times of interruptions for thos​e who can't get to a shop (elderly, medical conditions etc.)"},{"$f":"VLOOKUP('Design #'!E1351,Labels!$A:$B,2,FALSE)","v":"Providing water that is aesthetically pleasing (clear and clean with no odour or unusual taste or colour)"},{"$f":"VLOOKUP('Design #'!F1351,Labels!$A:$B,2,FALSE)","v":"Reduce and offset carbon emissions to achieve a 'net zero' position by 2030 "}]
[91,1,{"$f":"VLOOKUP('Design #'!C1352,Labels!$A:$B,2,FALSE)","v":"Ensuring that land owned by Yorkshire Water is conserved or enhanced to improve quality of the water it collects and reduce flooding"},{"$f":"VLOOKUP('Design #'!D1352,Labels!$A:$B,2,FALSE)","v":"Preventing sewage from entering homes and businesses "},{"$f":"VLOOKUP('Design #'!E1352,Labels!$A:$B,2,FALSE)","v":"Reducing the release of untreated sewage mixed with rain water into rivers and streams during times of heavy rainfall"},{"$f":"VLOOKUP('Design #'!F1352,Labels!$A:$B,2,FALSE)","v":"Preventing pollution of rivers or streams from sewage pipes"}]
[91,2,{"$f":"VLOOKUP('Design #'!C1353,Labels!$A:$B,2,FALSE)","v":"Providing financial help and support to those who are struggling to pay their water bill"},{"$f":"VLOOKUP('Design #'!D1353,Labels!$A:$B,2,FALSE)","v":"Providing a high level of customer service (e.g. resolving queries quickly)"},{"$f":"VLOOKUP('Design #'!E1353,Labels!$A:$B,2,FALSE)","v":"Ensuring additional support is available to those who need it e.g.  providing bills in braille, providing bottled water during times of interruptions for thos​e who can't get to a shop (elderly, medical conditions etc.)"},{"$f":"VLOOKUP('Design #'!F1353,Labels!$A:$B,2,FALSE)","v":"Preventing pollution of rivers or streams from sewage pipes"}]
[91,3,{"$f":"VLOOKUP('Design #'!C1354,Labels!$A:$B,2,FALSE)","v":"Preventing leaks from Yorkshire Water's pipe network"},{"$f":"VLOOKUP('Design #'!D1354,Labels!$A:$B,2,FALSE)","v":"Preventing sewage entering gardens and public spaces from pipe collapses or blockages"},{"$f":"VLOOKUP('Design #'!E1354,Labels!$A:$B,2,FALSE)","v":"Working with other organisations on common challenges (e.g. flooding) to share costs and expertise allowing for more and smarter investment to tackle problems"},{"$f":"VLOOKUP('Design #'!F1354,Labels!$A:$B,2,FALSE)","v":"Ensuring additional support is available to those who need it e.g.  providing bills in braille, providing bottled water during times of interruptions for thos​e who can't get to a shop (elderly, medical conditions etc.)"}]
[91,4,{"$f":"VLOOKUP('Design #'!C1355,Labels!$A:$B,2,FALSE)","v":"Supporting customers to reduce their water use and prevent blockages through education and provision of free tools/devices"},{"$f":"VLOOKUP('Design #'!D1355,Labels!$A:$B,2,FALSE)","v":"Preventing pollution of rivers or streams from sewage pipes"},{"$f":"VLOOKUP('Design #'!E1355,Labels!$A:$B,2,FALSE)","v":"Preventing sewage from entering homes and businesses "},{"$f":"VLOOKUP('Design #'!F1355,Labels!$A:$B,2,FALSE)","v":"Reduce and offset carbon emissions to achieve a 'net zero' position by 2030 "}]
[91,5,{"$f":"VLOOKUP('Design #'!C1356,Labels!$A:$B,2,FALSE)","v":"Keeping bills affordable for all"},{"$f":"VLOOKUP('Design #'!D1356,Labels!$A:$B,2,FALSE)","v":"Providing water that is aesthetically pleasing (clear and clean with no odour or unusual taste or colour)"},{"$f":"VLOOKUP('Design #'!E1356,Labels!$A:$B,2,FALSE)","v":"Preventing the likelihood of restrictions on water use, including hosepipe bans, in a drought"},{"$f":"VLOOKUP('Design #'!F1356,Labels!$A:$B,2,FALSE)","v":"Providing good and constant water pressure"}]
[91,6,{"$f":"VLOOKUP('Design #'!C1357,Labels!$A:$B,2,FALSE)","v":"Ensuring additional support is available to those who need it e.g.  providing bills in braille, providing bottled water during times of interruptions for thos​e who can't get to a shop (elderly, medical conditions etc.)"},{"$f":"VLOOKUP('Design #'!D1357,Labels!$A:$B,2,FALSE)","v":"Providing appropriate sewer capacity and pumping capabilities to cope with widespread flood events"},{"$f":"VLOOKUP('Design #'!E1357,Labels!$A:$B,2,FALSE)","v":"Supporting customers to reduce their water use and prevent blockages through education and provision of free tools/devices"},{"$f":"VLOOKUP('Design #'!F1357,Labels!$A:$B,2,FALSE)","v":"Reducing the release of untreated sewage mixed with rain water into rivers and streams during times of heavy rainfall"}]
[91,7,{"$f":"VLOOKUP('Design #'!C1358,Labels!$A:$B,2,FALSE)","v":"Reduce and offset carbon emissions to achieve a 'net zero' position by 2030 "},{"$f":"VLOOKUP('Design #'!D1358,Labels!$A:$B,2,FALSE)","v":"Preventing interruptions to the supply of water (e.g. planned works, burst pipes, leaks and outages) that cause problems ranging from low pressure to no water"},{"$f":"VLOOKUP('Design #'!E1358,Labels!$A:$B,2,FALSE)","v":"Providing appropriate sewer capacity and pumping capabilities to cope with widespread flood events"},{"$f":"VLOOKUP('Design #'!F1358,Labels!$A:$B,2,FALSE)","v":"Ensuring that land owned by Yorkshire Water is conserved or enhanced to improve quality of the water it collects and reduce flooding"}]
[91,8,{"$f":"VLOOKUP('Design #'!C1359,Labels!$A:$B,2,FALSE)","v":"Treating waste water to a high standard to ensure good quality water in Yorkshire's rivers and beaches"},{"$f":"VLOOKUP('Design #'!D1359,Labels!$A:$B,2,FALSE)","v":"Supporting customers to reduce their water use and prevent blockages through education and provision of free tools/devices"},{"$f":"VLOOKUP('Design #'!E1359,Labels!$A:$B,2,FALSE)","v":"Preventing leaks from Yorkshire Water's pipe network"},{"$f":"VLOOKUP('Design #'!F1359,Labels!$A:$B,2,FALSE)","v":"Providing good and constant water pressure"}]
[91,9,{"$f":"VLOOKUP('Design #'!C1360,Labels!$A:$B,2,FALSE)","v":"Providing a continuous supply of water that is safe to drink"},{"$f":"VLOOKUP('Design #'!D1360,Labels!$A:$B,2,FALSE)","v":"Preventing interruptions to the supply of water (e.g. planned works, burst pipes, leaks and outages) that cause problems ranging from low pressure to no water"},{"$f":"VLOOKUP('Design #'!E1360,Labels!$A:$B,2,FALSE)","v":"Providing a high level of customer service (e.g. resolving queries quickly)"},{"$f":"VLOOKUP('Design #'!F1360,Labels!$A:$B,2,FALSE)","v":"Keeping bills affordable for all"}]
[91,10,{"$f":"VLOOKUP('Design #'!C1361,Labels!$A:$B,2,FALSE)","v":"Preventing the likelihood of restrictions on water use, including hosepipe bans, in a drought"},{"$f":"VLOOKUP('Design #'!D1361,Labels!$A:$B,2,FALSE)","v":"Treating waste water to a high standard to ensure good quality water in Yorkshire's rivers and beaches"},{"$f":"VLOOKUP('Design #'!E1361,Labels!$A:$B,2,FALSE)","v":"Reduce and offset carbon emissions to achieve a 'net zero' position by 2030 "},{"$f":"VLOOKUP('Design #'!F1361,Labels!$A:$B,2,FALSE)","v":"Providing financial help and support to those who are struggling to pay their water bill"}]
[91,11,{"$f":"VLOOKUP('Design #'!C1362,Labels!$A:$B,2,FALSE)","v":"Providing water that is aesthetically pleasing (clear and clean with no odour or unusual taste or colour)"},{"$f":"VLOOKUP('Design #'!D1362,Labels!$A:$B,2,FALSE)","v":"Reducing the release of untreated sewage mixed with rain water into rivers and streams during times of heavy rainfall"},{"$f":"VLOOKUP('Design #'!E1362,Labels!$A:$B,2,FALSE)","v":"Preventing sewage entering gardens and public spaces from pipe collapses or blockages"},{"$f":"VLOOKUP('Design #'!F1362,Labels!$A:$B,2,FALSE)","v":"Preventing the likelihood of restrictions on water use, including hosepipe bans, in a drought"}]
[91,12,{"$f":"VLOOKUP('Design #'!C1363,Labels!$A:$B,2,FALSE)","v":"Preventing sewage from entering homes and businesses "},{"$f":"VLOOKUP('Design #'!D1363,Labels!$A:$B,2,FALSE)","v":"Ensuring that land owned by Yorkshire Water is conserved or enhanced to improve quality of the water it collects and reduce flooding"},{"$f":"VLOOKUP('Design #'!E1363,Labels!$A:$B,2,FALSE)","v":"Providing financial help and support to those who are struggling to pay their water bill"},{"$f":"VLOOKUP('Design #'!F1363,Labels!$A:$B,2,FALSE)","v":"Preventing leaks from Yorkshire Water's pipe network"}]
[91,13,{"$f":"VLOOKUP('Design #'!C1364,Labels!$A:$B,2,FALSE)","v":"Preventing interruptions to the supply of water (e.g. planned works, burst pipes, leaks and outages) that cause problems ranging from low pressure to no water"},{"$f":"VLOOKUP('Design #'!D1364,Labels!$A:$B,2,FALSE)","v":"Providing a high level of customer service (e.g. resolving queries quickly)"},{"$f":"VLOOKUP('Design #'!E1364,Labels!$A:$B,2,FALSE)","v":"Providing water that is aesthetically pleasing (clear and clean with no odour or unusual taste or colour)"},{"$f":"VLOOKUP('Design #'!F1364,Labels!$A:$B,2,FALSE)","v":"Working with other organisations on common challenges (e.g. flooding) to share costs and expertise allowing for more and smarter investment to tackle problems"}]
[91,14,{"$f":"VLOOKUP('Design #'!C1365,Labels!$A:$B,2,FALSE)","v":"Providing good and constant water pressure"},{"$f":"VLOOKUP('Design #'!D1365,Labels!$A:$B,2,FALSE)","v":"Keeping bills affordable for all"},{"$f":"VLOOKUP('Design #'!E1365,Labels!$A:$B,2,FALSE)","v":"Providing appropriate sewer capacity and pumping capabilities to cope with widespread flood events"},{"$f":"VLOOKUP('Design #'!F1365,Labels!$A:$B,2,FALSE)","v":"Preventing sewage entering gardens and public spaces from pipe collapses or blockages"}]
[91,15,{"$f":"VLOOKUP('Design #'!C1366,Labels!$A:$B,2,FALSE)","v":"Providing water that is aesthetically pleasing (clear and clean with no odour or unusual taste or colour)"},{"$f":"VLOOKUP('Design #'!D1366,Labels!$A:$B,2,FALSE)","v":"Ensuring that land owned by Yorkshire Water is conserved or enhanced to improve quality of the water it collects and reduce flooding"},{"$f":"VLOOKUP('Design #'!E1366,Labels!$A:$B,2,FALSE)","v":"Providing a continuous supply of water that is safe to drink"},{"$f":"VLOOKUP('Design #'!F1366,Labels!$A:$B,2,FALSE)","v":"Providing financial help and support to those who are struggling to pay their water bill"}]
[92,1,{"$f":"VLOOKUP('Design #'!C1367,Labels!$A:$B,2,FALSE)","v":"Preventing interruptions to the supply of water (e.g. planned works, burst pipes, leaks and outages) that cause problems ranging from low pressure to no water"},{"$f":"VLOOKUP('Design #'!D1367,Labels!$A:$B,2,FALSE)","v":"Providing good and constant water pressure"},{"$f":"VLOOKUP('Design #'!E1367,Labels!$A:$B,2,FALSE)","v":"Preventing leaks from Yorkshire Water's pipe network"},{"$f":"VLOOKUP('Design #'!F1367,Labels!$A:$B,2,FALSE)","v":"Providing a continuous supply of water that is safe to drink"}]
[92,2,{"$f":"VLOOKUP('Design #'!C1368,Labels!$A:$B,2,FALSE)","v":"Supporting customers to reduce their water use and prevent blockages through education and provision of free tools/devices"},{"$f":"VLOOKUP('Design #'!D1368,Labels!$A:$B,2,FALSE)","v":"Providing financial help and support to those who are struggling to pay their water bill"},{"$f":"VLOOKUP('Design #'!E1368,Labels!$A:$B,2,FALSE)","v":"Preventing interruptions to the supply of water (e.g. planned works, burst pipes, leaks and outages) that cause problems ranging from low pressure to no water"},{"$f":"VLOOKUP('Design #'!F1368,Labels!$A:$B,2,FALSE)","v":"Reducing the release of untreated sewage mixed with rain water into rivers and streams during times of heavy rainfall"}]
[92,3,{"$f":"VLOOKUP('Design #'!C1369,Labels!$A:$B,2,FALSE)","v":"Providing appropriate sewer capacity and pumping capabilities to cope with widespread flood events"},{"$f":"VLOOKUP('Design #'!D1369,Labels!$A:$B,2,FALSE)","v":"Ensuring additional support is available to those who need it e.g.  providing bills in braille, providing bottled water during times of interruptions for thos​e who can't get to a shop (elderly, medical conditions etc.)"},{"$f":"VLOOKUP('Design #'!E1369,Labels!$A:$B,2,FALSE)","v":"Ensuring that land owned by Yorkshire Water is conserved or enhanced to improve quality of the water it collects and reduce flooding"},{"$f":"VLOOKUP('Design #'!F1369,Labels!$A:$B,2,FALSE)","v":"Working with other organisations on common challenges (e.g. flooding) to share costs and expertise allowing for more and smarter investment to tackle problems"}]
[92,4,{"$f":"VLOOKUP('Design #'!C1370,Labels!$A:$B,2,FALSE)","v":"Preventing the likelihood of restrictions on water use, including hosepipe bans, in a drought"},{"$f":"VLOOKUP('Design #'!D1370,Labels!$A:$B,2,FALSE)","v":"Working with other organisations on common challenges (e.g. flooding) to share costs and expertise allowing for more and smarter investment to tackle problems"},{"$f":"VLOOKUP('Design #'!E1370,Labels!$A:$B,2,FALSE)","v":"Treating waste water to a high standard to ensure good quality water in Yorkshire's rivers and beaches"},{"$f":"VLOOKUP('Design #'!F1370,Labels!$A:$B,2,FALSE)","v":"Providing a continuous supply of water that is safe to drink"}]
[92,5,{"$f":"VLOOKUP('Design #'!C1371,Labels!$A:$B,2,FALSE)","v":"Reducing the release of untreated sewage mixed with rain water into rivers and streams during times of heavy rainfall"},{"$f":"VLOOKUP('Design #'!D1371,Labels!$A:$B,2,FALSE)","v":"Providing appropriate sewer capacity and pumping capabilities to cope with widespread flood events"},{"$f":"VLOOKUP('Design #'!E1371,Labels!$A:$B,2,FALSE)","v":"Treating waste water to a high standard to ensure good quality water in Yorkshire's rivers and beaches"},{"$f":"VLOOKUP('Design #'!F1371,Labels!$A:$B,2,FALSE)","v":"Providing financial help and support to those who are struggling to pay their water bill"}]
[92,6,{"$f":"VLOOKUP('Design #'!C1372,Labels!$A:$B,2,FALSE)","v":"Keeping bills affordable for all"},{"$f":"VLOOKUP('Design #'!D1372,Labels!$A:$B,2,FALSE)","v":"Treating waste water to a high standard to ensure good quality water in Yorkshire's rivers and beaches"},{"$f":"VLOOKUP('Design #'!E1372,Labels!$A:$B,2,FALSE)","v":"Preventing sewage from entering homes and businesses "},{"$f":"VLOOKUP('Design #'!F1372,Labels!$A:$B,2,FALSE)","v":"Ensuring additional support is available to those who need it e.g.  providing bills in braille, providing bottled water during times of interruptions for thos​e who can't get to a shop (elderly, medical conditions etc.)"}]
[92,7,{"$f":"VLOOKUP('Design #'!C1373,Labels!$A:$B,2,FALSE)","v":"Providing financial help and support to those who are struggling to pay their water bill"},{"$f":"VLOOKUP('Design #'!D1373,Labels!$A:$B,2,FALSE)","v":"Preventing sewage from entering homes and businesses "},{"$f":"VLOOKUP('Design #'!E1373,Labels!$A:$B,2,FALSE)","v":"Providing a high level of customer service (e.g. resolving queries quickly)"},{"$f":"VLOOKUP('Design #'!F1373,Labels!$A:$B,2,FALSE)","v":"Providing good and constant water pressure"}]
[92,8,{"$f":"VLOOKUP('Design #'!C1374,Labels!$A:$B,2,FALSE)","v":"Ensuring that land owned by Yorkshire Water is conserved or enhanced to improve quality of the water it collects and reduce flooding"},{"$f":"VLOOKUP('Design #'!D1374,Labels!$A:$B,2,FALSE)","v":"Providing water that is aesthetically pleasing (clear and clean with no odour or unusual taste or colour)"},{"$f":"VLOOKUP('Design #'!E1374,Labels!$A:$B,2,FALSE)","v":"Preventing pollution of rivers or streams from sewage pipes"},{"$f":"VLOOKUP('Design #'!F1374,Labels!$A:$B,2,FALSE)","v":"Preventing sewage entering gardens and public spaces from pipe collapses or blockages"}]
[92,9,{"$f":"VLOOKUP('Design #'!C1375,Labels!$A:$B,2,FALSE)","v":"Working with other organisations on common challenges (e.g. flooding) to share costs and expertise allowing for more and smarter investment to tackle problems"},{"$f":"VLOOKUP('Design #'!D1375,Labels!$A:$B,2,FALSE)","v":"Treating waste water to a high standard to ensure good quality water in Yorkshire's rivers and beaches"},{"$f":"VLOOKUP('Design #'!E1375,Labels!$A:$B,2,FALSE)","v":"Keeping bills affordable for all"},{"$f":"VLOOKUP('Design #'!F1375,Labels!$A:$B,2,FALSE)","v":"Preventing interruptions to the supply of water (e.g. planned works, burst pipes, leaks and outages) that cause problems ranging from low pressure to no water"}]
[92,10,{"$f":"VLOOKUP('Design #'!C1376,Labels!$A:$B,2,FALSE)","v":"Providing a high level of customer service (e.g. resolving queries quickly)"},{"$f":"VLOOKUP('Design #'!D1376,Labels!$A:$B,2,FALSE)","v":"Reduce and offset carbon emissions to achieve a 'net zero' position by 2030 "},{"$f":"VLOOKUP('Design #'!E1376,Labels!$A:$B,2,FALSE)","v":"Working with other organisations on common challenges (e.g. flooding) to share costs and expertise allowing for more and smarter investment to tackle problems"},{"$f":"VLOOKUP('Design #'!F1376,Labels!$A:$B,2,FALSE)","v":"Preventing the likelihood of restrictions on water use, including hosepipe bans, in a drought"}]
[92,11,{"$f":"VLOOKUP('Design #'!C1377,Labels!$A:$B,2,FALSE)","v":"Preventing the likelihood of restrictions on water use, including hosepipe bans, in a drought"},{"$f":"VLOOKUP('Design #'!D1377,Labels!$A:$B,2,FALSE)","v":"Preventing leaks from Yorkshire Water's pipe network"},{"$f":"VLOOKUP('Design #'!E1377,Labels!$A:$B,2,FALSE)","v":"Ensuring additional support is available to those who need it e.g.  providing bills in braille, providing bottled water during times of interruptions for thos​e who can't get to a shop (elderly, medical conditions etc.)"},{"$f":"VLOOKUP('Design #'!F1377,Labels!$A:$B,2,FALSE)","v":"Providing a high level of customer service (e.g. resolving queries quickly)"}]
[92,12,{"$f":"VLOOKUP('Design #'!C1378,Labels!$A:$B,2,FALSE)","v":"Preventing pollution of rivers or streams from sewage pipes"},{"$f":"VLOOKUP('Design #'!D1378,Labels!$A:$B,2,FALSE)","v":"Supporting customers to reduce their water use and prevent blockages through education and provision of free tools/devices"},{"$f":"VLOOKUP('Design #'!E1378,Labels!$A:$B,2,FALSE)","v":"Keeping bills affordable for all"},{"$f":"VLOOKUP('Design #'!F1378,Labels!$A:$B,2,FALSE)","v":"Preventing leaks from Yorkshire Water's pipe network"}]
[92,13,{"$f":"VLOOKUP('Design #'!C1379,Labels!$A:$B,2,FALSE)","v":"Reduce and offset carbon emissions to achieve a 'net zero' position by 2030 "},{"$f":"VLOOKUP('Design #'!D1379,Labels!$A:$B,2,FALSE)","v":"Providing appropriate sewer capacity and pumping capabilities to cope with widespread flood events"},{"$f":"VLOOKUP('Design #'!E1379,Labels!$A:$B,2,FALSE)","v":"Preventing sewage from entering homes and businesses "},{"$f":"VLOOKUP('Design #'!F1379,Labels!$A:$B,2,FALSE)","v":"Providing water that is aesthetically pleasing (clear and clean with no odour or unusual taste or colour)"}]
[92,14,{"$f":"VLOOKUP('Design #'!C1380,Labels!$A:$B,2,FALSE)","v":"Providing a continuous supply of water that is safe to drink"},{"$f":"VLOOKUP('Design #'!D1380,Labels!$A:$B,2,FALSE)","v":"Preventing sewage entering gardens and public spaces from pipe collapses or blockages"},{"$f":"VLOOKUP('Design #'!E1380,Labels!$A:$B,2,FALSE)","v":"Reduce and offset carbon emissions to achieve a 'net zero' position by 2030 "},{"$f":"VLOOKUP('Design #'!F1380,Labels!$A:$B,2,FALSE)","v":"Reducing the release of untreated sewage mixed with rain water into rivers and streams during times of heavy rainfall"}]
[92,15,{"$f":"VLOOKUP('Design #'!C1381,Labels!$A:$B,2,FALSE)","v":"Preventing sewage entering gardens and public spaces from pipe collapses or blockages"},{"$f":"VLOOKUP('Design #'!D1381,Labels!$A:$B,2,FALSE)","v":"Providing a continuous supply of water that is safe to drink"},{"$f":"VLOOKUP('Design #'!E1381,Labels!$A:$B,2,FALSE)","v":"Providing good and constant water pressure"},{"$f":"VLOOKUP('Design #'!F1381,Labels!$A:$B,2,FALSE)","v":"Treating waste water to a high standard to ensure good quality water in Yorkshire's rivers and beaches"}]
[93,1,{"$f":"VLOOKUP('Design #'!C1382,Labels!$A:$B,2,FALSE)","v":"Providing good and constant water pressure"},{"$f":"VLOOKUP('Design #'!D1382,Labels!$A:$B,2,FALSE)","v":"Reduce and offset carbon emissions to achieve a 'net zero' position by 2030 "},{"$f":"VLOOKUP('Design #'!E1382,Labels!$A:$B,2,FALSE)","v":"Preventing interruptions to the supply of water (e.g. planned works, burst pipes, leaks and outages) that cause problems ranging from low pressure to no water"},{"$f":"VLOOKUP('Design #'!F1382,Labels!$A:$B,2,FALSE)","v":"Providing appropriate sewer capacity and pumping capabilities to cope with widespread flood events"}]
[93,2,{"$f":"VLOOKUP('Design #'!C1383,Labels!$A:$B,2,FALSE)","v":"Preventing pollution of rivers or streams from sewage pipes"},{"$f":"VLOOKUP('Design #'!D1383,Labels!$A:$B,2,FALSE)","v":"Providing good and constant water pressure"},{"$f":"VLOOKUP('Design #'!E1383,Labels!$A:$B,2,FALSE)","v":"Reducing the release of untreated sewage mixed with rain water into rivers and streams during times of heavy rainfall"},{"$f":"VLOOKUP('Design #'!F1383,Labels!$A:$B,2,FALSE)","v":"Working with other organisations on common challenges (e.g. flooding) to share costs and expertise allowing for more and smarter investment to tackle problems"}]
[93,3,{"$f":"VLOOKUP('Design #'!C1384,Labels!$A:$B,2,FALSE)","v":"Providing a high level of customer service (e.g. resolving queries quickly)"},{"$f":"VLOOKUP('Design #'!D1384,Labels!$A:$B,2,FALSE)","v":"Ensuring that land owned by Yorkshire Water is conserved or enhanced to improve quality of the water it collects and reduce flooding"},{"$f":"VLOOKUP('Design #'!E1384,Labels!$A:$B,2,FALSE)","v":"Providing water that is aesthetically pleasing (clear and clean with no odour or unusual taste or colour)"},{"$f":"VLOOKUP('Design #'!F1384,Labels!$A:$B,2,FALSE)","v":"Keeping bills affordable for all"}]
[93,4,{"$f":"VLOOKUP('Design #'!C1385,Labels!$A:$B,2,FALSE)","v":"Providing appropriate sewer capacity and pumping capabilities to cope with widespread flood events"},{"$f":"VLOOKUP('Design #'!D1385,Labels!$A:$B,2,FALSE)","v":"Reducing the release of untreated sewage mixed with rain water into rivers and streams during times of heavy rainfall"},{"$f":"VLOOKUP('Design #'!E1385,Labels!$A:$B,2,FALSE)","v":"Providing a continuous supply of water that is safe to drink"},{"$f":"VLOOKUP('Design #'!F1385,Labels!$A:$B,2,FALSE)","v":"Preventing leaks from Yorkshire Water's pipe network"}]
[93,5,{"$f":"VLOOKUP('Design #'!C1386,Labels!$A:$B,2,FALSE)","v":"Ensuring additional support is available to those who need it e.g.  providing bills in braille, providing bottled water during times of interruptions for thos​e who can't get to a shop (elderly, medical conditions etc.)"},{"$f":"VLOOKUP('Design #'!D1386,Labels!$A:$B,2,FALSE)","v":"Working with other organisations on common challenges (e.g. flooding) to share costs and expertise allowing for more and smarter investment to tackle problems"},{"$f":"VLOOKUP('Design #'!E1386,Labels!$A:$B,2,FALSE)","v":"Providing financial help and support to those who are struggling to pay their water bill"},{"$f":"VLOOKUP('Design #'!F1386,Labels!$A:$B,2,FALSE)","v":"Preventing sewage entering gardens and public spaces from pipe collapses or blockages"}]
[93,6,{"$f":"VLOOKUP('Design #'!C1387,Labels!$A:$B,2,FALSE)","v":"Providing water that is aesthetically pleasing (clear and clean with no odour or unusual taste or colour)"},{"$f":"VLOOKUP('Design #'!D1387,Labels!$A:$B,2,FALSE)","v":"Preventing interruptions to the supply of water (e.g. planned works, burst pipes, leaks and outages) that cause problems ranging from low pressure to no water"},{"$f":"VLOOKUP('Design #'!E1387,Labels!$A:$B,2,FALSE)","v":"Providing a high level of customer service (e.g. resolving queries quickly)"},{"$f":"VLOOKUP('Design #'!F1387,Labels!$A:$B,2,FALSE)","v":"Treating waste water to a high standard to ensure good quality water in Yorkshire's rivers and beaches"}]
[93,7,{"$f":"VLOOKUP('Design #'!C1388,Labels!$A:$B,2,FALSE)","v":"Preventing interruptions to the supply of water (e.g. planned works, burst pipes, leaks and outages) that cause problems ranging from low pressure to no water"},{"$f":"VLOOKUP('Design #'!D1388,Labels!$A:$B,2,FALSE)","v":"Preventing the likelihood of restrictions on water use, including hosepipe bans, in a drought"},{"$f":"VLOOKUP('Design #'!E1388,Labels!$A:$B,2,FALSE)","v":"Reducing the release of untreated sewage mixed with rain water into rivers and streams during times of heavy rainfall"},{"$f":"VLOOKUP('Design #'!F1388,Labels!$A:$B,2,FALSE)","v":"Preventing sewage from entering homes and businesses "}]
[93,8,{"$f":"VLOOKUP('Design #'!C1389,Labels!$A:$B,2,FALSE)","v":"Preventing sewage entering gardens and public spaces from pipe collapses or blockages"},{"$f":"VLOOKUP('Design #'!D1389,Labels!$A:$B,2,FALSE)","v":"Keeping bills affordable for all"},{"$f":"VLOOKUP('Design #'!E1389,Labels!$A:$B,2,FALSE)","v":"Providing financial help and support to those who are struggling to pay their water bill"},{"$f":"VLOOKUP('Design #'!F1389,Labels!$A:$B,2,FALSE)","v":"Reduce and offset carbon emissions to achieve a 'net zero' position by 2030 "}]
[93,9,{"$f":"VLOOKUP('Design #'!C1390,Labels!$A:$B,2,FALSE)","v":"Preventing sewage from entering homes and businesses "},{"$f":"VLOOKUP('Design #'!D1390,Labels!$A:$B,2,FALSE)","v":"Preventing sewage entering gardens and public spaces from pipe collapses or blockages"},{"$f":"VLOOKUP('Design #'!E1390,Labels!$A:$B,2,FALSE)","v":"Preventing leaks from Yorkshire Water's pipe network"},{"$f":"VLOOKUP('Design #'!F1390,Labels!$A:$B,2,FALSE)","v":"Supporting customers to reduce their water use and prevent blockages through education and provision of free tools/devices"}]
[93,10,{"$f":"VLOOKUP('Design #'!C1391,Labels!$A:$B,2,FALSE)","v":"Reduce and offset carbon emissions to achieve a 'net zero' position by 2030 "},{"$f":"VLOOKUP('Design #'!D1391,Labels!$A:$B,2,FALSE)","v":"Preventing leaks from Yorkshire Water's pipe network"},{"$f":"VLOOKUP('Design #'!E1391,Labels!$A:$B,2,FALSE)","v":"Ensuring that land owned by Yorkshire Water is conserved or enhanced to improve quality of the water it collects and reduce flooding"},{"$f":"VLOOKUP('Design #'!F1391,Labels!$A:$B,2,FALSE)","v":"Treating waste water to a high standard to ensure good quality water in Yorkshire's rivers and beaches"}]
[93,11,{"$f":"VLOOKUP('Design #'!C1392,Labels!$A:$B,2,FALSE)","v":"Working with other organisations on common challenges (e.g. flooding) to share costs and expertise allowing for more and smarter investment to tackle problems"},{"$f":"VLOOKUP('Design #'!D1392,Labels!$A:$B,2,FALSE)","v":"Preventing sewage from entering homes and businesses "},{"$f":"VLOOKUP('Design #'!E1392,Labels!$A:$B,2,FALSE)","v":"Supporting customers to reduce their water use and prevent blockages through education and provision of free tools/devices"},{"$f":"VLOOKUP('Design #'!F1392,Labels!$A:$B,2,FALSE)","v":"Providing water that is aesthetically pleasing (clear and clean with no odour or unusual taste or colour)"}]
[93,12,{"$f":"VLOOKUP('Design #'!C1393,Labels!$A:$B,2,FALSE)","v":"Ensuring that land owned by Yorkshire Water is conserved or enhanced to improve quality of the water it collects and reduce flooding"},{"$f":"VLOOKUP('Design #'!D1393,Labels!$A:$B,2,FALSE)","v":"Preventing pollution of rivers or streams from sewage pipes"},{"$f":"VLOOKUP('Design #'!E1393,Labels!$A:$B,2,FALSE)","v":"Ensuring additional support is available to those who need it e.g.  providing bills in braille, providing bottled water during times of interruptions for thos​e who can't get to a shop (elderly, medical conditions etc.)"},{"$f":"VLOOKUP('Design #'!F1393,Labels!$A:$B,2,FALSE)","v":"Providing good and constant water pressure"}]
[93,13,{"$f":"VLOOKUP('Design #'!C1394,Labels!$A:$B,2,FALSE)","v":"Providing a continuous supply of water that is safe to drink"},{"$f":"VLOOKUP('Design #'!D1394,Labels!$A:$B,2,FALSE)","v":"Providing water that is aesthetically pleasing (clear and clean with no odour or unusual taste or colour)"},{"$f":"VLOOKUP('Design #'!E1394,Labels!$A:$B,2,FALSE)","v":"Providing financial help and support to those who are struggling to pay their water bill"},{"$f":"VLOOKUP('Design #'!F1394,Labels!$A:$B,2,FALSE)","v":"Supporting customers to reduce their water use and prevent blockages through education and provision of free tools/devices"}]
[93,14,{"$f":"VLOOKUP('Design #'!C1395,Labels!$A:$B,2,FALSE)","v":"Keeping bills affordable for all"},{"$f":"VLOOKUP('Design #'!D1395,Labels!$A:$B,2,FALSE)","v":"Providing a high level of customer service (e.g. resolving queries quickly)"},{"$f":"VLOOKUP('Design #'!E1395,Labels!$A:$B,2,FALSE)","v":"Preventing pollution of rivers or streams from sewage pipes"},{"$f":"VLOOKUP('Design #'!F1395,Labels!$A:$B,2,FALSE)","v":"Providing appropriate sewer capacity and pumping capabilities to cope with widespread flood events"}]
[93,15,{"$f":"VLOOKUP('Design #'!C1396,Labels!$A:$B,2,FALSE)","v":"Providing a continuous supply of water that is safe to drink"},{"$f":"VLOOKUP('Design #'!D1396,Labels!$A:$B,2,FALSE)","v":"Ensuring additional support is available to those who need it e.g.  providing bills in braille, providing bottled water during times of interruptions for thos​e who can't get to a shop (elderly, medical conditions etc.)"},{"$f":"VLOOKUP('Design #'!E1396,Labels!$A:$B,2,FALSE)","v":"Preventing the likelihood of restrictions on water use, including hosepipe bans, in a drought"},{"$f":"VLOOKUP('Design #'!F1396,Labels!$A:$B,2,FALSE)","v":"Supporting customers to reduce their water use and prevent blockages through education and provision of free tools/devices"}]
[94,1,{"$f":"VLOOKUP('Design #'!C1397,Labels!$A:$B,2,FALSE)","v":"Providing good and constant water pressure"},{"$f":"VLOOKUP('Design #'!D1397,Labels!$A:$B,2,FALSE)","v":"Providing financial help and support to those who are struggling to pay their water bill"},{"$f":"VLOOKUP('Design #'!E1397,Labels!$A:$B,2,FALSE)","v":"Preventing leaks from Yorkshire Water's pipe network"},{"$f":"VLOOKUP('Design #'!F1397,Labels!$A:$B,2,FALSE)","v":"Preventing the likelihood of restrictions on water use, including hosepipe bans, in a drought"}]
[94,2,{"$f":"VLOOKUP('Design #'!C1398,Labels!$A:$B,2,FALSE)","v":"Reducing the release of untreated sewage mixed with rain water into rivers and streams during times of heavy rainfall"},{"$f":"VLOOKUP('Design #'!D1398,Labels!$A:$B,2,FALSE)","v":"Preventing sewage from entering homes and businesses "},{"$f":"VLOOKUP('Design #'!E1398,Labels!$A:$B,2,FALSE)","v":"Preventing sewage entering gardens and public spaces from pipe collapses or blockages"},{"$f":"VLOOKUP('Design #'!F1398,Labels!$A:$B,2,FALSE)","v":"Providing a high level of customer service (e.g. resolving queries quickly)"}]
[94,3,{"$f":"VLOOKUP('Design #'!C1399,Labels!$A:$B,2,FALSE)","v":"Keeping bills affordable for all"},{"$f":"VLOOKUP('Design #'!D1399,Labels!$A:$B,2,FALSE)","v":"Reducing the release of untreated sewage mixed with rain water into rivers and streams during times of heavy rainfall"},{"$f":"VLOOKUP('Design #'!E1399,Labels!$A:$B,2,FALSE)","v":"Providing good and constant water pressure"},{"$f":"VLOOKUP('Design #'!F1399,Labels!$A:$B,2,FALSE)","v":"Preventing sewage from entering homes and businesses "}]
[94,4,{"$f":"VLOOKUP('Design #'!C1400,Labels!$A:$B,2,FALSE)","v":"Preventing the likelihood of restrictions on water use, including hosepipe bans, in a drought"},{"$f":"VLOOKUP('Design #'!D1400,Labels!$A:$B,2,FALSE)","v":"Providing a continuous supply of water that is safe to drink"},{"$f":"VLOOKUP('Design #'!E1400,Labels!$A:$B,2,FALSE)","v":"Providing appropriate sewer capacity and pumping capabilities to cope with widespread flood events"},{"$f":"VLOOKUP('Design #'!F1400,Labels!$A:$B,2,FALSE)","v":"Preventing pollution of rivers or streams from sewage pipes"}]
[94,5,{"$f":"VLOOKUP('Design #'!C1401,Labels!$A:$B,2,FALSE)","v":"Treating waste water to a high standard to ensure good quality water in Yorkshire's rivers and beaches"},{"$f":"VLOOKUP('Design #'!D1401,Labels!$A:$B,2,FALSE)","v":"Preventing sewage from entering homes and businesses "},{"$f":"VLOOKUP('Design #'!E1401,Labels!$A:$B,2,FALSE)","v":"Providing a continuous supply of water that is safe to drink"},{"$f":"VLOOKUP('Design #'!F1401,Labels!$A:$B,2,FALSE)","v":"Ensuring that land owned by Yorkshire Water is conserved or enhanced to improve quality of the water it collects and reduce flooding"}]
[94,6,{"$f":"VLOOKUP('Design #'!C1402,Labels!$A:$B,2,FALSE)","v":"Supporting customers to reduce their water use and prevent blockages through education and provision of free tools/devices"},{"$f":"VLOOKUP('Design #'!D1402,Labels!$A:$B,2,FALSE)","v":"Preventing the likelihood of restrictions on water use, including hosepipe bans, in a drought"},{"$f":"VLOOKUP('Design #'!E1402,Labels!$A:$B,2,FALSE)","v":"Treating waste water to a high standard to ensure good quality water in Yorkshire's rivers and beaches"},{"$f":"VLOOKUP('Design #'!F1402,Labels!$A:$B,2,FALSE)","v":"Providing appropriate sewer capacity and pumping capabilities to cope with widespread flood events"}]
[94,7,{"$f":"VLOOKUP('Design #'!C1403,Labels!$A:$B,2,FALSE)","v":"Providing appropriate sewer capacity and pumping capabilities to cope with widespread flood events"},{"$f":"VLOOKUP('Design #'!D1403,Labels!$A:$B,2,FALSE)","v":"Supporting customers to reduce their water use and prevent blockages through education and provision of free tools/devices"},{"$f":"VLOOKUP('Design #'!E1403,Labels!$A:$B,2,FALSE)","v":"Working with other organisations on common challenges (e.g. flooding) to share costs and expertise allowing for more and smarter investment to tackle problems"},{"$f":"VLOOKUP('Design #'!F1403,Labels!$A:$B,2,FALSE)","v":"Providing a high level of customer service (e.g. resolving queries quickly)"}]
[94,8,{"$f":"VLOOKUP('Design #'!C1404,Labels!$A:$B,2,FALSE)","v":"Preventing pollution of rivers or streams from sewage pipes"},{"$f":"VLOOKUP('Design #'!D1404,Labels!$A:$B,2,FALSE)","v":"Preventing interruptions to the supply of water (e.g. planned works, burst pipes, leaks and outages) that cause problems ranging from low pressure to no water"},{"$f":"VLOOKUP('Design #'!E1404,Labels!$A:$B,2,FALSE)","v":"Preventing sewage entering gardens and public spaces from pipe collapses or blockages"},{"$f":"VLOOKUP('Design #'!F1404,Labels!$A:$B,2,FALSE)","v":"Ensuring additional support is available to those who need it e.g.  providing bills in braille, providing bottled water during times of interruptions for thos​e who can't get to a shop (elderly, medical conditions etc.)"}]
[94,9,{"$f":"VLOOKUP('Design #'!C1405,Labels!$A:$B,2,FALSE)","v":"Providing financial help and support to those who are struggling to pay their water bill"},{"$f":"VLOOKUP('Design #'!D1405,Labels!$A:$B,2,FALSE)","v":"Preventing leaks from Yorkshire Water's pipe network"},{"$f":"VLOOKUP('Design #'!E1405,Labels!$A:$B,2,FALSE)","v":"Treating waste water to a high standard to ensure good quality water in Yorkshire's rivers and beaches"},{"$f":"VLOOKUP('Design #'!F1405,Labels!$A:$B,2,FALSE)","v":"Reduce and offset carbon emissions to achieve a 'net zero' position by 2030 "}]
[94,10,{"$f":"VLOOKUP('Design #'!C1406,Labels!$A:$B,2,FALSE)","v":"Ensuring additional support is available to those who need it e.g.  providing bills in braille, providing bottled water during times of interruptions for thos​e who can't get to a shop (elderly, medical conditions etc.)"},{"$f":"VLOOKUP('Design #'!D1406,Labels!$A:$B,2,FALSE)","v":"Keeping bills affordable for all"},{"$f":"VLOOKUP('Design #'!E1406,Labels!$A:$B,2,FALSE)","v":"Reducing the release of untreated sewage mixed with rain water into rivers and streams during times of heavy rainfall"},{"$f":"VLOOKUP('Design #'!F1406,Labels!$A:$B,2,FALSE)","v":"Preventing interruptions to the supply of water (e.g. planned works, burst pipes, leaks and outages) that cause problems ranging from low pressure to no water"}]
[94,11,{"$f":"VLOOKUP('Design #'!C1407,Labels!$A:$B,2,FALSE)","v":"Providing good and constant water pressure"},{"$f":"VLOOKUP('Design #'!D1407,Labels!$A:$B,2,FALSE)","v":"Reduce and offset carbon emissions to achieve a 'net zero' position by 2030 "},{"$f":"VLOOKUP('Design #'!E1407,Labels!$A:$B,2,FALSE)","v":"Preventing the likelihood of restrictions on water use, including hosepipe bans, in a drought"},{"$f":"VLOOKUP('Design #'!F1407,Labels!$A:$B,2,FALSE)","v":"Providing water that is aesthetically pleasing (clear and clean with no odour or unusual taste or colour)"}]
[94,12,{"$f":"VLOOKUP('Design #'!C1408,Labels!$A:$B,2,FALSE)","v":"Providing a high level of customer service (e.g. resolving queries quickly)"},{"$f":"VLOOKUP('Design #'!D1408,Labels!$A:$B,2,FALSE)","v":"Ensuring additional support is available to those who need it e.g.  providing bills in braille, providing bottled water during times of interruptions for thos​e who can't get to a shop (elderly, medical conditions etc.)"},{"$f":"VLOOKUP('Design #'!E1408,Labels!$A:$B,2,FALSE)","v":"Reduce and offset carbon emissions to achieve a 'net zero' position by 2030 "},{"$f":"VLOOKUP('Design #'!F1408,Labels!$A:$B,2,FALSE)","v":"Providing financial help and support to those who are struggling to pay their water bill"}]
[94,13,{"$f":"VLOOKUP('Design #'!C1409,Labels!$A:$B,2,FALSE)","v":"Preventing leaks from Yorkshire Water's pipe network"},{"$f":"VLOOKUP('Design #'!D1409,Labels!$A:$B,2,FALSE)","v":"Preventing sewage entering gardens and public spaces from pipe collapses or blockages"},{"$f":"VLOOKUP('Design #'!E1409,Labels!$A:$B,2,FALSE)","v":"Preventing interruptions to the supply of water (e.g. planned works, burst pipes, leaks and outages) that cause problems ranging from low pressure to no water"},{"$f":"VLOOKUP('Design #'!F1409,Labels!$A:$B,2,FALSE)","v":"Ensuring that land owned by Yorkshire Water is conserved or enhanced to improve quality of the water it collects and reduce flooding"}]
[94,14,{"$f":"VLOOKUP('Design #'!C1410,Labels!$A:$B,2,FALSE)","v":"Providing water that is aesthetically pleasing (clear and clean with no odour or unusual taste or colour)"},{"$f":"VLOOKUP('Design #'!D1410,Labels!$A:$B,2,FALSE)","v":"Providing a continuous supply of water that is safe to drink"},{"$f":"VLOOKUP('Design #'!E1410,Labels!$A:$B,2,FALSE)","v":"Preventing pollution of rivers or streams from sewage pipes"},{"$f":"VLOOKUP('Design #'!F1410,Labels!$A:$B,2,FALSE)","v":"Working with other organisations on common challenges (e.g. flooding) to share costs and expertise allowing for more and smarter investment to tackle problems"}]
[94,15,{"$f":"VLOOKUP('Design #'!C1411,Labels!$A:$B,2,FALSE)","v":"Supporting customers to reduce their water use and prevent blockages through education and provision of free tools/devices"},{"$f":"VLOOKUP('Design #'!D1411,Labels!$A:$B,2,FALSE)","v":"Working with other organisations on common challenges (e.g. flooding) to share costs and expertise allowing for more and smarter investment to tackle problems"},{"$f":"VLOOKUP('Design #'!E1411,Labels!$A:$B,2,FALSE)","v":"Ensuring that land owned by Yorkshire Water is conserved or enhanced to improve quality of the water it collects and reduce flooding"},{"$f":"VLOOKUP('Design #'!F1411,Labels!$A:$B,2,FALSE)","v":"Keeping bills affordable for all"}]
[95,1,{"$f":"VLOOKUP('Design #'!C1412,Labels!$A:$B,2,FALSE)","v":"Reduce and offset carbon emissions to achieve a 'net zero' position by 2030 "},{"$f":"VLOOKUP('Design #'!D1412,Labels!$A:$B,2,FALSE)","v":"Preventing pollution of rivers or streams from sewage pipes"},{"$f":"VLOOKUP('Design #'!E1412,Labels!$A:$B,2,FALSE)","v":"Preventing the likelihood of restrictions on water use, including hosepipe bans, in a drought"},{"$f":"VLOOKUP('Design #'!F1412,Labels!$A:$B,2,FALSE)","v":"Preventing interruptions to the supply of water (e.g. planned works, burst pipes, leaks and outages) that cause problems ranging from low pressure to no water"}]
[95,2,{"$f":"VLOOKUP('Design #'!C1413,Labels!$A:$B,2,FALSE)","v":"Treating waste water to a high standard to ensure good quality water in Yorkshire's rivers and beaches"},{"$f":"VLOOKUP('Design #'!D1413,Labels!$A:$B,2,FALSE)","v":"Providing a high level of customer service (e.g. resolving queries quickly)"},{"$f":"VLOOKUP('Design #'!E1413,Labels!$A:$B,2,FALSE)","v":"Providing good and constant water pressure"},{"$f":"VLOOKUP('Design #'!F1413,Labels!$A:$B,2,FALSE)","v":"Reducing the release of untreated sewage mixed with rain water into rivers and streams during times of heavy rainfall"}]
[95,3,{"$f":"VLOOKUP('Design #'!C1414,Labels!$A:$B,2,FALSE)","v":"Preventing interruptions to the supply of water (e.g. planned works, burst pipes, leaks and outages) that cause problems ranging from low pressure to no water"},{"$f":"VLOOKUP('Design #'!D1414,Labels!$A:$B,2,FALSE)","v":"Providing water that is aesthetically pleasing (clear and clean with no odour or unusual taste or colour)"},{"$f":"VLOOKUP('Design #'!E1414,Labels!$A:$B,2,FALSE)","v":"Working with other organisations on common challenges (e.g. flooding) to share costs and expertise allowing for more and smarter investment to tackle problems"},{"$f":"VLOOKUP('Design #'!F1414,Labels!$A:$B,2,FALSE)","v":"Providing financial help and support to those who are struggling to pay their water bill"}]
[95,4,{"$f":"VLOOKUP('Design #'!C1415,Labels!$A:$B,2,FALSE)","v":"Ensuring that land owned by Yorkshire Water is conserved or enhanced to improve quality of the water it collects and reduce flooding"},{"$f":"VLOOKUP('Design #'!D1415,Labels!$A:$B,2,FALSE)","v":"Providing a high level of customer service (e.g. resolving queries quickly)"},{"$f":"VLOOKUP('Design #'!E1415,Labels!$A:$B,2,FALSE)","v":"Ensuring additional support is available to those who need it e.g.  providing bills in braille, providing bottled water during times of interruptions for thos​e who can't get to a shop (elderly, medical conditions etc.)"},{"$f":"VLOOKUP('Design #'!F1415,Labels!$A:$B,2,FALSE)","v":"Providing a continuous supply of water that is safe to drink"}]
[95,5,{"$f":"VLOOKUP('Design #'!C1416,Labels!$A:$B,2,FALSE)","v":"Preventing leaks from Yorkshire Water's pipe network"},{"$f":"VLOOKUP('Design #'!D1416,Labels!$A:$B,2,FALSE)","v":"Providing appropriate sewer capacity and pumping capabilities to cope with widespread flood events"},{"$f":"VLOOKUP('Design #'!E1416,Labels!$A:$B,2,FALSE)","v":"Keeping bills affordable for all"},{"$f":"VLOOKUP('Design #'!F1416,Labels!$A:$B,2,FALSE)","v":"Ensuring additional support is available to those who need it e.g.  providing bills in braille, providing bottled water during times of interruptions for thos​e who can't get to a shop (elderly, medical conditions etc.)"}]
[95,6,{"$f":"VLOOKUP('Design #'!C1417,Labels!$A:$B,2,FALSE)","v":"Providing financial help and support to those who are struggling to pay their water bill"},{"$f":"VLOOKUP('Design #'!D1417,Labels!$A:$B,2,FALSE)","v":"Working with other organisations on common challenges (e.g. flooding) to share costs and expertise allowing for more and smarter investment to tackle problems"},{"$f":"VLOOKUP('Design #'!E1417,Labels!$A:$B,2,FALSE)","v":"Reducing the release of untreated sewage mixed with rain water into rivers and streams during times of heavy rainfall"},{"$f":"VLOOKUP('Design #'!F1417,Labels!$A:$B,2,FALSE)","v":"Preventing leaks from Yorkshire Water's pipe network"}]
[95,7,{"$f":"VLOOKUP('Design #'!C1418,Labels!$A:$B,2,FALSE)","v":"Preventing sewage from entering homes and businesses "},{"$f":"VLOOKUP('Design #'!D1418,Labels!$A:$B,2,FALSE)","v":"Providing appropriate sewer capacity and pumping capabilities to cope with widespread flood events"},{"$f":"VLOOKUP('Design #'!E1418,Labels!$A:$B,2,FALSE)","v":"Providing a continuous supply of water that is safe to drink"},{"$f":"VLOOKUP('Design #'!F1418,Labels!$A:$B,2,FALSE)","v":"Preventing interruptions to the supply of water (e.g. planned works, burst pipes, leaks and outages) that cause problems ranging from low pressure to no water"}]
[95,8,{"$f":"VLOOKUP('Design #'!C1419,Labels!$A:$B,2,FALSE)","v":"Working with other organisations on common challenges (e.g. flooding) to share costs and expertise allowing for more and smarter investment to tackle problems"},{"$f":"VLOOKUP('Design #'!D1419,Labels!$A:$B,2,FALSE)","v":"Providing water that is aesthetically pleasing (clear and clean with no odour or unusual taste or colour)"},{"$f":"VLOOKUP('Design #'!E1419,Labels!$A:$B,2,FALSE)","v":"Preventing sewage from entering homes and businesses "},{"$f":"VLOOKUP('Design #'!F1419,Labels!$A:$B,2,FALSE)","v":"Reduce and offset carbon emissions to achieve a 'net zero' position by 2030 "}]
[95,9,{"$f":"VLOOKUP('Design #'!C1420,Labels!$A:$B,2,FALSE)","v":"Ensuring that land owned by Yorkshire Water is conserved or enhanced to improve quality of the water it collects and reduce flooding"},{"$f":"VLOOKUP('Design #'!D1420,Labels!$A:$B,2,FALSE)","v":"Providing good and constant water pressure"},{"$f":"VLOOKUP('Design #'!E1420,Labels!$A:$B,2,FALSE)","v":"Supporting customers to reduce their water use and prevent blockages through education and provision of free tools/devices"},{"$f":"VLOOKUP('Design #'!F1420,Labels!$A:$B,2,FALSE)","v":"Ensuring additional support is available to those who need it e.g.  providing bills in braille, providing bottled water during times of interruptions for thos​e who can't get to a shop (elderly, medical conditions etc.)"}]
[95,10,{"$f":"VLOOKUP('Design #'!C1421,Labels!$A:$B,2,FALSE)","v":"Treating waste water to a high standard to ensure good quality water in Yorkshire's rivers and beaches"},{"$f":"VLOOKUP('Design #'!D1421,Labels!$A:$B,2,FALSE)","v":"Supporting customers to reduce their water use and prevent blockages through education and provision of free tools/devices"},{"$f":"VLOOKUP('Design #'!E1421,Labels!$A:$B,2,FALSE)","v":"Ensuring additional support is available to those who need it e.g.  providing bills in braille, providing bottled water during times of interruptions for thos​e who can't get to a shop (elderly, medical conditions etc.)"},{"$f":"VLOOKUP('Design #'!F1421,Labels!$A:$B,2,FALSE)","v":"Preventing pollution of rivers or streams from sewage pipes"}]
[95,11,{"$f":"VLOOKUP('Design #'!C1422,Labels!$A:$B,2,FALSE)","v":"Reducing the release of untreated sewage mixed with rain water into rivers and streams during times of heavy rainfall"},{"$f":"VLOOKUP('Design #'!D1422,Labels!$A:$B,2,FALSE)","v":"Preventing leaks from Yorkshire Water's pipe network"},{"$f":"VLOOKUP('Design #'!E1422,Labels!$A:$B,2,FALSE)","v":"Providing a high level of customer service (e.g. resolving queries quickly)"},{"$f":"VLOOKUP('Design #'!F1422,Labels!$A:$B,2,FALSE)","v":"Preventing pollution of rivers or streams from sewage pipes"}]
[95,12,{"$f":"VLOOKUP('Design #'!C1423,Labels!$A:$B,2,FALSE)","v":"Preventing sewage entering gardens and public spaces from pipe collapses or blockages"},{"$f":"VLOOKUP('Design #'!D1423,Labels!$A:$B,2,FALSE)","v":"Treating waste water to a high standard to ensure good quality water in Yorkshire's rivers and beaches"},{"$f":"VLOOKUP('Design #'!E1423,Labels!$A:$B,2,FALSE)","v":"Providing water that is aesthetically pleasing (clear and clean with no odour or unusual taste or colour)"},{"$f":"VLOOKUP('Design #'!F1423,Labels!$A:$B,2,FALSE)","v":"Keeping bills affordable for all"}]
[95,13,{"$f":"VLOOKUP('Design #'!C1424,Labels!$A:$B,2,FALSE)","v":"Providing financial help and support to those who are struggling to pay their water bill"},{"$f":"VLOOKUP('Design #'!D1424,Labels!$A:$B,2,FALSE)","v":"Preventing the likelihood of restrictions on water use, including hosepipe bans, in a drought"},{"$f":"VLOOKUP('Design #'!E1424,Labels!$A:$B,2,FALSE)","v":"Ensuring that land owned by Yorkshire Water is conserved or enhanced to improve quality of the water it collects and reduce flooding"},{"$f":"VLOOKUP('Design #'!F1424,Labels!$A:$B,2,FALSE)","v":"Keeping bills affordable for all"}]
[95,14,{"$f":"VLOOKUP('Design #'!C1425,Labels!$A:$B,2,FALSE)","v":"Providing a continuous supply of water that is safe to drink"},{"$f":"VLOOKUP('Design #'!D1425,Labels!$A:$B,2,FALSE)","v":"Reduce and offset carbon emissions to achieve a 'net zero' position by 2030 "},{"$f":"VLOOKUP('Design #'!E1425,Labels!$A:$B,2,FALSE)","v":"Preventing sewage entering gardens and public spaces from pipe collapses or blockages"},{"$f":"VLOOKUP('Design #'!F1425,Labels!$A:$B,2,FALSE)","v":"Preventing the likelihood of restrictions on water use, including hosepipe bans, in a drought"}]
[95,15,{"$f":"VLOOKUP('Design #'!C1426,Labels!$A:$B,2,FALSE)","v":"Supporting customers to reduce their water use and prevent blockages through education and provision of free tools/devices"},{"$f":"VLOOKUP('Design #'!D1426,Labels!$A:$B,2,FALSE)","v":"Providing good and constant water pressure"},{"$f":"VLOOKUP('Design #'!E1426,Labels!$A:$B,2,FALSE)","v":"Providing appropriate sewer capacity and pumping capabilities to cope with widespread flood events"},{"$f":"VLOOKUP('Design #'!F1426,Labels!$A:$B,2,FALSE)","v":"Preventing sewage entering gardens and public spaces from pipe collapses or blockages"}]
[96,1,{"$f":"VLOOKUP('Design #'!C1427,Labels!$A:$B,2,FALSE)","v":"Preventing leaks from Yorkshire Water's pipe network"},{"$f":"VLOOKUP('Design #'!D1427,Labels!$A:$B,2,FALSE)","v":"Preventing pollution of rivers or streams from sewage pipes"},{"$f":"VLOOKUP('Design #'!E1427,Labels!$A:$B,2,FALSE)","v":"Working with other organisations on common challenges (e.g. flooding) to share costs and expertise allowing for more and smarter investment to tackle problems"},{"$f":"VLOOKUP('Design #'!F1427,Labels!$A:$B,2,FALSE)","v":"Preventing sewage entering gardens and public spaces from pipe collapses or blockages"}]
[96,2,{"$f":"VLOOKUP('Design #'!C1428,Labels!$A:$B,2,FALSE)","v":"Reducing the release of untreated sewage mixed with rain water into rivers and streams during times of heavy rainfall"},{"$f":"VLOOKUP('Design #'!D1428,Labels!$A:$B,2,FALSE)","v":"Ensuring that land owned by Yorkshire Water is conserved or enhanced to improve quality of the water it collects and reduce flooding"},{"$f":"VLOOKUP('Design #'!E1428,Labels!$A:$B,2,FALSE)","v":"Treating waste water to a high standard to ensure good quality water in Yorkshire's rivers and beaches"},{"$f":"VLOOKUP('Design #'!F1428,Labels!$A:$B,2,FALSE)","v":"Providing water that is aesthetically pleasing (clear and clean with no odour or unusual taste or colour)"}]
[96,3,{"$f":"VLOOKUP('Design #'!C1429,Labels!$A:$B,2,FALSE)","v":"Providing water that is aesthetically pleasing (clear and clean with no odour or unusual taste or colour)"},{"$f":"VLOOKUP('Design #'!D1429,Labels!$A:$B,2,FALSE)","v":"Providing good and constant water pressure"},{"$f":"VLOOKUP('Design #'!E1429,Labels!$A:$B,2,FALSE)","v":"Preventing leaks from Yorkshire Water's pipe network"},{"$f":"VLOOKUP('Design #'!F1429,Labels!$A:$B,2,FALSE)","v":"Preventing sewage from entering homes and businesses "}]
[96,4,{"$f":"VLOOKUP('Design #'!C1430,Labels!$A:$B,2,FALSE)","v":"Providing good and constant water pressure"},{"$f":"VLOOKUP('Design #'!D1430,Labels!$A:$B,2,FALSE)","v":"Ensuring that land owned by Yorkshire Water is conserved or enhanced to improve quality of the water it collects and reduce flooding"},{"$f":"VLOOKUP('Design #'!E1430,Labels!$A:$B,2,FALSE)","v":"Preventing sewage entering gardens and public spaces from pipe collapses or blockages"},{"$f":"VLOOKUP('Design #'!F1430,Labels!$A:$B,2,FALSE)","v":"Working with other organisations on common challenges (e.g. flooding) to share costs and expertise allowing for more and smarter investment to tackle problems"}]
[96,5,{"$f":"VLOOKUP('Design #'!C1431,Labels!$A:$B,2,FALSE)","v":"Preventing interruptions to the supply of water (e.g. planned works, burst pipes, leaks and outages) that cause problems ranging from low pressure to no water"},{"$f":"VLOOKUP('Design #'!D1431,Labels!$A:$B,2,FALSE)","v":"Supporting customers to reduce their water use and prevent blockages through education and provision of free tools/devices"},{"$f":"VLOOKUP('Design #'!E1431,Labels!$A:$B,2,FALSE)","v":"Reduce and offset carbon emissions to achieve a 'net zero' position by 2030 "},{"$f":"VLOOKUP('Design #'!F1431,Labels!$A:$B,2,FALSE)","v":"Reducing the release of untreated sewage mixed with rain water into rivers and streams during times of heavy rainfall"}]
[96,6,{"$f":"VLOOKUP('Design #'!C1432,Labels!$A:$B,2,FALSE)","v":"Providing appropriate sewer capacity and pumping capabilities to cope with widespread flood events"},{"$f":"VLOOKUP('Design #'!D1432,Labels!$A:$B,2,FALSE)","v":"Preventing the likelihood of restrictions on water use, including hosepipe bans, in a drought"},{"$f":"VLOOKUP('Design #'!E1432,Labels!$A:$B,2,FALSE)","v":"Providing water that is aesthetically pleasing (clear and clean with no odour or unusual taste or colour)"},{"$f":"VLOOKUP('Design #'!F1432,Labels!$A:$B,2,FALSE)","v":"Reducing the release of untreated sewage mixed with rain water into rivers and streams during times of heavy rainfall"}]
[96,7,{"$f":"VLOOKUP('Design #'!C1433,Labels!$A:$B,2,FALSE)","v":"Preventing sewage entering gardens and public spaces from pipe collapses or blockages"},{"$f":"VLOOKUP('Design #'!D1433,Labels!$A:$B,2,FALSE)","v":"Reducing the release of untreated sewage mixed with rain water into rivers and streams during times of heavy rainfall"},{"$f":"VLOOKUP('Design #'!E1433,Labels!$A:$B,2,FALSE)","v":"Keeping bills affordable for all"},{"$f":"VLOOKUP('Design #'!F1433,Labels!$A:$B,2,FALSE)","v":"Providing a continuous supply of water that is safe to drink"}]
[96,8,{"$f":"VLOOKUP('Design #'!C1434,Labels!$A:$B,2,FALSE)","v":"Providing a high level of customer service (e.g. resolving queries quickly)"},{"$f":"VLOOKUP('Design #'!D1434,Labels!$A:$B,2,FALSE)","v":"Providing financial help and support to those who are struggling to pay their water bill"},{"$f":"VLOOKUP('Design #'!E1434,Labels!$A:$B,2,FALSE)","v":"Supporting customers to reduce their water use and prevent blockages through education and provision of free tools/devices"},{"$f":"VLOOKUP('Design #'!F1434,Labels!$A:$B,2,FALSE)","v":"Providing a continuous supply of water that is safe to drink"}]
[96,9,{"$f":"VLOOKUP('Design #'!C1435,Labels!$A:$B,2,FALSE)","v":"Keeping bills affordable for all"},{"$f":"VLOOKUP('Design #'!D1435,Labels!$A:$B,2,FALSE)","v":"Preventing interruptions to the supply of water (e.g. planned works, burst pipes, leaks and outages) that cause problems ranging from low pressure to no water"},{"$f":"VLOOKUP('Design #'!E1435,Labels!$A:$B,2,FALSE)","v":"Ensuring additional support is available to those who need it e.g.  providing bills in braille, providing bottled water during times of interruptions for thos​e who can't get to a shop (elderly, medical conditions etc.)"},{"$f":"VLOOKUP('Design #'!F1435,Labels!$A:$B,2,FALSE)","v":"Preventing the likelihood of restrictions on water use, including hosepipe bans, in a drought"}]
[96,10,{"$f":"VLOOKUP('Design #'!C1436,Labels!$A:$B,2,FALSE)","v":"Ensuring additional support is available to those who need it e.g.  providing bills in braille, providing bottled water during times of interruptions for thos​e who can't get to a shop (elderly, medical conditions etc.)"},{"$f":"VLOOKUP('Design #'!D1436,Labels!$A:$B,2,FALSE)","v":"Reduce and offset carbon emissions to achieve a 'net zero' position by 2030 "},{"$f":"VLOOKUP('Design #'!E1436,Labels!$A:$B,2,FALSE)","v":"Preventing sewage from entering homes and businesses "},{"$f":"VLOOKUP('Design #'!F1436,Labels!$A:$B,2,FALSE)","v":"Providing a high level of customer service (e.g. resolving queries quickly)"}]
[96,11,{"$f":"VLOOKUP('Design #'!C1437,Labels!$A:$B,2,FALSE)","v":"Preventing the likelihood of restrictions on water use, including hosepipe bans, in a drought"},{"$f":"VLOOKUP('Design #'!D1437,Labels!$A:$B,2,FALSE)","v":"Treating waste water to a high standard to ensure good quality water in Yorkshire's rivers and beaches"},{"$f":"VLOOKUP('Design #'!E1437,Labels!$A:$B,2,FALSE)","v":"Working with other organisations on common challenges (e.g. flooding) to share costs and expertise allowing for more and smarter investment to tackle problems"},{"$f":"VLOOKUP('Design #'!F1437,Labels!$A:$B,2,FALSE)","v":"Preventing sewage from entering homes and businesses "}]
[96,12,{"$f":"VLOOKUP('Design #'!C1438,Labels!$A:$B,2,FALSE)","v":"Preventing leaks from Yorkshire Water's pipe network"},{"$f":"VLOOKUP('Design #'!D1438,Labels!$A:$B,2,FALSE)","v":"Preventing pollution of rivers or streams from sewage pipes"},{"$f":"VLOOKUP('Design #'!E1438,Labels!$A:$B,2,FALSE)","v":"Providing a high level of customer service (e.g. resolving queries quickly)"},{"$f":"VLOOKUP('Design #'!F1438,Labels!$A:$B,2,FALSE)","v":"Supporting customers to reduce their water use and prevent blockages through education and provision of free tools/devices"}]
[96,13,{"$f":"VLOOKUP('Design #'!C1439,Labels!$A:$B,2,FALSE)","v":"Reduce and offset carbon emissions to achieve a 'net zero' position by 2030 "},{"$f":"VLOOKUP('Design #'!D1439,Labels!$A:$B,2,FALSE)","v":"Providing a continuous supply of water that is safe to drink"},{"$f":"VLOOKUP('Design #'!E1439,Labels!$A:$B,2,FALSE)","v":"Providing financial help and support to those who are struggling to pay their water bill"},{"$f":"VLOOKUP('Design #'!F1439,Labels!$A:$B,2,FALSE)","v":"Keeping bills affordable for all"}]
[96,14,{"$f":"VLOOKUP('Design #'!C1440,Labels!$A:$B,2,FALSE)","v":"Preventing pollution of rivers or streams from sewage pipes"},{"$f":"VLOOKUP('Design #'!D1440,Labels!$A:$B,2,FALSE)","v":"Providing financial help and support to those who are struggling to pay their water bill"},{"$f":"VLOOKUP('Design #'!E1440,Labels!$A:$B,2,FALSE)","v":"Providing appropriate sewer capacity and pumping capabilities to cope with widespread flood events"},{"$f":"VLOOKUP('Design #'!F1440,Labels!$A:$B,2,FALSE)","v":"Ensuring that land owned by Yorkshire Water is conserved or enhanced to improve quality of the water it collects and reduce flooding"}]
[96,15,{"$f":"VLOOKUP('Design #'!C1441,Labels!$A:$B,2,FALSE)","v":"Treating waste water to a high standard to ensure good quality water in Yorkshire's rivers and beaches"},{"$f":"VLOOKUP('Design #'!D1441,Labels!$A:$B,2,FALSE)","v":"Preventing interruptions to the supply of water (e.g. planned works, burst pipes, leaks and outages) that cause problems ranging from low pressure to no water"},{"$f":"VLOOKUP('Design #'!E1441,Labels!$A:$B,2,FALSE)","v":"Providing good and constant water pressure"},{"$f":"VLOOKUP('Design #'!F1441,Labels!$A:$B,2,FALSE)","v":"Providing appropriate sewer capacity and pumping capabilities to cope with widespread flood events"}]
[97,1,{"$f":"VLOOKUP('Design #'!C1442,Labels!$A:$B,2,FALSE)","v":"Working with other organisations on common challenges (e.g. flooding) to share costs and expertise allowing for more and smarter investment to tackle problems"},{"$f":"VLOOKUP('Design #'!D1442,Labels!$A:$B,2,FALSE)","v":"Reducing the release of untreated sewage mixed with rain water into rivers and streams during times of heavy rainfall"},{"$f":"VLOOKUP('Design #'!E1442,Labels!$A:$B,2,FALSE)","v":"Preventing the likelihood of restrictions on water use, including hosepipe bans, in a drought"},{"$f":"VLOOKUP('Design #'!F1442,Labels!$A:$B,2,FALSE)","v":"Supporting customers to reduce their water use and prevent blockages through education and provision of free tools/devices"}]
[97,2,{"$f":"VLOOKUP('Design #'!C1443,Labels!$A:$B,2,FALSE)","v":"Preventing the likelihood of restrictions on water use, including hosepipe bans, in a drought"},{"$f":"VLOOKUP('Design #'!D1443,Labels!$A:$B,2,FALSE)","v":"Preventing sewage entering gardens and public spaces from pipe collapses or blockages"},{"$f":"VLOOKUP('Design #'!E1443,Labels!$A:$B,2,FALSE)","v":"Providing water that is aesthetically pleasing (clear and clean with no odour or unusual taste or colour)"},{"$f":"VLOOKUP('Design #'!F1443,Labels!$A:$B,2,FALSE)","v":"Providing a high level of customer service (e.g. resolving queries quickly)"}]
[97,3,{"$f":"VLOOKUP('Design #'!C1444,Labels!$A:$B,2,FALSE)","v":"Preventing sewage from entering homes and businesses "},{"$f":"VLOOKUP('Design #'!D1444,Labels!$A:$B,2,FALSE)","v":"Preventing sewage entering gardens and public spaces from pipe collapses or blockages"},{"$f":"VLOOKUP('Design #'!E1444,Labels!$A:$B,2,FALSE)","v":"Providing appropriate sewer capacity and pumping capabilities to cope with widespread flood events"},{"$f":"VLOOKUP('Design #'!F1444,Labels!$A:$B,2,FALSE)","v":"Preventing leaks from Yorkshire Water's pipe network"}]
[97,4,{"$f":"VLOOKUP('Design #'!C1445,Labels!$A:$B,2,FALSE)","v":"Working with other organisations on common challenges (e.g. flooding) to share costs and expertise allowing for more and smarter investment to tackle problems"},{"$f":"VLOOKUP('Design #'!D1445,Labels!$A:$B,2,FALSE)","v":"Ensuring additional support is available to those who need it e.g.  providing bills in braille, providing bottled water during times of interruptions for thos​e who can't get to a shop (elderly, medical conditions etc.)"},{"$f":"VLOOKUP('Design #'!E1445,Labels!$A:$B,2,FALSE)","v":"Reduce and offset carbon emissions to achieve a 'net zero' position by 2030 "},{"$f":"VLOOKUP('Design #'!F1445,Labels!$A:$B,2,FALSE)","v":"Providing good and constant water pressure"}]
[97,5,{"$f":"VLOOKUP('Design #'!C1446,Labels!$A:$B,2,FALSE)","v":"Providing good and constant water pressure"},{"$f":"VLOOKUP('Design #'!D1446,Labels!$A:$B,2,FALSE)","v":"Providing water that is aesthetically pleasing (clear and clean with no odour or unusual taste or colour)"},{"$f":"VLOOKUP('Design #'!E1446,Labels!$A:$B,2,FALSE)","v":"Preventing pollution of rivers or streams from sewage pipes"},{"$f":"VLOOKUP('Design #'!F1446,Labels!$A:$B,2,FALSE)","v":"Providing financial help and support to those who are struggling to pay their water bill"}]
[97,6,{"$f":"VLOOKUP('Design #'!C1447,Labels!$A:$B,2,FALSE)","v":"Providing water that is aesthetically pleasing (clear and clean with no odour or unusual taste or colour)"},{"$f":"VLOOKUP('Design #'!D1447,Labels!$A:$B,2,FALSE)","v":"Reduce and offset carbon emissions to achieve a 'net zero' position by 2030 "},{"$f":"VLOOKUP('Design #'!E1447,Labels!$A:$B,2,FALSE)","v":"Providing a continuous supply of water that is safe to drink"},{"$f":"VLOOKUP('Design #'!F1447,Labels!$A:$B,2,FALSE)","v":"Preventing leaks from Yorkshire Water's pipe network"}]
[97,7,{"$f":"VLOOKUP('Design #'!C1448,Labels!$A:$B,2,FALSE)","v":"Providing a continuous supply of water that is safe to drink"},{"$f":"VLOOKUP('Design #'!D1448,Labels!$A:$B,2,FALSE)","v":"Providing a high level of customer service (e.g. resolving queries quickly)"},{"$f":"VLOOKUP('Design #'!E1448,Labels!$A:$B,2,FALSE)","v":"Providing good and constant water pressure"},{"$f":"VLOOKUP('Design #'!F1448,Labels!$A:$B,2,FALSE)","v":"Ensuring that land owned by Yorkshire Water is conserved or enhanced to improve quality of the water it collects and reduce flooding"}]
[97,8,{"$f":"VLOOKUP('Design #'!C1449,Labels!$A:$B,2,FALSE)","v":"Ensuring additional support is available to those who need it e.g.  providing bills in braille, providing bottled water during times of interruptions for thos​e who can't get to a shop (elderly, medical conditions etc.)"},{"$f":"VLOOKUP('Design #'!D1449,Labels!$A:$B,2,FALSE)","v":"Preventing the likelihood of restrictions on water use, including hosepipe bans, in a drought"},{"$f":"VLOOKUP('Design #'!E1449,Labels!$A:$B,2,FALSE)","v":"Ensuring that land owned by Yorkshire Water is conserved or enhanced to improve quality of the water it collects and reduce flooding"},{"$f":"VLOOKUP('Design #'!F1449,Labels!$A:$B,2,FALSE)","v":"Preventing sewage from entering homes and businesses "}]
[97,9,{"$f":"VLOOKUP('Design #'!C1450,Labels!$A:$B,2,FALSE)","v":"Preventing sewage from entering homes and businesses "},{"$f":"VLOOKUP('Design #'!D1450,Labels!$A:$B,2,FALSE)","v":"Keeping bills affordable for all"},{"$f":"VLOOKUP('Design #'!E1450,Labels!$A:$B,2,FALSE)","v":"Preventing leaks from Yorkshire Water's pipe network"},{"$f":"VLOOKUP('Design #'!F1450,Labels!$A:$B,2,FALSE)","v":"Supporting customers to reduce their water use and prevent blockages through education and provision of free tools/devices"}]
[97,10,{"$f":"VLOOKUP('Design #'!C1451,Labels!$A:$B,2,FALSE)","v":"Providing appropriate sewer capacity and pumping capabilities to cope with widespread flood events"},{"$f":"VLOOKUP('Design #'!D1451,Labels!$A:$B,2,FALSE)","v":"Ensuring additional support is available to those who need it e.g.  providing bills in braille, providing bottled water during times of interruptions for thos​e who can't get to a shop (elderly, medical conditions etc.)"},{"$f":"VLOOKUP('Design #'!E1451,Labels!$A:$B,2,FALSE)","v":"Preventing pollution of rivers or streams from sewage pipes"},{"$f":"VLOOKUP('Design #'!F1451,Labels!$A:$B,2,FALSE)","v":"Reducing the release of untreated sewage mixed with rain water into rivers and streams during times of heavy rainfall"}]
[97,11,{"$f":"VLOOKUP('Design #'!C1452,Labels!$A:$B,2,FALSE)","v":"Reduce and offset carbon emissions to achieve a 'net zero' position by 2030 "},{"$f":"VLOOKUP('Design #'!D1452,Labels!$A:$B,2,FALSE)","v":"Keeping bills affordable for all"},{"$f":"VLOOKUP('Design #'!E1452,Labels!$A:$B,2,FALSE)","v":"Preventing pollution of rivers or streams from sewage pipes"},{"$f":"VLOOKUP('Design #'!F1452,Labels!$A:$B,2,FALSE)","v":"Treating waste water to a high standard to ensure good quality water in Yorkshire's rivers and beaches"}]
[97,12,{"$f":"VLOOKUP('Design #'!C1453,Labels!$A:$B,2,FALSE)","v":"Preventing pollution of rivers or streams from sewage pipes"},{"$f":"VLOOKUP('Design #'!D1453,Labels!$A:$B,2,FALSE)","v":"Preventing sewage from entering homes and businesses "},{"$f":"VLOOKUP('Design #'!E1453,Labels!$A:$B,2,FALSE)","v":"Preventing interruptions to the supply of water (e.g. planned works, burst pipes, leaks and outages) that cause problems ranging from low pressure to no water"},{"$f":"VLOOKUP('Design #'!F1453,Labels!$A:$B,2,FALSE)","v":"Providing a continuous supply of water that is safe to drink"}]
[97,13,{"$f":"VLOOKUP('Design #'!C1454,Labels!$A:$B,2,FALSE)","v":"Ensuring that land owned by Yorkshire Water is conserved or enhanced to improve quality of the water it collects and reduce flooding"},{"$f":"VLOOKUP('Design #'!D1454,Labels!$A:$B,2,FALSE)","v":"Treating waste water to a high standard to ensure good quality water in Yorkshire's rivers and beaches"},{"$f":"VLOOKUP('Design #'!E1454,Labels!$A:$B,2,FALSE)","v":"Providing financial help and support to those who are struggling to pay their water bill"},{"$f":"VLOOKUP('Design #'!F1454,Labels!$A:$B,2,FALSE)","v":"Providing appropriate sewer capacity and pumping capabilities to cope with widespread flood events"}]
[97,14,{"$f":"VLOOKUP('Design #'!C1455,Labels!$A:$B,2,FALSE)","v":"Supporting customers to reduce their water use and prevent blockages through education and provision of free tools/devices"},{"$f":"VLOOKUP('Design #'!D1455,Labels!$A:$B,2,FALSE)","v":"Providing financial help and support to those who are struggling to pay their water bill"},{"$f":"VLOOKUP('Design #'!E1455,Labels!$A:$B,2,FALSE)","v":"Preventing interruptions to the supply of water (e.g. planned works, burst pipes, leaks and outages) that cause problems ranging from low pressure to no water"},{"$f":"VLOOKUP('Design #'!F1455,Labels!$A:$B,2,FALSE)","v":"Preventing sewage entering gardens and public spaces from pipe collapses or blockages"}]
[97,15,{"$f":"VLOOKUP('Design #'!C1456,Labels!$A:$B,2,FALSE)","v":"Providing a high level of customer service (e.g. resolving queries quickly)"},{"$f":"VLOOKUP('Design #'!D1456,Labels!$A:$B,2,FALSE)","v":"Keeping bills affordable for all"},{"$f":"VLOOKUP('Design #'!E1456,Labels!$A:$B,2,FALSE)","v":"Treating waste water to a high standard to ensure good quality water in Yorkshire's rivers and beaches"},{"$f":"VLOOKUP('Design #'!F1456,Labels!$A:$B,2,FALSE)","v":"Working with other organisations on common challenges (e.g. flooding) to share costs and expertise allowing for more and smarter investment to tackle problems"}]
[98,1,{"$f":"VLOOKUP('Design #'!C1457,Labels!$A:$B,2,FALSE)","v":"Reducing the release of untreated sewage mixed with rain water into rivers and streams during times of heavy rainfall"},{"$f":"VLOOKUP('Design #'!D1457,Labels!$A:$B,2,FALSE)","v":"Providing financial help and support to those who are struggling to pay their water bill"},{"$f":"VLOOKUP('Design #'!E1457,Labels!$A:$B,2,FALSE)","v":"Preventing sewage from entering homes and businesses "},{"$f":"VLOOKUP('Design #'!F1457,Labels!$A:$B,2,FALSE)","v":"Reduce and offset carbon emissions to achieve a 'net zero' position by 2030 "}]
[98,2,{"$f":"VLOOKUP('Design #'!C1458,Labels!$A:$B,2,FALSE)","v":"Preventing the likelihood of restrictions on water use, including hosepipe bans, in a drought"},{"$f":"VLOOKUP('Design #'!D1458,Labels!$A:$B,2,FALSE)","v":"Providing good and constant water pressure"},{"$f":"VLOOKUP('Design #'!E1458,Labels!$A:$B,2,FALSE)","v":"Preventing leaks from Yorkshire Water's pipe network"},{"$f":"VLOOKUP('Design #'!F1458,Labels!$A:$B,2,FALSE)","v":"Preventing pollution of rivers or streams from sewage pipes"}]
[98,3,{"$f":"VLOOKUP('Design #'!C1459,Labels!$A:$B,2,FALSE)","v":"Ensuring that land owned by Yorkshire Water is conserved or enhanced to improve quality of the water it collects and reduce flooding"},{"$f":"VLOOKUP('Design #'!D1459,Labels!$A:$B,2,FALSE)","v":"Supporting customers to reduce their water use and prevent blockages through education and provision of free tools/devices"},{"$f":"VLOOKUP('Design #'!E1459,Labels!$A:$B,2,FALSE)","v":"Reducing the release of untreated sewage mixed with rain water into rivers and streams during times of heavy rainfall"},{"$f":"VLOOKUP('Design #'!F1459,Labels!$A:$B,2,FALSE)","v":"Reduce and offset carbon emissions to achieve a 'net zero' position by 2030 "}]
[98,4,{"$f":"VLOOKUP('Design #'!C1460,Labels!$A:$B,2,FALSE)","v":"Preventing leaks from Yorkshire Water's pipe network"},{"$f":"VLOOKUP('Design #'!D1460,Labels!$A:$B,2,FALSE)","v":"Ensuring that land owned by Yorkshire Water is conserved or enhanced to improve quality of the water it collects and reduce flooding"},{"$f":"VLOOKUP('Design #'!E1460,Labels!$A:$B,2,FALSE)","v":"Reduce and offset carbon emissions to achieve a 'net zero' position by 2030 "},{"$f":"VLOOKUP('Design #'!F1460,Labels!$A:$B,2,FALSE)","v":"Preventing interruptions to the supply of water (e.g. planned works, burst pipes, leaks and outages) that cause problems ranging from low pressure to no water"}]
[98,5,{"$f":"VLOOKUP('Design #'!C1461,Labels!$A:$B,2,FALSE)","v":"Preventing sewage entering gardens and public spaces from pipe collapses or blockages"},{"$f":"VLOOKUP('Design #'!D1461,Labels!$A:$B,2,FALSE)","v":"Working with other organisations on common challenges (e.g. flooding) to share costs and expertise allowing for more and smarter investment to tackle problems"},{"$f":"VLOOKUP('Design #'!E1461,Labels!$A:$B,2,FALSE)","v":"Reducing the release of untreated sewage mixed with rain water into rivers and streams during times of heavy rainfall"},{"$f":"VLOOKUP('Design #'!F1461,Labels!$A:$B,2,FALSE)","v":"Ensuring additional support is available to those who need it e.g.  providing bills in braille, providing bottled water during times of interruptions for thos​e who can't get to a shop (elderly, medical conditions etc.)"}]
[98,6,{"$f":"VLOOKUP('Design #'!C1462,Labels!$A:$B,2,FALSE)","v":"Preventing sewage from entering homes and businesses "},{"$f":"VLOOKUP('Design #'!D1462,Labels!$A:$B,2,FALSE)","v":"Providing appropriate sewer capacity and pumping capabilities to cope with widespread flood events"},{"$f":"VLOOKUP('Design #'!E1462,Labels!$A:$B,2,FALSE)","v":"Providing water that is aesthetically pleasing (clear and clean with no odour or unusual taste or colour)"},{"$f":"VLOOKUP('Design #'!F1462,Labels!$A:$B,2,FALSE)","v":"Treating waste water to a high standard to ensure good quality water in Yorkshire's rivers and beaches"}]
[98,7,{"$f":"VLOOKUP('Design #'!C1463,Labels!$A:$B,2,FALSE)","v":"Keeping bills affordable for all"},{"$f":"VLOOKUP('Design #'!D1463,Labels!$A:$B,2,FALSE)","v":"Providing a continuous supply of water that is safe to drink"},{"$f":"VLOOKUP('Design #'!E1463,Labels!$A:$B,2,FALSE)","v":"Working with other organisations on common challenges (e.g. flooding) to share costs and expertise allowing for more and smarter investment to tackle problems"},{"$f":"VLOOKUP('Design #'!F1463,Labels!$A:$B,2,FALSE)","v":"Providing appropriate sewer capacity and pumping capabilities to cope with widespread flood events"}]
[98,8,{"$f":"VLOOKUP('Design #'!C1464,Labels!$A:$B,2,FALSE)","v":"Providing a high level of customer service (e.g. resolving queries quickly)"},{"$f":"VLOOKUP('Design #'!D1464,Labels!$A:$B,2,FALSE)","v":"Preventing interruptions to the supply of water (e.g. planned works, burst pipes, leaks and outages) that cause problems ranging from low pressure to no water"},{"$f":"VLOOKUP('Design #'!E1464,Labels!$A:$B,2,FALSE)","v":"Supporting customers to reduce their water use and prevent blockages through education and provision of free tools/devices"},{"$f":"VLOOKUP('Design #'!F1464,Labels!$A:$B,2,FALSE)","v":"Providing water that is aesthetically pleasing (clear and clean with no odour or unusual taste or colour)"}]
[98,9,{"$f":"VLOOKUP('Design #'!C1465,Labels!$A:$B,2,FALSE)","v":"Ensuring additional support is available to those who need it e.g.  providing bills in braille, providing bottled water during times of interruptions for thos​e who can't get to a shop (elderly, medical conditions etc.)"},{"$f":"VLOOKUP('Design #'!D1465,Labels!$A:$B,2,FALSE)","v":"Preventing sewage entering gardens and public spaces from pipe collapses or blockages"},{"$f":"VLOOKUP('Design #'!E1465,Labels!$A:$B,2,FALSE)","v":"Providing a continuous supply of water that is safe to drink"},{"$f":"VLOOKUP('Design #'!F1465,Labels!$A:$B,2,FALSE)","v":"Treating waste water to a high standard to ensure good quality water in Yorkshire's rivers and beaches"}]
[98,10,{"$f":"VLOOKUP('Design #'!C1466,Labels!$A:$B,2,FALSE)","v":"Providing financial help and support to those who are struggling to pay their water bill"},{"$f":"VLOOKUP('Design #'!D1466,Labels!$A:$B,2,FALSE)","v":"Supporting customers to reduce their water use and prevent blockages through education and provision of free tools/devices"},{"$f":"VLOOKUP('Design #'!E1466,Labels!$A:$B,2,FALSE)","v":"Keeping bills affordable for all"},{"$f":"VLOOKUP('Design #'!F1466,Labels!$A:$B,2,FALSE)","v":"Providing good and constant water pressure"}]
[98,11,{"$f":"VLOOKUP('Design #'!C1467,Labels!$A:$B,2,FALSE)","v":"Preventing interruptions to the supply of water (e.g. planned works, burst pipes, leaks and outages) that cause problems ranging from low pressure to no water"},{"$f":"VLOOKUP('Design #'!D1467,Labels!$A:$B,2,FALSE)","v":"Preventing pollution of rivers or streams from sewage pipes"},{"$f":"VLOOKUP('Design #'!E1467,Labels!$A:$B,2,FALSE)","v":"Providing a continuous supply of water that is safe to drink"},{"$f":"VLOOKUP('Design #'!F1467,Labels!$A:$B,2,FALSE)","v":"Preventing the likelihood of restrictions on water use, including hosepipe bans, in a drought"}]
[98,12,{"$f":"VLOOKUP('Design #'!C1468,Labels!$A:$B,2,FALSE)","v":"Providing water that is aesthetically pleasing (clear and clean with no odour or unusual taste or colour)"},{"$f":"VLOOKUP('Design #'!D1468,Labels!$A:$B,2,FALSE)","v":"Preventing the likelihood of restrictions on water use, including hosepipe bans, in a drought"},{"$f":"VLOOKUP('Design #'!E1468,Labels!$A:$B,2,FALSE)","v":"Keeping bills affordable for all"},{"$f":"VLOOKUP('Design #'!F1468,Labels!$A:$B,2,FALSE)","v":"Providing good and constant water pressure"}]
[98,13,{"$f":"VLOOKUP('Design #'!C1469,Labels!$A:$B,2,FALSE)","v":"Preventing interruptions to the supply of water (e.g. planned works, burst pipes, leaks and outages) that cause problems ranging from low pressure to no water"},{"$f":"VLOOKUP('Design #'!D1469,Labels!$A:$B,2,FALSE)","v":"Working with other organisations on common challenges (e.g. flooding) to share costs and expertise allowing for more and smarter investment to tackle problems"},{"$f":"VLOOKUP('Design #'!E1469,Labels!$A:$B,2,FALSE)","v":"Providing a high level of customer service (e.g. resolving queries quickly)"},{"$f":"VLOOKUP('Design #'!F1469,Labels!$A:$B,2,FALSE)","v":"Preventing sewage from entering homes and businesses "}]
[98,14,{"$f":"VLOOKUP('Design #'!C1470,Labels!$A:$B,2,FALSE)","v":"Treating waste water to a high standard to ensure good quality water in Yorkshire's rivers and beaches"},{"$f":"VLOOKUP('Design #'!D1470,Labels!$A:$B,2,FALSE)","v":"Preventing leaks from Yorkshire Water's pipe network"},{"$f":"VLOOKUP('Design #'!E1470,Labels!$A:$B,2,FALSE)","v":"Ensuring additional support is available to those who need it e.g.  providing bills in braille, providing bottled water during times of interruptions for thos​e who can't get to a shop (elderly, medical conditions etc.)"},{"$f":"VLOOKUP('Design #'!F1470,Labels!$A:$B,2,FALSE)","v":"Providing financial help and support to those who are struggling to pay their water bill"}]
[98,15,{"$f":"VLOOKUP('Design #'!C1471,Labels!$A:$B,2,FALSE)","v":"Preventing sewage entering gardens and public spaces from pipe collapses or blockages"},{"$f":"VLOOKUP('Design #'!D1471,Labels!$A:$B,2,FALSE)","v":"Ensuring that land owned by Yorkshire Water is conserved or enhanced to improve quality of the water it collects and reduce flooding"},{"$f":"VLOOKUP('Design #'!E1471,Labels!$A:$B,2,FALSE)","v":"Providing appropriate sewer capacity and pumping capabilities to cope with widespread flood events"},{"$f":"VLOOKUP('Design #'!F1471,Labels!$A:$B,2,FALSE)","v":"Providing a high level of customer service (e.g. resolving queries quickly)"}]
[99,1,{"$f":"VLOOKUP('Design #'!C1472,Labels!$A:$B,2,FALSE)","v":"Supporting customers to reduce their water use and prevent blockages through education and provision of free tools/devices"},{"$f":"VLOOKUP('Design #'!D1472,Labels!$A:$B,2,FALSE)","v":"Reduce and offset carbon emissions to achieve a 'net zero' position by 2030 "},{"$f":"VLOOKUP('Design #'!E1472,Labels!$A:$B,2,FALSE)","v":"Providing appropriate sewer capacity and pumping capabilities to cope with widespread flood events"},{"$f":"VLOOKUP('Design #'!F1472,Labels!$A:$B,2,FALSE)","v":"Working with other organisations on common challenges (e.g. flooding) to share costs and expertise allowing for more and smarter investment to tackle problems"}]
[99,2,{"$f":"VLOOKUP('Design #'!C1473,Labels!$A:$B,2,FALSE)","v":"Working with other organisations on common challenges (e.g. flooding) to share costs and expertise allowing for more and smarter investment to tackle problems"},{"$f":"VLOOKUP('Design #'!D1473,Labels!$A:$B,2,FALSE)","v":"Preventing leaks from Yorkshire Water's pipe network"},{"$f":"VLOOKUP('Design #'!E1473,Labels!$A:$B,2,FALSE)","v":"Treating waste water to a high standard to ensure good quality water in Yorkshire's rivers and beaches"},{"$f":"VLOOKUP('Design #'!F1473,Labels!$A:$B,2,FALSE)","v":"Preventing interruptions to the supply of water (e.g. planned works, burst pipes, leaks and outages) that cause problems ranging from low pressure to no water"}]
[99,3,{"$f":"VLOOKUP('Design #'!C1474,Labels!$A:$B,2,FALSE)","v":"Preventing pollution of rivers or streams from sewage pipes"},{"$f":"VLOOKUP('Design #'!D1474,Labels!$A:$B,2,FALSE)","v":"Providing water that is aesthetically pleasing (clear and clean with no odour or unusual taste or colour)"},{"$f":"VLOOKUP('Design #'!E1474,Labels!$A:$B,2,FALSE)","v":"Preventing sewage entering gardens and public spaces from pipe collapses or blockages"},{"$f":"VLOOKUP('Design #'!F1474,Labels!$A:$B,2,FALSE)","v":"Keeping bills affordable for all"}]
[99,4,{"$f":"VLOOKUP('Design #'!C1475,Labels!$A:$B,2,FALSE)","v":"Reduce and offset carbon emissions to achieve a 'net zero' position by 2030 "},{"$f":"VLOOKUP('Design #'!D1475,Labels!$A:$B,2,FALSE)","v":"Treating waste water to a high standard to ensure good quality water in Yorkshire's rivers and beaches"},{"$f":"VLOOKUP('Design #'!E1475,Labels!$A:$B,2,FALSE)","v":"Providing a high level of customer service (e.g. resolving queries quickly)"},{"$f":"VLOOKUP('Design #'!F1475,Labels!$A:$B,2,FALSE)","v":"Preventing pollution of rivers or streams from sewage pipes"}]
[99,5,{"$f":"VLOOKUP('Design #'!C1476,Labels!$A:$B,2,FALSE)","v":"Providing appropriate sewer capacity and pumping capabilities to cope with widespread flood events"},{"$f":"VLOOKUP('Design #'!D1476,Labels!$A:$B,2,FALSE)","v":"Providing a high level of customer service (e.g. resolving queries quickly)"},{"$f":"VLOOKUP('Design #'!E1476,Labels!$A:$B,2,FALSE)","v":"Keeping bills affordable for all"},{"$f":"VLOOKUP('Design #'!F1476,Labels!$A:$B,2,FALSE)","v":"Preventing leaks from Yorkshire Water's pipe network"}]
[99,6,{"$f":"VLOOKUP('Design #'!C1477,Labels!$A:$B,2,FALSE)","v":"Preventing sewage entering gardens and public spaces from pipe collapses or blockages"},{"$f":"VLOOKUP('Design #'!D1477,Labels!$A:$B,2,FALSE)","v":"Treating waste water to a high standard to ensure good quality water in Yorkshire's rivers and beaches"},{"$f":"VLOOKUP('Design #'!E1477,Labels!$A:$B,2,FALSE)","v":"Supporting customers to reduce their water use and prevent blockages through education and provision of free tools/devices"},{"$f":"VLOOKUP('Design #'!F1477,Labels!$A:$B,2,FALSE)","v":"Preventing the likelihood of restrictions on water use, including hosepipe bans, in a drought"}]
[99,7,{"$f":"VLOOKUP('Design #'!C1478,Labels!$A:$B,2,FALSE)","v":"Providing financial help and support to those who are struggling to pay their water bill"},{"$f":"VLOOKUP('Design #'!D1478,Labels!$A:$B,2,FALSE)","v":"Ensuring additional support is available to those who need it e.g.  providing bills in braille, providing bottled water during times of interruptions for thos​e who can't get to a shop (elderly, medical conditions etc.)"},{"$f":"VLOOKUP('Design #'!E1478,Labels!$A:$B,2,FALSE)","v":"Preventing interruptions to the supply of water (e.g. planned works, burst pipes, leaks and outages) that cause problems ranging from low pressure to no water"},{"$f":"VLOOKUP('Design #'!F1478,Labels!$A:$B,2,FALSE)","v":"Preventing sewage from entering homes and businesses "}]
[99,8,{"$f":"VLOOKUP('Design #'!C1479,Labels!$A:$B,2,FALSE)","v":"Providing a continuous supply of water that is safe to drink"},{"$f":"VLOOKUP('Design #'!D1479,Labels!$A:$B,2,FALSE)","v":"Reducing the release of untreated sewage mixed with rain water into rivers and streams during times of heavy rainfall"},{"$f":"VLOOKUP('Design #'!E1479,Labels!$A:$B,2,FALSE)","v":"Providing good and constant water pressure"},{"$f":"VLOOKUP('Design #'!F1479,Labels!$A:$B,2,FALSE)","v":"Working with other organisations on common challenges (e.g. flooding) to share costs and expertise allowing for more and smarter investment to tackle problems"}]
[99,9,{"$f":"VLOOKUP('Design #'!C1480,Labels!$A:$B,2,FALSE)","v":"Ensuring that land owned by Yorkshire Water is conserved or enhanced to improve quality of the water it collects and reduce flooding"},{"$f":"VLOOKUP('Design #'!D1480,Labels!$A:$B,2,FALSE)","v":"Preventing leaks from Yorkshire Water's pipe network"},{"$f":"VLOOKUP('Design #'!E1480,Labels!$A:$B,2,FALSE)","v":"Preventing the likelihood of restrictions on water use, including hosepipe bans, in a drought"},{"$f":"VLOOKUP('Design #'!F1480,Labels!$A:$B,2,FALSE)","v":"Ensuring additional support is available to those who need it e.g.  providing bills in braille, providing bottled water during times of interruptions for thos​e who can't get to a shop (elderly, medical conditions etc.)"}]
[99,10,{"$f":"VLOOKUP('Design #'!C1481,Labels!$A:$B,2,FALSE)","v":"Providing good and constant water pressure"},{"$f":"VLOOKUP('Design #'!D1481,Labels!$A:$B,2,FALSE)","v":"Providing appropriate sewer capacity and pumping capabilities to cope with widespread flood events"},{"$f":"VLOOKUP('Design #'!E1481,Labels!$A:$B,2,FALSE)","v":"Ensuring additional support is available to those who need it e.g.  providing bills in braille, providing bottled water during times of interruptions for thos​e who can't get to a shop (elderly, medical conditions etc.)"},{"$f":"VLOOKUP('Design #'!F1481,Labels!$A:$B,2,FALSE)","v":"Reduce and offset carbon emissions to achieve a 'net zero' position by 2030 "}]
[99,11,{"$f":"VLOOKUP('Design #'!C1482,Labels!$A:$B,2,FALSE)","v":"Keeping bills affordable for all"},{"$f":"VLOOKUP('Design #'!D1482,Labels!$A:$B,2,FALSE)","v":"Preventing interruptions to the supply of water (e.g. planned works, burst pipes, leaks and outages) that cause problems ranging from low pressure to no water"},{"$f":"VLOOKUP('Design #'!E1482,Labels!$A:$B,2,FALSE)","v":"Ensuring that land owned by Yorkshire Water is conserved or enhanced to improve quality of the water it collects and reduce flooding"},{"$f":"VLOOKUP('Design #'!F1482,Labels!$A:$B,2,FALSE)","v":"Providing water that is aesthetically pleasing (clear and clean with no odour or unusual taste or colour)"}]
[99,12,{"$f":"VLOOKUP('Design #'!C1483,Labels!$A:$B,2,FALSE)","v":"Supporting customers to reduce their water use and prevent blockages through education and provision of free tools/devices"},{"$f":"VLOOKUP('Design #'!D1483,Labels!$A:$B,2,FALSE)","v":"Preventing sewage from entering homes and businesses "},{"$f":"VLOOKUP('Design #'!E1483,Labels!$A:$B,2,FALSE)","v":"Providing a continuous supply of water that is safe to drink"},{"$f":"VLOOKUP('Design #'!F1483,Labels!$A:$B,2,FALSE)","v":"Ensuring that land owned by Yorkshire Water is conserved or enhanced to improve quality of the water it collects and reduce flooding"}]
[99,13,{"$f":"VLOOKUP('Design #'!C1484,Labels!$A:$B,2,FALSE)","v":"Reducing the release of untreated sewage mixed with rain water into rivers and streams during times of heavy rainfall"},{"$f":"VLOOKUP('Design #'!D1484,Labels!$A:$B,2,FALSE)","v":"Preventing the likelihood of restrictions on water use, including hosepipe bans, in a drought"},{"$f":"VLOOKUP('Design #'!E1484,Labels!$A:$B,2,FALSE)","v":"Providing financial help and support to those who are struggling to pay their water bill"},{"$f":"VLOOKUP('Design #'!F1484,Labels!$A:$B,2,FALSE)","v":"Providing a high level of customer service (e.g. resolving queries quickly)"}]
[99,14,{"$f":"VLOOKUP('Design #'!C1485,Labels!$A:$B,2,FALSE)","v":"Keeping bills affordable for all"},{"$f":"VLOOKUP('Design #'!D1485,Labels!$A:$B,2,FALSE)","v":"Providing good and constant water pressure"},{"$f":"VLOOKUP('Design #'!E1485,Labels!$A:$B,2,FALSE)","v":"Preventing sewage from entering homes and businesses "},{"$f":"VLOOKUP('Design #'!F1485,Labels!$A:$B,2,FALSE)","v":"Preventing sewage entering gardens and public spaces from pipe collapses or blockages"}]
[99,15,{"$f":"VLOOKUP('Design #'!C1486,Labels!$A:$B,2,FALSE)","v":"Preventing pollution of rivers or streams from sewage pipes"},{"$f":"VLOOKUP('Design #'!D1486,Labels!$A:$B,2,FALSE)","v":"Ensuring that land owned by Yorkshire Water is conserved or enhanced to improve quality of the water it collects and reduce flooding"},{"$f":"VLOOKUP('Design #'!E1486,Labels!$A:$B,2,FALSE)","v":"Providing water that is aesthetically pleasing (clear and clean with no odour or unusual taste or colour)"},{"$f":"VLOOKUP('Design #'!F1486,Labels!$A:$B,2,FALSE)","v":"Reducing the release of untreated sewage mixed with rain water into rivers and streams during times of heavy rainfall"}]
[100,1,{"$f":"VLOOKUP('Design #'!C1487,Labels!$A:$B,2,FALSE)","v":"Preventing leaks from Yorkshire Water's pipe network"},{"$f":"VLOOKUP('Design #'!D1487,Labels!$A:$B,2,FALSE)","v":"Providing a continuous supply of water that is safe to drink"},{"$f":"VLOOKUP('Design #'!E1487,Labels!$A:$B,2,FALSE)","v":"Providing financial help and support to those who are struggling to pay their water bill"},{"$f":"VLOOKUP('Design #'!F1487,Labels!$A:$B,2,FALSE)","v":"Providing water that is aesthetically pleasing (clear and clean with no odour or unusual taste or colour)"}]
[100,2,{"$f":"VLOOKUP('Design #'!C1488,Labels!$A:$B,2,FALSE)","v":"Providing a high level of customer service (e.g. resolving queries quickly)"},{"$f":"VLOOKUP('Design #'!D1488,Labels!$A:$B,2,FALSE)","v":"Preventing sewage from entering homes and businesses "},{"$f":"VLOOKUP('Design #'!E1488,Labels!$A:$B,2,FALSE)","v":"Providing good and constant water pressure"},{"$f":"VLOOKUP('Design #'!F1488,Labels!$A:$B,2,FALSE)","v":"Preventing pollution of rivers or streams from sewage pipes"}]
[100,3,{"$f":"VLOOKUP('Design #'!C1489,Labels!$A:$B,2,FALSE)","v":"Treating waste water to a high standard to ensure good quality water in Yorkshire's rivers and beaches"},{"$f":"VLOOKUP('Design #'!D1489,Labels!$A:$B,2,FALSE)","v":"Reducing the release of untreated sewage mixed with rain water into rivers and streams during times of heavy rainfall"},{"$f":"VLOOKUP('Design #'!E1489,Labels!$A:$B,2,FALSE)","v":"Preventing leaks from Yorkshire Water's pipe network"},{"$f":"VLOOKUP('Design #'!F1489,Labels!$A:$B,2,FALSE)","v":"Preventing sewage from entering homes and businesses "}]
[100,4,{"$f":"VLOOKUP('Design #'!C1490,Labels!$A:$B,2,FALSE)","v":"Preventing sewage from entering homes and businesses "},{"$f":"VLOOKUP('Design #'!D1490,Labels!$A:$B,2,FALSE)","v":"Providing a high level of customer service (e.g. resolving queries quickly)"},{"$f":"VLOOKUP('Design #'!E1490,Labels!$A:$B,2,FALSE)","v":"Reduce and offset carbon emissions to achieve a 'net zero' position by 2030 "},{"$f":"VLOOKUP('Design #'!F1490,Labels!$A:$B,2,FALSE)","v":"Preventing the likelihood of restrictions on water use, including hosepipe bans, in a drought"}]
[100,5,{"$f":"VLOOKUP('Design #'!C1491,Labels!$A:$B,2,FALSE)","v":"Providing financial help and support to those who are struggling to pay their water bill"},{"$f":"VLOOKUP('Design #'!D1491,Labels!$A:$B,2,FALSE)","v":"Providing appropriate sewer capacity and pumping capabilities to cope with widespread flood events"},{"$f":"VLOOKUP('Design #'!E1491,Labels!$A:$B,2,FALSE)","v":"Preventing the likelihood of restrictions on water use, including hosepipe bans, in a drought"},{"$f":"VLOOKUP('Design #'!F1491,Labels!$A:$B,2,FALSE)","v":"Working with other organisations on common challenges (e.g. flooding) to share costs and expertise allowing for more and smarter investment to tackle problems"}]
[100,6,{"$f":"VLOOKUP('Design #'!C1492,Labels!$A:$B,2,FALSE)","v":"Reducing the release of untreated sewage mixed with rain water into rivers and streams during times of heavy rainfall"},{"$f":"VLOOKUP('Design #'!D1492,Labels!$A:$B,2,FALSE)","v":"Ensuring additional support is available to those who need it e.g.  providing bills in braille, providing bottled water during times of interruptions for thos​e who can't get to a shop (elderly, medical conditions etc.)"},{"$f":"VLOOKUP('Design #'!E1492,Labels!$A:$B,2,FALSE)","v":"Reduce and offset carbon emissions to achieve a 'net zero' position by 2030 "},{"$f":"VLOOKUP('Design #'!F1492,Labels!$A:$B,2,FALSE)","v":"Keeping bills affordable for all"}]
[100,7,{"$f":"VLOOKUP('Design #'!C1493,Labels!$A:$B,2,FALSE)","v":"Working with other organisations on common challenges (e.g. flooding) to share costs and expertise allowing for more and smarter investment to tackle problems"},{"$f":"VLOOKUP('Design #'!D1493,Labels!$A:$B,2,FALSE)","v":"Keeping bills affordable for all"},{"$f":"VLOOKUP('Design #'!E1493,Labels!$A:$B,2,FALSE)","v":"Providing a high level of customer service (e.g. resolving queries quickly)"},{"$f":"VLOOKUP('Design #'!F1493,Labels!$A:$B,2,FALSE)","v":"Preventing interruptions to the supply of water (e.g. planned works, burst pipes, leaks and outages) that cause problems ranging from low pressure to no water"}]
[100,8,{"$f":"VLOOKUP('Design #'!C1494,Labels!$A:$B,2,FALSE)","v":"Providing good and constant water pressure"},{"$f":"VLOOKUP('Design #'!D1494,Labels!$A:$B,2,FALSE)","v":"Providing a continuous supply of water that is safe to drink"},{"$f":"VLOOKUP('Design #'!E1494,Labels!$A:$B,2,FALSE)","v":"Treating waste water to a high standard to ensure good quality water in Yorkshire's rivers and beaches"},{"$f":"VLOOKUP('Design #'!F1494,Labels!$A:$B,2,FALSE)","v":"Preventing interruptions to the supply of water (e.g. planned works, burst pipes, leaks and outages) that cause problems ranging from low pressure to no water"}]
[100,9,{"$f":"VLOOKUP('Design #'!C1495,Labels!$A:$B,2,FALSE)","v":"Preventing the likelihood of restrictions on water use, including hosepipe bans, in a drought"},{"$f":"VLOOKUP('Design #'!D1495,Labels!$A:$B,2,FALSE)","v":"Preventing sewage entering gardens and public spaces from pipe collapses or blockages"},{"$f":"VLOOKUP('Design #'!E1495,Labels!$A:$B,2,FALSE)","v":"Treating waste water to a high standard to ensure good quality water in Yorkshire's rivers and beaches"},{"$f":"VLOOKUP('Design #'!F1495,Labels!$A:$B,2,FALSE)","v":"Providing good and constant water pressure"}]
[100,10,{"$f":"VLOOKUP('Design #'!C1496,Labels!$A:$B,2,FALSE)","v":"Providing a continuous supply of water that is safe to drink"},{"$f":"VLOOKUP('Design #'!D1496,Labels!$A:$B,2,FALSE)","v":"Supporting customers to reduce their water use and prevent blockages through education and provision of free tools/devices"},{"$f":"VLOOKUP('Design #'!E1496,Labels!$A:$B,2,FALSE)","v":"Preventing pollution of rivers or streams from sewage pipes"},{"$f":"VLOOKUP('Design #'!F1496,Labels!$A:$B,2,FALSE)","v":"Ensuring additional support is available to those who need it e.g.  providing bills in braille, providing bottled water during times of interruptions for thos​e who can't get to a shop (elderly, medical conditions etc.)"}]
[100,11,{"$f":"VLOOKUP('Design #'!C1497,Labels!$A:$B,2,FALSE)","v":"Preventing pollution of rivers or streams from sewage pipes"},{"$f":"VLOOKUP('Design #'!D1497,Labels!$A:$B,2,FALSE)","v":"Working with other organisations on common challenges (e.g. flooding) to share costs and expertise allowing for more and smarter investment to tackle problems"},{"$f":"VLOOKUP('Design #'!E1497,Labels!$A:$B,2,FALSE)","v":"Ensuring that land owned by Yorkshire Water is conserved or enhanced to improve quality of the water it collects and reduce flooding"},{"$f":"VLOOKUP('Design #'!F1497,Labels!$A:$B,2,FALSE)","v":"Providing financial help and support to those who are struggling to pay their water bill"}]
[100,12,{"$f":"VLOOKUP('Design #'!C1498,Labels!$A:$B,2,FALSE)","v":"Ensuring additional support is available to those who need it e.g.  providing bills in braille, providing bottled water during times of interruptions for thos​e who can't get to a shop (elderly, medical conditions etc.)"},{"$f":"VLOOKUP('Design #'!D1498,Labels!$A:$B,2,FALSE)","v":"Providing water that is aesthetically pleasing (clear and clean with no odour or unusual taste or colour)"},{"$f":"VLOOKUP('Design #'!E1498,Labels!$A:$B,2,FALSE)","v":"Supporting customers to reduce their water use and prevent blockages through education and provision of free tools/devices"},{"$f":"VLOOKUP('Design #'!F1498,Labels!$A:$B,2,FALSE)","v":"Preventing leaks from Yorkshire Water's pipe network"}]
[100,13,{"$f":"VLOOKUP('Design #'!C1499,Labels!$A:$B,2,FALSE)","v":"Reduce and offset carbon emissions to achieve a 'net zero' position by 2030 "},{"$f":"VLOOKUP('Design #'!D1499,Labels!$A:$B,2,FALSE)","v":"Preventing sewage entering gardens and public spaces from pipe collapses or blockages"},{"$f":"VLOOKUP('Design #'!E1499,Labels!$A:$B,2,FALSE)","v":"Providing water that is aesthetically pleasing (clear and clean with no odour or unusual taste or colour)"},{"$f":"VLOOKUP('Design #'!F1499,Labels!$A:$B,2,FALSE)","v":"Supporting customers to reduce their water use and prevent blockages through education and provision of free tools/devices"}]
[100,14,{"$f":"VLOOKUP('Design #'!C1500,Labels!$A:$B,2,FALSE)","v":"Providing appropriate sewer capacity and pumping capabilities to cope with widespread flood events"},{"$f":"VLOOKUP('Design #'!D1500,Labels!$A:$B,2,FALSE)","v":"Ensuring that land owned by Yorkshire Water is conserved or enhanced to improve quality of the water it collects and reduce flooding"},{"$f":"VLOOKUP('Design #'!E1500,Labels!$A:$B,2,FALSE)","v":"Reducing the release of untreated sewage mixed with rain water into rivers and streams during times of heavy rainfall"},{"$f":"VLOOKUP('Design #'!F1500,Labels!$A:$B,2,FALSE)","v":"Providing a continuous supply of water that is safe to drink"}]
[100,15,{"$f":"VLOOKUP('Design #'!C1501,Labels!$A:$B,2,FALSE)","v":"Preventing interruptions to the supply of water (e.g. planned works, burst pipes, leaks and outages) that cause problems ranging from low pressure to no water"},{"$f":"VLOOKUP('Design #'!D1501,Labels!$A:$B,2,FALSE)","v":"Providing financial help and support to those who are struggling to pay their water bill"},{"$f":"VLOOKUP('Design #'!E1501,Labels!$A:$B,2,FALSE)","v":"Preventing sewage entering gardens and public spaces from pipe collapses or blockages"},{"$f":"VLOOKUP('Design #'!F1501,Labels!$A:$B,2,FALSE)","v":"Providing appropriate sewer capacity and pumping capabilities to cope with widespread flood events"}]