{"text_format":"1","workbook":"xlsx","n_sheets":2,"sheets":["Scour Tests","Scour Tests (2)"],"not_rendered":{"charts":0,"images":0,"macros":1,"external_links":0,"defined_names":2,"comments":0,"pivot_tables":0},"unopened":[],"bounds":{"document_bytes":16777216,"sheet_cells":100000,"rows_first":2000,"rows_last":500,"rows_between":2000,"halvings":0,"cell_chars":16384,"cell_head_chars":4096},"cells_cut":0,"cells_raw":0,"read":"whole","date_system":"1900"}

{"sheet":"Scour Tests","index":0,"n_rows":234,"n_cols":7,"rows_kept":234,"cut":false,"hidden":false,"merged":[]}
["RESERVOIR","DATE","NGR OF DISCHARGE POINT","NAME OF WATERCOURSE AFFECTED","MAX OUTFLOW RATE (Ml/d)","OPERATIONAL CATCHMENT","WB-ID"]
["AGDEN/IRE","2025-03-05","SK 261 923","Agden Beck",170,"Upper Don","GB104027057390"]
["AGDEN/IRE","2025-11-06","SK 261 923","Agden Beck",170,"Upper Don","GB104027057390"]
["ALBERT/ESR","2025-04-22","SE 073 257","To Sewer",31,"Middle Calder","GB104027062780"]
["ALBERT/ESR","2025-10-16","SE 073 257","To Sewer",31,"Middle Calder","GB104027062780"]
["ANGRAM/IRE","2025-02-06","SE 044 764","Scar House IRE",186,"Upper Nidd","GB104027064120"]
["ANGRAM/IRE","2025-09-16","SE 044 764","Scar House IRE",186,"Upper Nidd","GB104027064120"]
["ARDSLEY/ESR","2025-04-29","SE 290 246","Haigh Moor Beck",86,"Lower Calder","GB104027062620"]
["ARDSLEY/ESR","2025-09-30","SE 290 246","Haigh Moor Beck",86,"Lower Calder","GB104027062620"]
["BAITINGS/IRE","2025-04-08","SE 011 188","River Ryburn",347,"Middle Calder","GB104027062540"]
["BAITINGS/IRE","2025-09-11","SE 011 188","River Ryburn",347,"Middle Calder","GB104027062540"]
["BARDEN LOWER/IRE","2025-02-04","SE 040 565","Barden Beck",60,"Middle Wharfe and Washburn","GB104027064060"]
["BARDEN LOWER/IRE","2025-08-19","SE 040 565","Barden Beck",60,"Middle Wharfe and Washburn","GB104027064060"]
["BARDEN UPPER/IRE","2025-06-24","SE 017 576","Barden Beck",99,"Middle Wharfe and Washburn","GB104027064060"]
["BARDEN UPPER/IRE","2025-12-11","SE 017 576","Barden Beck",99,"Middle Wharfe and Washburn","GB104027064060"]
["BILBERRY/IRE","2025-02-04","SE 103 070","Digley IRE","N/A","Colne & Holme","GB104027057600"]
["BILBERRY/IRE","2025-09-18","SE 103 070","Digley IRE","N/A","Colne & Holme","GB104027057600"]
["BLACKMOORFOOT/IRE","2025-03-20","SE 001 545","Embsay Beck",156,"Upper Aire",{"$error":"#REF!"}]
["BLACKMOORFOOT/IRE","2025-11-04",{"$error":"#N/A"},{"$error":"#N/A"},{"$error":"#N/A"},{"$error":"#N/A"},{"$error":"#N/A"}]
["BLAKELEY/IRE","2025-03-27","SE 053 097","Butterley IRE",1170,"Colne & Holme","GB104027063190"]
["BLAKELEY/IRE","2025-06-17","SE 053 097","Butterley IRE",1170,"Colne & Holme","GB104027063190"]
["BOOTH WOOD/IRE","2025-04-24","SE 032 165","Booth Dean Clough",55,"Middle Calder","GB104027062520"]
["BOOTH WOOD/IRE","2025-09-11","SE 032 165","Booth Dean Clough",55,"Middle Calder","GB104027062520"]
["BOSHAW WHAMS/IRE","2025-01-30","SE 151 058","Upper House Dyke",80,"Colne & Holme","GB104027057610"]
["BOSHAW WHAMS/IRE","2025-08-19","SE 151 058","Upper House Dyke",80,"Colne & Holme","GB104027057610"]
["BRANSHOLME/SLK","2025-01-21","TA 086 339","River Hull",50,"Hull Lower","GB104026067212"]
["BRANSHOLME/SLK","2025-07-26","TA 086 339","River Hull",50,"Hull Lower","GB104026067212"]
["BROADSTONES/ESR","2025-01-07","SE 196 065","Broadstones Dike",37,"Upper Don","GB104027057530"]
["BROADSTONES/ESR","2025-06-17","SE 196 065","Broadstones Dike",37,"Upper Don","GB104027057530"]
["BROOMHEAD/IRE","2025-06-26","SK 269 960","Morehall IRE",483,"Upper Don","GB104027057400"]
["BROOMHEAD/IRE","2025-12-04","SK 269 960","Morehall IRE",483,"Upper Don","GB104027057400"]
["BROWNHILL/IRE","2025-03-18","SE 117 064","River Holme",158,"Colne & Holme","GB104027057600"]
["BROWNHILL/IRE","2025-11-13","SE 117 064","River Holme",158,"Colne & Holme","GB104027057600"]
["BUTTERLEY/IRE","2025-01-09","SE 047 108","Wessenden Brook",1304,"Colne & Holme","GB104027063190"]
["BUTTERLEY/IRE","2025-06-17","SE 047 108","Wessenden Brook",1304,"Colne & Holme","GB104027063190"]
["CARR BOTTOM/IRE","2025-03-11","SE 147 445","Carr Beck",41,"Middle Wharfe and Washburn","GB104027064258"]
["CARR BOTTOM/IRE","2025-09-18","SE 147 445","Carr Beck",41,"Middle Wharfe and Washburn","GB104027064258"]
["CHELKER/IRE","2025-01-07","SE 052 518","Bank Gill Beck",84,"Middle Wharfe and Washburn","GB104027064030"]
["CHELKER/IRE","2025-06-17","SE 052 518","Bank Gill Beck",84,"Middle Wharfe and Washburn","GB104027064030"]
["COD BECK/IRE","2025-05-15","SE 462 985","Cod Beck",257,"Lower Swale","GB104027069010"]
["COD BECK/IRE","2025-10-30","SE 462 985","Cod Beck",257,"Lower Swale","GB104027069010"]
["DALE DIKE/IRE","2025-03-06","SK 242 916","River Loxley",300,"Upper Don","GB104027057380"]
["DALE DIKE/IRE","2025-09-25","SK 242 916","River Loxley",300,"Upper Don","GB104027057380"]
["DAMFLASK/IRE","2025-03-06","SK 284 907","River Loxley",186,"Upper Don","GB104027057370"]
["DAMFLASK/IRE","2025-09-23","SK 284 907","River Loxley",186,"Upper Don","GB104027057370"]
["DEAN HEAD LOWER/IRE","2025-06-24","SE 022 303","Luddenden Dean",62,"Middle Calder","GB104027062770"]
["DEAN HEAD LOWER/IRE","2025-12-04","SE 022 303","Luddenden Dean",62,"Middle Calder","GB104027062770"]
["DEAN HEAD UPPER/IRE","2025-06-24","SE 023 309","Luddenden Dean",73,"Middle Calder","GB104027062770"]
["DEAN HEAD UPPER/IRE","2025-12-04","SE 023 309","Luddenden Dean",73,"Middle Calder","GB104027062770"]
["DEANHEAD/IRE","2025-06-03","SE 039 152","Black Burne Brook",74,"Middle Calder","GB104027062570"]
["DEANHEAD/IRE","2025-10-14","SE 039 152","Black Burne Brook",74,"Middle Calder","GB104027062570"]
["DEERHILL/IRE","2025-03-20","SE 072 117","Bradley Brook",81,"Colne & Holme","GB104027063330"]
["DEERHILL/IRE","2025-11-04","SE 072 117","Bradley Brook",81,"Colne & Holme","GB104027063330"]
["DIGLEY/IRE","2025-02-04","SE 112 068","Digley Brook",374,"Colne & Holme","GB104027057600"]
["DIGLEY/IRE","2025-09-18","SE 112 068","Digley Brook",374,"Colne & Holme","GB104027057600"]
["DOE PARK/IRE","2025-05-08","SE 078 341","Denholme Beck",290,"Middle Aire","GB104027062870"]
["DOE PARK/IRE","2025-09-25","SE 078 341","Denholme Beck",290,"Middle Aire","GB104027062870"]
["ECCUP/ESR","2025-02-27","SE 308 419","Eccup Beck, Harewood Estate Ponds, River Wharfe",227,"Middle Wharfe and Washburn","GB104027063960"]
["ECCUP/ESR","2025-11-06","SE 308 419","Eccup Beck, Harewood Estate Ponds, River Wharfe",227,"Middle Wharfe and Washburn","GB104027063960"]
["ELDWICK/IRE","2025-02-13","SE 122 412","Eldwick Beck",32,"Upper Aire and Middle Aire","GB104027063034"]
["ELDWICK/IRE","2025-09-30","SE 122 412","Eldwick Beck",32,"Upper Aire and Middle Aire","GB104027063034"]
["ELSLACK/IRE","2025-04-22","SD 935 484","Elslack Beck",24,"Upper Aire","GB104027062980"]
["ELSLACK/IRE","2025-10-02","SD 935 484","Elslack Beck",24,"Upper Aire","GB104027062980"]
["ELVINGTON/NO 1 ESR","2025-03-11","SE 706 484","River Derwent",240,"Middle Derwent","GB104027068312"]
["ELVINGTON/NO 1 ESR","2025-09-16","SE 706 484","River Derwent",240,"Middle Derwent","GB104027068312"]
["ELVINGTON/NO 2 ESR","2025-03-11","SE 706 484","River Derwent",240,"Middle Derwent","GB104027068312"]
["ELVINGTON/NO 2 ESR","2025-09-16","SE 706 484","River Derwent",240,"Middle Derwent","GB104027068312"]
["ELVINGTON/NO 3 ESR","2025-03-11","SE 706 484","River Derwent",240,"Middle Derwent","GB104027068312"]
["ELVINGTON/NO 3 ESR","2025-09-16","SE 706 484","River Derwent",240,"Middle Derwent","GB104027068312"]
["EMBSAY/IRE","2025-02-06","SE 001 545","Embsay Beck",156,"Upper Aire","GB104027063060"]
["EMBSAY/IRE","2025-06-17","SE 001 545","Embsay Beck",156,"Upper Aire","GB104027063060"]
["FARNLEY STORM/SLK","2025-04-23","SE 252 332","Wortley Beck",40,"Aire Lower","GB104027062830"]
["FARNLEY STORM/SLK","2025-11-05","SE 252 332","Wortley Beck",40,"Aire Lower","GB104027062830"]
["FEWSTON/IRE","2025-01-07","SE 187 543","Swinsty IRE",1250,"Middle Wharfe and Washburn","GB104027064070"]
["FEWSTON/IRE","2025-07-22","SE 187 543","Swinsty IRE",1250,"Middle Wharfe and Washburn","GB104027064070"]
["GILSTEAD/ESR","2025-02-11","SE 119 394","Little Beck",56,"Upper Aire and Middle Aire","GB104027063034"]
["GILSTEAD/ESR","2025-10-23","SE 119 394","Little Beck",56,"Upper Aire and Middle Aire","GB104027063034"]
["GORPLE LOWER/IRE","2025-01-21","SD 940 314","Hebden Stream",213,"Upper Calder","GB104027062840"]
["GORPLE LOWER/IRE","2025-08-26","SD 940 314","Hebden Stream",213,"Upper Calder","GB104027062840"]
["GORPLE UPPER/IRE","2025-01-21","SD 924 315","Gorple Lower",182,"Upper Calder","GB104027062840"]
["GORPLE UPPER/IRE","2025-08-26","SD 924 315","Gorple Lower",182,"Upper Calder","GB104027062840"]
["GORPLEY/IRE","2025-04-03","SD 912 229","Gorpley Clough",55,"Upper Calder","GB104027062600"]
["GORPLEY/IRE","2025-10-02","SD 912 229","Gorpley Clough",55,"Upper Calder","GB104027062600"]
["GOUTHWAITE/IRE","2025-03-11","SE 141 682","River Nidd",502,"Upper Nidd","GB104027068294"]
["GOUTHWAITE/IRE","2025-09-09","SE 141 682","River Nidd",502,"Upper Nidd","GB104027068294"]
["GRAINCLIFFE/IRE","2025-02-13","SE 118 419","Eldwick Beck",72,"Upper Aire and Middle Aire","GB104027063034"]
["GRAINCLIFFE/IRE","2025-09-30","SE 118 419","Eldwick Beck",72,"Upper Aire and Middle Aire","GB104027063034"]
["GREEN WITHENS/IRE","2025-06-10","SD 990 161","Booth Dean",280,"Middle Calder","GB104027062520"]
["GREEN WITHENS/IRE","2025-12-11","SD 990 161","Booth Dean",280,"Middle Calder","GB104027062520"]
["GRIMWITH/IRE","2025-02-25","SE 058 639","River Dibb",1283,"Upper Wharfe","GB104027064120"]
["GRIMWITH/IRE","2025-09-11","SE 058 639","River Dibb",1283,"Upper Wharfe","GB104027064120"]
["HARDEN/IRE","2025-06-12","SE 152 036","Winscar IRE",126,"Upper Don","GB104027057500"]
["HARDEN/IRE","2025-12-11","SE 152 036","Winscar IRE",126,"Upper Don","GB104027057500"]
["HEWENDEN/IRE","2025-03-20","SE 074 356","Hewenden Beck",80,"Middle Aire","GB104027062870"]
["HEWENDEN/IRE","2025-09-25","SE 074 356","Hewenden Beck",80,"Middle Aire","GB104027062870"]
["HOLMESTYES/IRE","2025-01-30","SE 139 057","River Ribble",57,"Colne & Holme","GB104027057600"]
["HOLMESTYES/IRE","2025-08-19","SE 139 057","River Ribble",57,"Colne & Holme","GB104027057600"]
["HOLYM MYERS/WWTW","2025-04-22",{"$error":"#N/A"},{"$error":"#N/A"},{"$error":"#N/A"},{"$error":"#N/A"},{"$error":"#N/A"}]
["HOLYM MYERS/WWTW","2025-10-21",{"$error":"#N/A"},{"$error":"#N/A"},{"$error":"#N/A"},{"$error":"#N/A"},{"$error":"#N/A"}]
["INGBIRCHWORTH/IRE","2025-01-28","SE 218 059","Ingbirchworth Dike",330,"Upper Don","GB104027057530"]
["INGBIRCHWORTH/IRE","2025-06-19","SE 218 059","Ingbirchworth Dike",330,"Upper Don","GB104027057530"]
["JOHN O GAUNTS/IRE","2025-04-08","SE 228 546","Oak Beck",10,"Middle and Lower Nidd","GB104027063760"]
["JOHN O GAUNTS/IRE","2025-10-23","SE 228 546","Oak Beck",10,"Middle and Lower Nidd","GB104027063760"]
["KEIGHLEY MOOR/IRE","2025-07-24","SD 988 395","Morkin Beck",20,"Middle Aire","GB104027064230"]
["KEIGHLEY MOOR/IRE","2025-12-09","SD 988 395","Morkin Beck",20,"Middle Aire","GB104027064230"]
["LANGSETT/IRE","2025-06-10","SE 216 003","River Little Don",702,"Upper Don","GB104027057460"]
["LANGSETT/IRE","2025-12-09","SE 216 003","River Little Don",702,"Upper Don","GB104027057460"]
["LEEMING/IRE","2025-01-23","SE 037 342","Leeming Water",117,"Middle Aire","GB104027064200"]
["LEEMING/IRE","2025-07-22","SE 037 342","Leeming Water",117,"Middle Aire","GB104027064200"]
["LEESHAW/IRE","2025-01-23","SE 016 353","Dunkirk Beck",140,"Middle Aire","GB104027064200"]
["LEESHAW/IRE","2025-07-22","SE 016 353","Dunkirk Beck",140,"Middle Aire","GB104027064200"]
["LEIGHTON/IRE","2025-03-27","SE 166 790","River Burn",553,"Middle and Lower Ure","GB104027069270"]
["LEIGHTON/IRE","2025-12-02","SE 166 790","River Burn",553,"Middle and Lower Ure","GB104027069270"]
["LINDLEY WOOD/IRE","2025-06-19","SE 219 487","River Washburn",1462,"Middle Wharfe and Washburn","GB104027064020"]
["LINDLEY WOOD/IRE","2025-12-09","SE 219 487","River Washburn",1462,"Middle Wharfe and Washburn","GB104027064020"]
["LOFTSOME BRIDGE/ESR","2025-03-12","SE 698 295","River Derwent",57,"Lower Derwent","GB104027068311"]
["LOFTSOME BRIDGE/ESR","2025-10-07","SE 698 295","River Derwent",57,"Lower Derwent","GB104027068311"]
["LONGWOOD COMP/IRE","2025-02-18","SE 101 172","Longwood Brook",8,"Colne & Holme","GB104027063330"]
["LONGWOOD COMP/IRE","2025-10-23","SE 101 172","Longwood Brook",8,"Colne & Holme","GB104027063330"]
["LONGWOOD/ESR","2025-02-18","SE 097 169","Longwood Brook",134,"Colne & Holme","GB104027063330"]
["LONGWOOD/ESR","2025-10-23","SE 097 169","Longwood Brook",134,"Colne & Holme","GB104027063330"]
["LOWER LAITHE/IRE","2025-01-14","SE 015 370","Sladen Beck",136,"Middle Aire","GB104027064210"]
["LOWER LAITHE/IRE","2025-07-08","SE 015 370","Sladen Beck",136,"Middle Aire","GB104027064210"]
["LUMLEY MOOR/IRE","2025-03-25","SE 225 706","Holborn Beck",44,"Middle and Lower Ure","GB104027069190"]
["LUMLEY MOOR/IRE","2025-11-13","SE 225 706","Holborn Beck",44,"Middle and Lower Ure","GB104027069190"]
["MARCH GHYLL/IRE","2025-01-21","SE 122 509","Bow Beck",115,"Middle Wharfe and Washburn","GB104027064257"]
["MARCH GHYLL/IRE","2025-07-17","SE 122 509","Bow Beck",115,"Middle Wharfe and Washburn","GB104027064257"]
["MIDHOPE/IRE","2025-01-28","SK 221 997","River Little Don",178,"Upper Don","GB104027057460"]
["MIDHOPE/IRE","2025-07-22","SK 221 997","River Little Don",178,"Upper Don","GB104027057460"]
["MIXENDEN/IRE","2025-01-28","SE 060 287","Hebble Brook",140,"Middle Calder","GB104027062780"]
["MIXENDEN/IRE","2025-07-22","SE 060 287","Hebble Brook",140,"Middle Calder","GB104027062780"]
["MOREHALL/IRE","2025-03-04","SK 287 955","Ewden Beck",140,"Upper Don","GB104027057400"]
["MOREHALL/IRE","2025-09-04","SK 287 955","Ewden Beck",140,"Upper Don","GB104027057400"]
["OGDEN/IRE","2025-01-28","SE 064 306","Hebble Brook",115,"Middle Calder","GB104027062780"]
["OGDEN/IRE","2025-07-22","SE 064 306","Hebble Brook",115,"Middle Calder","GB104027062780"]
["PANORAMA/IRE","2025-03-11","SE 100 469","Black Beck",71,"Middle Wharfe and Washburn","GB104027064257"]
["PANORAMA/IRE","2025-09-18","SE 100 469","Black Beck",71,"Middle Wharfe and Washburn","GB104027064257"]
["PONDEN/IRE","2025-03-06","SD 995 372","River Worth",145,"Middle Aire","GB104027064210"]
["PONDEN/IRE","2025-10-16","SD 995 372","River Worth",145,"Middle Aire","GB104027064210"]
["RAMSDEN WOOD/ESR","2025-04-22","SE 058 271","To Sewer",149,"Middle Calder","GB104027062780"]
["RAMSDEN WOOD/ESR","2025-10-16","SE 058 271","To Sewer",149,"Middle Calder","GB104027062780"]
["RAMSDEN/IRE","2025-03-18","SE 114 056","Brownhill IRE",288,"Colne & Holme","GB104027057600"]
["RAMSDEN/IRE","2025-11-13","SE 114 056","Brownhill IRE",288,"Colne & Holme","GB104027057600"]
["RANDY MERE/ESR","2025-01-07","NZ 807 021","Oakley Beck",60,"Esk","GB104027068060"]
["RANDY MERE/ESR","2025-07-15","NZ 807 021","Oakley Beck",60,"Esk","GB104027068060"]
["REDMIRES LOWER/IRE","2025-02-11","SK 267 856","Wyming Brook",102,"Upper Don","GB104027057340"]
["REDMIRES LOWER/IRE","2025-08-12","SK 267 856","Wyming Brook",102,"Upper Don","GB104027057340"]
["REDMIRES MIDDLE/IRE","2025-02-11","SK 265 851","Redmires Lower IRE",42,"Upper Don","GB104027057340"]
["REDMIRES MIDDLE/IRE","2025-08-12","SK 265 851","Redmires Lower IRE",42,"Upper Don","GB104027057340"]
["REDMIRES UPPER/IRE","2025-02-11","SK 260 857","Redmires Middle IRE",94,"Upper Don","GB104027057340"]
["REDMIRES UPPER/IRE","2025-08-12","SK 260 857","Redmires Middle IRE",94,"Upper Don","GB104027057340"]
["REVA/IRE","2025-03-04","SE 148 427","Jum Beck",49,"Middle Aire","GB104027062940"]
["REVA/IRE","2025-10-07","SE 148 427","Jum Beck",49,"Middle Aire","GB104027062940"]
["RIDING WOOD/IRE","2025-02-20","SE 115 050","Ramsden IRE",77,"Colne & Holme","GB104027057600"]
["RIDING WOOD/IRE","2025-08-07","SE 115 050","Ramsden IRE",77,"Colne & Holme","GB104027057600"]
["RINGSTONE/IRE","2025-06-05","SE 049 178","Butts Clough",266,"Middle Calder","GB104027062520"]
["RINGSTONE/IRE","2025-11-20","SE 049 178","Butts Clough",266,"Middle Calder","GB104027062520"]
["RIVELIN LOWER/IRE","2025-06-05","SK 276 869","River Rivelin",101,"Upper Don","GB104027057340"]
["RIVELIN LOWER/IRE","2025-11-25","SK 276 869","River Rivelin",101,"Upper Don","GB104027057340"]
["RIVELIN UPPER/IRE","2025-02-06","SK 271 867","Rivelin Lower IRE",24,"Upper Don","GB104027057340"]
["RIVELIN UPPER/IRE","2025-08-05","SK 271 867","Rivelin Lower IRE",24,"Upper Don","GB104027057340"]
["RIVELIN/DEP POND IRE","2025-02-06","SK 287 869","River Rivelin",60,"Upper Don","GB104027057340"]
["RIVELIN/DEP POND IRE","2025-08-05","SK 287 869","River Rivelin",60,"Upper Don","GB104027057340"]
["ROUNDHILL/IRE","2025-06-05","SE 152 774","Leighton IRE",644,"Middle and Lower Ure","GB104027069270"]
["ROUNDHILL/IRE","2025-12-02","SE 152 774","Leighton IRE",644,"Middle and Lower Ure","GB104027069270"]
["ROYD MOOR/IRE","2025-03-25","SE 223 049","River Don",345,"Upper Don","GB104027057530"]
["ROYD MOOR/IRE","2025-10-30","SE 223 049","River Don",345,"Upper Don","GB104027057530"]
["RYBURN/IRE","2025-02-06","SE 023 186","River Ryburn",115,"Middle Calder","GB104027062540"]
["RYBURN/IRE","2025-07-31","SE 023 186","River Ryburn",115,"Middle Calder","GB104027062540"]
["SCAMMONDEN/IRE","2025-06-03","SE 053 169","Black Brook",487,"Middle Calder","GB104027062570"]
["SCAMMONDEN/IRE","2025-10-14","SE 053 169","Black Brook",487,"Middle Calder","GB104027062570"]
["SCAR HOUSE/IRE","2025-03-11","SE 068 769","River Nidd",201,"Upper Nidd","GB104027068380"]
["SCAR HOUSE/IRE","2025-09-16","SE 068 769","River Nidd",201,"Upper Nidd","GB104027068380"]
["SCARGILL/IRE","2025-04-08","SE 231 538","Oak Beck",204,"Middle and Lower Nidd","GB104027063760"]
["SCARGILL/IRE","2025-10-23","SE 231 538","Oak Beck",204,"Middle and Lower Nidd","GB104027063760"]
["SCOUT DIKE/IRE","2025-03-25","SE 236 046","River Don",368,"Upper Don","GB104027057530"]
["SCOUT DIKE/IRE","2025-11-11","SE 236 046","River Don",368,"Upper Don","GB104027057530"]
["SILSDEN/IRE","2025-02-27","SE 044 475","Silsden Beck",71,"Upper Aire","GB104027062990"]
["SILSDEN/IRE","2025-08-14","SE 044 475","Silsden Beck",71,"Upper Aire","GB104027062990"]
["SNAILSDEN/IRE","2025-06-12","SE 136 040","Harden Beck",105,"Colne & Holme","GB104027057600"]
["SNAILSDEN/IRE","2025-12-11","SE 136 040","Harden Beck",105,"Colne & Holme","GB104027057600"]
["SPA CLOUGH/ESR","2025-06-10","SD 9985 1539","Spa Clough",114,"Calder Middle","GB104027062520"]
["SPA CLOUGH/ESR","2025-12-11","SD 9985 1539","Spa Clough",114,"Calder Middle","GB104027062520"]
["STRINES/IRE","2025-04-03","SK 232 903","Dale Dike IRE",531,"Upper Don","GB104027057380"]
["STRINES/IRE","2025-10-02","SK 232 903","Dale Dike IRE",531,"Upper Don","GB104027057380"]
["STUBDEN/IRE","2025-01-02","SE 062 332","Stubden Beck",144,"Middle Aire","GB104027062870"]
["STUBDEN/IRE","2025-09-04","SE 062 332","Stubden Beck",144,"Middle Aire","GB104027062870"]
["SWINSTY/IRE","2025-05-22","SE 193 528","River Washburn",757,"Middle Wharfe and Washburn","GB104027064020"]
["SWINSTY/IRE","2025-12-16","SE 193 528","River Washburn",757,"Middle Wharfe and Washburn","GB104027064020"]
["THORNTON MOOR/IRE","2025-01-16","SE 052 333","Stubden Beck",104,"Middle Aire","GB104027062870"]
["THORNTON MOOR/IRE","2025-09-04","SE 052 333","Stubden Beck",104,"Middle Aire","GB104027062870"]
["THORNTON STEWARD/ESR","2025-03-11","SE 183 882","Finghall Beck",99,"Middle Swale","GB104027068940"]
["THORNTON STEWARD/ESR","2025-10-28","SE 183 882","Finghall Beck",99,"Middle Swale","GB104027068940"]
["THRUSCROSS/IRE","2025-06-10","SE 155 574","River Washburn",1130,"Middle Wharfe and Washburn","GB104027064070"]
["THRUSCROSS/IRE","2025-12-11","SE 155 574","River Washburn",1130,"Middle Wharfe and Washburn","GB104027064070"]
["TOPHILL LOW/NO 1 ESR","2025-05-20","TA 072 487","River Hull",40,"Middle Derwent","GB104027068312"]
["TOPHILL LOW/NO 1 ESR","2025-11-18","TA 072 487","River Hull",40,"Middle Derwent","GB104027068312"]
["TOPHILL LOW/NO 2 ESR","2025-05-20","TA 068 481","Barmston Drain",40,"Middle Derwent","GB104027068312"]
["TOPHILL LOW/NO 2 ESR","2025-11-18","TA 068 481","Barmston Drain",40,"Middle Derwent","GB104027068312"]
["UNDERBANK/IRE","2025-02-18","SK 253 991","River Little Don",838,"Upper Don","GB104027057460"]
["UNDERBANK/IRE","2025-10-16","SK 253 991","River Little Don",838,"Upper Don","GB104027057460"]
["WALSHAW DEAN LOWER/IRE","2025-02-12","SD 959 328","Hebden Stream",225,"Upper Calder","GB104027062850"]
["WALSHAW DEAN LOWER/IRE","2025-06-19","SD 959 328","Hebden Stream",225,"Upper Calder","GB104027062850"]
["WALSHAW DEAN LOWER/IRE","2025-12-16","SD 959 328","Hebden Stream",225,"Upper Calder","GB104027062850"]
["WALSHAW DEAN MIDDLE/IRE","2025-01-30","SD 964 333","Walshaw Dean Lower",168,"Upper Calder","GB104027062850"]
["WALSHAW DEAN MIDDLE/IRE","2025-08-28","SD 964 333","Walshaw Dean Lower",168,"Upper Calder","GB104027062850"]
["WALSHAW DEAN UPPER/IRE","2025-01-30","SD 968 342","Walshaw Dean Middle",167,"Upper Calder","GB104027062850"]
["WALSHAW DEAN UPPER/IRE","2025-08-28","SD 968 342","Walshaw Dean Middle",167,"Upper Calder","GB104027062850"]
["WARLEY MOOR/IRE","2025-06-24","SE 030 312","Deanhead Upper",67,"Middle Calder","GB104027062770"]
["WARLEY MOOR/IRE","2025-12-04","SE 030 312","Deanhead Upper",67,"Middle Calder","GB104027062770"]
["WATER SHEDDLES/IRE","2025-06-19","SD 9701 3799","River Worth",57,"Aire Middle","GB104027064210"]
["WATER SHEDDLES/IRE","2025-12-04","SD 9701 3799","River Worth",57,"Aire Middle","GB104027064210"]
["WEECHER/IRE","2025-03-04","SE 136 421","Gill Beck",15,"Middle Aire","GB104027062940"]
["WEECHER/IRE","2025-10-07","SE 136 421","Gill Beck",15,"Middle Aire","GB104027062940"]
["WESSENDEN HEAD/IRE","2025-02-13","SE 068 075","Wessenden Brook",115,"Colne & Holme","GB104027063190"]
["WESSENDEN HEAD/IRE","2025-08-14","SE 068 075","Wessenden Brook",115,"Colne & Holme","GB104027063190"]
["WESSENDEN OLD/IRE","2025-02-13","SE 056 087","Blakeley IRE",41,"Colne & Holme","GB104027063190"]
["WESSENDEN OLD/IRE","2025-08-14","SE 056 087","Blakeley IRE",41,"Colne & Holme","GB104027063190"]
["WHINNY GILL/IRE","2025-04-22","SD 998 512","Little Brook",17,"Upper Aire","GB104027063020"]
["WHINNY GILL/IRE","2025-10-02","SD 998 512","Little Brook",17,"Upper Aire","GB104027063020"]
["WHITLEY/ESR","2025-03-13","SE 219 179","Whitley Wood",98,"Lower Calder","GB104027062510"]
["WHITLEY/ESR","2025-09-09","SE 219 179","Whitley Wood",98,"Lower Calder","GB104027062510"]
["WIDDOP/IRE","2025-06-26","SD 936 327","Hebden Stream",147,"Upper Calder","GB104027062840"]
["WIDDOP/IRE","2025-12-09","SD 936 327","Hebden Stream",147,"Upper Calder","GB104027062840"]
["WINDLEDEN LOWER/IRE","2025-05-01","SE 158 020","Clough Beck",102,"Upper Don","GB104027057500"]
["WINDLEDEN LOWER/IRE","2025-10-28","SE 158 020","Clough Beck",102,"Upper Don","GB104027057500"]
["WINDLEDEN UPPER/IRE","2025-05-01","SE 153 013","Windleden Lower IRE",145,"Upper Don","GB104027057500"]
["WINDLEDEN UPPER/IRE","2025-10-28","SE 153 013","Windleden Lower IRE",145,"Upper Don","GB104027057500"]
["WINSCAR/IRE","2025-05-13","SE 156 024","River Don",474,"Upper Don","GB104027057500"]
["WINSCAR/IRE","2025-10-09","SE 156 024","River Don",474,"Upper Don","GB104027057500"]
["WITHENS CLOUGH/IRE","2025-04-10","SD 985 231","Turvin Clough",736,"Middle Calder","GB104027062610"]
["WITHENS CLOUGH/IRE","2025-10-30","SD 985 231","Turvin Clough",736,"Middle Calder","GB104027062610"]
["YATEHOLME/IRE","2025-02-20","SE 110 044","Netherley Clough",43,"Colne & Holme","GB104027057600"]
["YATEHOLME/IRE","2025-08-07","SE 110 044","Netherley Clough",43,"Colne & Holme","GB104027057600"]

{"sheet":"Scour Tests (2)","index":1,"n_rows":277,"n_cols":15,"rows_kept":277,"cut":false,"hidden":true,"merged":[]}
[null,null,null,null,null,null,null,null,null,null,"Please copy formula down in the grey columns, they are linked to Lookup (Lup) sheet"]
[]
["RESERVOIR","TEST TYPE","DATE","DAY","NOTIFICATION DATE","AREA EXPERT","No OF PEOPLE REQUIRED","AREA","SAME DAY AS","COMMENTS","NGR OF DISCHARGE POINT","NAME OF WATERCOURSE AFFECTED","MAX OUTFLOW RATE (Ml/d)","OPERATIONAL CATCHMENT","WB-ID"]
["ELVINGTON/NO 1 ESR","Scour Test","2020-12-22","Tuesday","2020-11-30","Sean Wright",3,"East",null,null,{"$f":"VLOOKUP(A4,#REF!,2,FALSE)","v":{"$error":"#REF!"}},{"$f":"VLOOKUP(A4,#REF!,3,FALSE)","v":{"$error":"#REF!"}},{"$f":"VLOOKUP(A4,#REF!,4,FALSE)","v":{"$error":"#REF!"}},{"$f":"VLOOKUP(A4,#REF!,7,FALSE)","v":{"$error":"#REF!"}},{"$f":"VLOOKUP(A4,#REF!,5,FALSE)","v":{"$error":"#REF!"}}]
["ELVINGTON/NO 2 ESR","Scour Test","2020-12-22","Tuesday","2020-11-30","Sean Wright",3,"East",null,null,{"$f":"VLOOKUP(A5,#REF!,2,FALSE)","v":{"$error":"#REF!"}},{"$f":"VLOOKUP(A5,#REF!,3,FALSE)","v":{"$error":"#REF!"}},{"$f":"VLOOKUP(A5,#REF!,4,FALSE)","v":{"$error":"#REF!"}},{"$f":"VLOOKUP(A5,#REF!,7,FALSE)","v":{"$error":"#REF!"}},{"$f":"VLOOKUP(A5,#REF!,5,FALSE)","v":{"$error":"#REF!"}}]
["ELVINGTON/NO 3 ESR","Scour Test","2020-12-22","Tuesday","2020-11-30","Sean Wright",3,"East",null,null,{"$f":"VLOOKUP(A6,#REF!,2,FALSE)","v":{"$error":"#REF!"}},{"$f":"VLOOKUP(A6,#REF!,3,FALSE)","v":{"$error":"#REF!"}},{"$f":"VLOOKUP(A6,#REF!,4,FALSE)","v":{"$error":"#REF!"}},{"$f":"VLOOKUP(A6,#REF!,7,FALSE)","v":{"$error":"#REF!"}},{"$f":"VLOOKUP(A6,#REF!,5,FALSE)","v":{"$error":"#REF!"}}]
["BARDEN LOWER/IRE","Scour Test","2021-01-05","Tuesday","2020-11-30","Dave Driver",3,"North West",null,null,{"$f":"VLOOKUP(A7,#REF!,2,FALSE)","v":{"$error":"#REF!"}},{"$f":"VLOOKUP(A7,#REF!,3,FALSE)","v":{"$error":"#REF!"}},{"$f":"VLOOKUP(A7,#REF!,4,FALSE)","v":{"$error":"#REF!"}},{"$f":"VLOOKUP(A7,#REF!,7,FALSE)","v":{"$error":"#REF!"}},{"$f":"VLOOKUP(A7,#REF!,5,FALSE)","v":{"$error":"#REF!"}}]
["BLAKELEY/IRE","Scour Test","2021-01-05","Tuesday","2020-11-30","Luke Shackleton",2,"West","Wes' Old",null,{"$f":"VLOOKUP(A8,#REF!,2,FALSE)","v":{"$error":"#REF!"}},{"$f":"VLOOKUP(A8,#REF!,3,FALSE)","v":{"$error":"#REF!"}},{"$f":"VLOOKUP(A8,#REF!,4,FALSE)","v":{"$error":"#REF!"}},{"$f":"VLOOKUP(A8,#REF!,7,FALSE)","v":{"$error":"#REF!"}},{"$f":"VLOOKUP(A8,#REF!,5,FALSE)","v":{"$error":"#REF!"}}]
["WESSENDEN OLD/IRE","Scour Test","2021-01-05","Tuesday","2020-11-30","Luke Shackleton",2,"West","Blakely",null,{"$f":"VLOOKUP(A9,#REF!,2,FALSE)","v":{"$error":"#REF!"}},{"$f":"VLOOKUP(A9,#REF!,3,FALSE)","v":{"$error":"#REF!"}},{"$f":"VLOOKUP(A9,#REF!,4,FALSE)","v":{"$error":"#REF!"}},{"$f":"VLOOKUP(A9,#REF!,7,FALSE)","v":{"$error":"#REF!"}},{"$f":"VLOOKUP(A9,#REF!,5,FALSE)","v":{"$error":"#REF!"}}]
["CHELKER/IRE","Scour Test","2021-01-07","Thursday","2020-11-30","Dave Driver",2,"North West",null,null,{"$f":"VLOOKUP(A10,#REF!,2,FALSE)","v":{"$error":"#REF!"}},{"$f":"VLOOKUP(A10,#REF!,3,FALSE)","v":{"$error":"#REF!"}},{"$f":"VLOOKUP(A10,#REF!,4,FALSE)","v":{"$error":"#REF!"}},{"$f":"VLOOKUP(A10,#REF!,7,FALSE)","v":{"$error":"#REF!"}},{"$f":"VLOOKUP(A10,#REF!,5,FALSE)","v":{"$error":"#REF!"}}]
["FEWSTON/IRE","F/V Test","2021-01-07","Thursday","2020-11-30","Jim Lester",3,"North",null,null,{"$f":"VLOOKUP(A11,#REF!,2,FALSE)","v":{"$error":"#REF!"}},{"$f":"VLOOKUP(A11,#REF!,3,FALSE)","v":{"$error":"#REF!"}},{"$f":"VLOOKUP(A11,#REF!,4,FALSE)","v":{"$error":"#REF!"}},{"$f":"VLOOKUP(A11,#REF!,7,FALSE)","v":{"$error":"#REF!"}},{"$f":"VLOOKUP(A11,#REF!,5,FALSE)","v":{"$error":"#REF!"}}]
["BROADSTONES/ESR","F/V Test","2021-01-07","Thursday","2020-11-30","Dan Lucks",2,"South",null,null,{"$f":"VLOOKUP(A12,#REF!,2,FALSE)","v":{"$error":"#REF!"}},{"$f":"VLOOKUP(A12,#REF!,3,FALSE)","v":{"$error":"#REF!"}},{"$f":"VLOOKUP(A12,#REF!,4,FALSE)","v":{"$error":"#REF!"}},{"$f":"VLOOKUP(A12,#REF!,7,FALSE)","v":{"$error":"#REF!"}},{"$f":"VLOOKUP(A12,#REF!,5,FALSE)","v":{"$error":"#REF!"}}]
["BARDEN UPPER/IRE","Scour Test","2021-01-12","Tuesday","2020-11-30","Dave Driver",6,"North West",null,null,{"$f":"VLOOKUP(A13,#REF!,2,FALSE)","v":{"$error":"#REF!"}},{"$f":"VLOOKUP(A13,#REF!,3,FALSE)","v":{"$error":"#REF!"}},{"$f":"VLOOKUP(A13,#REF!,4,FALSE)","v":{"$error":"#REF!"}},{"$f":"VLOOKUP(A13,#REF!,7,FALSE)","v":{"$error":"#REF!"}},{"$f":"VLOOKUP(A13,#REF!,5,FALSE)","v":{"$error":"#REF!"}}]
["LOWER LAITHE/IRE","F/V Test","2021-01-14","Thursday","2020-11-30","Tom Young (NW)",6,"North West","Scargill",null,{"$f":"VLOOKUP(A14,#REF!,2,FALSE)","v":{"$error":"#REF!"}},{"$f":"VLOOKUP(A14,#REF!,3,FALSE)","v":{"$error":"#REF!"}},{"$f":"VLOOKUP(A14,#REF!,4,FALSE)","v":{"$error":"#REF!"}},{"$f":"VLOOKUP(A14,#REF!,7,FALSE)","v":{"$error":"#REF!"}},{"$f":"VLOOKUP(A14,#REF!,5,FALSE)","v":{"$error":"#REF!"}}]
["SCARGILL/IRE","Scour Test","2021-01-14","Thursday","2020-12-14","Alex Haggarty",3,"North","Lower Laithe",null,{"$f":"VLOOKUP(A15,#REF!,2,FALSE)","v":{"$error":"#REF!"}},{"$f":"VLOOKUP(A15,#REF!,3,FALSE)","v":{"$error":"#REF!"}},{"$f":"VLOOKUP(A15,#REF!,4,FALSE)","v":{"$error":"#REF!"}},{"$f":"VLOOKUP(A15,#REF!,7,FALSE)","v":{"$error":"#REF!"}},{"$f":"VLOOKUP(A15,#REF!,5,FALSE)","v":{"$error":"#REF!"}}]
["THORNTON MOOR/IRE","F/V Test","2021-01-19","Tuesday","2020-11-30","Phil Preston",3,"North West",null,null,{"$f":"VLOOKUP(A16,#REF!,2,FALSE)","v":{"$error":"#REF!"}},{"$f":"VLOOKUP(A16,#REF!,3,FALSE)","v":{"$error":"#REF!"}},{"$f":"VLOOKUP(A16,#REF!,4,FALSE)","v":{"$error":"#REF!"}},{"$f":"VLOOKUP(A16,#REF!,7,FALSE)","v":{"$error":"#REF!"}},{"$f":"VLOOKUP(A16,#REF!,5,FALSE)","v":{"$error":"#REF!"}}]
["BRANSHOLME/SLK","F/V Test","2021-01-19","Tuesday","2020-11-30","Roger Blount",3,"Waste",null,null,{"$f":"VLOOKUP(A17,#REF!,2,FALSE)","v":{"$error":"#REF!"}},{"$f":"VLOOKUP(A17,#REF!,3,FALSE)","v":{"$error":"#REF!"}},{"$f":"VLOOKUP(A17,#REF!,4,FALSE)","v":{"$error":"#REF!"}},{"$f":"VLOOKUP(A17,#REF!,7,FALSE)","v":{"$error":"#REF!"}},{"$f":"VLOOKUP(A17,#REF!,5,FALSE)","v":{"$error":"#REF!"}}]
["AGDEN/IRE","Scour Test","2021-01-21","Thursday","2020-11-30","Elliot Beever",2,"South",null,null,{"$f":"VLOOKUP(A18,#REF!,2,FALSE)","v":{"$error":"#REF!"}},{"$f":"VLOOKUP(A18,#REF!,3,FALSE)","v":{"$error":"#REF!"}},{"$f":"VLOOKUP(A18,#REF!,4,FALSE)","v":{"$error":"#REF!"}},{"$f":"VLOOKUP(A18,#REF!,7,FALSE)","v":{"$error":"#REF!"}},{"$f":"VLOOKUP(A18,#REF!,5,FALSE)","v":{"$error":"#REF!"}}]
["MARCH GHYLL/IRE","F/V Test","2021-01-21","Thursday","2020-11-30","Ben Wilson",3,"North West",null,null,{"$f":"VLOOKUP(A19,#REF!,2,FALSE)","v":{"$error":"#REF!"}},{"$f":"VLOOKUP(A19,#REF!,3,FALSE)","v":{"$error":"#REF!"}},{"$f":"VLOOKUP(A19,#REF!,4,FALSE)","v":{"$error":"#REF!"}},{"$f":"VLOOKUP(A19,#REF!,7,FALSE)","v":{"$error":"#REF!"}},{"$f":"VLOOKUP(A19,#REF!,5,FALSE)","v":{"$error":"#REF!"}}]
["STUBDEN/IRE","F/V Test","2021-01-21","Thursday","2020-11-30","Phil Preston",3,"North West",null,null,{"$f":"VLOOKUP(A20,#REF!,2,FALSE)","v":{"$error":"#REF!"}},{"$f":"VLOOKUP(A20,#REF!,3,FALSE)","v":{"$error":"#REF!"}},{"$f":"VLOOKUP(A20,#REF!,4,FALSE)","v":{"$error":"#REF!"}},{"$f":"VLOOKUP(A20,#REF!,7,FALSE)","v":{"$error":"#REF!"}},{"$f":"VLOOKUP(A20,#REF!,5,FALSE)","v":{"$error":"#REF!"}}]
["HOLMESTYES/IRE","S10 F/V Test","2021-01-21","Thursday","2020-11-30","Peter H Jackson",3,"South","Boshaw Whams",null,{"$f":"VLOOKUP(A21,#REF!,2,FALSE)","v":{"$error":"#REF!"}},{"$f":"VLOOKUP(A21,#REF!,3,FALSE)","v":{"$error":"#REF!"}},{"$f":"VLOOKUP(A21,#REF!,4,FALSE)","v":{"$error":"#REF!"}},{"$f":"VLOOKUP(A21,#REF!,7,FALSE)","v":{"$error":"#REF!"}},{"$f":"VLOOKUP(A21,#REF!,5,FALSE)","v":{"$error":"#REF!"}}]
["BOSHAW WHAMS/IRE","F/V Test","2021-01-21","Thursday","2020-11-30","Peter H Jackson",3,"South","Holmestyes",null,{"$f":"VLOOKUP(A22,#REF!,2,FALSE)","v":{"$error":"#REF!"}},{"$f":"VLOOKUP(A22,#REF!,3,FALSE)","v":{"$error":"#REF!"}},{"$f":"VLOOKUP(A22,#REF!,4,FALSE)","v":{"$error":"#REF!"}},{"$f":"VLOOKUP(A22,#REF!,7,FALSE)","v":{"$error":"#REF!"}},{"$f":"VLOOKUP(A22,#REF!,5,FALSE)","v":{"$error":"#REF!"}}]
["LEEMING/IRE","F/V Test","2021-01-26","Tuesday","2020-11-30","Tom Young (NW)",3,"North West","Leeshaw",null,{"$f":"VLOOKUP(A23,#REF!,2,FALSE)","v":{"$error":"#REF!"}},{"$f":"VLOOKUP(A23,#REF!,3,FALSE)","v":{"$error":"#REF!"}},{"$f":"VLOOKUP(A23,#REF!,4,FALSE)","v":{"$error":"#REF!"}},{"$f":"VLOOKUP(A23,#REF!,7,FALSE)","v":{"$error":"#REF!"}},{"$f":"VLOOKUP(A23,#REF!,5,FALSE)","v":{"$error":"#REF!"}}]
["DALE DIKE/IRE","Scour Test","2021-01-26","Tuesday","2020-11-30","Elliot Beever",3,"South",null,null,{"$f":"VLOOKUP(A24,#REF!,2,FALSE)","v":{"$error":"#REF!"}},{"$f":"VLOOKUP(A24,#REF!,3,FALSE)","v":{"$error":"#REF!"}},{"$f":"VLOOKUP(A24,#REF!,4,FALSE)","v":{"$error":"#REF!"}},{"$f":"VLOOKUP(A24,#REF!,7,FALSE)","v":{"$error":"#REF!"}},{"$f":"VLOOKUP(A24,#REF!,5,FALSE)","v":{"$error":"#REF!"}}]
["LEESHAW/IRE","S10 F/V Test","2021-01-28","Thursday","2020-11-30","Tom Young (NW)",3,"North West","Leeming",null,{"$f":"VLOOKUP(A25,#REF!,2,FALSE)","v":{"$error":"#REF!"}},{"$f":"VLOOKUP(A25,#REF!,3,FALSE)","v":{"$error":"#REF!"}},{"$f":"VLOOKUP(A25,#REF!,4,FALSE)","v":{"$error":"#REF!"}},{"$f":"VLOOKUP(A25,#REF!,7,FALSE)","v":{"$error":"#REF!"}},{"$f":"VLOOKUP(A25,#REF!,5,FALSE)","v":{"$error":"#REF!"}}]
["MIXENDEN/IRE","F/V Test","2021-01-28","Thursday","2020-11-30","Oliver Oates",3,"West","Ogden",null,{"$f":"VLOOKUP(A26,#REF!,2,FALSE)","v":{"$error":"#REF!"}},{"$f":"VLOOKUP(A26,#REF!,3,FALSE)","v":{"$error":"#REF!"}},{"$f":"VLOOKUP(A26,#REF!,4,FALSE)","v":{"$error":"#REF!"}},{"$f":"VLOOKUP(A26,#REF!,7,FALSE)","v":{"$error":"#REF!"}},{"$f":"VLOOKUP(A26,#REF!,5,FALSE)","v":{"$error":"#REF!"}}]
["OGDEN/IRE","F/V Test","2021-01-28","Thursday","2020-11-30","Oliver Oates",3,"West","Mixenden",null,{"$f":"VLOOKUP(A27,#REF!,2,FALSE)","v":{"$error":"#REF!"}},{"$f":"VLOOKUP(A27,#REF!,3,FALSE)","v":{"$error":"#REF!"}},{"$f":"VLOOKUP(A27,#REF!,4,FALSE)","v":{"$error":"#REF!"}},{"$f":"VLOOKUP(A27,#REF!,7,FALSE)","v":{"$error":"#REF!"}},{"$f":"VLOOKUP(A27,#REF!,5,FALSE)","v":{"$error":"#REF!"}}]
["RIVELIN LOWER/IRE","F/V Test","2021-01-28","Thursday","2020-11-30","Tony Hartley",2,"South",null,null,{"$f":"VLOOKUP(A28,#REF!,2,FALSE)","v":{"$error":"#REF!"}},{"$f":"VLOOKUP(A28,#REF!,3,FALSE)","v":{"$error":"#REF!"}},{"$f":"VLOOKUP(A28,#REF!,4,FALSE)","v":{"$error":"#REF!"}},{"$f":"VLOOKUP(A28,#REF!,7,FALSE)","v":{"$error":"#REF!"}},{"$f":"VLOOKUP(A28,#REF!,5,FALSE)","v":{"$error":"#REF!"}}]
["WALSHAW DEAN LOWER/IRE","S10 Scour Test","2021-02-02","Tuesday","2021-01-04","Simon Firth",3,"West","All Wal Deans",null,{"$f":"VLOOKUP(A29,#REF!,2,FALSE)","v":{"$error":"#REF!"}},{"$f":"VLOOKUP(A29,#REF!,3,FALSE)","v":{"$error":"#REF!"}},{"$f":"VLOOKUP(A29,#REF!,4,FALSE)","v":{"$error":"#REF!"}},{"$f":"VLOOKUP(A29,#REF!,7,FALSE)","v":{"$error":"#REF!"}},{"$f":"VLOOKUP(A29,#REF!,5,FALSE)","v":{"$error":"#REF!"}}]
["WALSHAW DEAN MIDDLE/IRE","S10 Scour Test","2021-02-02","Tuesday","2021-01-04","Simon Firth",3,"West","All Wal Deans",null,{"$f":"VLOOKUP(A30,#REF!,2,FALSE)","v":{"$error":"#REF!"}},{"$f":"VLOOKUP(A30,#REF!,3,FALSE)","v":{"$error":"#REF!"}},{"$f":"VLOOKUP(A30,#REF!,4,FALSE)","v":{"$error":"#REF!"}},{"$f":"VLOOKUP(A30,#REF!,7,FALSE)","v":{"$error":"#REF!"}},{"$f":"VLOOKUP(A30,#REF!,5,FALSE)","v":{"$error":"#REF!"}}]
["WALSHAW DEAN UPPER/IRE","S10 Scour Test","2021-02-03","Wednesday","2021-01-04","Simon Firth",3,"West","All Wal Deans",null,{"$f":"VLOOKUP(A31,#REF!,2,FALSE)","v":{"$error":"#REF!"}},{"$f":"VLOOKUP(A31,#REF!,3,FALSE)","v":{"$error":"#REF!"}},{"$f":"VLOOKUP(A31,#REF!,4,FALSE)","v":{"$error":"#REF!"}},{"$f":"VLOOKUP(A31,#REF!,7,FALSE)","v":{"$error":"#REF!"}},{"$f":"VLOOKUP(A31,#REF!,5,FALSE)","v":{"$error":"#REF!"}}]
["KEIGHLEY MOOR/IRE","F/V Test","2021-02-04","Thursday","2021-01-04","Tom Young (NW)",2,"North West",null,null,{"$f":"VLOOKUP(A32,#REF!,2,FALSE)","v":{"$error":"#REF!"}},{"$f":"VLOOKUP(A32,#REF!,3,FALSE)","v":{"$error":"#REF!"}},{"$f":"VLOOKUP(A32,#REF!,4,FALSE)","v":{"$error":"#REF!"}},{"$f":"VLOOKUP(A32,#REF!,7,FALSE)","v":{"$error":"#REF!"}},{"$f":"VLOOKUP(A32,#REF!,5,FALSE)","v":{"$error":"#REF!"}}]
["DAMFLASK/IRE","F/V Test","2021-02-04","Thursday","2021-01-04","Elliot Beever",2,"South",null,null,{"$f":"VLOOKUP(A33,#REF!,2,FALSE)","v":{"$error":"#REF!"}},{"$f":"VLOOKUP(A33,#REF!,3,FALSE)","v":{"$error":"#REF!"}},{"$f":"VLOOKUP(A33,#REF!,4,FALSE)","v":{"$error":"#REF!"}},{"$f":"VLOOKUP(A33,#REF!,7,FALSE)","v":{"$error":"#REF!"}},{"$f":"VLOOKUP(A33,#REF!,5,FALSE)","v":{"$error":"#REF!"}}]
["THRUSCROSS/IRE","F/V Test","2021-02-04","Thursday","2021-01-04","Chris Spencer",5,"North",null,null,{"$f":"VLOOKUP(A34,#REF!,2,FALSE)","v":{"$error":"#REF!"}},{"$f":"VLOOKUP(A34,#REF!,3,FALSE)","v":{"$error":"#REF!"}},{"$f":"VLOOKUP(A34,#REF!,4,FALSE)","v":{"$error":"#REF!"}},{"$f":"VLOOKUP(A34,#REF!,7,FALSE)","v":{"$error":"#REF!"}},{"$f":"VLOOKUP(A34,#REF!,5,FALSE)","v":{"$error":"#REF!"}}]
["COD BECK/IRE","S10 F/V Test","2021-02-09","Tuesday","2021-01-04","Alex Haggarty",3,"North","Oakdale Upp & Low",null,{"$f":"VLOOKUP(A35,#REF!,2,FALSE)","v":{"$error":"#REF!"}},{"$f":"VLOOKUP(A35,#REF!,3,FALSE)","v":{"$error":"#REF!"}},{"$f":"VLOOKUP(A35,#REF!,4,FALSE)","v":{"$error":"#REF!"}},{"$f":"VLOOKUP(A35,#REF!,7,FALSE)","v":{"$error":"#REF!"}},{"$f":"VLOOKUP(A35,#REF!,5,FALSE)","v":{"$error":"#REF!"}}]
["REDMIRES LOWER/IRE","F/V Test","2021-02-11","Tuesday","2021-01-04","Tony Hartley",3,"South","Upp, Mid, Low",null,{"$f":"VLOOKUP(A36,#REF!,2,FALSE)","v":{"$error":"#REF!"}},{"$f":"VLOOKUP(A36,#REF!,3,FALSE)","v":{"$error":"#REF!"}},{"$f":"VLOOKUP(A36,#REF!,4,FALSE)","v":{"$error":"#REF!"}},{"$f":"VLOOKUP(A36,#REF!,7,FALSE)","v":{"$error":"#REF!"}},{"$f":"VLOOKUP(A36,#REF!,5,FALSE)","v":{"$error":"#REF!"}}]
["REDMIRES MIDDLE/IRE","F/V Test","2021-02-11","Tuesday","2021-01-04","Tony Hartley",3,"South","Upp, Mid, Low",null,{"$f":"VLOOKUP(A37,#REF!,2,FALSE)","v":{"$error":"#REF!"}},{"$f":"VLOOKUP(A37,#REF!,3,FALSE)","v":{"$error":"#REF!"}},{"$f":"VLOOKUP(A37,#REF!,4,FALSE)","v":{"$error":"#REF!"}},{"$f":"VLOOKUP(A37,#REF!,7,FALSE)","v":{"$error":"#REF!"}},{"$f":"VLOOKUP(A37,#REF!,5,FALSE)","v":{"$error":"#REF!"}}]
["REDMIRES UPPER/IRE","F/V Test","2021-02-11","Tuesday","2021-01-04","Tony Hartley",3,"South","Upp, Mid, Low",null,{"$f":"VLOOKUP(A38,#REF!,2,FALSE)","v":{"$error":"#REF!"}},{"$f":"VLOOKUP(A38,#REF!,3,FALSE)","v":{"$error":"#REF!"}},{"$f":"VLOOKUP(A38,#REF!,4,FALSE)","v":{"$error":"#REF!"}},{"$f":"VLOOKUP(A38,#REF!,7,FALSE)","v":{"$error":"#REF!"}},{"$f":"VLOOKUP(A38,#REF!,5,FALSE)","v":{"$error":"#REF!"}}]
["RIVELIN UPPER/IRE","F/V Test","2021-02-11","Thursday","2021-01-04","Tony Hartley",3,"South","Dep Pond",null,{"$f":"VLOOKUP(A39,#REF!,2,FALSE)","v":{"$error":"#REF!"}},{"$f":"VLOOKUP(A39,#REF!,3,FALSE)","v":{"$error":"#REF!"}},{"$f":"VLOOKUP(A39,#REF!,4,FALSE)","v":{"$error":"#REF!"}},{"$f":"VLOOKUP(A39,#REF!,7,FALSE)","v":{"$error":"#REF!"}},{"$f":"VLOOKUP(A39,#REF!,5,FALSE)","v":{"$error":"#REF!"}}]
["RIVELIN/DEP POND IRE","F/V Test","2021-02-11","Thursday","2021-01-04","Tony Hartley",3,"South","Upper",null,{"$f":"VLOOKUP(A40,#REF!,2,FALSE)","v":{"$error":"#REF!"}},{"$f":"VLOOKUP(A40,#REF!,3,FALSE)","v":{"$error":"#REF!"}},{"$f":"VLOOKUP(A40,#REF!,4,FALSE)","v":{"$error":"#REF!"}},{"$f":"VLOOKUP(A40,#REF!,7,FALSE)","v":{"$error":"#REF!"}},{"$f":"VLOOKUP(A40,#REF!,5,FALSE)","v":{"$error":"#REF!"}}]
["FARNLEY STORM/SLK","F/V Test","2021-02-16","Tuesday","2021-01-04","Paul Howarth",2,"Waste",null,null,{"$f":"VLOOKUP(A41,#REF!,2,FALSE)","v":{"$error":"#REF!"}},{"$f":"VLOOKUP(A41,#REF!,3,FALSE)","v":{"$error":"#REF!"}},{"$f":"VLOOKUP(A41,#REF!,4,FALSE)","v":{"$error":"#REF!"}},{"$f":"VLOOKUP(A41,#REF!,7,FALSE)","v":{"$error":"#REF!"}},{"$f":"VLOOKUP(A41,#REF!,5,FALSE)","v":{"$error":"#REF!"}}]
["PONDEN/IRE","F/V Test","2021-02-18","Thursday","2021-01-04","Tom Young (NW)",3,"North West",null,null,{"$f":"VLOOKUP(A42,#REF!,2,FALSE)","v":{"$error":"#REF!"}},{"$f":"VLOOKUP(A42,#REF!,3,FALSE)","v":{"$error":"#REF!"}},{"$f":"VLOOKUP(A42,#REF!,4,FALSE)","v":{"$error":"#REF!"}},{"$f":"VLOOKUP(A42,#REF!,7,FALSE)","v":{"$error":"#REF!"}},{"$f":"VLOOKUP(A42,#REF!,5,FALSE)","v":{"$error":"#REF!"}}]
["LONGWOOD COMP/IRE","F/V Test","2021-02-18","Thursday","2021-01-04","Ian Dorrington",3,"West","ESR",null,{"$f":"VLOOKUP(A43,#REF!,2,FALSE)","v":{"$error":"#REF!"}},{"$f":"VLOOKUP(A43,#REF!,3,FALSE)","v":{"$error":"#REF!"}},{"$f":"VLOOKUP(A43,#REF!,4,FALSE)","v":{"$error":"#REF!"}},{"$f":"VLOOKUP(A43,#REF!,7,FALSE)","v":{"$error":"#REF!"}},{"$f":"VLOOKUP(A43,#REF!,5,FALSE)","v":{"$error":"#REF!"}}]
["LONGWOOD/ESR","F/V Test","2021-02-18","Thursday","2021-01-04","Ian Dorrington",3,"West","Comp",null,{"$f":"VLOOKUP(A44,#REF!,2,FALSE)","v":{"$error":"#REF!"}},{"$f":"VLOOKUP(A44,#REF!,3,FALSE)","v":{"$error":"#REF!"}},{"$f":"VLOOKUP(A44,#REF!,4,FALSE)","v":{"$error":"#REF!"}},{"$f":"VLOOKUP(A44,#REF!,7,FALSE)","v":{"$error":"#REF!"}},{"$f":"VLOOKUP(A44,#REF!,5,FALSE)","v":{"$error":"#REF!"}}]
["LUMLEY MOOR/IRE","F/V Test","2021-02-18","Thursday","2021-01-04","Jim Lester",3,"North",null,null,{"$f":"VLOOKUP(A45,#REF!,2,FALSE)","v":{"$error":"#REF!"}},{"$f":"VLOOKUP(A45,#REF!,3,FALSE)","v":{"$error":"#REF!"}},{"$f":"VLOOKUP(A45,#REF!,4,FALSE)","v":{"$error":"#REF!"}},{"$f":"VLOOKUP(A45,#REF!,7,FALSE)","v":{"$error":"#REF!"}},{"$f":"VLOOKUP(A45,#REF!,5,FALSE)","v":{"$error":"#REF!"}}]
["UNDERBANK/IRE","F/V Test","2021-02-18","Thursday","2021-01-04","Peter H Jackson",2,"South",null,null,{"$f":"VLOOKUP(A46,#REF!,2,FALSE)","v":{"$error":"#REF!"}},{"$f":"VLOOKUP(A46,#REF!,3,FALSE)","v":{"$error":"#REF!"}},{"$f":"VLOOKUP(A46,#REF!,4,FALSE)","v":{"$error":"#REF!"}},{"$f":"VLOOKUP(A46,#REF!,7,FALSE)","v":{"$error":"#REF!"}},{"$f":"VLOOKUP(A46,#REF!,5,FALSE)","v":{"$error":"#REF!"}}]
["EMBSAY/IRE","F/V Test","2021-02-23","Tuesday","2021-01-04","Dave Driver",4,"North West",null,null,{"$f":"VLOOKUP(A47,#REF!,2,FALSE)","v":{"$error":"#REF!"}},{"$f":"VLOOKUP(A47,#REF!,3,FALSE)","v":{"$error":"#REF!"}},{"$f":"VLOOKUP(A47,#REF!,4,FALSE)","v":{"$error":"#REF!"}},{"$f":"VLOOKUP(A47,#REF!,7,FALSE)","v":{"$error":"#REF!"}},{"$f":"VLOOKUP(A47,#REF!,5,FALSE)","v":{"$error":"#REF!"}}]
["RIDING WOOD/IRE","F/V Test","2021-02-23","Tuesday","2021-01-04","David Townend",3,"West","Yateholme",null,{"$f":"VLOOKUP(A48,#REF!,2,FALSE)","v":{"$error":"#REF!"}},{"$f":"VLOOKUP(A48,#REF!,3,FALSE)","v":{"$error":"#REF!"}},{"$f":"VLOOKUP(A48,#REF!,4,FALSE)","v":{"$error":"#REF!"}},{"$f":"VLOOKUP(A48,#REF!,7,FALSE)","v":{"$error":"#REF!"}},{"$f":"VLOOKUP(A48,#REF!,5,FALSE)","v":{"$error":"#REF!"}}]
["YATEHOLME/IRE","F/V Test","2021-02-23","Tuesday","2021-01-04","David Townend",3,"West","Riding Wood",null,{"$f":"VLOOKUP(A49,#REF!,2,FALSE)","v":{"$error":"#REF!"}},{"$f":"VLOOKUP(A49,#REF!,3,FALSE)","v":{"$error":"#REF!"}},{"$f":"VLOOKUP(A49,#REF!,4,FALSE)","v":{"$error":"#REF!"}},{"$f":"VLOOKUP(A49,#REF!,7,FALSE)","v":{"$error":"#REF!"}},{"$f":"VLOOKUP(A49,#REF!,5,FALSE)","v":{"$error":"#REF!"}}]
["WITHENS CLOUGH/IRE","F/V Test","2021-02-23","Tuesday","2021-01-04","Nick Lunt",3,"West",null,null,{"$f":"VLOOKUP(A50,#REF!,2,FALSE)","v":{"$error":"#REF!"}},{"$f":"VLOOKUP(A50,#REF!,3,FALSE)","v":{"$error":"#REF!"}},{"$f":"VLOOKUP(A50,#REF!,4,FALSE)","v":{"$error":"#REF!"}},{"$f":"VLOOKUP(A50,#REF!,7,FALSE)","v":{"$error":"#REF!"}},{"$f":"VLOOKUP(A50,#REF!,5,FALSE)","v":{"$error":"#REF!"}}]
["GOUTHWAITE/IRE","F/V Test","2021-02-25","Thursday","2021-01-04","Grace Oldknow",2,"North West",null,null,{"$f":"VLOOKUP(A51,#REF!,2,FALSE)","v":{"$error":"#REF!"}},{"$f":"VLOOKUP(A51,#REF!,3,FALSE)","v":{"$error":"#REF!"}},{"$f":"VLOOKUP(A51,#REF!,4,FALSE)","v":{"$error":"#REF!"}},{"$f":"VLOOKUP(A51,#REF!,7,FALSE)","v":{"$error":"#REF!"}},{"$f":"VLOOKUP(A51,#REF!,5,FALSE)","v":{"$error":"#REF!"}}]
["DEANHEAD/IRE","F/V Test","2021-02-25","Thursday","2021-01-04","Ian Dorrington",3,"West","Scammonden",null,{"$f":"VLOOKUP(A52,#REF!,2,FALSE)","v":{"$error":"#REF!"}},{"$f":"VLOOKUP(A52,#REF!,3,FALSE)","v":{"$error":"#REF!"}},{"$f":"VLOOKUP(A52,#REF!,4,FALSE)","v":{"$error":"#REF!"}},{"$f":"VLOOKUP(A52,#REF!,7,FALSE)","v":{"$error":"#REF!"}},{"$f":"VLOOKUP(A52,#REF!,5,FALSE)","v":{"$error":"#REF!"}}]
["SCAMMONDEN/IRE","F/V Test","2021-02-25","Thursday","2021-01-04","Ian Dorrington",3,"West","Deanhead",null,{"$f":"VLOOKUP(A53,#REF!,2,FALSE)","v":{"$error":"#REF!"}},{"$f":"VLOOKUP(A53,#REF!,3,FALSE)","v":{"$error":"#REF!"}},{"$f":"VLOOKUP(A53,#REF!,4,FALSE)","v":{"$error":"#REF!"}},{"$f":"VLOOKUP(A53,#REF!,7,FALSE)","v":{"$error":"#REF!"}},{"$f":"VLOOKUP(A53,#REF!,5,FALSE)","v":{"$error":"#REF!"}}]
["DIGLEY/IRE","F/V Test","2021-02-25","Thursday","2021-01-04","David Townend",3,"West","Bilberry",null,{"$f":"VLOOKUP(A54,#REF!,2,FALSE)","v":{"$error":"#REF!"}},{"$f":"VLOOKUP(A54,#REF!,3,FALSE)","v":{"$error":"#REF!"}},{"$f":"VLOOKUP(A54,#REF!,4,FALSE)","v":{"$error":"#REF!"}},{"$f":"VLOOKUP(A54,#REF!,7,FALSE)","v":{"$error":"#REF!"}},{"$f":"VLOOKUP(A54,#REF!,5,FALSE)","v":{"$error":"#REF!"}}]
["BILBERRY/IRE","F/V Test","2021-02-25","Thursday","2021-01-04","David Townend",3,"West","Digley",null,{"$f":"VLOOKUP(A55,#REF!,2,FALSE)","v":{"$error":"#REF!"}},{"$f":"VLOOKUP(A55,#REF!,3,FALSE)","v":{"$error":"#REF!"}},{"$f":"VLOOKUP(A55,#REF!,4,FALSE)","v":{"$error":"#REF!"}},{"$f":"VLOOKUP(A55,#REF!,7,FALSE)","v":{"$error":"#REF!"}},{"$f":"VLOOKUP(A55,#REF!,5,FALSE)","v":{"$error":"#REF!"}}]
["ECCUP/ESR","F/V Test","2021-03-02","Tuesday","2021-02-01","Brian Throup",3,"North",null,null,{"$f":"VLOOKUP(A56,#REF!,2,FALSE)","v":{"$error":"#REF!"}},{"$f":"VLOOKUP(A56,#REF!,3,FALSE)","v":{"$error":"#REF!"}},{"$f":"VLOOKUP(A56,#REF!,4,FALSE)","v":{"$error":"#REF!"}},{"$f":"VLOOKUP(A56,#REF!,7,FALSE)","v":{"$error":"#REF!"}},{"$f":"VLOOKUP(A56,#REF!,5,FALSE)","v":{"$error":"#REF!"}}]
["BROWNHILL/IRE","F/V Test","2021-03-02","Tuesday","2021-02-01","David Townend",3,"West","Ramsden",null,{"$f":"VLOOKUP(A57,#REF!,2,FALSE)","v":{"$error":"#REF!"}},{"$f":"VLOOKUP(A57,#REF!,3,FALSE)","v":{"$error":"#REF!"}},{"$f":"VLOOKUP(A57,#REF!,4,FALSE)","v":{"$error":"#REF!"}},{"$f":"VLOOKUP(A57,#REF!,7,FALSE)","v":{"$error":"#REF!"}},{"$f":"VLOOKUP(A57,#REF!,5,FALSE)","v":{"$error":"#REF!"}}]
["WALSHAW DEAN LOWER/IRE","F/V Test","2021-03-02","Tuesday","2021-02-01","Simon Firth",3,"West","All Wal Deans",null,{"$f":"VLOOKUP(A58,#REF!,2,FALSE)","v":{"$error":"#REF!"}},{"$f":"VLOOKUP(A58,#REF!,3,FALSE)","v":{"$error":"#REF!"}},{"$f":"VLOOKUP(A58,#REF!,4,FALSE)","v":{"$error":"#REF!"}},{"$f":"VLOOKUP(A58,#REF!,7,FALSE)","v":{"$error":"#REF!"}},{"$f":"VLOOKUP(A58,#REF!,5,FALSE)","v":{"$error":"#REF!"}}]
["WALSHAW DEAN MIDDLE/IRE","F/V Test","2021-03-02","Tuesday","2021-02-01","Simon Firth",3,"West","All Wal Deans",null,{"$f":"VLOOKUP(A59,#REF!,2,FALSE)","v":{"$error":"#REF!"}},{"$f":"VLOOKUP(A59,#REF!,3,FALSE)","v":{"$error":"#REF!"}},{"$f":"VLOOKUP(A59,#REF!,4,FALSE)","v":{"$error":"#REF!"}},{"$f":"VLOOKUP(A59,#REF!,7,FALSE)","v":{"$error":"#REF!"}},{"$f":"VLOOKUP(A59,#REF!,5,FALSE)","v":{"$error":"#REF!"}}]
["WALSHAW DEAN UPPER/IRE","F/V Test","2021-03-02","Tuesday","2021-02-01","Simon Firth",3,"West","All Wal Deans",null,{"$f":"VLOOKUP(A60,#REF!,2,FALSE)","v":{"$error":"#REF!"}},{"$f":"VLOOKUP(A60,#REF!,3,FALSE)","v":{"$error":"#REF!"}},{"$f":"VLOOKUP(A60,#REF!,4,FALSE)","v":{"$error":"#REF!"}},{"$f":"VLOOKUP(A60,#REF!,7,FALSE)","v":{"$error":"#REF!"}},{"$f":"VLOOKUP(A60,#REF!,5,FALSE)","v":{"$error":"#REF!"}}]
["WEECHER/IRE","F/V Test","2021-03-04","Thursday","2021-02-01","Ben Wilson",3,"North West",null,null,{"$f":"VLOOKUP(A61,#REF!,2,FALSE)","v":{"$error":"#REF!"}},{"$f":"VLOOKUP(A61,#REF!,3,FALSE)","v":{"$error":"#REF!"}},{"$f":"VLOOKUP(A61,#REF!,4,FALSE)","v":{"$error":"#REF!"}},{"$f":"VLOOKUP(A61,#REF!,7,FALSE)","v":{"$error":"#REF!"}},{"$f":"VLOOKUP(A61,#REF!,5,FALSE)","v":{"$error":"#REF!"}}]
["SWINSTY/IRE","F/V Test","2021-03-04","Thursday","2021-02-01","Brian Throup",5,"North",null,null,{"$f":"VLOOKUP(A62,#REF!,2,FALSE)","v":{"$error":"#REF!"}},{"$f":"VLOOKUP(A62,#REF!,3,FALSE)","v":{"$error":"#REF!"}},{"$f":"VLOOKUP(A62,#REF!,4,FALSE)","v":{"$error":"#REF!"}},{"$f":"VLOOKUP(A62,#REF!,7,FALSE)","v":{"$error":"#REF!"}},{"$f":"VLOOKUP(A62,#REF!,5,FALSE)","v":{"$error":"#REF!"}}]
["BLACKMOORFOOT/IRE (NORTH SIDE)","F/V Test","2021-03-04","Thursday","2021-02-01","Luke Shackleton",3,"West","Deerhill",null,{"$f":"VLOOKUP(A63,#REF!,2,FALSE)","v":{"$error":"#REF!"}},{"$f":"VLOOKUP(A63,#REF!,3,FALSE)","v":{"$error":"#REF!"}},{"$f":"VLOOKUP(A63,#REF!,4,FALSE)","v":{"$error":"#REF!"}},{"$f":"VLOOKUP(A63,#REF!,7,FALSE)","v":{"$error":"#REF!"}},{"$f":"VLOOKUP(A63,#REF!,5,FALSE)","v":{"$error":"#REF!"}}]
["BLACKMOORFOOT/IRE (SOUTH SIDE)","F/V Test","2021-03-04","Thursday","2021-02-01","Luke Shackleton",3,"West","Deerhill",null,{"$f":"VLOOKUP(A64,#REF!,2,FALSE)","v":{"$error":"#REF!"}},{"$f":"VLOOKUP(A64,#REF!,3,FALSE)","v":{"$error":"#REF!"}},{"$f":"VLOOKUP(A64,#REF!,4,FALSE)","v":{"$error":"#REF!"}},{"$f":"VLOOKUP(A64,#REF!,7,FALSE)","v":{"$error":"#REF!"}},{"$f":"VLOOKUP(A64,#REF!,5,FALSE)","v":{"$error":"#REF!"}}]
["DEERHILL/IRE","F/V Test","2021-03-04","Thursday","2021-02-01","Luke Shackleton",3,"West","BMF",null,{"$f":"VLOOKUP(A65,#REF!,2,FALSE)","v":{"$error":"#REF!"}},{"$f":"VLOOKUP(A65,#REF!,3,FALSE)","v":{"$error":"#REF!"}},{"$f":"VLOOKUP(A65,#REF!,4,FALSE)","v":{"$error":"#REF!"}},{"$f":"VLOOKUP(A65,#REF!,7,FALSE)","v":{"$error":"#REF!"}},{"$f":"VLOOKUP(A65,#REF!,5,FALSE)","v":{"$error":"#REF!"}}]
["INGBIRCHWORTH/IRE","F/V Test","2021-03-09","Tuesday","2021-02-01","Dan Lucks",4,"South",null,null,{"$f":"VLOOKUP(A66,#REF!,2,FALSE)","v":{"$error":"#REF!"}},{"$f":"VLOOKUP(A66,#REF!,3,FALSE)","v":{"$error":"#REF!"}},{"$f":"VLOOKUP(A66,#REF!,4,FALSE)","v":{"$error":"#REF!"}},{"$f":"VLOOKUP(A66,#REF!,7,FALSE)","v":{"$error":"#REF!"}},{"$f":"VLOOKUP(A66,#REF!,5,FALSE)","v":{"$error":"#REF!"}}]
["ALBERT/ESR","F/V Test","2021-03-09","Tuesday","2021-02-01","Oliver Oates",4,"West","Ram'Wood",null,{"$f":"VLOOKUP(A67,#REF!,2,FALSE)","v":{"$error":"#REF!"}},{"$f":"VLOOKUP(A67,#REF!,3,FALSE)","v":{"$error":"#REF!"}},{"$f":"VLOOKUP(A67,#REF!,4,FALSE)","v":{"$error":"#REF!"}},{"$f":"VLOOKUP(A67,#REF!,7,FALSE)","v":{"$error":"#REF!"}},{"$f":"VLOOKUP(A67,#REF!,5,FALSE)","v":{"$error":"#REF!"}}]
["RAMSDEN WOOD/ESR","F/V Test","2021-03-09","Tuesday","2021-02-01","Oliver Oates",4,"West","Albert",null,{"$f":"VLOOKUP(A68,#REF!,2,FALSE)","v":{"$error":"#REF!"}},{"$f":"VLOOKUP(A68,#REF!,3,FALSE)","v":{"$error":"#REF!"}},{"$f":"VLOOKUP(A68,#REF!,4,FALSE)","v":{"$error":"#REF!"}},{"$f":"VLOOKUP(A68,#REF!,7,FALSE)","v":{"$error":"#REF!"}},{"$f":"VLOOKUP(A68,#REF!,5,FALSE)","v":{"$error":"#REF!"}}]
["SCAR HOUSE/IRE","F/V Test","2021-03-09","Tuesday","2021-02-01","Grace Oldknow",3,"North West","Angram",null,{"$f":"VLOOKUP(A69,#REF!,2,FALSE)","v":{"$error":"#REF!"}},{"$f":"VLOOKUP(A69,#REF!,3,FALSE)","v":{"$error":"#REF!"}},{"$f":"VLOOKUP(A69,#REF!,4,FALSE)","v":{"$error":"#REF!"}},{"$f":"VLOOKUP(A69,#REF!,7,FALSE)","v":{"$error":"#REF!"}},{"$f":"VLOOKUP(A69,#REF!,5,FALSE)","v":{"$error":"#REF!"}}]
["ANGRAM/IRE","F/V Test","2021-03-09","Thursday","2021-02-01","Grace Oldknow",3,"North West","Scar House",null,{"$f":"VLOOKUP(A70,#REF!,2,FALSE)","v":{"$error":"#REF!"}},{"$f":"VLOOKUP(A70,#REF!,3,FALSE)","v":{"$error":"#REF!"}},{"$f":"VLOOKUP(A70,#REF!,4,FALSE)","v":{"$error":"#REF!"}},{"$f":"VLOOKUP(A70,#REF!,7,FALSE)","v":{"$error":"#REF!"}},{"$f":"VLOOKUP(A70,#REF!,5,FALSE)","v":{"$error":"#REF!"}}]
["ELVINGTON/NO 1 ESR","Scour Test","2021-03-10","Wednesday","2021-02-01","Sean Wright",3,"East",null,null,{"$f":"VLOOKUP(A71,#REF!,2,FALSE)","v":{"$error":"#REF!"}},{"$f":"VLOOKUP(A71,#REF!,3,FALSE)","v":{"$error":"#REF!"}},{"$f":"VLOOKUP(A71,#REF!,4,FALSE)","v":{"$error":"#REF!"}},{"$f":"VLOOKUP(A71,#REF!,7,FALSE)","v":{"$error":"#REF!"}},{"$f":"VLOOKUP(A71,#REF!,5,FALSE)","v":{"$error":"#REF!"}}]
["BUTTERLEY/IRE","F/V Test","2021-03-11","Thursday","2021-02-01","Luke Shackleton",3,"West",null,null,{"$f":"VLOOKUP(A72,#REF!,2,FALSE)","v":{"$error":"#REF!"}},{"$f":"VLOOKUP(A72,#REF!,3,FALSE)","v":{"$error":"#REF!"}},{"$f":"VLOOKUP(A72,#REF!,4,FALSE)","v":{"$error":"#REF!"}},{"$f":"VLOOKUP(A72,#REF!,7,FALSE)","v":{"$error":"#REF!"}},{"$f":"VLOOKUP(A72,#REF!,5,FALSE)","v":{"$error":"#REF!"}}]
["SCOUT DIKE/IRE","F/V Test","2021-03-11","Thursday","2021-02-01","Dan Lucks",3,"South",null,null,{"$f":"VLOOKUP(A73,#REF!,2,FALSE)","v":{"$error":"#REF!"}},{"$f":"VLOOKUP(A73,#REF!,3,FALSE)","v":{"$error":"#REF!"}},{"$f":"VLOOKUP(A73,#REF!,4,FALSE)","v":{"$error":"#REF!"}},{"$f":"VLOOKUP(A73,#REF!,7,FALSE)","v":{"$error":"#REF!"}},{"$f":"VLOOKUP(A73,#REF!,5,FALSE)","v":{"$error":"#REF!"}}]
["THORNTON STEWARD/ESR","Scour Test","2021-03-11","Tuesday","2021-02-01","Brian Throup",2,"North",null,"RESCHEDULE IN FUTURE TO MARCH - G/C NEWTS ISSUE",{"$f":"VLOOKUP(A74,#REF!,2,FALSE)","v":{"$error":"#REF!"}},{"$f":"VLOOKUP(A74,#REF!,3,FALSE)","v":{"$error":"#REF!"}},{"$f":"VLOOKUP(A74,#REF!,4,FALSE)","v":{"$error":"#REF!"}},{"$f":"VLOOKUP(A74,#REF!,7,FALSE)","v":{"$error":"#REF!"}},{"$f":"VLOOKUP(A74,#REF!,5,FALSE)","v":{"$error":"#REF!"}}]
["GRIMWITH/IRE","F/V Test","2021-03-16","Tuesday","2021-02-01","Grace Oldknow",3,"North West",null,null,{"$f":"VLOOKUP(A75,#REF!,2,FALSE)","v":{"$error":"#REF!"}},{"$f":"VLOOKUP(A75,#REF!,3,FALSE)","v":{"$error":"#REF!"}},{"$f":"VLOOKUP(A75,#REF!,4,FALSE)","v":{"$error":"#REF!"}},{"$f":"VLOOKUP(A75,#REF!,7,FALSE)","v":{"$error":"#REF!"}},{"$f":"VLOOKUP(A75,#REF!,5,FALSE)","v":{"$error":"#REF!"}}]
["GORPLE LOWER/IRE","F/V Test","2021-03-16","Tuesday","2021-02-01","Simon Firth",3,"West","Upper",null,{"$f":"VLOOKUP(A76,#REF!,2,FALSE)","v":{"$error":"#REF!"}},{"$f":"VLOOKUP(A76,#REF!,3,FALSE)","v":{"$error":"#REF!"}},{"$f":"VLOOKUP(A76,#REF!,4,FALSE)","v":{"$error":"#REF!"}},{"$f":"VLOOKUP(A76,#REF!,7,FALSE)","v":{"$error":"#REF!"}},{"$f":"VLOOKUP(A76,#REF!,5,FALSE)","v":{"$error":"#REF!"}}]
["GORPLE UPPER/IRE","F/V Test","2021-03-16","Tuesday","2021-02-01","Simon Firth",3,"West","Lower",null,{"$f":"VLOOKUP(A77,#REF!,2,FALSE)","v":{"$error":"#REF!"}},{"$f":"VLOOKUP(A77,#REF!,3,FALSE)","v":{"$error":"#REF!"}},{"$f":"VLOOKUP(A77,#REF!,4,FALSE)","v":{"$error":"#REF!"}},{"$f":"VLOOKUP(A77,#REF!,7,FALSE)","v":{"$error":"#REF!"}},{"$f":"VLOOKUP(A77,#REF!,5,FALSE)","v":{"$error":"#REF!"}}]
["SILSDEN/IRE","F/V Test","2021-03-18","Thursday","2021-02-01","Tom Young (NW)",3,"North West",null,null,{"$f":"VLOOKUP(A78,#REF!,2,FALSE)","v":{"$error":"#REF!"}},{"$f":"VLOOKUP(A78,#REF!,3,FALSE)","v":{"$error":"#REF!"}},{"$f":"VLOOKUP(A78,#REF!,4,FALSE)","v":{"$error":"#REF!"}},{"$f":"VLOOKUP(A78,#REF!,7,FALSE)","v":{"$error":"#REF!"}},{"$f":"VLOOKUP(A78,#REF!,5,FALSE)","v":{"$error":"#REF!"}}]
["RYBURN/IRE","F/V Test","2021-03-18","Thursday","2021-02-01","Nick Lunt",3,"West",null,null,{"$f":"VLOOKUP(A79,#REF!,2,FALSE)","v":{"$error":"#REF!"}},{"$f":"VLOOKUP(A79,#REF!,3,FALSE)","v":{"$error":"#REF!"}},{"$f":"VLOOKUP(A79,#REF!,4,FALSE)","v":{"$error":"#REF!"}},{"$f":"VLOOKUP(A79,#REF!,7,FALSE)","v":{"$error":"#REF!"}},{"$f":"VLOOKUP(A79,#REF!,5,FALSE)","v":{"$error":"#REF!"}}]
["LINDLEY WOOD/IRE","Scour Test","2021-03-25","Thursday","2021-02-01","Alex Haggarty",2,"North",null,null,{"$f":"VLOOKUP(A80,#REF!,2,FALSE)","v":{"$error":"#REF!"}},{"$f":"VLOOKUP(A80,#REF!,3,FALSE)","v":{"$error":"#REF!"}},{"$f":"VLOOKUP(A80,#REF!,4,FALSE)","v":{"$error":"#REF!"}},{"$f":"VLOOKUP(A80,#REF!,7,FALSE)","v":{"$error":"#REF!"}},{"$f":"VLOOKUP(A80,#REF!,5,FALSE)","v":{"$error":"#REF!"}}]
["WHITLEY/ESR","F/V Test","2021-03-25","Thursday","2021-02-01","David Townend",3,"West","Riding Wood",null,{"$f":"VLOOKUP(A81,#REF!,2,FALSE)","v":{"$error":"#REF!"}},{"$f":"VLOOKUP(A81,#REF!,3,FALSE)","v":{"$error":"#REF!"}},{"$f":"VLOOKUP(A81,#REF!,4,FALSE)","v":{"$error":"#REF!"}},{"$f":"VLOOKUP(A81,#REF!,7,FALSE)","v":{"$error":"#REF!"}},{"$f":"VLOOKUP(A81,#REF!,5,FALSE)","v":{"$error":"#REF!"}}]
["HEWENDEN/IRE","Scour Test","2021-03-30","Tuesday","2021-02-01","Phil Preston",2,"North West",null,null,{"$f":"VLOOKUP(A82,#REF!,2,FALSE)","v":{"$error":"#REF!"}},{"$f":"VLOOKUP(A82,#REF!,3,FALSE)","v":{"$error":"#REF!"}},{"$f":"VLOOKUP(A82,#REF!,4,FALSE)","v":{"$error":"#REF!"}},{"$f":"VLOOKUP(A82,#REF!,7,FALSE)","v":{"$error":"#REF!"}},{"$f":"VLOOKUP(A82,#REF!,5,FALSE)","v":{"$error":"#REF!"}}]
["CASTLE CARR","F/V Test","2021-03-30","Tuesday","2021-02-01","Oliver Oates",3,"West","W'Moor DHU DHL","Treat as under RA75 and scour twice",{"$f":"VLOOKUP(A83,#REF!,2,FALSE)","v":{"$error":"#REF!"}},{"$f":"VLOOKUP(A83,#REF!,3,FALSE)","v":{"$error":"#REF!"}},{"$f":"VLOOKUP(A83,#REF!,4,FALSE)","v":{"$error":"#REF!"}},{"$f":"VLOOKUP(A83,#REF!,7,FALSE)","v":{"$error":"#REF!"}},{"$f":"VLOOKUP(A83,#REF!,5,FALSE)","v":{"$error":"#REF!"}}]
["DEAN HEAD LOWER/IRE","F/V Test","2021-03-30","Tuesday","2021-02-01","Oliver Oates",3,"West","Cas'Carr W'Moor",null,{"$f":"VLOOKUP(A84,#REF!,2,FALSE)","v":{"$error":"#REF!"}},{"$f":"VLOOKUP(A84,#REF!,3,FALSE)","v":{"$error":"#REF!"}},{"$f":"VLOOKUP(A84,#REF!,4,FALSE)","v":{"$error":"#REF!"}},{"$f":"VLOOKUP(A84,#REF!,7,FALSE)","v":{"$error":"#REF!"}},{"$f":"VLOOKUP(A84,#REF!,5,FALSE)","v":{"$error":"#REF!"}}]
["DEAN HEAD UPPER/IRE","F/V Test","2021-03-30","Tuesday","2021-02-01","Oliver Oates",3,"West","Cas'Carr W'Moor",null,{"$f":"VLOOKUP(A85,#REF!,2,FALSE)","v":{"$error":"#REF!"}},{"$f":"VLOOKUP(A85,#REF!,3,FALSE)","v":{"$error":"#REF!"}},{"$f":"VLOOKUP(A85,#REF!,4,FALSE)","v":{"$error":"#REF!"}},{"$f":"VLOOKUP(A85,#REF!,7,FALSE)","v":{"$error":"#REF!"}},{"$f":"VLOOKUP(A85,#REF!,5,FALSE)","v":{"$error":"#REF!"}}]
["WARLEY MOOR/IRE","F/V Test","2021-03-30","Tuesday","2021-02-01","Oliver Oates",3,"West","Cas carr, Wdu WDl",null,{"$f":"VLOOKUP(A86,#REF!,2,FALSE)","v":{"$error":"#REF!"}},{"$f":"VLOOKUP(A86,#REF!,3,FALSE)","v":{"$error":"#REF!"}},{"$f":"VLOOKUP(A86,#REF!,4,FALSE)","v":{"$error":"#REF!"}},{"$f":"VLOOKUP(A86,#REF!,7,FALSE)","v":{"$error":"#REF!"}},{"$f":"VLOOKUP(A86,#REF!,5,FALSE)","v":{"$error":"#REF!"}}]
["CARR BOTTOM/IRE","F/V Test","2021-04-01","Thursday","2021-03-01","Ben Wilson",2,"North West",null,"Treat as under RA75 and scour twice",{"$f":"VLOOKUP(A87,#REF!,2,FALSE)","v":{"$error":"#REF!"}},{"$f":"VLOOKUP(A87,#REF!,3,FALSE)","v":{"$error":"#REF!"}},{"$f":"VLOOKUP(A87,#REF!,4,FALSE)","v":{"$error":"#REF!"}},{"$f":"VLOOKUP(A87,#REF!,7,FALSE)","v":{"$error":"#REF!"}},{"$f":"VLOOKUP(A87,#REF!,5,FALSE)","v":{"$error":"#REF!"}}]
["GRAINCLIFFE/IRE","F/V Test","2021-04-01","Thursday","2021-03-01","Ben Wilson",3,"North West",null,null,{"$f":"VLOOKUP(A88,#REF!,2,FALSE)","v":{"$error":"#REF!"}},{"$f":"VLOOKUP(A88,#REF!,3,FALSE)","v":{"$error":"#REF!"}},{"$f":"VLOOKUP(A88,#REF!,4,FALSE)","v":{"$error":"#REF!"}},{"$f":"VLOOKUP(A88,#REF!,7,FALSE)","v":{"$error":"#REF!"}},{"$f":"VLOOKUP(A88,#REF!,5,FALSE)","v":{"$error":"#REF!"}}]
["WATER SHEDDLES/IRE","F/V Test","2021-04-01","Thursday","2021-03-01","Tom Young (NW)",2,"North West",null,null,{"$f":"VLOOKUP(A89,#REF!,2,FALSE)","v":{"$error":"#REF!"}},{"$f":"VLOOKUP(A89,#REF!,3,FALSE)","v":{"$error":"#REF!"}},{"$f":"VLOOKUP(A89,#REF!,4,FALSE)","v":{"$error":"#REF!"}},{"$f":"VLOOKUP(A89,#REF!,7,FALSE)","v":{"$error":"#REF!"}},{"$f":"VLOOKUP(A89,#REF!,5,FALSE)","v":{"$error":"#REF!"}}]
["GORPLEY/IRE","F/V Test","2021-04-01","Thursday","2021-03-01","Simon Firth",2,"West",null,null,{"$f":"VLOOKUP(A90,#REF!,2,FALSE)","v":{"$error":"#REF!"}},{"$f":"VLOOKUP(A90,#REF!,3,FALSE)","v":{"$error":"#REF!"}},{"$f":"VLOOKUP(A90,#REF!,4,FALSE)","v":{"$error":"#REF!"}},{"$f":"VLOOKUP(A90,#REF!,7,FALSE)","v":{"$error":"#REF!"}},{"$f":"VLOOKUP(A90,#REF!,5,FALSE)","v":{"$error":"#REF!"}}]
["STRINES/IRE","F/V Test","2021-04-01","Thursday","2021-03-01","Elliot Beever",2,"South",null,null,{"$f":"VLOOKUP(A91,#REF!,2,FALSE)","v":{"$error":"#REF!"}},{"$f":"VLOOKUP(A91,#REF!,3,FALSE)","v":{"$error":"#REF!"}},{"$f":"VLOOKUP(A91,#REF!,4,FALSE)","v":{"$error":"#REF!"}},{"$f":"VLOOKUP(A91,#REF!,7,FALSE)","v":{"$error":"#REF!"}},{"$f":"VLOOKUP(A91,#REF!,5,FALSE)","v":{"$error":"#REF!"}}]
["LEIGHTON/IRE","F/V Test","2021-04-01","Thursday","2021-03-01","Brian Throup",3,"North",null,null,{"$f":"VLOOKUP(A92,#REF!,2,FALSE)","v":{"$error":"#REF!"}},{"$f":"VLOOKUP(A92,#REF!,3,FALSE)","v":{"$error":"#REF!"}},{"$f":"VLOOKUP(A92,#REF!,4,FALSE)","v":{"$error":"#REF!"}},{"$f":"VLOOKUP(A92,#REF!,7,FALSE)","v":{"$error":"#REF!"}},{"$f":"VLOOKUP(A92,#REF!,5,FALSE)","v":{"$error":"#REF!"}}]
["ELDWICK/IRE","F/V Test","2021-04-06","Tuesday","2021-03-01","Ben Wilson",2,"North West",null,null,{"$f":"VLOOKUP(A93,#REF!,2,FALSE)","v":{"$error":"#REF!"}},{"$f":"VLOOKUP(A93,#REF!,3,FALSE)","v":{"$error":"#REF!"}},{"$f":"VLOOKUP(A93,#REF!,4,FALSE)","v":{"$error":"#REF!"}},{"$f":"VLOOKUP(A93,#REF!,7,FALSE)","v":{"$error":"#REF!"}},{"$f":"VLOOKUP(A93,#REF!,5,FALSE)","v":{"$error":"#REF!"}}]
["PANORAMA/IRE","F/V Test","2021-04-06","Tuesday","2021-03-01","Ben Wilson",2,"North West",null,null,{"$f":"VLOOKUP(A94,#REF!,2,FALSE)","v":{"$error":"#REF!"}},{"$f":"VLOOKUP(A94,#REF!,3,FALSE)","v":{"$error":"#REF!"}},{"$f":"VLOOKUP(A94,#REF!,4,FALSE)","v":{"$error":"#REF!"}},{"$f":"VLOOKUP(A94,#REF!,7,FALSE)","v":{"$error":"#REF!"}},{"$f":"VLOOKUP(A94,#REF!,5,FALSE)","v":{"$error":"#REF!"}}]
["ROUNDHILL/IRE","F/V Test","2021-04-06","Tuesday","2021-03-01","Brian Throup",3,"North",null,null,{"$f":"VLOOKUP(A95,#REF!,2,FALSE)","v":{"$error":"#REF!"}},{"$f":"VLOOKUP(A95,#REF!,3,FALSE)","v":{"$error":"#REF!"}},{"$f":"VLOOKUP(A95,#REF!,4,FALSE)","v":{"$error":"#REF!"}},{"$f":"VLOOKUP(A95,#REF!,7,FALSE)","v":{"$error":"#REF!"}},{"$f":"VLOOKUP(A95,#REF!,5,FALSE)","v":{"$error":"#REF!"}}]
["INGBIRCHWORTH/IRE","F/V Test","2021-04-06","Tuesday","2021-03-01","Nick Lunt",3,"West",null,null,{"$f":"VLOOKUP(A96,#REF!,2,FALSE)","v":{"$error":"#REF!"}},{"$f":"VLOOKUP(A96,#REF!,3,FALSE)","v":{"$error":"#REF!"}},{"$f":"VLOOKUP(A96,#REF!,4,FALSE)","v":{"$error":"#REF!"}},{"$f":"VLOOKUP(A96,#REF!,7,FALSE)","v":{"$error":"#REF!"}},{"$f":"VLOOKUP(A96,#REF!,5,FALSE)","v":{"$error":"#REF!"}}]
[null,"F/V Test","2021-04-08","Thursday","2021-03-01","Dave Driver",2,"North West",null,null,{"$f":"VLOOKUP(A97,#REF!,2,FALSE)","v":{"$error":"#REF!"}},{"$f":"VLOOKUP(A97,#REF!,3,FALSE)","v":{"$error":"#REF!"}},{"$f":"VLOOKUP(A97,#REF!,4,FALSE)","v":{"$error":"#REF!"}},{"$f":"VLOOKUP(A97,#REF!,7,FALSE)","v":{"$error":"#REF!"}},{"$f":"VLOOKUP(A97,#REF!,5,FALSE)","v":{"$error":"#REF!"}}]
["SCARGILL/IRE","F/V Test","2021-04-08","Thursday","2021-03-01","Alex Haggarty",3,"North","John O Gaunt",null,{"$f":"VLOOKUP(A98,#REF!,2,FALSE)","v":{"$error":"#REF!"}},{"$f":"VLOOKUP(A98,#REF!,3,FALSE)","v":{"$error":"#REF!"}},{"$f":"VLOOKUP(A98,#REF!,4,FALSE)","v":{"$error":"#REF!"}},{"$f":"VLOOKUP(A98,#REF!,7,FALSE)","v":{"$error":"#REF!"}},{"$f":"VLOOKUP(A98,#REF!,5,FALSE)","v":{"$error":"#REF!"}}]
["JOHN O GAUNTS/IRE","Scour Test","2021-04-08","Thursday","2021-03-01","Alex Haggarty",2,"North","Scargill",null,{"$f":"VLOOKUP(A99,#REF!,2,FALSE)","v":{"$error":"#REF!"}},{"$f":"VLOOKUP(A99,#REF!,3,FALSE)","v":{"$error":"#REF!"}},{"$f":"VLOOKUP(A99,#REF!,4,FALSE)","v":{"$error":"#REF!"}},{"$f":"VLOOKUP(A99,#REF!,7,FALSE)","v":{"$error":"#REF!"}},{"$f":"VLOOKUP(A99,#REF!,5,FALSE)","v":{"$error":"#REF!"}}]
["WHINNY GILL/IRE","F/V Test","2021-04-13","Tuesday","2021-03-01","Dave Driver",3,"North West",null,null,{"$f":"VLOOKUP(A100,#REF!,2,FALSE)","v":{"$error":"#REF!"}},{"$f":"VLOOKUP(A100,#REF!,3,FALSE)","v":{"$error":"#REF!"}},{"$f":"VLOOKUP(A100,#REF!,4,FALSE)","v":{"$error":"#REF!"}},{"$f":"VLOOKUP(A100,#REF!,7,FALSE)","v":{"$error":"#REF!"}},{"$f":"VLOOKUP(A100,#REF!,5,FALSE)","v":{"$error":"#REF!"}}]
["MOREHALL/IRE","Scour Test","2021-04-13","Thursday","2021-05-03","Tom Young (S)",4,"South",null,null,{"$f":"VLOOKUP(A101,#REF!,2,FALSE)","v":{"$error":"#REF!"}},{"$f":"VLOOKUP(A101,#REF!,3,FALSE)","v":{"$error":"#REF!"}},{"$f":"VLOOKUP(A101,#REF!,4,FALSE)","v":{"$error":"#REF!"}},{"$f":"VLOOKUP(A101,#REF!,7,FALSE)","v":{"$error":"#REF!"}},{"$f":"VLOOKUP(A101,#REF!,5,FALSE)","v":{"$error":"#REF!"}}]
["EMBSAY/IRE","Scour Test","2021-04-15","Thursday","2021-03-01","Dave Driver",3,"North West",null,null,"SE 001 545","Embsay Beck",156,"Upper Aire",{"$f":"VLOOKUP(A51,#REF!,5,FALSE)","v":{"$error":"#REF!"}}]
["GREEN WITHENS/IRE","F/V Test","2021-04-15","Thursday","2021-03-01","Nick Lunt",3,"West","Spa Clough",null,{"$f":"VLOOKUP(A103,#REF!,2,FALSE)","v":{"$error":"#REF!"}},{"$f":"VLOOKUP(A103,#REF!,3,FALSE)","v":{"$error":"#REF!"}},{"$f":"VLOOKUP(A103,#REF!,4,FALSE)","v":{"$error":"#REF!"}},{"$f":"VLOOKUP(A103,#REF!,7,FALSE)","v":{"$error":"#REF!"}},{"$f":"VLOOKUP(A103,#REF!,5,FALSE)","v":{"$error":"#REF!"}}]
["SPA CLOUGH/ESR","F/V Test","2021-04-15","Thursday","2021-03-01","Nick Lunt",1,"West","Green Withens",null,{"$f":"VLOOKUP(A104,#REF!,2,FALSE)","v":{"$error":"#REF!"}},{"$f":"VLOOKUP(A104,#REF!,3,FALSE)","v":{"$error":"#REF!"}},{"$f":"VLOOKUP(A104,#REF!,4,FALSE)","v":{"$error":"#REF!"}},{"$f":"VLOOKUP(A104,#REF!,7,FALSE)","v":{"$error":"#REF!"}},{"$f":"VLOOKUP(A104,#REF!,5,FALSE)","v":{"$error":"#REF!"}}]
["WIDDOP/IRE","F/V Test","2021-04-22","Thursday","2021-03-01","Simon Firth",3,"West",null,null,{"$f":"VLOOKUP(A105,#REF!,2,FALSE)","v":{"$error":"#REF!"}},{"$f":"VLOOKUP(A105,#REF!,3,FALSE)","v":{"$error":"#REF!"}},{"$f":"VLOOKUP(A105,#REF!,4,FALSE)","v":{"$error":"#REF!"}},{"$f":"VLOOKUP(A105,#REF!,7,FALSE)","v":{"$error":"#REF!"}},{"$f":"VLOOKUP(A105,#REF!,5,FALSE)","v":{"$error":"#REF!"}}]
["BOOTH DEAN LOWER/IRE","F/V Test","2021-04-27","Tuesday","2021-03-01","Nick Lunt",1,"West","BD Upp,Low & BWood",null,{"$f":"VLOOKUP(A106,#REF!,2,FALSE)","v":{"$error":"#REF!"}},{"$f":"VLOOKUP(A106,#REF!,3,FALSE)","v":{"$error":"#REF!"}},{"$f":"VLOOKUP(A106,#REF!,4,FALSE)","v":{"$error":"#REF!"}},{"$f":"VLOOKUP(A106,#REF!,7,FALSE)","v":{"$error":"#REF!"}},{"$f":"VLOOKUP(A106,#REF!,5,FALSE)","v":{"$error":"#REF!"}}]
["BOOTH DEAN UPPER/IRE","F/V Test","2021-04-27","Tuesday","2021-03-01","Nick Lunt",1,"West","BD Upp,Low & BWood",null,{"$f":"VLOOKUP(A107,#REF!,2,FALSE)","v":{"$error":"#REF!"}},{"$f":"VLOOKUP(A107,#REF!,3,FALSE)","v":{"$error":"#REF!"}},{"$f":"VLOOKUP(A107,#REF!,4,FALSE)","v":{"$error":"#REF!"}},{"$f":"VLOOKUP(A107,#REF!,7,FALSE)","v":{"$error":"#REF!"}},{"$f":"VLOOKUP(A107,#REF!,5,FALSE)","v":{"$error":"#REF!"}}]
["BOOTH WOOD/IRE","F/V Test","2021-04-27","Tuesday","2021-03-01","Ian Dorrington",3,"West","BD Upp,Low & BWood",null,{"$f":"VLOOKUP(A108,#REF!,2,FALSE)","v":{"$error":"#REF!"}},{"$f":"VLOOKUP(A108,#REF!,3,FALSE)","v":{"$error":"#REF!"}},{"$f":"VLOOKUP(A108,#REF!,4,FALSE)","v":{"$error":"#REF!"}},{"$f":"VLOOKUP(A108,#REF!,7,FALSE)","v":{"$error":"#REF!"}},{"$f":"VLOOKUP(A108,#REF!,5,FALSE)","v":{"$error":"#REF!"}}]
["ROYD MOOR/IRE","Scour Test","2021-04-29","Thursday","2021-03-01","Dan Lucks",3,"South",null,null,{"$f":"VLOOKUP(A109,#REF!,2,FALSE)","v":{"$error":"#REF!"}},{"$f":"VLOOKUP(A109,#REF!,3,FALSE)","v":{"$error":"#REF!"}},{"$f":"VLOOKUP(A109,#REF!,4,FALSE)","v":{"$error":"#REF!"}},{"$f":"VLOOKUP(A109,#REF!,7,FALSE)","v":{"$error":"#REF!"}},{"$f":"VLOOKUP(A109,#REF!,5,FALSE)","v":{"$error":"#REF!"}}]
["REVA/IRE","Scour Test","2021-05-04","Thursday","2021-04-01","Ben Wilson",3,"North West",null,null,{"$f":"VLOOKUP(A110,#REF!,2,FALSE)","v":{"$error":"#REF!"}},{"$f":"VLOOKUP(A110,#REF!,3,FALSE)","v":{"$error":"#REF!"}},{"$f":"VLOOKUP(A110,#REF!,4,FALSE)","v":{"$error":"#REF!"}},{"$f":"VLOOKUP(A110,#REF!,7,FALSE)","v":{"$error":"#REF!"}},{"$f":"VLOOKUP(A110,#REF!,5,FALSE)","v":{"$error":"#REF!"}}]
["WINDLEDEN LOWER/IRE","Scour Test","2021-05-04","Tuesday","2021-04-01","Chris Waters",2,"South",null,null,{"$f":"VLOOKUP(A111,#REF!,2,FALSE)","v":{"$error":"#REF!"}},{"$f":"VLOOKUP(A111,#REF!,3,FALSE)","v":{"$error":"#REF!"}},{"$f":"VLOOKUP(A111,#REF!,4,FALSE)","v":{"$error":"#REF!"}},{"$f":"VLOOKUP(A111,#REF!,7,FALSE)","v":{"$error":"#REF!"}},{"$f":"VLOOKUP(A111,#REF!,5,FALSE)","v":{"$error":"#REF!"}}]
["WINDLEDEN UPPER/IRE","Scour Test","2021-05-04","Tuesday","2021-04-01","Chris Waters",2,"South",null,null,{"$f":"VLOOKUP(A112,#REF!,2,FALSE)","v":{"$error":"#REF!"}},{"$f":"VLOOKUP(A112,#REF!,3,FALSE)","v":{"$error":"#REF!"}},{"$f":"VLOOKUP(A112,#REF!,4,FALSE)","v":{"$error":"#REF!"}},{"$f":"VLOOKUP(A112,#REF!,7,FALSE)","v":{"$error":"#REF!"}},{"$f":"VLOOKUP(A112,#REF!,5,FALSE)","v":{"$error":"#REF!"}}]
["BROOMHEAD/IRE","S10 Scour Test","2021-05-06","Thursday","2021-04-01","Tom Young (S)",4,"South",null,null,{"$f":"VLOOKUP(A113,#REF!,2,FALSE)","v":{"$error":"#REF!"}},{"$f":"VLOOKUP(A113,#REF!,3,FALSE)","v":{"$error":"#REF!"}},{"$f":"VLOOKUP(A113,#REF!,4,FALSE)","v":{"$error":"#REF!"}},{"$f":"VLOOKUP(A113,#REF!,7,FALSE)","v":{"$error":"#REF!"}},{"$f":"VLOOKUP(A113,#REF!,5,FALSE)","v":{"$error":"#REF!"}}]
["COD BECK/IRE","S10 F/V Test","2021-05-11","Tuesday","2021-04-11","Alex Haggarty",3,"North","Oakdale Upp & Low",null,{"$f":"VLOOKUP(A114,#REF!,2,FALSE)","v":{"$error":"#REF!"}},{"$f":"VLOOKUP(A114,#REF!,3,FALSE)","v":{"$error":"#REF!"}},{"$f":"VLOOKUP(A114,#REF!,4,FALSE)","v":{"$error":"#REF!"}},{"$f":"VLOOKUP(A114,#REF!,7,FALSE)","v":{"$error":"#REF!"}},{"$f":"VLOOKUP(A114,#REF!,5,FALSE)","v":{"$error":"#REF!"}}]
["WINSCAR/IRE","Scour Test","2021-05-13","Thursday","2021-04-01","Chris Waters",3,"South",null,null,{"$f":"VLOOKUP(A115,#REF!,2,FALSE)","v":{"$error":"#REF!"}},{"$f":"VLOOKUP(A115,#REF!,3,FALSE)","v":{"$error":"#REF!"}},{"$f":"VLOOKUP(A115,#REF!,4,FALSE)","v":{"$error":"#REF!"}},{"$f":"VLOOKUP(A115,#REF!,7,FALSE)","v":{"$error":"#REF!"}},{"$f":"VLOOKUP(A115,#REF!,5,FALSE)","v":{"$error":"#REF!"}}]
["LOFTSOME BRIDGE/ESR","F/V Test","2021-05-13","Thursday","2021-04-01","Nick Chilton",3,"Selby/Donc",null,null,{"$f":"VLOOKUP(A116,#REF!,2,FALSE)","v":{"$error":"#REF!"}},{"$f":"VLOOKUP(A116,#REF!,3,FALSE)","v":{"$error":"#REF!"}},{"$f":"VLOOKUP(A116,#REF!,4,FALSE)","v":{"$error":"#REF!"}},{"$f":"VLOOKUP(A116,#REF!,7,FALSE)","v":{"$error":"#REF!"}},{"$f":"VLOOKUP(A116,#REF!,5,FALSE)","v":{"$error":"#REF!"}}]
["TOPHILL LOW/NO 1 ESR","S10 F/V Test","2021-05-19","Wednesday","2021-04-01","Craig Thompson",4,"East Coast",null,null,{"$f":"VLOOKUP(A117,#REF!,2,FALSE)","v":{"$error":"#REF!"}},{"$f":"VLOOKUP(A117,#REF!,3,FALSE)","v":{"$error":"#REF!"}},{"$f":"VLOOKUP(A117,#REF!,4,FALSE)","v":{"$error":"#REF!"}},{"$f":"VLOOKUP(A117,#REF!,7,FALSE)","v":{"$error":"#REF!"}},{"$f":"VLOOKUP(A117,#REF!,5,FALSE)","v":{"$error":"#REF!"}}]
["TOPHILL LOW/NO 2 ESR","F/V Test","2021-05-19","Wednesday","2021-04-01","Craig Thompson",3,"East Coast",null,null,{"$f":"VLOOKUP(A118,#REF!,2,FALSE)","v":{"$error":"#REF!"}},{"$f":"VLOOKUP(A118,#REF!,3,FALSE)","v":{"$error":"#REF!"}},{"$f":"VLOOKUP(A118,#REF!,4,FALSE)","v":{"$error":"#REF!"}},{"$f":"VLOOKUP(A118,#REF!,7,FALSE)","v":{"$error":"#REF!"}},{"$f":"VLOOKUP(A118,#REF!,5,FALSE)","v":{"$error":"#REF!"}}]
["RINGSTONE/IRE","Scour Test","2021-05-20","Thursday","2021-04-01","Ian Dorrington",3,"West",null,null,{"$f":"VLOOKUP(A119,#REF!,2,FALSE)","v":{"$error":"#REF!"}},{"$f":"VLOOKUP(A119,#REF!,3,FALSE)","v":{"$error":"#REF!"}},{"$f":"VLOOKUP(A119,#REF!,4,FALSE)","v":{"$error":"#REF!"}},{"$f":"VLOOKUP(A119,#REF!,7,FALSE)","v":{"$error":"#REF!"}},{"$f":"VLOOKUP(A119,#REF!,5,FALSE)","v":{"$error":"#REF!"}}]
["RAMSDEN/IRE","S10 F/V Test","2021-05-25","Tuesday","2021-03-01","David Townend",3,"West","Brownhill",null,{"$f":"VLOOKUP(A120,#REF!,2,FALSE)","v":{"$error":"#REF!"}},{"$f":"VLOOKUP(A120,#REF!,3,FALSE)","v":{"$error":"#REF!"}},{"$f":"VLOOKUP(A120,#REF!,4,FALSE)","v":{"$error":"#REF!"}},{"$f":"VLOOKUP(A120,#REF!,7,FALSE)","v":{"$error":"#REF!"}},{"$f":"VLOOKUP(A120,#REF!,5,FALSE)","v":{"$error":"#REF!"}}]
["HARDEN/IRE","Scour Test","2021-05-27","Thursday","2021-04-01","Chris Waters",3,"South","Snailsden",null,{"$f":"VLOOKUP(A121,#REF!,2,FALSE)","v":{"$error":"#REF!"}},{"$f":"VLOOKUP(A121,#REF!,3,FALSE)","v":{"$error":"#REF!"}},{"$f":"VLOOKUP(A121,#REF!,4,FALSE)","v":{"$error":"#REF!"}},{"$f":"VLOOKUP(A121,#REF!,7,FALSE)","v":{"$error":"#REF!"}},{"$f":"VLOOKUP(A121,#REF!,5,FALSE)","v":{"$error":"#REF!"}}]
["SNAILSDEN/IRE","Scour Test","2021-05-27","Thursday","2021-04-01","Peter H Jackson",3,"South","Harden",null,{"$f":"VLOOKUP(A122,#REF!,2,FALSE)","v":{"$error":"#REF!"}},{"$f":"VLOOKUP(A122,#REF!,3,FALSE)","v":{"$error":"#REF!"}},{"$f":"VLOOKUP(A122,#REF!,4,FALSE)","v":{"$error":"#REF!"}},{"$f":"VLOOKUP(A122,#REF!,7,FALSE)","v":{"$error":"#REF!"}},{"$f":"VLOOKUP(A122,#REF!,5,FALSE)","v":{"$error":"#REF!"}}]
["COLDERS/IRE","Scour Test","2021-05-27","Thursday","2021-04-01","Luke Shackleton",2,"West",null,null,{"$f":"VLOOKUP(A123,#REF!,2,FALSE)","v":{"$error":"#REF!"}},{"$f":"VLOOKUP(A123,#REF!,3,FALSE)","v":{"$error":"#REF!"}},{"$f":"VLOOKUP(A123,#REF!,4,FALSE)","v":{"$error":"#REF!"}},{"$f":"VLOOKUP(A123,#REF!,7,FALSE)","v":{"$error":"#REF!"}},{"$f":"VLOOKUP(A123,#REF!,5,FALSE)","v":{"$error":"#REF!"}}]
["WESSENDEN HEAD/IRE","Scour Test","2021-05-27","Thursday","2021-04-01","Luke Shackleton",2,"West",null,null,{"$f":"VLOOKUP(A124,#REF!,2,FALSE)","v":{"$error":"#REF!"}},{"$f":"VLOOKUP(A124,#REF!,3,FALSE)","v":{"$error":"#REF!"}},{"$f":"VLOOKUP(A124,#REF!,4,FALSE)","v":{"$error":"#REF!"}},{"$f":"VLOOKUP(A124,#REF!,7,FALSE)","v":{"$error":"#REF!"}},{"$f":"VLOOKUP(A124,#REF!,5,FALSE)","v":{"$error":"#REF!"}}]
["LANGSETT/IRE","Scour Test","2021-06-01","Tuesday","2021-05-03","Tom Young (S)",3,"South",null,null,{"$f":"VLOOKUP(A125,#REF!,2,FALSE)","v":{"$error":"#REF!"}},{"$f":"VLOOKUP(A125,#REF!,3,FALSE)","v":{"$error":"#REF!"}},{"$f":"VLOOKUP(A125,#REF!,4,FALSE)","v":{"$error":"#REF!"}},{"$f":"VLOOKUP(A125,#REF!,7,FALSE)","v":{"$error":"#REF!"}},{"$f":"VLOOKUP(A125,#REF!,5,FALSE)","v":{"$error":"#REF!"}}]
["MIDHOPE/IRE","Scour Test","2021-06-03","Tuesday","2021-03-01","Tom Young (S)",2,"South",null,null,{"$f":"VLOOKUP(A126,#REF!,2,FALSE)","v":{"$error":"#REF!"}},{"$f":"VLOOKUP(A126,#REF!,3,FALSE)","v":{"$error":"#REF!"}},{"$f":"VLOOKUP(A126,#REF!,4,FALSE)","v":{"$error":"#REF!"}},{"$f":"VLOOKUP(A126,#REF!,7,FALSE)","v":{"$error":"#REF!"}},{"$f":"VLOOKUP(A126,#REF!,5,FALSE)","v":{"$error":"#REF!"}}]
["GILSTEAD/ESR","Scour Test","2021-06-03","Thursday","2021-05-03","Phil Preston",3,"North West",null,null,{"$f":"VLOOKUP(A127,#REF!,2,FALSE)","v":{"$error":"#REF!"}},{"$f":"VLOOKUP(A127,#REF!,3,FALSE)","v":{"$error":"#REF!"}},{"$f":"VLOOKUP(A127,#REF!,4,FALSE)","v":{"$error":"#REF!"}},{"$f":"VLOOKUP(A127,#REF!,7,FALSE)","v":{"$error":"#REF!"}},{"$f":"VLOOKUP(A127,#REF!,5,FALSE)","v":{"$error":"#REF!"}}]
["ARDSLEY/ESR","F/V Test","2021-06-10","Thursday","2021-03-01","David Townend",3,"West",null,"Added due to Cancelled test on 22/4/21",{"$f":"VLOOKUP(A128,#REF!,2,FALSE)","v":{"$error":"#REF!"}},{"$f":"VLOOKUP(A128,#REF!,3,FALSE)","v":{"$error":"#REF!"}},{"$f":"VLOOKUP(A128,#REF!,4,FALSE)","v":{"$error":"#REF!"}},{"$f":"VLOOKUP(A128,#REF!,7,FALSE)","v":{"$error":"#REF!"}},{"$f":"VLOOKUP(A128,#REF!,5,FALSE)","v":{"$error":"#REF!"}}]
["RANDY MERE/ESR","Scour Test","2021-06-16","Wednesday","2021-05-03","Craig Thompson",3,"East Coast",null,null,{"$f":"VLOOKUP(A129,#REF!,2,FALSE)","v":{"$error":"#REF!"}},{"$f":"VLOOKUP(A129,#REF!,3,FALSE)","v":{"$error":"#REF!"}},{"$f":"VLOOKUP(A129,#REF!,4,FALSE)","v":{"$error":"#REF!"}},{"$f":"VLOOKUP(A129,#REF!,7,FALSE)","v":{"$error":"#REF!"}},{"$f":"VLOOKUP(A129,#REF!,5,FALSE)","v":{"$error":"#REF!"}}]
["BROADSTONES/ESR","Scour Test","2021-06-17","Thursday","2021-05-03","Dan Lucks",2,"South",null,null,{"$f":"VLOOKUP(A130,#REF!,2,FALSE)","v":{"$error":"#REF!"}},{"$f":"VLOOKUP(A130,#REF!,3,FALSE)","v":{"$error":"#REF!"}},{"$f":"VLOOKUP(A130,#REF!,4,FALSE)","v":{"$error":"#REF!"}},{"$f":"VLOOKUP(A130,#REF!,7,FALSE)","v":{"$error":"#REF!"}},{"$f":"VLOOKUP(A130,#REF!,5,FALSE)","v":{"$error":"#REF!"}}]
["WESSENDEN OLD/IRE","F/V Test","2021-06-17","Thursday","2021-05-03","Luke Shackleton",2,"West","Blakely",null,{"$f":"VLOOKUP(A131,#REF!,2,FALSE)","v":{"$error":"#REF!"}},{"$f":"VLOOKUP(A131,#REF!,3,FALSE)","v":{"$error":"#REF!"}},{"$f":"VLOOKUP(A131,#REF!,4,FALSE)","v":{"$error":"#REF!"}},{"$f":"VLOOKUP(A131,#REF!,7,FALSE)","v":{"$error":"#REF!"}},{"$f":"VLOOKUP(A131,#REF!,5,FALSE)","v":{"$error":"#REF!"}}]
["BARDEN LOWER/IRE","F/V Test","2021-06-24","Thursday","2021-05-03","Dave Driver",3,"North West",null,null,{"$f":"VLOOKUP(A132,#REF!,2,FALSE)","v":{"$error":"#REF!"}},{"$f":"VLOOKUP(A132,#REF!,3,FALSE)","v":{"$error":"#REF!"}},{"$f":"VLOOKUP(A132,#REF!,4,FALSE)","v":{"$error":"#REF!"}},{"$f":"VLOOKUP(A132,#REF!,7,FALSE)","v":{"$error":"#REF!"}},{"$f":"VLOOKUP(A132,#REF!,5,FALSE)","v":{"$error":"#REF!"}}]
["BARDEN UPPER/IRE","F/V Test","2021-06-29","Tuesday","2021-05-03","Dave Driver",6,"North West",null,null,{"$f":"VLOOKUP(A133,#REF!,2,FALSE)","v":{"$error":"#REF!"}},{"$f":"VLOOKUP(A133,#REF!,3,FALSE)","v":{"$error":"#REF!"}},{"$f":"VLOOKUP(A133,#REF!,4,FALSE)","v":{"$error":"#REF!"}},{"$f":"VLOOKUP(A133,#REF!,7,FALSE)","v":{"$error":"#REF!"}},{"$f":"VLOOKUP(A133,#REF!,5,FALSE)","v":{"$error":"#REF!"}}]
["CHELKER/IRE","F/V Test","2021-07-01","Thursday","2021-06-01","Dave Driver",2,"North West",null,null,{"$f":"VLOOKUP(A134,#REF!,2,FALSE)","v":{"$error":"#REF!"}},{"$f":"VLOOKUP(A134,#REF!,3,FALSE)","v":{"$error":"#REF!"}},{"$f":"VLOOKUP(A134,#REF!,4,FALSE)","v":{"$error":"#REF!"}},{"$f":"VLOOKUP(A134,#REF!,7,FALSE)","v":{"$error":"#REF!"}},{"$f":"VLOOKUP(A134,#REF!,5,FALSE)","v":{"$error":"#REF!"}}]
["KEIGHLEY MOOR/IRE","Scour Test","2021-07-06","Tuesday","2021-06-01","Tom Young (NW)",2,"North West",null,null,{"$f":"VLOOKUP(A135,#REF!,2,FALSE)","v":{"$error":"#REF!"}},{"$f":"VLOOKUP(A135,#REF!,3,FALSE)","v":{"$error":"#REF!"}},{"$f":"VLOOKUP(A135,#REF!,4,FALSE)","v":{"$error":"#REF!"}},{"$f":"VLOOKUP(A135,#REF!,7,FALSE)","v":{"$error":"#REF!"}},{"$f":"VLOOKUP(A135,#REF!,5,FALSE)","v":{"$error":"#REF!"}}]
["LOWER LAITHE/IRE","Scour Test","2021-07-08","Thursday","2021-06-01","Tom Young (NW)",4,"North West",null,null,{"$f":"VLOOKUP(A136,#REF!,2,FALSE)","v":{"$error":"#REF!"}},{"$f":"VLOOKUP(A136,#REF!,3,FALSE)","v":{"$error":"#REF!"}},{"$f":"VLOOKUP(A136,#REF!,4,FALSE)","v":{"$error":"#REF!"}},{"$f":"VLOOKUP(A136,#REF!,7,FALSE)","v":{"$error":"#REF!"}},{"$f":"VLOOKUP(A136,#REF!,5,FALSE)","v":{"$error":"#REF!"}}]
["BRANSHOLME/SLK","F/V Test","2021-07-21","Wednesday","2021-06-01","Roger Blount",3,"Waste",null,null,{"$f":"VLOOKUP(A137,#REF!,2,FALSE)","v":{"$error":"#REF!"}},{"$f":"VLOOKUP(A137,#REF!,3,FALSE)","v":{"$error":"#REF!"}},{"$f":"VLOOKUP(A137,#REF!,4,FALSE)","v":{"$error":"#REF!"}},{"$f":"VLOOKUP(A137,#REF!,7,FALSE)","v":{"$error":"#REF!"}},{"$f":"VLOOKUP(A137,#REF!,5,FALSE)","v":{"$error":"#REF!"}}]
["BLAKELEY/IRE","F/V Test","2021-07-22","Thursday","2021-05-03","Luke Shackleton",2,"West",null,"Added due to Cancelled test on 17/06/21",{"$f":"VLOOKUP(A138,#REF!,2,FALSE)","v":{"$error":"#REF!"}},{"$f":"VLOOKUP(A138,#REF!,3,FALSE)","v":{"$error":"#REF!"}},{"$f":"VLOOKUP(A138,#REF!,4,FALSE)","v":{"$error":"#REF!"}},{"$f":"VLOOKUP(A138,#REF!,7,FALSE)","v":{"$error":"#REF!"}},{"$f":"VLOOKUP(A138,#REF!,5,FALSE)","v":{"$error":"#REF!"}}]
["MARCH GHYLL/IRE","Scour Test","2021-07-22","Thursday","2021-06-01","Ben Wilson",2,"North West",null,null,{"$f":"VLOOKUP(A139,#REF!,2,FALSE)","v":{"$error":"#REF!"}},{"$f":"VLOOKUP(A139,#REF!,3,FALSE)","v":{"$error":"#REF!"}},{"$f":"VLOOKUP(A139,#REF!,4,FALSE)","v":{"$error":"#REF!"}},{"$f":"VLOOKUP(A139,#REF!,7,FALSE)","v":{"$error":"#REF!"}},{"$f":"VLOOKUP(A139,#REF!,5,FALSE)","v":{"$error":"#REF!"}}]
["AGDEN/IRE","F/V Test","2021-07-22","Thursday","2021-06-01","Elliot Beever",3,"South",null,null,{"$f":"VLOOKUP(A140,#REF!,2,FALSE)","v":{"$error":"#REF!"}},{"$f":"VLOOKUP(A140,#REF!,3,FALSE)","v":{"$error":"#REF!"}},{"$f":"VLOOKUP(A140,#REF!,4,FALSE)","v":{"$error":"#REF!"}},{"$f":"VLOOKUP(A140,#REF!,7,FALSE)","v":{"$error":"#REF!"}},{"$f":"VLOOKUP(A140,#REF!,5,FALSE)","v":{"$error":"#REF!"}}]
["FEWSTON/IRE","Scour Test","2021-07-22","Thursday","2021-06-01","Jim Lester",3,"North",null,null,{"$f":"VLOOKUP(A141,#REF!,2,FALSE)","v":{"$error":"#REF!"}},{"$f":"VLOOKUP(A141,#REF!,3,FALSE)","v":{"$error":"#REF!"}},{"$f":"VLOOKUP(A141,#REF!,4,FALSE)","v":{"$error":"#REF!"}},{"$f":"VLOOKUP(A141,#REF!,7,FALSE)","v":{"$error":"#REF!"}},{"$f":"VLOOKUP(A141,#REF!,5,FALSE)","v":{"$error":"#REF!"}}]
["LEEMING/IRE","Scour Test","2021-07-22","Thursday","2021-06-01","Tom Young (NW)",2,"North West","Leeshaw",null,{"$f":"VLOOKUP(A142,#REF!,2,FALSE)","v":{"$error":"#REF!"}},{"$f":"VLOOKUP(A142,#REF!,3,FALSE)","v":{"$error":"#REF!"}},{"$f":"VLOOKUP(A142,#REF!,4,FALSE)","v":{"$error":"#REF!"}},{"$f":"VLOOKUP(A142,#REF!,7,FALSE)","v":{"$error":"#REF!"}},{"$f":"VLOOKUP(A142,#REF!,5,FALSE)","v":{"$error":"#REF!"}}]
["LEESHAW/IRE","Scour Test","2021-07-22","Thursday","2021-06-01","Tom Young (NW)",2,"North West","Leeming",null,{"$f":"VLOOKUP(A143,#REF!,2,FALSE)","v":{"$error":"#REF!"}},{"$f":"VLOOKUP(A143,#REF!,3,FALSE)","v":{"$error":"#REF!"}},{"$f":"VLOOKUP(A143,#REF!,4,FALSE)","v":{"$error":"#REF!"}},{"$f":"VLOOKUP(A143,#REF!,7,FALSE)","v":{"$error":"#REF!"}},{"$f":"VLOOKUP(A143,#REF!,5,FALSE)","v":{"$error":"#REF!"}}]
["DALE DIKE/IRE","F/V Test","2021-07-27","Tuesday","2021-06-01","Elliot Beever",3,"South",null,null,{"$f":"VLOOKUP(A144,#REF!,2,FALSE)","v":{"$error":"#REF!"}},{"$f":"VLOOKUP(A144,#REF!,3,FALSE)","v":{"$error":"#REF!"}},{"$f":"VLOOKUP(A144,#REF!,4,FALSE)","v":{"$error":"#REF!"}},{"$f":"VLOOKUP(A144,#REF!,7,FALSE)","v":{"$error":"#REF!"}},{"$f":"VLOOKUP(A144,#REF!,5,FALSE)","v":{"$error":"#REF!"}}]
["RIVELIN LOWER/IRE","Scour Test","2021-07-29","Thursday","2021-06-01","Tony Hartley",2,"South",null,null,{"$f":"VLOOKUP(A145,#REF!,2,FALSE)","v":{"$error":"#REF!"}},{"$f":"VLOOKUP(A145,#REF!,3,FALSE)","v":{"$error":"#REF!"}},{"$f":"VLOOKUP(A145,#REF!,4,FALSE)","v":{"$error":"#REF!"}},{"$f":"VLOOKUP(A145,#REF!,7,FALSE)","v":{"$error":"#REF!"}},{"$f":"VLOOKUP(A145,#REF!,5,FALSE)","v":{"$error":"#REF!"}}]
["BLACKMOORFOOT/IRE (SOUTH SIDE)","Dry Scour Test","2021-07-29","Thursday","2021-06-23","Luke Shackleton",2,"West",null,"Torque test for capital scheme",{"$f":"VLOOKUP(A146,#REF!,2,FALSE)","v":{"$error":"#REF!"}},{"$f":"VLOOKUP(A146,#REF!,3,FALSE)","v":{"$error":"#REF!"}},{"$f":"VLOOKUP(A146,#REF!,4,FALSE)","v":{"$error":"#REF!"}},{"$f":"VLOOKUP(A146,#REF!,7,FALSE)","v":{"$error":"#REF!"}},{"$f":"VLOOKUP(A146,#REF!,5,FALSE)","v":{"$error":"#REF!"}}]
["GOUTHWAITE/IRE","Scour Test","2021-07-29","Thursday","2021-06-01","Grace Oldknow",2,"North West",null,null,{"$f":"VLOOKUP(A147,#REF!,2,FALSE)","v":{"$error":"#REF!"}},{"$f":"VLOOKUP(A147,#REF!,3,FALSE)","v":{"$error":"#REF!"}},{"$f":"VLOOKUP(A147,#REF!,4,FALSE)","v":{"$error":"#REF!"}},{"$f":"VLOOKUP(A147,#REF!,7,FALSE)","v":{"$error":"#REF!"}},{"$f":"VLOOKUP(A147,#REF!,5,FALSE)","v":{"$error":"#REF!"}}]
["DAMFLASK/IRE","Scour Test","2021-08-03","Tuesday","2021-07-01","Elliot Beever",2,"South",null,null,{"$f":"VLOOKUP(A148,#REF!,2,FALSE)","v":{"$error":"#REF!"}},{"$f":"VLOOKUP(A148,#REF!,3,FALSE)","v":{"$error":"#REF!"}},{"$f":"VLOOKUP(A148,#REF!,4,FALSE)","v":{"$error":"#REF!"}},{"$f":"VLOOKUP(A148,#REF!,7,FALSE)","v":{"$error":"#REF!"}},{"$f":"VLOOKUP(A148,#REF!,5,FALSE)","v":{"$error":"#REF!"}}]
["MIXENDEN/IRE","Scour Test","2021-08-03","Tuesday","2021-07-01","Oliver Oates",3,"West","Ogden",null,{"$f":"VLOOKUP(A149,#REF!,2,FALSE)","v":{"$error":"#REF!"}},{"$f":"VLOOKUP(A149,#REF!,3,FALSE)","v":{"$error":"#REF!"}},{"$f":"VLOOKUP(A149,#REF!,4,FALSE)","v":{"$error":"#REF!"}},{"$f":"VLOOKUP(A149,#REF!,7,FALSE)","v":{"$error":"#REF!"}},{"$f":"VLOOKUP(A149,#REF!,5,FALSE)","v":{"$error":"#REF!"}}]
["OGDEN/IRE","Scour Test","2021-08-03","Tuesday","2021-07-01","Oliver Oates",3,"West","Mixenden",null,{"$f":"VLOOKUP(A150,#REF!,2,FALSE)","v":{"$error":"#REF!"}},{"$f":"VLOOKUP(A150,#REF!,3,FALSE)","v":{"$error":"#REF!"}},{"$f":"VLOOKUP(A150,#REF!,4,FALSE)","v":{"$error":"#REF!"}},{"$f":"VLOOKUP(A150,#REF!,7,FALSE)","v":{"$error":"#REF!"}},{"$f":"VLOOKUP(A150,#REF!,5,FALSE)","v":{"$error":"#REF!"}}]
["THORNTON MOOR/IRE","Scour Test","2021-08-03","Tuesday","2021-07-01","Phil Preston",3,"North West",null,null,{"$f":"VLOOKUP(A151,#REF!,2,FALSE)","v":{"$error":"#REF!"}},{"$f":"VLOOKUP(A151,#REF!,3,FALSE)","v":{"$error":"#REF!"}},{"$f":"VLOOKUP(A151,#REF!,4,FALSE)","v":{"$error":"#REF!"}},{"$f":"VLOOKUP(A151,#REF!,7,FALSE)","v":{"$error":"#REF!"}},{"$f":"VLOOKUP(A151,#REF!,5,FALSE)","v":{"$error":"#REF!"}}]
["STUBDEN/IRE","Scour Test","2021-08-05","Thursday","2021-07-01","Phil Preston",3,"North West",null,null,{"$f":"VLOOKUP(A152,#REF!,2,FALSE)","v":{"$error":"#REF!"}},{"$f":"VLOOKUP(A152,#REF!,3,FALSE)","v":{"$error":"#REF!"}},{"$f":"VLOOKUP(A152,#REF!,4,FALSE)","v":{"$error":"#REF!"}},{"$f":"VLOOKUP(A152,#REF!,7,FALSE)","v":{"$error":"#REF!"}},{"$f":"VLOOKUP(A152,#REF!,5,FALSE)","v":{"$error":"#REF!"}}]
["RIVELIN UPPER/IRE","Scour Test","2021-08-05","Thursday","2021-07-01","Tony Hartley",3,"South","Dep Pond",null,{"$f":"VLOOKUP(A153,#REF!,2,FALSE)","v":{"$error":"#REF!"}},{"$f":"VLOOKUP(A153,#REF!,3,FALSE)","v":{"$error":"#REF!"}},{"$f":"VLOOKUP(A153,#REF!,4,FALSE)","v":{"$error":"#REF!"}},{"$f":"VLOOKUP(A153,#REF!,7,FALSE)","v":{"$error":"#REF!"}},{"$f":"VLOOKUP(A153,#REF!,5,FALSE)","v":{"$error":"#REF!"}}]
["RIVELIN/DEP POND IRE","Scour Test","2021-08-05","Thursday","2021-07-01","Tony Hartley",3,"South","Upper",null,{"$f":"VLOOKUP(A154,#REF!,2,FALSE)","v":{"$error":"#REF!"}},{"$f":"VLOOKUP(A154,#REF!,3,FALSE)","v":{"$error":"#REF!"}},{"$f":"VLOOKUP(A154,#REF!,4,FALSE)","v":{"$error":"#REF!"}},{"$f":"VLOOKUP(A154,#REF!,7,FALSE)","v":{"$error":"#REF!"}},{"$f":"VLOOKUP(A154,#REF!,5,FALSE)","v":{"$error":"#REF!"}}]
["REDMIRES LOWER/IRE","Scour Test","2021-08-12","Thursday","2021-07-01","Tony Hartley",2,"South","Upp, Mid, Low",null,{"$f":"VLOOKUP(A155,#REF!,2,FALSE)","v":{"$error":"#REF!"}},{"$f":"VLOOKUP(A155,#REF!,3,FALSE)","v":{"$error":"#REF!"}},{"$f":"VLOOKUP(A155,#REF!,4,FALSE)","v":{"$error":"#REF!"}},{"$f":"VLOOKUP(A155,#REF!,7,FALSE)","v":{"$error":"#REF!"}},{"$f":"VLOOKUP(A155,#REF!,5,FALSE)","v":{"$error":"#REF!"}}]
["REDMIRES MIDDLE/IRE","Scour Test","2021-08-12","Thursday","2021-07-01","Tony Hartley",2,"South","Upp, Mid, Low",null,{"$f":"VLOOKUP(A156,#REF!,2,FALSE)","v":{"$error":"#REF!"}},{"$f":"VLOOKUP(A156,#REF!,3,FALSE)","v":{"$error":"#REF!"}},{"$f":"VLOOKUP(A156,#REF!,4,FALSE)","v":{"$error":"#REF!"}},{"$f":"VLOOKUP(A156,#REF!,7,FALSE)","v":{"$error":"#REF!"}},{"$f":"VLOOKUP(A156,#REF!,5,FALSE)","v":{"$error":"#REF!"}}]
["REDMIRES UPPER/IRE","Scour Test","2021-08-12","Thursday","2021-07-01","Tony Hartley",2,"South","Upp, Mid, Low",null,{"$f":"VLOOKUP(A157,#REF!,2,FALSE)","v":{"$error":"#REF!"}},{"$f":"VLOOKUP(A157,#REF!,3,FALSE)","v":{"$error":"#REF!"}},{"$f":"VLOOKUP(A157,#REF!,4,FALSE)","v":{"$error":"#REF!"}},{"$f":"VLOOKUP(A157,#REF!,7,FALSE)","v":{"$error":"#REF!"}},{"$f":"VLOOKUP(A157,#REF!,5,FALSE)","v":{"$error":"#REF!"}}]
["BOSHAW WHAMS/IRE","Scour Test","2021-08-19","Thursday","2021-07-01","Peter H Jackson",3,"South","Holmestyes",null,{"$f":"VLOOKUP(A158,#REF!,2,FALSE)","v":{"$error":"#REF!"}},{"$f":"VLOOKUP(A158,#REF!,3,FALSE)","v":{"$error":"#REF!"}},{"$f":"VLOOKUP(A158,#REF!,4,FALSE)","v":{"$error":"#REF!"}},{"$f":"VLOOKUP(A158,#REF!,7,FALSE)","v":{"$error":"#REF!"}},{"$f":"VLOOKUP(A158,#REF!,5,FALSE)","v":{"$error":"#REF!"}}]
["HOLMESTYES/IRE","Scour Test","2021-08-19","Thursday","2021-07-01","Peter H Jackson",3,"South","Bowshaw Whams",null,{"$f":"VLOOKUP(A159,#REF!,2,FALSE)","v":{"$error":"#REF!"}},{"$f":"VLOOKUP(A159,#REF!,3,FALSE)","v":{"$error":"#REF!"}},{"$f":"VLOOKUP(A159,#REF!,4,FALSE)","v":{"$error":"#REF!"}},{"$f":"VLOOKUP(A159,#REF!,7,FALSE)","v":{"$error":"#REF!"}},{"$f":"VLOOKUP(A159,#REF!,5,FALSE)","v":{"$error":"#REF!"}}]
["BOOTH WOOD/IRE","Scour Test","2021-08-19","Thursday","2021-07-14","Ian Dorrington",3,"West","Holmestyes, Boshaw Whams",null,{"$f":"VLOOKUP(A160,#REF!,2,FALSE)","v":{"$error":"#REF!"}},{"$f":"VLOOKUP(A160,#REF!,3,FALSE)","v":{"$error":"#REF!"}},{"$f":"VLOOKUP(A160,#REF!,4,FALSE)","v":{"$error":"#REF!"}},{"$f":"VLOOKUP(A160,#REF!,7,FALSE)","v":{"$error":"#REF!"}},{"$f":"VLOOKUP(A160,#REF!,5,FALSE)","v":{"$error":"#REF!"}}]
["WEECHER/IRE","Scour Test","2021-08-24","Tuesday","2021-07-01","Ben Wilson",2,"North West",null,null,{"$f":"VLOOKUP(A161,#REF!,2,FALSE)","v":{"$error":"#REF!"}},{"$f":"VLOOKUP(A161,#REF!,3,FALSE)","v":{"$error":"#REF!"}},{"$f":"VLOOKUP(A161,#REF!,4,FALSE)","v":{"$error":"#REF!"}},{"$f":"VLOOKUP(A161,#REF!,7,FALSE)","v":{"$error":"#REF!"}},{"$f":"VLOOKUP(A161,#REF!,5,FALSE)","v":{"$error":"#REF!"}}]
["EMBSAY/IRE","Scour Test","2021-08-26","Tuesday","2021-07-01","Dave Driver",4,"North West",null,null,{"$f":"VLOOKUP(A162,#REF!,2,FALSE)","v":{"$error":"#REF!"}},{"$f":"VLOOKUP(A162,#REF!,3,FALSE)","v":{"$error":"#REF!"}},{"$f":"VLOOKUP(A162,#REF!,4,FALSE)","v":{"$error":"#REF!"}},{"$f":"VLOOKUP(A162,#REF!,7,FALSE)","v":{"$error":"#REF!"}},{"$f":"VLOOKUP(A162,#REF!,5,FALSE)","v":{"$error":"#REF!"}}]
["GORPLE LOWER/IRE","Scour Test","2021-08-26","Thursday","2021-07-01","Simon Firth",3,"West","Upper",null,{"$f":"VLOOKUP(A163,#REF!,2,FALSE)","v":{"$error":"#REF!"}},{"$f":"VLOOKUP(A163,#REF!,3,FALSE)","v":{"$error":"#REF!"}},{"$f":"VLOOKUP(A163,#REF!,4,FALSE)","v":{"$error":"#REF!"}},{"$f":"VLOOKUP(A163,#REF!,7,FALSE)","v":{"$error":"#REF!"}},{"$f":"VLOOKUP(A163,#REF!,5,FALSE)","v":{"$error":"#REF!"}}]
["GORPLE UPPER/IRE","Scour Test","2021-08-26","Thursday","2021-07-01","Simon Firth",3,"West","Lower",null,{"$f":"VLOOKUP(A164,#REF!,2,FALSE)","v":{"$error":"#REF!"}},{"$f":"VLOOKUP(A164,#REF!,3,FALSE)","v":{"$error":"#REF!"}},{"$f":"VLOOKUP(A164,#REF!,4,FALSE)","v":{"$error":"#REF!"}},{"$f":"VLOOKUP(A164,#REF!,7,FALSE)","v":{"$error":"#REF!"}},{"$f":"VLOOKUP(A164,#REF!,5,FALSE)","v":{"$error":"#REF!"}}]
["SWINSTY/IRE","Scour Test","2021-09-02","Thursday","2021-08-02","Brian Throup",5,"North",null,null,{"$f":"VLOOKUP(A165,#REF!,2,FALSE)","v":{"$error":"#REF!"}},{"$f":"VLOOKUP(A165,#REF!,3,FALSE)","v":{"$error":"#REF!"}},{"$f":"VLOOKUP(A165,#REF!,4,FALSE)","v":{"$error":"#REF!"}},{"$f":"VLOOKUP(A165,#REF!,7,FALSE)","v":{"$error":"#REF!"}},{"$f":"VLOOKUP(A165,#REF!,5,FALSE)","v":{"$error":"#REF!"}}]
["RYBURN/IRE","Scour Test","2021-09-02","Thursday","2021-08-02","Nick Lunt",3,"West",null,null,{"$f":"VLOOKUP(A166,#REF!,2,FALSE)","v":{"$error":"#REF!"}},{"$f":"VLOOKUP(A166,#REF!,3,FALSE)","v":{"$error":"#REF!"}},{"$f":"VLOOKUP(A166,#REF!,4,FALSE)","v":{"$error":"#REF!"}},{"$f":"VLOOKUP(A166,#REF!,7,FALSE)","v":{"$error":"#REF!"}},{"$f":"VLOOKUP(A166,#REF!,5,FALSE)","v":{"$error":"#REF!"}}]
["SCAR HOUSE/IRE","Scour Test","2021-09-02","Thursday","2021-08-02","Grace Oldknow",3,"North West","Angram",null,{"$f":"VLOOKUP(A167,#REF!,2,FALSE)","v":{"$error":"#REF!"}},{"$f":"VLOOKUP(A167,#REF!,3,FALSE)","v":{"$error":"#REF!"}},{"$f":"VLOOKUP(A167,#REF!,4,FALSE)","v":{"$error":"#REF!"}},{"$f":"VLOOKUP(A167,#REF!,7,FALSE)","v":{"$error":"#REF!"}},{"$f":"VLOOKUP(A167,#REF!,5,FALSE)","v":{"$error":"#REF!"}}]
["ANGRAM/IRE","Scour Test","2021-09-02","Thursday","2021-08-02","Grace Oldknow",3,"North West","Scar House",null,{"$f":"VLOOKUP(A168,#REF!,2,FALSE)","v":{"$error":"#REF!"}},{"$f":"VLOOKUP(A168,#REF!,3,FALSE)","v":{"$error":"#REF!"}},{"$f":"VLOOKUP(A168,#REF!,4,FALSE)","v":{"$error":"#REF!"}},{"$f":"VLOOKUP(A168,#REF!,7,FALSE)","v":{"$error":"#REF!"}},{"$f":"VLOOKUP(A168,#REF!,5,FALSE)","v":{"$error":"#REF!"}}]
["THRUSCROSS/IRE","Scour Test","2021-09-16","Thursday","2021-08-02","Chris Spencer",5,"North",null,null,{"$f":"VLOOKUP(A169,#REF!,2,FALSE)","v":{"$error":"#REF!"}},{"$f":"VLOOKUP(A169,#REF!,3,FALSE)","v":{"$error":"#REF!"}},{"$f":"VLOOKUP(A169,#REF!,4,FALSE)","v":{"$error":"#REF!"}},{"$f":"VLOOKUP(A169,#REF!,7,FALSE)","v":{"$error":"#REF!"}},{"$f":"VLOOKUP(A169,#REF!,5,FALSE)","v":{"$error":"#REF!"}}]
["CLIFTON LAKE/SLK","F/V Test","2021-09-16","Thursday","2021-08-02","Craig Shepherd",3,"Waste",null,null,{"$f":"VLOOKUP(A170,#REF!,2,FALSE)","v":{"$error":"#REF!"}},{"$f":"VLOOKUP(A170,#REF!,3,FALSE)","v":{"$error":"#REF!"}},{"$f":"VLOOKUP(A170,#REF!,4,FALSE)","v":{"$error":"#REF!"}},{"$f":"VLOOKUP(A170,#REF!,7,FALSE)","v":{"$error":"#REF!"}},{"$f":"VLOOKUP(A170,#REF!,5,FALSE)","v":{"$error":"#REF!"}}]
["WALSHAW DEAN LOWER/IRE","Scour Test","2021-09-21","Tuesday","2021-08-02","Simon Firth",3,"West","All Wal Deans",null,{"$f":"VLOOKUP(A171,#REF!,2,FALSE)","v":{"$error":"#REF!"}},{"$f":"VLOOKUP(A171,#REF!,3,FALSE)","v":{"$error":"#REF!"}},{"$f":"VLOOKUP(A171,#REF!,4,FALSE)","v":{"$error":"#REF!"}},{"$f":"VLOOKUP(A171,#REF!,7,FALSE)","v":{"$error":"#REF!"}},{"$f":"VLOOKUP(A171,#REF!,5,FALSE)","v":{"$error":"#REF!"}}]
["WALSHAW DEAN MIDDLE/IRE","Scour Test","2021-09-21","Tuesday","2021-08-02","Simon Firth",3,"West","All Wal Deans",null,{"$f":"VLOOKUP(A172,#REF!,2,FALSE)","v":{"$error":"#REF!"}},{"$f":"VLOOKUP(A172,#REF!,3,FALSE)","v":{"$error":"#REF!"}},{"$f":"VLOOKUP(A172,#REF!,4,FALSE)","v":{"$error":"#REF!"}},{"$f":"VLOOKUP(A172,#REF!,7,FALSE)","v":{"$error":"#REF!"}},{"$f":"VLOOKUP(A172,#REF!,5,FALSE)","v":{"$error":"#REF!"}}]
["WALSHAW DEAN UPPER/IRE","Scour Test","2021-09-21","Tuesday","2021-08-02","Simon Firth",3,"West","All Wal Deans",null,{"$f":"VLOOKUP(A173,#REF!,2,FALSE)","v":{"$error":"#REF!"}},{"$f":"VLOOKUP(A173,#REF!,3,FALSE)","v":{"$error":"#REF!"}},{"$f":"VLOOKUP(A173,#REF!,4,FALSE)","v":{"$error":"#REF!"}},{"$f":"VLOOKUP(A173,#REF!,7,FALSE)","v":{"$error":"#REF!"}},{"$f":"VLOOKUP(A173,#REF!,5,FALSE)","v":{"$error":"#REF!"}}]
["CARR BOTTOM/IRE","Scour Test","2021-09-21","Tuesday","2021-08-02","Ben Wilson",2,"North West",null,"Treat as under RA75 and scour twice",{"$f":"VLOOKUP(A174,#REF!,2,FALSE)","v":{"$error":"#REF!"}},{"$f":"VLOOKUP(A174,#REF!,3,FALSE)","v":{"$error":"#REF!"}},{"$f":"VLOOKUP(A174,#REF!,4,FALSE)","v":{"$error":"#REF!"}},{"$f":"VLOOKUP(A174,#REF!,7,FALSE)","v":{"$error":"#REF!"}},{"$f":"VLOOKUP(A174,#REF!,5,FALSE)","v":{"$error":"#REF!"}}]
["ELVINGTON/NO 1 ESR","S10 F/V Test","2021-09-22","Wednesday","2021-08-02","Sean Wright",3,"East",null,null,{"$f":"VLOOKUP(A175,#REF!,2,FALSE)","v":{"$error":"#REF!"}},{"$f":"VLOOKUP(A175,#REF!,3,FALSE)","v":{"$error":"#REF!"}},{"$f":"VLOOKUP(A175,#REF!,4,FALSE)","v":{"$error":"#REF!"}},{"$f":"VLOOKUP(A175,#REF!,7,FALSE)","v":{"$error":"#REF!"}},{"$f":"VLOOKUP(A175,#REF!,5,FALSE)","v":{"$error":"#REF!"}}]
["GREEN WITHENS/IRE","Scour Test","2021-09-23","Thursday","2021-08-02","Nick Lunt",3,"West","Spa Clough",null,{"$f":"VLOOKUP(A176,#REF!,2,FALSE)","v":{"$error":"#REF!"}},{"$f":"VLOOKUP(A176,#REF!,3,FALSE)","v":{"$error":"#REF!"}},{"$f":"VLOOKUP(A176,#REF!,4,FALSE)","v":{"$error":"#REF!"}},{"$f":"VLOOKUP(A176,#REF!,7,FALSE)","v":{"$error":"#REF!"}},{"$f":"VLOOKUP(A176,#REF!,5,FALSE)","v":{"$error":"#REF!"}}]
["SPA CLOUGH/ESR","Scour Test","2021-09-23","Thursday","2021-08-02","Nick Lunt",1,"West","Green Withens",null,{"$f":"VLOOKUP(A177,#REF!,2,FALSE)","v":{"$error":"#REF!"}},{"$f":"VLOOKUP(A177,#REF!,3,FALSE)","v":{"$error":"#REF!"}},{"$f":"VLOOKUP(A177,#REF!,4,FALSE)","v":{"$error":"#REF!"}},{"$f":"VLOOKUP(A177,#REF!,7,FALSE)","v":{"$error":"#REF!"}},{"$f":"VLOOKUP(A177,#REF!,5,FALSE)","v":{"$error":"#REF!"}}]
["PANORAMA/IRE","Scour Test","2021-09-23","Thursday","2021-08-02","Ben Wilson",2,"North West",null,null,{"$f":"VLOOKUP(A178,#REF!,2,FALSE)","v":{"$error":"#REF!"}},{"$f":"VLOOKUP(A178,#REF!,3,FALSE)","v":{"$error":"#REF!"}},{"$f":"VLOOKUP(A178,#REF!,4,FALSE)","v":{"$error":"#REF!"}},{"$f":"VLOOKUP(A178,#REF!,7,FALSE)","v":{"$error":"#REF!"}},{"$f":"VLOOKUP(A178,#REF!,5,FALSE)","v":{"$error":"#REF!"}}]
["BOOTH DEAN LOWER/IRE","Scour Test","2021-09-28","Tuesday","2021-08-02","Nick Lunt",1,"West","BD Upp,Low & BWood",null,{"$f":"VLOOKUP(A179,#REF!,2,FALSE)","v":{"$error":"#REF!"}},{"$f":"VLOOKUP(A179,#REF!,3,FALSE)","v":{"$error":"#REF!"}},{"$f":"VLOOKUP(A179,#REF!,4,FALSE)","v":{"$error":"#REF!"}},{"$f":"VLOOKUP(A179,#REF!,7,FALSE)","v":{"$error":"#REF!"}},{"$f":"VLOOKUP(A179,#REF!,5,FALSE)","v":{"$error":"#REF!"}}]
["BOOTH DEAN UPPER/IRE","Scour Test","2021-09-28","Tuesday","2021-08-02","Nick Lunt",1,"West","BD Upp,Low & BWood",null,{"$f":"VLOOKUP(A180,#REF!,2,FALSE)","v":{"$error":"#REF!"}},{"$f":"VLOOKUP(A180,#REF!,3,FALSE)","v":{"$error":"#REF!"}},{"$f":"VLOOKUP(A180,#REF!,4,FALSE)","v":{"$error":"#REF!"}},{"$f":"VLOOKUP(A180,#REF!,7,FALSE)","v":{"$error":"#REF!"}},{"$f":"VLOOKUP(A180,#REF!,5,FALSE)","v":{"$error":"#REF!"}}]
["BOOTH WOOD/IRE","Scour Test","2021-09-28","Tuesday","2021-08-02","Ian Dorrington",3,"West","BD Upp,Low & BWood",null,{"$f":"VLOOKUP(A181,#REF!,2,FALSE)","v":{"$error":"#REF!"}},{"$f":"VLOOKUP(A181,#REF!,3,FALSE)","v":{"$error":"#REF!"}},{"$f":"VLOOKUP(A181,#REF!,4,FALSE)","v":{"$error":"#REF!"}},{"$f":"VLOOKUP(A181,#REF!,7,FALSE)","v":{"$error":"#REF!"}},{"$f":"VLOOKUP(A181,#REF!,5,FALSE)","v":{"$error":"#REF!"}}]
["LEIGHTON/IRE","Scour Test","2021-09-28","Tuesday","2021-08-02","Brian Throup",2,"North","Roundhill",null,{"$f":"VLOOKUP(A182,#REF!,2,FALSE)","v":{"$error":"#REF!"}},{"$f":"VLOOKUP(A182,#REF!,3,FALSE)","v":{"$error":"#REF!"}},{"$f":"VLOOKUP(A182,#REF!,4,FALSE)","v":{"$error":"#REF!"}},{"$f":"VLOOKUP(A182,#REF!,7,FALSE)","v":{"$error":"#REF!"}},{"$f":"VLOOKUP(A182,#REF!,5,FALSE)","v":{"$error":"#REF!"}}]
["ROUNDHILL/IRE","Scour Test","2021-09-28","Tuesday","2021-08-02","Chris Spencer",3,"North","Lieghton",null,{"$f":"VLOOKUP(A183,#REF!,2,FALSE)","v":{"$error":"#REF!"}},{"$f":"VLOOKUP(A183,#REF!,3,FALSE)","v":{"$error":"#REF!"}},{"$f":"VLOOKUP(A183,#REF!,4,FALSE)","v":{"$error":"#REF!"}},{"$f":"VLOOKUP(A183,#REF!,7,FALSE)","v":{"$error":"#REF!"}},{"$f":"VLOOKUP(A183,#REF!,5,FALSE)","v":{"$error":"#REF!"}}]
["HEWENDEN/IRE","F/V Test","2021-09-28","Tuesday","2021-08-02","Phil Preston",2,"North West",null,null,{"$f":"VLOOKUP(A184,#REF!,2,FALSE)","v":{"$error":"#REF!"}},{"$f":"VLOOKUP(A184,#REF!,3,FALSE)","v":{"$error":"#REF!"}},{"$f":"VLOOKUP(A184,#REF!,4,FALSE)","v":{"$error":"#REF!"}},{"$f":"VLOOKUP(A184,#REF!,7,FALSE)","v":{"$error":"#REF!"}},{"$f":"VLOOKUP(A184,#REF!,5,FALSE)","v":{"$error":"#REF!"}}]
["GORPLEY/IRE","Scour Test","2021-10-05","Thursday","2021-09-01","Simon Firth",2,"West",null,null,{"$f":"VLOOKUP(A185,#REF!,2,FALSE)","v":{"$error":"#REF!"}},{"$f":"VLOOKUP(A185,#REF!,3,FALSE)","v":{"$error":"#REF!"}},{"$f":"VLOOKUP(A185,#REF!,4,FALSE)","v":{"$error":"#REF!"}},{"$f":"VLOOKUP(A185,#REF!,7,FALSE)","v":{"$error":"#REF!"}},{"$f":"VLOOKUP(A185,#REF!,5,FALSE)","v":{"$error":"#REF!"}}]
["WINSCAR/IRE","F/V Test","2021-10-05","Thursday","2021-09-01","Chris Waters",3,"South",null,null,{"$f":"VLOOKUP(A186,#REF!,2,FALSE)","v":{"$error":"#REF!"}},{"$f":"VLOOKUP(A186,#REF!,3,FALSE)","v":{"$error":"#REF!"}},{"$f":"VLOOKUP(A186,#REF!,4,FALSE)","v":{"$error":"#REF!"}},{"$f":"VLOOKUP(A186,#REF!,7,FALSE)","v":{"$error":"#REF!"}},{"$f":"VLOOKUP(A186,#REF!,5,FALSE)","v":{"$error":"#REF!"}}]
["WIDDOP/IRE","Scour Test","2021-10-05","Tuesday","2021-09-01","Simon Firth",3,"West",null,null,{"$f":"VLOOKUP(A187,#REF!,2,FALSE)","v":{"$error":"#REF!"}},{"$f":"VLOOKUP(A187,#REF!,3,FALSE)","v":{"$error":"#REF!"}},{"$f":"VLOOKUP(A187,#REF!,4,FALSE)","v":{"$error":"#REF!"}},{"$f":"VLOOKUP(A187,#REF!,7,FALSE)","v":{"$error":"#REF!"}},{"$f":"VLOOKUP(A187,#REF!,5,FALSE)","v":{"$error":"#REF!"}}]
["WHINNY GILL/IRE","Scour Test","2021-10-05","Tuesday","2021-09-01","Dave Driver",3,"North West",null,null,{"$f":"VLOOKUP(A188,#REF!,2,FALSE)","v":{"$error":"#REF!"}},{"$f":"VLOOKUP(A188,#REF!,3,FALSE)","v":{"$error":"#REF!"}},{"$f":"VLOOKUP(A188,#REF!,4,FALSE)","v":{"$error":"#REF!"}},{"$f":"VLOOKUP(A188,#REF!,7,FALSE)","v":{"$error":"#REF!"}},{"$f":"VLOOKUP(A188,#REF!,5,FALSE)","v":{"$error":"#REF!"}}]
["STRINES/IRE","Scour Test","2021-10-05","Tuesday","2021-09-01","Elliot Beever",2,"South",null,null,{"$f":"VLOOKUP(A189,#REF!,2,FALSE)","v":{"$error":"#REF!"}},{"$f":"VLOOKUP(A189,#REF!,3,FALSE)","v":{"$error":"#REF!"}},{"$f":"VLOOKUP(A189,#REF!,4,FALSE)","v":{"$error":"#REF!"}},{"$f":"VLOOKUP(A189,#REF!,7,FALSE)","v":{"$error":"#REF!"}},{"$f":"VLOOKUP(A189,#REF!,5,FALSE)","v":{"$error":"#REF!"}}]
["BAITINGS/IRE","Scour Test","2021-10-07","Thursday","2021-09-01","Nick Lunt",3,"West",null,null,{"$f":"VLOOKUP(A190,#REF!,2,FALSE)","v":{"$error":"#REF!"}},{"$f":"VLOOKUP(A190,#REF!,3,FALSE)","v":{"$error":"#REF!"}},{"$f":"VLOOKUP(A190,#REF!,4,FALSE)","v":{"$error":"#REF!"}},{"$f":"VLOOKUP(A190,#REF!,7,FALSE)","v":{"$error":"#REF!"}},{"$f":"VLOOKUP(A190,#REF!,5,FALSE)","v":{"$error":"#REF!"}}]
["REVA/IRE","S10 F/V Test","2021-10-07","Tuesday","2021-09-01","Ben Wilson",3,"North West",null,null,{"$f":"VLOOKUP(A191,#REF!,2,FALSE)","v":{"$error":"#REF!"}},{"$f":"VLOOKUP(A191,#REF!,3,FALSE)","v":{"$error":"#REF!"}},{"$f":"VLOOKUP(A191,#REF!,4,FALSE)","v":{"$error":"#REF!"}},{"$f":"VLOOKUP(A191,#REF!,7,FALSE)","v":{"$error":"#REF!"}},{"$f":"VLOOKUP(A191,#REF!,5,FALSE)","v":{"$error":"#REF!"}}]
["CASTLE CARR","Scour Test","2021-10-12","Tuesday","2021-09-01","Oliver Oates",3,"West","W'Moor DHU DHL","Treat as under RA75 and scour twice",{"$f":"VLOOKUP(A192,#REF!,2,FALSE)","v":{"$error":"#REF!"}},{"$f":"VLOOKUP(A192,#REF!,3,FALSE)","v":{"$error":"#REF!"}},{"$f":"VLOOKUP(A192,#REF!,4,FALSE)","v":{"$error":"#REF!"}},{"$f":"VLOOKUP(A192,#REF!,7,FALSE)","v":{"$error":"#REF!"}},{"$f":"VLOOKUP(A192,#REF!,5,FALSE)","v":{"$error":"#REF!"}}]
["DEAN HEAD LOWER/IRE","Scour Test","2021-10-12","Tuesday","2021-09-01","Oliver Oates",3,"West","Cas'Carr W'Moor",null,{"$f":"VLOOKUP(A193,#REF!,2,FALSE)","v":{"$error":"#REF!"}},{"$f":"VLOOKUP(A193,#REF!,3,FALSE)","v":{"$error":"#REF!"}},{"$f":"VLOOKUP(A193,#REF!,4,FALSE)","v":{"$error":"#REF!"}},{"$f":"VLOOKUP(A193,#REF!,7,FALSE)","v":{"$error":"#REF!"}},{"$f":"VLOOKUP(A193,#REF!,5,FALSE)","v":{"$error":"#REF!"}}]
["DEAN HEAD UPPER/IRE","Scour Test","2021-10-12","Tuesday","2021-09-01","Oliver Oates",3,"West","Cas'Carr W'Moor",null,{"$f":"VLOOKUP(A194,#REF!,2,FALSE)","v":{"$error":"#REF!"}},{"$f":"VLOOKUP(A194,#REF!,3,FALSE)","v":{"$error":"#REF!"}},{"$f":"VLOOKUP(A194,#REF!,4,FALSE)","v":{"$error":"#REF!"}},{"$f":"VLOOKUP(A194,#REF!,7,FALSE)","v":{"$error":"#REF!"}},{"$f":"VLOOKUP(A194,#REF!,5,FALSE)","v":{"$error":"#REF!"}}]
["WARLEY MOOR/IRE","Scour Test","2021-10-12","Tuesday","2021-09-01","Oliver Oates",3,"West","Cas carr, Wdu WDl",null,{"$f":"VLOOKUP(A195,#REF!,2,FALSE)","v":{"$error":"#REF!"}},{"$f":"VLOOKUP(A195,#REF!,3,FALSE)","v":{"$error":"#REF!"}},{"$f":"VLOOKUP(A195,#REF!,4,FALSE)","v":{"$error":"#REF!"}},{"$f":"VLOOKUP(A195,#REF!,7,FALSE)","v":{"$error":"#REF!"}},{"$f":"VLOOKUP(A195,#REF!,5,FALSE)","v":{"$error":"#REF!"}}]
["ELDWICK/IRE","Scour Test","2021-10-12","Tuesday","2021-09-01","Ben Wilson",2,"North West",null,null,{"$f":"VLOOKUP(A196,#REF!,2,FALSE)","v":{"$error":"#REF!"}},{"$f":"VLOOKUP(A196,#REF!,3,FALSE)","v":{"$error":"#REF!"}},{"$f":"VLOOKUP(A196,#REF!,4,FALSE)","v":{"$error":"#REF!"}},{"$f":"VLOOKUP(A196,#REF!,7,FALSE)","v":{"$error":"#REF!"}},{"$f":"VLOOKUP(A196,#REF!,5,FALSE)","v":{"$error":"#REF!"}}]
["MOREHALL/IRE","F/V Test","2021-10-12","Thursday","2021-10-01","Tom Young (S)",4,"South",null,null,{"$f":"VLOOKUP(A197,#REF!,2,FALSE)","v":{"$error":"#REF!"}},{"$f":"VLOOKUP(A197,#REF!,3,FALSE)","v":{"$error":"#REF!"}},{"$f":"VLOOKUP(A197,#REF!,4,FALSE)","v":{"$error":"#REF!"}},{"$f":"VLOOKUP(A197,#REF!,7,FALSE)","v":{"$error":"#REF!"}},{"$f":"VLOOKUP(A197,#REF!,5,FALSE)","v":{"$error":"#REF!"}}]
["WATER SHEDDLES/IRE","S10 Scour Test","2021-10-14","Tuesday","2021-09-01","Tom Young (NW)",2,"North West",null,null,{"$f":"VLOOKUP(A198,#REF!,2,FALSE)","v":{"$error":"#REF!"}},{"$f":"VLOOKUP(A198,#REF!,3,FALSE)","v":{"$error":"#REF!"}},{"$f":"VLOOKUP(A198,#REF!,4,FALSE)","v":{"$error":"#REF!"}},{"$f":"VLOOKUP(A198,#REF!,7,FALSE)","v":{"$error":"#REF!"}},{"$f":"VLOOKUP(A198,#REF!,5,FALSE)","v":{"$error":"#REF!"}}]
["DEANHEAD/IRE","Scour Test","2021-10-14","Thursday","2021-09-01","Ian Dorrington",3,"West","Scammonden",null,{"$f":"VLOOKUP(A199,#REF!,2,FALSE)","v":{"$error":"#REF!"}},{"$f":"VLOOKUP(A199,#REF!,3,FALSE)","v":{"$error":"#REF!"}},{"$f":"VLOOKUP(A199,#REF!,4,FALSE)","v":{"$error":"#REF!"}},{"$f":"VLOOKUP(A199,#REF!,7,FALSE)","v":{"$error":"#REF!"}},{"$f":"VLOOKUP(A199,#REF!,5,FALSE)","v":{"$error":"#REF!"}}]
["SCAMMONDEN/IRE","Scour Test","2021-10-14","Thursday","2021-09-01","Ian Dorrington",3,"West","Deanhead",null,{"$f":"VLOOKUP(A200,#REF!,2,FALSE)","v":{"$error":"#REF!"}},{"$f":"VLOOKUP(A200,#REF!,3,FALSE)","v":{"$error":"#REF!"}},{"$f":"VLOOKUP(A200,#REF!,4,FALSE)","v":{"$error":"#REF!"}},{"$f":"VLOOKUP(A200,#REF!,7,FALSE)","v":{"$error":"#REF!"}},{"$f":"VLOOKUP(A200,#REF!,5,FALSE)","v":{"$error":"#REF!"}}]
["GRAINCLIFFE/IRE","Scour Test","2021-10-14","Thursday","2021-09-01","Ben Wilson",2,"North West",null,null,{"$f":"VLOOKUP(A201,#REF!,2,FALSE)","v":{"$error":"#REF!"}},{"$f":"VLOOKUP(A201,#REF!,3,FALSE)","v":{"$error":"#REF!"}},{"$f":"VLOOKUP(A201,#REF!,4,FALSE)","v":{"$error":"#REF!"}},{"$f":"VLOOKUP(A201,#REF!,7,FALSE)","v":{"$error":"#REF!"}},{"$f":"VLOOKUP(A201,#REF!,5,FALSE)","v":{"$error":"#REF!"}}]
["ALBERT/ESR","Scour Test","2021-10-19","Tuesday","2021-09-01","Oliver Oates",4,"West","Ram'Wood",null,{"$f":"VLOOKUP(A202,#REF!,2,FALSE)","v":{"$error":"#REF!"}},{"$f":"VLOOKUP(A202,#REF!,3,FALSE)","v":{"$error":"#REF!"}},{"$f":"VLOOKUP(A202,#REF!,4,FALSE)","v":{"$error":"#REF!"}},{"$f":"VLOOKUP(A202,#REF!,7,FALSE)","v":{"$error":"#REF!"}},{"$f":"VLOOKUP(A202,#REF!,5,FALSE)","v":{"$error":"#REF!"}}]
["RAMSDEN WOOD/ESR","Scour Test","2021-10-19","Tuesday","2021-09-01","Oliver Oates",4,"West","Albert",null,{"$f":"VLOOKUP(A203,#REF!,2,FALSE)","v":{"$error":"#REF!"}},{"$f":"VLOOKUP(A203,#REF!,3,FALSE)","v":{"$error":"#REF!"}},{"$f":"VLOOKUP(A203,#REF!,4,FALSE)","v":{"$error":"#REF!"}},{"$f":"VLOOKUP(A203,#REF!,7,FALSE)","v":{"$error":"#REF!"}},{"$f":"VLOOKUP(A203,#REF!,5,FALSE)","v":{"$error":"#REF!"}}]
["ELSLACK/IRE","Scour Test","2021-10-19","Tuesday","2021-09-01","Dave Driver",2,"North West",null,null,{"$f":"VLOOKUP(A204,#REF!,2,FALSE)","v":{"$error":"#REF!"}},{"$f":"VLOOKUP(A204,#REF!,3,FALSE)","v":{"$error":"#REF!"}},{"$f":"VLOOKUP(A204,#REF!,4,FALSE)","v":{"$error":"#REF!"}},{"$f":"VLOOKUP(A204,#REF!,7,FALSE)","v":{"$error":"#REF!"}},{"$f":"VLOOKUP(A204,#REF!,5,FALSE)","v":{"$error":"#REF!"}}]
["PONDEN/IRE","Scour Test","2021-10-19","Tuesday","2021-09-01","Tom Young (NW)",2,"North West",null,null,{"$f":"VLOOKUP(A205,#REF!,2,FALSE)","v":{"$error":"#REF!"}},{"$f":"VLOOKUP(A205,#REF!,3,FALSE)","v":{"$error":"#REF!"}},{"$f":"VLOOKUP(A205,#REF!,4,FALSE)","v":{"$error":"#REF!"}},{"$f":"VLOOKUP(A205,#REF!,7,FALSE)","v":{"$error":"#REF!"}},{"$f":"VLOOKUP(A205,#REF!,5,FALSE)","v":{"$error":"#REF!"}}]
["UNDERBANK/IRE","Scour Test","2021-10-19","Tuesday","2021-09-01","Peter H Jackson",2,"South",null,null,{"$f":"VLOOKUP(A206,#REF!,2,FALSE)","v":{"$error":"#REF!"}},{"$f":"VLOOKUP(A206,#REF!,3,FALSE)","v":{"$error":"#REF!"}},{"$f":"VLOOKUP(A206,#REF!,4,FALSE)","v":{"$error":"#REF!"}},{"$f":"VLOOKUP(A206,#REF!,7,FALSE)","v":{"$error":"#REF!"}},{"$f":"VLOOKUP(A206,#REF!,5,FALSE)","v":{"$error":"#REF!"}}]
["WESSENDEN OLD/IRE","S10 Scour Test","2021-10-19","Tuesday","2021-09-01","Luke Shackleton",2,"West","Blakely",null,{"$f":"VLOOKUP(A207,#REF!,2,FALSE)","v":{"$error":"#REF!"}},{"$f":"VLOOKUP(A207,#REF!,3,FALSE)","v":{"$error":"#REF!"}},{"$f":"VLOOKUP(A207,#REF!,4,FALSE)","v":{"$error":"#REF!"}},{"$f":"VLOOKUP(A207,#REF!,7,FALSE)","v":{"$error":"#REF!"}},{"$f":"VLOOKUP(A207,#REF!,5,FALSE)","v":{"$error":"#REF!"}}]
["WHITLEY/ESR","Scour Test","2021-10-21","Thursday","2021-09-01","David Townend",3,"West",null,null,{"$f":"VLOOKUP(A208,#REF!,2,FALSE)","v":{"$error":"#REF!"}},{"$f":"VLOOKUP(A208,#REF!,3,FALSE)","v":{"$error":"#REF!"}},{"$f":"VLOOKUP(A208,#REF!,4,FALSE)","v":{"$error":"#REF!"}},{"$f":"VLOOKUP(A208,#REF!,7,FALSE)","v":{"$error":"#REF!"}},{"$f":"VLOOKUP(A208,#REF!,5,FALSE)","v":{"$error":"#REF!"}}]
["LONGWOOD COMP/IRE","Scour Test","2021-10-26","Tuesday","2021-09-01","Ian Dorrington",3,"West","ESR",null,{"$f":"VLOOKUP(A209,#REF!,2,FALSE)","v":{"$error":"#REF!"}},{"$f":"VLOOKUP(A209,#REF!,3,FALSE)","v":{"$error":"#REF!"}},{"$f":"VLOOKUP(A209,#REF!,4,FALSE)","v":{"$error":"#REF!"}},{"$f":"VLOOKUP(A209,#REF!,7,FALSE)","v":{"$error":"#REF!"}},{"$f":"VLOOKUP(A209,#REF!,5,FALSE)","v":{"$error":"#REF!"}}]
["LONGWOOD/ESR","Scour Test","2021-10-26","Tuesday","2021-09-01","Ian Dorrington",3,"West","Comp",null,{"$f":"VLOOKUP(A210,#REF!,2,FALSE)","v":{"$error":"#REF!"}},{"$f":"VLOOKUP(A210,#REF!,3,FALSE)","v":{"$error":"#REF!"}},{"$f":"VLOOKUP(A210,#REF!,4,FALSE)","v":{"$error":"#REF!"}},{"$f":"VLOOKUP(A210,#REF!,7,FALSE)","v":{"$error":"#REF!"}},{"$f":"VLOOKUP(A210,#REF!,5,FALSE)","v":{"$error":"#REF!"}}]
["RIDING WOOD/IRE","Scour Test","2021-10-28","Thursday","2021-09-01","David Townend",3,"West","Yateholme",null,{"$f":"VLOOKUP(A211,#REF!,2,FALSE)","v":{"$error":"#REF!"}},{"$f":"VLOOKUP(A211,#REF!,3,FALSE)","v":{"$error":"#REF!"}},{"$f":"VLOOKUP(A211,#REF!,4,FALSE)","v":{"$error":"#REF!"}},{"$f":"VLOOKUP(A211,#REF!,7,FALSE)","v":{"$error":"#REF!"}},{"$f":"VLOOKUP(A211,#REF!,5,FALSE)","v":{"$error":"#REF!"}}]
["YATEHOLME/IRE","Scour Test","2021-10-28","Thursday","2021-09-01","David Townend",3,"West","Riding Wood",null,{"$f":"VLOOKUP(A212,#REF!,2,FALSE)","v":{"$error":"#REF!"}},{"$f":"VLOOKUP(A212,#REF!,3,FALSE)","v":{"$error":"#REF!"}},{"$f":"VLOOKUP(A212,#REF!,4,FALSE)","v":{"$error":"#REF!"}},{"$f":"VLOOKUP(A212,#REF!,7,FALSE)","v":{"$error":"#REF!"}},{"$f":"VLOOKUP(A212,#REF!,5,FALSE)","v":{"$error":"#REF!"}}]
["THORNTON STEWARD/ESR","F/V Test","2021-10-28","Thursday","2021-09-01","Brian Throup",3,"North",null,"RESCHEDULE IN FUTURE TO SEPT - G/C NEWTS ISSUE",{"$f":"VLOOKUP(A213,#REF!,2,FALSE)","v":{"$error":"#REF!"}},{"$f":"VLOOKUP(A213,#REF!,3,FALSE)","v":{"$error":"#REF!"}},{"$f":"VLOOKUP(A213,#REF!,4,FALSE)","v":{"$error":"#REF!"}},{"$f":"VLOOKUP(A213,#REF!,7,FALSE)","v":{"$error":"#REF!"}},{"$f":"VLOOKUP(A213,#REF!,5,FALSE)","v":{"$error":"#REF!"}}]
["WITHENS CLOUGH/IRE","F/V Test","2021-11-02","Tuesday","2021-10-01","Nick Lunt",3,"West",null,null,{"$f":"VLOOKUP(A214,#REF!,2,FALSE)","v":{"$error":"#REF!"}},{"$f":"VLOOKUP(A214,#REF!,3,FALSE)","v":{"$error":"#REF!"}},{"$f":"VLOOKUP(A214,#REF!,4,FALSE)","v":{"$error":"#REF!"}},{"$f":"VLOOKUP(A214,#REF!,7,FALSE)","v":{"$error":"#REF!"}},{"$f":"VLOOKUP(A214,#REF!,5,FALSE)","v":{"$error":"#REF!"}}]
["COD BECK/IRE","Scour Test","2021-11-02","Tuesday","2021-10-01","Alex Haggarty",2,"North","Oakdale Upp & Low",null,{"$f":"VLOOKUP(A215,#REF!,2,FALSE)","v":{"$error":"#REF!"}},{"$f":"VLOOKUP(A215,#REF!,3,FALSE)","v":{"$error":"#REF!"}},{"$f":"VLOOKUP(A215,#REF!,4,FALSE)","v":{"$error":"#REF!"}},{"$f":"VLOOKUP(A215,#REF!,7,FALSE)","v":{"$error":"#REF!"}},{"$f":"VLOOKUP(A215,#REF!,5,FALSE)","v":{"$error":"#REF!"}}]
["ROYD MOOR/IRE","F/V Test","2021-11-02","Tuesday","2021-10-01","Dan Lucks",3,"South",null,null,{"$f":"VLOOKUP(A216,#REF!,2,FALSE)","v":{"$error":"#REF!"}},{"$f":"VLOOKUP(A216,#REF!,3,FALSE)","v":{"$error":"#REF!"}},{"$f":"VLOOKUP(A216,#REF!,4,FALSE)","v":{"$error":"#REF!"}},{"$f":"VLOOKUP(A216,#REF!,7,FALSE)","v":{"$error":"#REF!"}},{"$f":"VLOOKUP(A216,#REF!,5,FALSE)","v":{"$error":"#REF!"}}]
["DOE PARK/IRE","Scour Test","2021-11-04","Thursday","2021-10-01","Phil Preston",2,"North West",null,null,{"$f":"VLOOKUP(A217,#REF!,2,FALSE)","v":{"$error":"#REF!"}},{"$f":"VLOOKUP(A217,#REF!,3,FALSE)","v":{"$error":"#REF!"}},{"$f":"VLOOKUP(A217,#REF!,4,FALSE)","v":{"$error":"#REF!"}},{"$f":"VLOOKUP(A217,#REF!,7,FALSE)","v":{"$error":"#REF!"}},{"$f":"VLOOKUP(A217,#REF!,5,FALSE)","v":{"$error":"#REF!"}}]
["BLACKMOORFOOT/IRE (NORTH SIDE)","Scour Test","2021-11-04","Thursday","2021-10-01","Luke Shackleton",3,"West","Deerhill",null,{"$f":"VLOOKUP(A218,#REF!,2,FALSE)","v":{"$error":"#REF!"}},{"$f":"VLOOKUP(A218,#REF!,3,FALSE)","v":{"$error":"#REF!"}},{"$f":"VLOOKUP(A218,#REF!,4,FALSE)","v":{"$error":"#REF!"}},{"$f":"VLOOKUP(A218,#REF!,7,FALSE)","v":{"$error":"#REF!"}},{"$f":"VLOOKUP(A218,#REF!,5,FALSE)","v":{"$error":"#REF!"}}]
["BLACKMOORFOOT/IRE (SOUTH SIDE)","Scour Test","2021-11-04","Thursday","2021-10-01","Luke Shackleton",3,"West","Deerhill",null,{"$f":"VLOOKUP(A219,#REF!,2,FALSE)","v":{"$error":"#REF!"}},{"$f":"VLOOKUP(A219,#REF!,3,FALSE)","v":{"$error":"#REF!"}},{"$f":"VLOOKUP(A219,#REF!,4,FALSE)","v":{"$error":"#REF!"}},{"$f":"VLOOKUP(A219,#REF!,7,FALSE)","v":{"$error":"#REF!"}},{"$f":"VLOOKUP(A219,#REF!,5,FALSE)","v":{"$error":"#REF!"}}]
["DEERHILL/IRE","Scour Test","2021-11-04","Thursday","2021-10-01","Luke Shackleton",3,"West","BMF",null,{"$f":"VLOOKUP(A220,#REF!,2,FALSE)","v":{"$error":"#REF!"}},{"$f":"VLOOKUP(A220,#REF!,3,FALSE)","v":{"$error":"#REF!"}},{"$f":"VLOOKUP(A220,#REF!,4,FALSE)","v":{"$error":"#REF!"}},{"$f":"VLOOKUP(A220,#REF!,7,FALSE)","v":{"$error":"#REF!"}},{"$f":"VLOOKUP(A220,#REF!,5,FALSE)","v":{"$error":"#REF!"}}]
["DIGLEY/IRE","Scour Test","2021-11-04","Thursday","2021-10-01","David Townend",3,"West","Bilberry",null,{"$f":"VLOOKUP(A221,#REF!,2,FALSE)","v":{"$error":"#REF!"}},{"$f":"VLOOKUP(A221,#REF!,3,FALSE)","v":{"$error":"#REF!"}},{"$f":"VLOOKUP(A221,#REF!,4,FALSE)","v":{"$error":"#REF!"}},{"$f":"VLOOKUP(A221,#REF!,7,FALSE)","v":{"$error":"#REF!"}},{"$f":"VLOOKUP(A221,#REF!,5,FALSE)","v":{"$error":"#REF!"}}]
["BILBERRY/IRE","Scour Test","2021-11-04","Thursday","2021-10-01","David Townend",3,"West","Digley",null,{"$f":"VLOOKUP(A222,#REF!,2,FALSE)","v":{"$error":"#REF!"}},{"$f":"VLOOKUP(A222,#REF!,3,FALSE)","v":{"$error":"#REF!"}},{"$f":"VLOOKUP(A222,#REF!,4,FALSE)","v":{"$error":"#REF!"}},{"$f":"VLOOKUP(A222,#REF!,7,FALSE)","v":{"$error":"#REF!"}},{"$f":"VLOOKUP(A222,#REF!,5,FALSE)","v":{"$error":"#REF!"}}]
["GRIMWITH/IRE","Scour Test","2021-11-04","Thursday","2021-10-01","Grace Oldknow",2,"North West",null,null,{"$f":"VLOOKUP(A223,#REF!,2,FALSE)","v":{"$error":"#REF!"}},{"$f":"VLOOKUP(A223,#REF!,3,FALSE)","v":{"$error":"#REF!"}},{"$f":"VLOOKUP(A223,#REF!,4,FALSE)","v":{"$error":"#REF!"}},{"$f":"VLOOKUP(A223,#REF!,7,FALSE)","v":{"$error":"#REF!"}},{"$f":"VLOOKUP(A223,#REF!,5,FALSE)","v":{"$error":"#REF!"}}]
["ECCUP/ESR","Scour Test","2021-11-09","Tuesday","2021-10-01","Brian Throup",3,"North",null,null,{"$f":"VLOOKUP(A224,#REF!,2,FALSE)","v":{"$error":"#REF!"}},{"$f":"VLOOKUP(A224,#REF!,3,FALSE)","v":{"$error":"#REF!"}},{"$f":"VLOOKUP(A224,#REF!,4,FALSE)","v":{"$error":"#REF!"}},{"$f":"VLOOKUP(A224,#REF!,7,FALSE)","v":{"$error":"#REF!"}},{"$f":"VLOOKUP(A224,#REF!,5,FALSE)","v":{"$error":"#REF!"}}]
["INGBIRCHWORTH/IRE","Scour Test","2021-11-09","Tuesday","2021-10-01","Dan Lucks",4,"South",null,null,{"$f":"VLOOKUP(A225,#REF!,2,FALSE)","v":{"$error":"#REF!"}},{"$f":"VLOOKUP(A225,#REF!,3,FALSE)","v":{"$error":"#REF!"}},{"$f":"VLOOKUP(A225,#REF!,4,FALSE)","v":{"$error":"#REF!"}},{"$f":"VLOOKUP(A225,#REF!,7,FALSE)","v":{"$error":"#REF!"}},{"$f":"VLOOKUP(A225,#REF!,5,FALSE)","v":{"$error":"#REF!"}}]
["GILSTEAD/ESR","F/V Test","2021-11-09","Tuesday","2021-10-01","Phil Preston",3,"North West",null,null,{"$f":"VLOOKUP(A226,#REF!,2,FALSE)","v":{"$error":"#REF!"}},{"$f":"VLOOKUP(A226,#REF!,3,FALSE)","v":{"$error":"#REF!"}},{"$f":"VLOOKUP(A226,#REF!,4,FALSE)","v":{"$error":"#REF!"}},{"$f":"VLOOKUP(A226,#REF!,7,FALSE)","v":{"$error":"#REF!"}},{"$f":"VLOOKUP(A226,#REF!,5,FALSE)","v":{"$error":"#REF!"}}]
["KEIGHLEY MOOR/IRE","S10 Scour Test","2021-11-09","Tuesday","2021-10-01","Tom Young (NW)",2,"North West",null,null,{"$f":"VLOOKUP(A227,#REF!,2,FALSE)","v":{"$error":"#REF!"}},{"$f":"VLOOKUP(A227,#REF!,3,FALSE)","v":{"$error":"#REF!"}},{"$f":"VLOOKUP(A227,#REF!,4,FALSE)","v":{"$error":"#REF!"}},{"$f":"VLOOKUP(A227,#REF!,7,FALSE)","v":{"$error":"#REF!"}},{"$f":"VLOOKUP(A227,#REF!,5,FALSE)","v":{"$error":"#REF!"}}]
["ARDSLEY/ESR","Scour Test","2021-11-11","Thursday","2021-10-01","David Townend",3,"West",null,null,{"$f":"VLOOKUP(A228,#REF!,2,FALSE)","v":{"$error":"#REF!"}},{"$f":"VLOOKUP(A228,#REF!,3,FALSE)","v":{"$error":"#REF!"}},{"$f":"VLOOKUP(A228,#REF!,4,FALSE)","v":{"$error":"#REF!"}},{"$f":"VLOOKUP(A228,#REF!,7,FALSE)","v":{"$error":"#REF!"}},{"$f":"VLOOKUP(A228,#REF!,5,FALSE)","v":{"$error":"#REF!"}}]
["BUTTERLEY/IRE","Scour Test","2021-11-11","Thursday","2021-10-01","Luke Shackleton",3,"West",null,null,{"$f":"VLOOKUP(A229,#REF!,2,FALSE)","v":{"$error":"#REF!"}},{"$f":"VLOOKUP(A229,#REF!,3,FALSE)","v":{"$error":"#REF!"}},{"$f":"VLOOKUP(A229,#REF!,4,FALSE)","v":{"$error":"#REF!"}},{"$f":"VLOOKUP(A229,#REF!,7,FALSE)","v":{"$error":"#REF!"}},{"$f":"VLOOKUP(A229,#REF!,5,FALSE)","v":{"$error":"#REF!"}}]
["SCOUT DIKE/IRE","Scour Test","2021-11-11","Thursday","2021-10-01","Dan Lucks",3,"South",null,null,{"$f":"VLOOKUP(A230,#REF!,2,FALSE)","v":{"$error":"#REF!"}},{"$f":"VLOOKUP(A230,#REF!,3,FALSE)","v":{"$error":"#REF!"}},{"$f":"VLOOKUP(A230,#REF!,4,FALSE)","v":{"$error":"#REF!"}},{"$f":"VLOOKUP(A230,#REF!,7,FALSE)","v":{"$error":"#REF!"}},{"$f":"VLOOKUP(A230,#REF!,5,FALSE)","v":{"$error":"#REF!"}}]
["LOFTSOME BRIDGE/ESR","Scour Test","2021-11-11","Thursday","2021-10-01","Nick Chilton",3,"Selby/Donc",null,null,{"$f":"VLOOKUP(A231,#REF!,2,FALSE)","v":{"$error":"#REF!"}},{"$f":"VLOOKUP(A231,#REF!,3,FALSE)","v":{"$error":"#REF!"}},{"$f":"VLOOKUP(A231,#REF!,4,FALSE)","v":{"$error":"#REF!"}},{"$f":"VLOOKUP(A231,#REF!,7,FALSE)","v":{"$error":"#REF!"}},{"$f":"VLOOKUP(A231,#REF!,5,FALSE)","v":{"$error":"#REF!"}}]
["BROWNHILL/IRE","Scour Test","2021-11-16","Tuesday","2021-10-01","David Townend",3,"West","Ramsden",null,{"$f":"VLOOKUP(A232,#REF!,2,FALSE)","v":{"$error":"#REF!"}},{"$f":"VLOOKUP(A232,#REF!,3,FALSE)","v":{"$error":"#REF!"}},{"$f":"VLOOKUP(A232,#REF!,4,FALSE)","v":{"$error":"#REF!"}},{"$f":"VLOOKUP(A232,#REF!,7,FALSE)","v":{"$error":"#REF!"}},{"$f":"VLOOKUP(A232,#REF!,5,FALSE)","v":{"$error":"#REF!"}}]
["RAMSDEN/IRE","Scour Test","2021-11-16","Tuesday","2021-10-01","David Townend",3,"West","Brownhill",null,{"$f":"VLOOKUP(A233,#REF!,2,FALSE)","v":{"$error":"#REF!"}},{"$f":"VLOOKUP(A233,#REF!,3,FALSE)","v":{"$error":"#REF!"}},{"$f":"VLOOKUP(A233,#REF!,4,FALSE)","v":{"$error":"#REF!"}},{"$f":"VLOOKUP(A233,#REF!,7,FALSE)","v":{"$error":"#REF!"}},{"$f":"VLOOKUP(A233,#REF!,5,FALSE)","v":{"$error":"#REF!"}}]
["LUMLEY MOOR/IRE","Scour Test","2021-11-16","Tuesday","2021-10-01","Jim Lester",3,"North",null,null,{"$f":"VLOOKUP(A234,#REF!,2,FALSE)","v":{"$error":"#REF!"}},{"$f":"VLOOKUP(A234,#REF!,3,FALSE)","v":{"$error":"#REF!"}},{"$f":"VLOOKUP(A234,#REF!,4,FALSE)","v":{"$error":"#REF!"}},{"$f":"VLOOKUP(A234,#REF!,7,FALSE)","v":{"$error":"#REF!"}},{"$f":"VLOOKUP(A234,#REF!,5,FALSE)","v":{"$error":"#REF!"}}]
["SILSDEN/IRE","Scour Test","2021-11-16","Tuesday","2021-10-01","Tom Young (NW)",3,"North West",null,null,{"$f":"VLOOKUP(A235,#REF!,2,FALSE)","v":{"$error":"#REF!"}},{"$f":"VLOOKUP(A235,#REF!,3,FALSE)","v":{"$error":"#REF!"}},{"$f":"VLOOKUP(A235,#REF!,4,FALSE)","v":{"$error":"#REF!"}},{"$f":"VLOOKUP(A235,#REF!,7,FALSE)","v":{"$error":"#REF!"}},{"$f":"VLOOKUP(A235,#REF!,5,FALSE)","v":{"$error":"#REF!"}}]
["TOPHILL LOW/NO 1 ESR","Scour Test","2021-11-17","Wednesday","2021-10-01","Craig Thompson",4,"East Coast",null,null,{"$f":"VLOOKUP(A236,#REF!,2,FALSE)","v":{"$error":"#REF!"}},{"$f":"VLOOKUP(A236,#REF!,3,FALSE)","v":{"$error":"#REF!"}},{"$f":"VLOOKUP(A236,#REF!,4,FALSE)","v":{"$error":"#REF!"}},{"$f":"VLOOKUP(A236,#REF!,7,FALSE)","v":{"$error":"#REF!"}},{"$f":"VLOOKUP(A236,#REF!,5,FALSE)","v":{"$error":"#REF!"}}]
["TOPHILL LOW/NO 2 ESR","Scour Test","2021-11-17","Wednesday","2021-10-01","Craig Thompson",3,"East Coast",null,null,{"$f":"VLOOKUP(A237,#REF!,2,FALSE)","v":{"$error":"#REF!"}},{"$f":"VLOOKUP(A237,#REF!,3,FALSE)","v":{"$error":"#REF!"}},{"$f":"VLOOKUP(A237,#REF!,4,FALSE)","v":{"$error":"#REF!"}},{"$f":"VLOOKUP(A237,#REF!,7,FALSE)","v":{"$error":"#REF!"}},{"$f":"VLOOKUP(A237,#REF!,5,FALSE)","v":{"$error":"#REF!"}}]
["WINDLEDEN LOWER/IRE","F/V Test","2021-11-18","Thursday","2021-10-01","Chris Waters",2,"South",null,null,{"$f":"VLOOKUP(A238,#REF!,2,FALSE)","v":{"$error":"#REF!"}},{"$f":"VLOOKUP(A238,#REF!,3,FALSE)","v":{"$error":"#REF!"}},{"$f":"VLOOKUP(A238,#REF!,4,FALSE)","v":{"$error":"#REF!"}},{"$f":"VLOOKUP(A238,#REF!,7,FALSE)","v":{"$error":"#REF!"}},{"$f":"VLOOKUP(A238,#REF!,5,FALSE)","v":{"$error":"#REF!"}}]
["WINDLEDEN UPPER/IRE","F/V Test","2021-11-18","Thursday","2021-10-01","Chris Waters",2,"South",null,null,{"$f":"VLOOKUP(A239,#REF!,2,FALSE)","v":{"$error":"#REF!"}},{"$f":"VLOOKUP(A239,#REF!,3,FALSE)","v":{"$error":"#REF!"}},{"$f":"VLOOKUP(A239,#REF!,4,FALSE)","v":{"$error":"#REF!"}},{"$f":"VLOOKUP(A239,#REF!,7,FALSE)","v":{"$error":"#REF!"}},{"$f":"VLOOKUP(A239,#REF!,5,FALSE)","v":{"$error":"#REF!"}}]
["RINGSTONE/IRE","F/V Test","2021-11-23","Tuesday","2021-10-01","Ian Dorrington",3,"West",null,null,{"$f":"VLOOKUP(A240,#REF!,2,FALSE)","v":{"$error":"#REF!"}},{"$f":"VLOOKUP(A240,#REF!,3,FALSE)","v":{"$error":"#REF!"}},{"$f":"VLOOKUP(A240,#REF!,4,FALSE)","v":{"$error":"#REF!"}},{"$f":"VLOOKUP(A240,#REF!,7,FALSE)","v":{"$error":"#REF!"}},{"$f":"VLOOKUP(A240,#REF!,5,FALSE)","v":{"$error":"#REF!"}}]
["JOHN O GAUNTS/IRE","F/V Test","2021-11-23","Tuesday","2021-10-01","Alex Haggarty",2,"North","Scagill",null,{"$f":"VLOOKUP(A241,#REF!,2,FALSE)","v":{"$error":"#REF!"}},{"$f":"VLOOKUP(A241,#REF!,3,FALSE)","v":{"$error":"#REF!"}},{"$f":"VLOOKUP(A241,#REF!,4,FALSE)","v":{"$error":"#REF!"}},{"$f":"VLOOKUP(A241,#REF!,7,FALSE)","v":{"$error":"#REF!"}},{"$f":"VLOOKUP(A241,#REF!,5,FALSE)","v":{"$error":"#REF!"}}]
["SCARGILL/IRE","Scour Test","2021-11-23","Tuesday","2021-10-01","Alex Haggarty",3,"North","John O Gaunt",null,{"$f":"VLOOKUP(A242,#REF!,2,FALSE)","v":{"$error":"#REF!"}},{"$f":"VLOOKUP(A242,#REF!,3,FALSE)","v":{"$error":"#REF!"}},{"$f":"VLOOKUP(A242,#REF!,4,FALSE)","v":{"$error":"#REF!"}},{"$f":"VLOOKUP(A242,#REF!,7,FALSE)","v":{"$error":"#REF!"}},{"$f":"VLOOKUP(A242,#REF!,5,FALSE)","v":{"$error":"#REF!"}}]
["MIDHOPE/IRE","F/V Test","2021-11-25","Tuesday","2021-09-01","Tom Young (S)",2,"South",null,null,{"$f":"VLOOKUP(A243,#REF!,2,FALSE)","v":{"$error":"#REF!"}},{"$f":"VLOOKUP(A243,#REF!,3,FALSE)","v":{"$error":"#REF!"}},{"$f":"VLOOKUP(A243,#REF!,4,FALSE)","v":{"$error":"#REF!"}},{"$f":"VLOOKUP(A243,#REF!,7,FALSE)","v":{"$error":"#REF!"}},{"$f":"VLOOKUP(A243,#REF!,5,FALSE)","v":{"$error":"#REF!"}}]
["COLDERS/IRE","F/V Test","2021-11-25","Thursday","2021-10-01","Luke Shackleton",2,"West",null,null,{"$f":"VLOOKUP(A244,#REF!,2,FALSE)","v":{"$error":"#REF!"}},{"$f":"VLOOKUP(A244,#REF!,3,FALSE)","v":{"$error":"#REF!"}},{"$f":"VLOOKUP(A244,#REF!,4,FALSE)","v":{"$error":"#REF!"}},{"$f":"VLOOKUP(A244,#REF!,7,FALSE)","v":{"$error":"#REF!"}},{"$f":"VLOOKUP(A244,#REF!,5,FALSE)","v":{"$error":"#REF!"}}]
["WESSENDEN HEAD/IRE","F/V Test","2021-11-25","Thursday","2021-10-01","Luke Shackleton",2,"West",null,null,{"$f":"VLOOKUP(A245,#REF!,2,FALSE)","v":{"$error":"#REF!"}},{"$f":"VLOOKUP(A245,#REF!,3,FALSE)","v":{"$error":"#REF!"}},{"$f":"VLOOKUP(A245,#REF!,4,FALSE)","v":{"$error":"#REF!"}},{"$f":"VLOOKUP(A245,#REF!,7,FALSE)","v":{"$error":"#REF!"}},{"$f":"VLOOKUP(A245,#REF!,5,FALSE)","v":{"$error":"#REF!"}}]
["HARDEN/IRE","F/V Test","2021-12-02","Thursday","2021-11-01","Chris Waters",3,"South","Snailsden",null,{"$f":"VLOOKUP(A246,#REF!,2,FALSE)","v":{"$error":"#REF!"}},{"$f":"VLOOKUP(A246,#REF!,3,FALSE)","v":{"$error":"#REF!"}},{"$f":"VLOOKUP(A246,#REF!,4,FALSE)","v":{"$error":"#REF!"}},{"$f":"VLOOKUP(A246,#REF!,7,FALSE)","v":{"$error":"#REF!"}},{"$f":"VLOOKUP(A246,#REF!,5,FALSE)","v":{"$error":"#REF!"}}]
["SNAILSDEN/IRE","F/V Test","2021-12-02","Thursday","2021-11-01","Peter H Jackson",3,"South","Harden",null,{"$f":"VLOOKUP(A247,#REF!,2,FALSE)","v":{"$error":"#REF!"}},{"$f":"VLOOKUP(A247,#REF!,3,FALSE)","v":{"$error":"#REF!"}},{"$f":"VLOOKUP(A247,#REF!,4,FALSE)","v":{"$error":"#REF!"}},{"$f":"VLOOKUP(A247,#REF!,7,FALSE)","v":{"$error":"#REF!"}},{"$f":"VLOOKUP(A247,#REF!,5,FALSE)","v":{"$error":"#REF!"}}]
["BROOMHEAD/IRE","F/V Test","2021-12-07","Tuesday","2021-11-01","Tom Young (S)",6,"South",null,null,{"$f":"VLOOKUP(A248,#REF!,2,FALSE)","v":{"$error":"#REF!"}},{"$f":"VLOOKUP(A248,#REF!,3,FALSE)","v":{"$error":"#REF!"}},{"$f":"VLOOKUP(A248,#REF!,4,FALSE)","v":{"$error":"#REF!"}},{"$f":"VLOOKUP(A248,#REF!,7,FALSE)","v":{"$error":"#REF!"}},{"$f":"VLOOKUP(A248,#REF!,5,FALSE)","v":{"$error":"#REF!"}}]
["RANDY MERE/ESR","F/V Test","2021-12-08","Wednesday","2021-11-01","Craig Thompson",3,"East Coast",null,null,{"$f":"VLOOKUP(A249,#REF!,2,FALSE)","v":{"$error":"#REF!"}},{"$f":"VLOOKUP(A249,#REF!,3,FALSE)","v":{"$error":"#REF!"}},{"$f":"VLOOKUP(A249,#REF!,4,FALSE)","v":{"$error":"#REF!"}},{"$f":"VLOOKUP(A249,#REF!,7,FALSE)","v":{"$error":"#REF!"}},{"$f":"VLOOKUP(A249,#REF!,5,FALSE)","v":{"$error":"#REF!"}}]
["LANGSETT/IRE","F/V Test","2021-12-09","Thursday","2021-11-01","Tom Young (S)",3,"South",null,null,{"$f":"VLOOKUP(A250,#REF!,2,FALSE)","v":{"$error":"#REF!"}},{"$f":"VLOOKUP(A250,#REF!,3,FALSE)","v":{"$error":"#REF!"}},{"$f":"VLOOKUP(A250,#REF!,4,FALSE)","v":{"$error":"#REF!"}},{"$f":"VLOOKUP(A250,#REF!,7,FALSE)","v":{"$error":"#REF!"}},{"$f":"VLOOKUP(A250,#REF!,5,FALSE)","v":{"$error":"#REF!"}}]
["LINDLEY WOOD/IRE","F/V Test","2021-12-09","Thursday","2021-11-01","Alex Haggarty",2,"North",null,null,{"$f":"VLOOKUP(A251,#REF!,2,FALSE)","v":{"$error":"#REF!"}},{"$f":"VLOOKUP(A251,#REF!,3,FALSE)","v":{"$error":"#REF!"}},{"$f":"VLOOKUP(A251,#REF!,4,FALSE)","v":{"$error":"#REF!"}},{"$f":"VLOOKUP(A251,#REF!,7,FALSE)","v":{"$error":"#REF!"}},{"$f":"VLOOKUP(A251,#REF!,5,FALSE)","v":{"$error":"#REF!"}}]
[null,null,null,null,null,null,null,null,null,null,{"$f":"VLOOKUP(A252,#REF!,2,FALSE)","v":{"$error":"#REF!"}},{"$f":"VLOOKUP(A252,#REF!,3,FALSE)","v":{"$error":"#REF!"}},{"$f":"VLOOKUP(A252,#REF!,4,FALSE)","v":{"$error":"#REF!"}},{"$f":"VLOOKUP(A252,#REF!,7,FALSE)","v":{"$error":"#REF!"}},{"$f":"VLOOKUP(A252,#REF!,5,FALSE)","v":{"$error":"#REF!"}}]
[null,null,null,null,null,null,null,null,null,null,{"$f":"VLOOKUP(A253,#REF!,2,FALSE)","v":{"$error":"#REF!"}},{"$f":"VLOOKUP(A253,#REF!,3,FALSE)","v":{"$error":"#REF!"}},{"$f":"VLOOKUP(A253,#REF!,4,FALSE)","v":{"$error":"#REF!"}},{"$f":"VLOOKUP(A253,#REF!,7,FALSE)","v":{"$error":"#REF!"}},{"$f":"VLOOKUP(A253,#REF!,5,FALSE)","v":{"$error":"#REF!"}}]
[null,null,null,null,null,null,null,null,null,null,{"$f":"VLOOKUP(A254,#REF!,2,FALSE)","v":{"$error":"#REF!"}},{"$f":"VLOOKUP(A254,#REF!,3,FALSE)","v":{"$error":"#REF!"}},{"$f":"VLOOKUP(A254,#REF!,4,FALSE)","v":{"$error":"#REF!"}},{"$f":"VLOOKUP(A254,#REF!,7,FALSE)","v":{"$error":"#REF!"}},{"$f":"VLOOKUP(A254,#REF!,5,FALSE)","v":{"$error":"#REF!"}}]
[null,null,null,null,null,null,null,null,null,null,{"$f":"VLOOKUP(A255,#REF!,2,FALSE)","v":{"$error":"#REF!"}},{"$f":"VLOOKUP(A255,#REF!,3,FALSE)","v":{"$error":"#REF!"}},{"$f":"VLOOKUP(A255,#REF!,4,FALSE)","v":{"$error":"#REF!"}},{"$f":"VLOOKUP(A255,#REF!,7,FALSE)","v":{"$error":"#REF!"}},{"$f":"VLOOKUP(A255,#REF!,5,FALSE)","v":{"$error":"#REF!"}}]
[null,null,null,null,null,null,null,null,null,null,{"$f":"VLOOKUP(A256,#REF!,2,FALSE)","v":{"$error":"#REF!"}},{"$f":"VLOOKUP(A256,#REF!,3,FALSE)","v":{"$error":"#REF!"}},{"$f":"VLOOKUP(A256,#REF!,4,FALSE)","v":{"$error":"#REF!"}},{"$f":"VLOOKUP(A256,#REF!,7,FALSE)","v":{"$error":"#REF!"}},{"$f":"VLOOKUP(A256,#REF!,5,FALSE)","v":{"$error":"#REF!"}}]
[null,null,null,null,null,null,null,null,null,null,{"$f":"VLOOKUP(A257,#REF!,2,FALSE)","v":{"$error":"#REF!"}},{"$f":"VLOOKUP(A257,#REF!,3,FALSE)","v":{"$error":"#REF!"}},{"$f":"VLOOKUP(A257,#REF!,4,FALSE)","v":{"$error":"#REF!"}},{"$f":"VLOOKUP(A257,#REF!,7,FALSE)","v":{"$error":"#REF!"}},{"$f":"VLOOKUP(A257,#REF!,5,FALSE)","v":{"$error":"#REF!"}}]
[null,null,null,null,null,null,null,null,null,null,{"$f":"VLOOKUP(A258,#REF!,2,FALSE)","v":{"$error":"#REF!"}},{"$f":"VLOOKUP(A258,#REF!,3,FALSE)","v":{"$error":"#REF!"}},{"$f":"VLOOKUP(A258,#REF!,4,FALSE)","v":{"$error":"#REF!"}},{"$f":"VLOOKUP(A258,#REF!,7,FALSE)","v":{"$error":"#REF!"}},{"$f":"VLOOKUP(A258,#REF!,5,FALSE)","v":{"$error":"#REF!"}}]
[null,null,null,null,null,null,null,null,null,null,{"$f":"VLOOKUP(A259,#REF!,2,FALSE)","v":{"$error":"#REF!"}},{"$f":"VLOOKUP(A259,#REF!,3,FALSE)","v":{"$error":"#REF!"}},{"$f":"VLOOKUP(A259,#REF!,4,FALSE)","v":{"$error":"#REF!"}},{"$f":"VLOOKUP(A259,#REF!,7,FALSE)","v":{"$error":"#REF!"}},{"$f":"VLOOKUP(A259,#REF!,5,FALSE)","v":{"$error":"#REF!"}}]
[null,null,null,null,null,null,null,null,null,null,{"$f":"VLOOKUP(A260,#REF!,2,FALSE)","v":{"$error":"#REF!"}},{"$f":"VLOOKUP(A260,#REF!,3,FALSE)","v":{"$error":"#REF!"}},{"$f":"VLOOKUP(A260,#REF!,4,FALSE)","v":{"$error":"#REF!"}},{"$f":"VLOOKUP(A260,#REF!,7,FALSE)","v":{"$error":"#REF!"}},{"$f":"VLOOKUP(A260,#REF!,5,FALSE)","v":{"$error":"#REF!"}}]
[null,null,null,null,null,null,null,null,null,null,{"$f":"VLOOKUP(A261,#REF!,2,FALSE)","v":{"$error":"#REF!"}},{"$f":"VLOOKUP(A261,#REF!,3,FALSE)","v":{"$error":"#REF!"}},{"$f":"VLOOKUP(A261,#REF!,4,FALSE)","v":{"$error":"#REF!"}},{"$f":"VLOOKUP(A261,#REF!,7,FALSE)","v":{"$error":"#REF!"}},{"$f":"VLOOKUP(A261,#REF!,5,FALSE)","v":{"$error":"#REF!"}}]
[null,null,null,null,null,null,null,null,null,null,{"$f":"VLOOKUP(A262,#REF!,2,FALSE)","v":{"$error":"#REF!"}},{"$f":"VLOOKUP(A262,#REF!,3,FALSE)","v":{"$error":"#REF!"}},{"$f":"VLOOKUP(A262,#REF!,4,FALSE)","v":{"$error":"#REF!"}},{"$f":"VLOOKUP(A262,#REF!,7,FALSE)","v":{"$error":"#REF!"}},{"$f":"VLOOKUP(A262,#REF!,5,FALSE)","v":{"$error":"#REF!"}}]
[null,null,null,null,null,null,null,null,null,null,{"$f":"VLOOKUP(A263,#REF!,2,FALSE)","v":{"$error":"#REF!"}},{"$f":"VLOOKUP(A263,#REF!,3,FALSE)","v":{"$error":"#REF!"}},{"$f":"VLOOKUP(A263,#REF!,4,FALSE)","v":{"$error":"#REF!"}},{"$f":"VLOOKUP(A263,#REF!,7,FALSE)","v":{"$error":"#REF!"}},{"$f":"VLOOKUP(A263,#REF!,5,FALSE)","v":{"$error":"#REF!"}}]
[null,null,null,null,null,null,null,null,null,null,{"$f":"VLOOKUP(A264,#REF!,2,FALSE)","v":{"$error":"#REF!"}},{"$f":"VLOOKUP(A264,#REF!,3,FALSE)","v":{"$error":"#REF!"}},{"$f":"VLOOKUP(A264,#REF!,4,FALSE)","v":{"$error":"#REF!"}},{"$f":"VLOOKUP(A264,#REF!,7,FALSE)","v":{"$error":"#REF!"}},{"$f":"VLOOKUP(A264,#REF!,5,FALSE)","v":{"$error":"#REF!"}}]
[null,null,null,null,null,null,null,null,null,null,{"$f":"VLOOKUP(A265,#REF!,2,FALSE)","v":{"$error":"#REF!"}},{"$f":"VLOOKUP(A265,#REF!,3,FALSE)","v":{"$error":"#REF!"}},{"$f":"VLOOKUP(A265,#REF!,4,FALSE)","v":{"$error":"#REF!"}},{"$f":"VLOOKUP(A265,#REF!,7,FALSE)","v":{"$error":"#REF!"}},{"$f":"VLOOKUP(A265,#REF!,5,FALSE)","v":{"$error":"#REF!"}}]
[null,null,null,null,null,null,null,null,null,null,{"$f":"VLOOKUP(A266,#REF!,2,FALSE)","v":{"$error":"#REF!"}},{"$f":"VLOOKUP(A266,#REF!,3,FALSE)","v":{"$error":"#REF!"}},{"$f":"VLOOKUP(A266,#REF!,4,FALSE)","v":{"$error":"#REF!"}},{"$f":"VLOOKUP(A266,#REF!,7,FALSE)","v":{"$error":"#REF!"}},{"$f":"VLOOKUP(A266,#REF!,5,FALSE)","v":{"$error":"#REF!"}}]
[null,null,null,null,null,null,null,null,null,null,{"$f":"VLOOKUP(A267,#REF!,2,FALSE)","v":{"$error":"#REF!"}},{"$f":"VLOOKUP(A267,#REF!,3,FALSE)","v":{"$error":"#REF!"}},{"$f":"VLOOKUP(A267,#REF!,4,FALSE)","v":{"$error":"#REF!"}},{"$f":"VLOOKUP(A267,#REF!,7,FALSE)","v":{"$error":"#REF!"}},{"$f":"VLOOKUP(A267,#REF!,5,FALSE)","v":{"$error":"#REF!"}}]
[null,null,null,null,null,null,null,null,null,null,{"$f":"VLOOKUP(A268,#REF!,2,FALSE)","v":{"$error":"#REF!"}},{"$f":"VLOOKUP(A268,#REF!,3,FALSE)","v":{"$error":"#REF!"}},{"$f":"VLOOKUP(A268,#REF!,4,FALSE)","v":{"$error":"#REF!"}},{"$f":"VLOOKUP(A268,#REF!,7,FALSE)","v":{"$error":"#REF!"}},{"$f":"VLOOKUP(A268,#REF!,5,FALSE)","v":{"$error":"#REF!"}}]
[null,null,null,null,null,null,null,null,null,null,{"$f":"VLOOKUP(A269,#REF!,2,FALSE)","v":{"$error":"#REF!"}},{"$f":"VLOOKUP(A269,#REF!,3,FALSE)","v":{"$error":"#REF!"}},{"$f":"VLOOKUP(A269,#REF!,4,FALSE)","v":{"$error":"#REF!"}},{"$f":"VLOOKUP(A269,#REF!,7,FALSE)","v":{"$error":"#REF!"}},{"$f":"VLOOKUP(A269,#REF!,5,FALSE)","v":{"$error":"#REF!"}}]
[null,null,null,null,null,null,null,null,null,null,{"$f":"VLOOKUP(A270,#REF!,2,FALSE)","v":{"$error":"#REF!"}},{"$f":"VLOOKUP(A270,#REF!,3,FALSE)","v":{"$error":"#REF!"}},{"$f":"VLOOKUP(A270,#REF!,4,FALSE)","v":{"$error":"#REF!"}},{"$f":"VLOOKUP(A270,#REF!,7,FALSE)","v":{"$error":"#REF!"}},{"$f":"VLOOKUP(A270,#REF!,5,FALSE)","v":{"$error":"#REF!"}}]
[null,null,null,null,null,null,null,null,null,null,{"$f":"VLOOKUP(A271,#REF!,2,FALSE)","v":{"$error":"#REF!"}},{"$f":"VLOOKUP(A271,#REF!,3,FALSE)","v":{"$error":"#REF!"}},{"$f":"VLOOKUP(A271,#REF!,4,FALSE)","v":{"$error":"#REF!"}},{"$f":"VLOOKUP(A271,#REF!,7,FALSE)","v":{"$error":"#REF!"}},{"$f":"VLOOKUP(A271,#REF!,5,FALSE)","v":{"$error":"#REF!"}}]
["TEN ACRE/IRE","N/A",null,null,null,null,null,null,null,"Dam being de-commissioned - no S12 required"]
["TEN ACRE/IRE","N/A",null,null,null,null,null,null,null,"Dam being de-commissioned - no S12 required"]
["BEAVER DYKE/IRE","N/A"]
["BEAVER DYKE/IRE","N/A"]
["OAKDALE UPPER/IRE","N/A"]
["OAKDALE UPPER/IRE","N/A"]